Workbook

Sheet Auxiliar
A1: ='Tab Primeira Fase'!N8 -> M. PORTO | B1: =IF('Tab Primeira Fase'!O8<'Tab Primeira Fase'!Q8,0,IF('Tab Primeira Fase'!O8='Tab Primeira Fase'!Q8,1,IF('Tab Primeira Fase'!O8>'Tab Primeira Fase'!Q8,2))) -> 2 | C1: ='Tab Primeira Fase'!R8 -> PAULÃO | D1: =IF('Tab Primeira Fase'!O8>'Tab Primeira Fase'!Q8,0,IF('Tab Primeira Fase'!O8='Tab Primeira Fase'!Q8,1,IF('Tab Primeira Fase'!O8<'Tab Primeira Fase'!Q8,2))) -> 0 | E1: =IF(ISNUMBER('Tab Primeira Fase'!O8),1,0) -> 1 | F1: =IF(B1*E1=2,1,0) -> 1 | G1: =IF(B1*E1=1,1,0) -> 0 | H1: =IF(B1=0,IF(E1=1,1,0),0) -> 0 | I1: =IF(E1*D1=2,1,0) -> 0 | J1: =IF(E1*D1=1,1,0) -> 0 | K1: =IF(D1=0,IF(E1=1,1,0),0) -> 1 | L1: CLUBES | M1: V | N1: E | O1: D | P1: GP | Q1: GC | W1: L | X1: M | Y1: N | Z1: O | AA1: P | AB1: Q
A2: ='Tab Primeira Fase'!N9 -> ORNELAS | B2: =IF('Tab Primeira Fase'!O9<'Tab Primeira Fase'!Q9,0,IF('Tab Primeira Fase'!O9='Tab Primeira Fase'!Q9,1,IF('Tab Primeira Fase'!O9>'Tab Primeira Fase'!Q9,2))) -> 0 | C2: ='Tab Primeira Fase'!R9 -> THIAGO | D2: =IF('Tab Primeira Fase'!O9>'Tab Primeira Fase'!Q9,0,IF('Tab Primeira Fase'!O9='Tab Primeira Fase'!Q9,1,IF('Tab Primeira Fase'!O9<'Tab Primeira Fase'!Q9,2))) -> 2 | E2: =IF(ISNUMBER('Tab Primeira Fase'!O9),1,0) -> 1 | F2: =IF(B2*E2=2,1,0) -> 0 | G2: =IF(B2*E2=1,1,0) -> 0 | H2: =IF(B2=0,IF(E2=1,1,0),0) -> 1 | I2: =IF(E2*D2=2,1,0) -> 1 | J2: =IF(E2*D2=1,1,0) -> 0 | K2: =IF(D2=0,IF(E2=1,1,0),0) -> 0 | L2: CARUSO | M2: =SUMIF($A$1:$A$773,L2,$F$1:$F$773)+SUMIF($C$1:$C$773,L2,$I$1:$I$773) -> 3 | N2: =SUMIF($A$1:$A$773,L2,$G$1:$G$773)+SUMIF($C$1:$C$773,L2,$J$1:$J$773) -> 1 | O2: =SUMIF($A$1:$A$773,L2,$H$1:$H$773)+SUMIF($C$1:$C$773,L2,$K$1:$K$773) -> 2 | P2: =SUMIF('Tab Primeira Fase'!$N$8:$N$831,L2,'Tab Primeira Fase'!$O$8:$O$831)+SUMIF('Tab Primeira Fase'!$R$8:$R$831,L2,'Tab Primeira Fase'!$Q$8:$Q$831) -> 10 | Q2: =SUMIF('Tab Primeira Fase'!$N$8:$N$831,L2,'Tab Primeira Fase'!$Q$8:$Q$831)+SUMIF('Tab Primeira Fase'!$R$8:$R$831,L2,'Tab Primeira Fase'!$O$8:$O$831) -> 7 | R2: =(1000000*((3*M2)+N2))+(10000*M2)+(100*(P2-Q2))+P2+(0.001*(7-T2)) -> 10030310 | S2: =RANK(R2,$R$2:$R$8) -> 3 | T2: 1 | U2: =IF($S$2=T2,2,0)+IF($S$3=T2,3,0)+IF($S$4=T2,4,0)+IF($S$5=T2,5,0)+IF($S$6=T2,6,0)+IF($S$7=T2,7,0)+IF($S$8=T2,8,0) -> 3 | W2: =CONCATENATE("'Auxiliar'!",W$1,$U2) -> 'Auxiliar'!L3 | X2: =CONCATENATE("'Auxiliar'!",X$1,$U2) -> 'Auxiliar'!M3 | Y2: =CONCATENATE("'Auxiliar'!",Y$1,$U2) -> 'Auxiliar'!N3 | Z2: =CONCATENATE("'Auxiliar'!",Z$1,$U2) -> 'Auxiliar'!O3 | AA2: =CONCATENATE("'Auxiliar'!",AA$1,$U2) -> 'Auxiliar'!P3 | AB2: =CONCATENATE("'Auxiliar'!",AB$1,$U2) -> 'Auxiliar'!Q3
A3: ='Tab Primeira Fase'!N10 -> CARUSO | B3: =IF('Tab Primeira Fase'!O10<'Tab Primeira Fase'!Q10,0,IF('Tab Primeira Fase'!O10='Tab Primeira Fase'!Q10,1,IF('Tab Primeira Fase'!O10>'Tab Primeira Fase'!Q10,2))) -> 0 | C3: ='Tab Primeira Fase'!R10 -> ADOLPHO | D3: =IF('Tab Primeira Fase'!O10>'Tab Primeira Fase'!Q10,0,IF('Tab Primeira Fase'!O10='Tab Primeira Fase'!Q10,1,IF('Tab Primeira Fase'!O10<'Tab Primeira Fase'!Q10,2))) -> 2 | E3: =IF(ISNUMBER('Tab Primeira Fase'!O10),1,0) -> 1 | F3: =IF(B3*E3=2,1,0) -> 0 | G3: =IF(B3*E3=1,1,0) -> 0 | H3: =IF(B3=0,IF(E3=1,1,0),0) -> 1 | I3: =IF(E3*D3=2,1,0) -> 1 | J3: =IF(E3*D3=1,1,0) -> 0 | K3: =IF(D3=0,IF(E3=1,1,0),0) -> 0 | L3: ADOLPHO | M3: =SUMIF($A$1:$A$773,L3,$F$1:$F$773)+SUMIF($C$1:$C$773,L3,$I$1:$I$773) -> 4 | N3: =SUMIF($A$1:$A$773,L3,$G$1:$G$773)+SUMIF($C$1:$C$773,L3,$J$1:$J$773) -> 2 | O3: =SUMIF($A$1:$A$773,L3,$H$1:$H$773)+SUMIF($C$1:$C$773,L3,$K$1:$K$773) -> 0 | P3: =SUMIF('Tab Primeira Fase'!$N$8:$N$831,L3,'Tab Primeira Fase'!$O$8:$O$831)+SUMIF('Tab Primeira Fase'!$R$8:$R$831,L3,'Tab Primeira Fase'!$Q$8:$Q$831) -> 13 | Q3: =SUMIF('Tab Primeira Fase'!$N$8:$N$831,L3,'Tab Primeira Fase'!$Q$8:$Q$831)+SUMIF('Tab Primeira Fase'!$R$8:$R$831,L3,'Tab Primeira Fase'!$O$8:$O$831) -> 1 | R3: =(1000000*((3*M3)+N3))+(10000*M3)+(100*(P3-Q3))+P3+(0.001*(7-T3)) -> 14041213 | S3: =RANK(R3,$R$2:$R$8) -> 1 | T3: 2 | U3: =IF($S$2=T3,2,0)+IF($S$3=T3,3,0)+IF($S$4=T3,4,0)+IF($S$5=T3,5,0)+IF($S$6=T3,6,0)+IF($S$7=T3,7,0)+IF($S$8=T3,8,0) -> 7 | W3: =CONCATENATE("'Auxiliar'!",W$1,$U3) -> 'Auxiliar'!L7 | X3: =CONCATENATE("'Auxiliar'!",X$1,$U3) -> 'Auxiliar'!M7 | Y3: =CONCATENATE("'Auxiliar'!",Y$1,$U3) -> 'Auxiliar'!N7 | Z3: =CONCATENATE("'Auxiliar'!",Z$1,$U3) -> 'Auxiliar'!O7 | AA3: =CONCATENATE("'Auxiliar'!",AA$1,$U3) -> 'Auxiliar'!P7 | AB3: =CONCATENATE("'Auxiliar'!",AB$1,$U3) -> 'Auxiliar'!Q7
A4: ='Tab Primeira Fase'!N11 -> MOTTA | B4: =IF('Tab Primeira Fase'!O11<'Tab Primeira Fase'!Q11,0,IF('Tab Primeira Fase'!O11='Tab Primeira Fase'!Q11,1,IF('Tab Primeira Fase'!O11>'Tab Primeira Fase'!Q11,2))) -> 0 | C4: ='Tab Primeira Fase'!R11 -> TONINHO | D4: =IF('Tab Primeira Fase'!O11>'Tab Primeira Fase'!Q11,0,IF('Tab Primeira Fase'!O11='Tab Primeira Fase'!Q11,1,IF('Tab Primeira Fase'!O11<'Tab Primeira Fase'!Q11,2))) -> 2 | E4: =IF(ISNUMBER('Tab Primeira Fase'!O11),1,0) -> 1 | F4: =IF(B4*E4=2,1,0) -> 0 | G4: =IF(B4*E4=1,1,0) -> 0 | H4: =IF(B4=0,IF(E4=1,1,0),0) -> 1 | I4: =IF(E4*D4=2,1,0) -> 1 | J4: =IF(E4*D4=1,1,0) -> 0 | K4: =IF(D4=0,IF(E4=1,1,0),0) -> 0 | L4: THIAGO | M4: =SUMIF($A$1:$A$773,L4,$F$1:$F$773)+SUMIF($C$1:$C$773,L4,$I$1:$I$773) -> 2 | N4: =SUMIF($A$1:$A$773,L4,$G$1:$G$773)+SUMIF($C$1:$C$773,L4,$J$1:$J$773) -> 1 | O4: =SUMIF($A$1:$A$773,L4,$H$1:$H$773)+SUMIF($C$1:$C$773,L4,$K$1:$K$773) -> 3 | P4: =SUMIF('Tab Primeira Fase'!$N$8:$N$831,L4,'Tab Primeira Fase'!$O$8:$O$831)+SUMIF('Tab Primeira Fase'!$R$8:$R$831,L4,'Tab Primeira Fase'!$Q$8:$Q$831) -> 6 | Q4: =SUMIF('Tab Primeira Fase'!$N$8:$N$831,L4,'Tab Primeira Fase'!$Q$8:$Q$831)+SUMIF('Tab Primeira Fase'!$R$8:$R$831,L4,'Tab Primeira Fase'!$O$8:$O$831) -> 8 | R4: =(1000000*((3*M4)+N4))+(10000*M4)+(100*(P4-Q4))+P4+(0.001*(7-T4)) -> 7019806 | S4: =RANK(R4,$R$2:$R$8) -> 5 | T4: 3 | U4: =IF($S$2=T4,2,0)+IF($S$3=T4,3,0)+IF($S$4=T4,4,0)+IF($S$5=T4,5,0)+IF($S$6=T4,6,0)+IF($S$7=T4,7,0)+IF($S$8=T4,8,0) -> 2 | W4: =CONCATENATE("'Auxiliar'!",W$1,$U4) -> 'Auxiliar'!L2 | X4: =CONCATENATE("'Auxiliar'!",X$1,$U4) -> 'Auxiliar'!M2 | Y4: =CONCATENATE("'Auxiliar'!",Y$1,$U4) -> 'Auxiliar'!N2 | Z4: =CONCATENATE("'Auxiliar'!",Z$1,$U4) -> 'Auxiliar'!O2 | AA4: =CONCATENATE("'Auxiliar'!",AA$1,$U4) -> 'Auxiliar'!P2 | AB4: =CONCATENATE("'Auxiliar'!",AB$1,$U4) -> 'Auxiliar'!Q2
A5: ='Tab Primeira Fase'!N12 -> PIMENTEL | B5: =IF('Tab Primeira Fase'!O12<'Tab Primeira Fase'!Q12,0,IF('Tab Primeira Fase'!O12='Tab Primeira Fase'!Q12,1,IF('Tab Primeira Fase'!O12>'Tab Primeira Fase'!Q12,2))) -> 0 | C5: ='Tab Primeira Fase'!R12 -> LUIZ CLÁUDIO | D5: =IF('Tab Primeira Fase'!O12>'Tab Primeira Fase'!Q12,0,IF('Tab Primeira Fase'!O12='Tab Primeira Fase'!Q12,1,IF('Tab Primeira Fase'!O12<'Tab Primeira Fase'!Q12,2))) -> 2 | E5: =IF(ISNUMBER('Tab Primeira Fase'!O12),1,0) -> 1 | F5: =IF(B5*E5=2,1,0) -> 0 | G5: =IF(B5*E5=1,1,0) -> 0 | H5: =IF(B5=0,IF(E5=1,1,0),0) -> 1 | I5: =IF(E5*D5=2,1,0) -> 1 | J5: =IF(E5*D5=1,1,0) -> 0 | K5: =IF(D5=0,IF(E5=1,1,0),0) -> 0 | L5: PAULÃO | M5: =SUMIF($A$1:$A$773,L5,$F$1:$F$773)+SUMIF($C$1:$C$773,L5,$I$1:$I$773) -> 1 | N5: =SUMIF($A$1:$A$773,L5,$G$1:$G$773)+SUMIF($C$1:$C$773,L5,$J$1:$J$773) -> 1 | O5: =SUMIF($A$1:$A$773,L5,$H$1:$H$773)+SUMIF($C$1:$C$773,L5,$K$1:$K$773) -> 4 | P5: =SUMIF('Tab Primeira Fase'!$N$8:$N$831,L5,'Tab Primeira Fase'!$O$8:$O$831)+SUMIF('Tab Primeira Fase'!$R$8:$R$831,L5,'Tab Primeira Fase'!$Q$8:$Q$831) -> 3 | Q5: =SUMIF('Tab Primeira Fase'!$N$8:$N$831,L5,'Tab Primeira Fase'!$Q$8:$Q$831)+SUMIF('Tab Primeira Fase'!$R$8:$R$831,L5,'Tab Primeira Fase'!$O$8:$O$831) -> 10 | R5: =(1000000*((3*M5)+N5))+(10000*M5)+(100*(P5-Q5))+P5+(0.001*(7-T5)) -> 4009303 | S5: =RANK(R5,$R$2:$R$8) -> 6 | T5: 4 | U5: =IF($S$2=T5,2,0)+IF($S$3=T5,3,0)+IF($S$4=T5,4,0)+IF($S$5=T5,5,0)+IF($S$6=T5,6,0)+IF($S$7=T5,7,0)+IF($S$8=T5,8,0) -> 6 | W5: =CONCATENATE("'Auxiliar'!",W$1,$U5) -> 'Auxiliar'!L6 | X5: =CONCATENATE("'Auxiliar'!",X$1,$U5) -> 'Auxiliar'!M6 | Y5: =CONCATENATE("'Auxiliar'!",Y$1,$U5) -> 'Auxiliar'!N6 | Z5: =CONCATENATE("'Auxiliar'!",Z$1,$U5) -> 'Auxiliar'!O6 | AA5: =CONCATENATE("'Auxiliar'!",AA$1,$U5) -> 'Auxiliar'!P6 | AB5: =CONCATENATE("'Auxiliar'!",AB$1,$U5) -> 'Auxiliar'!Q6
A6: ='Tab Primeira Fase'!N13 -> FRANCISCO | B6: =IF('Tab Primeira Fase'!O13<'Tab Primeira Fase'!Q13,0,IF('Tab Primeira Fase'!O13='Tab Primeira Fase'!Q13,1,IF('Tab Primeira Fase'!O13>'Tab Primeira Fase'!Q13,2))) -> 0 | C6: ='Tab Primeira Fase'!R13 -> ANDRÉ | D6: =IF('Tab Primeira Fase'!O13>'Tab Primeira Fase'!Q13,0,IF('Tab Primeira Fase'!O13='Tab Primeira Fase'!Q13,1,IF('Tab Primeira Fase'!O13<'Tab Primeira Fase'!Q13,2))) -> 2 | E6: =IF(ISNUMBER('Tab Primeira Fase'!O13),1,0) -> 1 | F6: =IF(B6*E6=2,1,0) -> 0 | G6: =IF(B6*E6=1,1,0) -> 0 | H6: =IF(B6=0,IF(E6=1,1,0),0) -> 1 | I6: =IF(E6*D6=2,1,0) -> 1 | J6: =IF(E6*D6=1,1,0) -> 0 | K6: =IF(D6=0,IF(E6=1,1,0),0) -> 0 | L6: RAFAEL PENA | M6: =SUMIF($A$1:$A$773,L6,$F$1:$F$773)+SUMIF($C$1:$C$773,L6,$I$1:$I$773) -> 2 | N6: =SUMIF($A$1:$A$773,L6,$G$1:$G$773)+SUMIF($C$1:$C$773,L6,$J$1:$J$773) -> 2 | O6: =SUMIF($A$1:$A$773,L6,$H$1:$H$773)+SUMIF($C$1:$C$773,L6,$K$1:$K$773) -> 2 | P6: =SUMIF('Tab Primeira Fase'!$N$8:$N$831,L6,'Tab Primeira Fase'!$O$8:$O$831)+SUMIF('Tab Primeira Fase'!$R$8:$R$831,L6,'Tab Primeira Fase'!$Q$8:$Q$831) -> 6 | Q6: =SUMIF('Tab Primeira Fase'!$N$8:$N$831,L6,'Tab Primeira Fase'!$Q$8:$Q$831)+SUMIF('Tab Primeira Fase'!$R$8:$R$831,L6,'Tab Primeira Fase'!$O$8:$O$831) -> 10 | R6: =(1000000*((3*M6)+N6))+(10000*M6)+(100*(P6-Q6))+P6+(0.001*(7-T6)) -> 8019606 | S6: =RANK(R6,$R$2:$R$8) -> 4 | T6: 5 | U6: =IF($S$2=T6,2,0)+IF($S$3=T6,3,0)+IF($S$4=T6,4,0)+IF($S$5=T6,5,0)+IF($S$6=T6,6,0)+IF($S$7=T6,7,0)+IF($S$8=T6,8,0) -> 4 | W6: =CONCATENATE("'Auxiliar'!",W$1,$U6) -> 'Auxiliar'!L4 | X6: =CONCATENATE("'Auxiliar'!",X$1,$U6) -> 'Auxiliar'!M4 | Y6: =CONCATENATE("'Auxiliar'!",Y$1,$U6) -> 'Auxiliar'!N4 | Z6: =CONCATENATE("'Auxiliar'!",Z$1,$U6) -> 'Auxiliar'!O4 | AA6: =CONCATENATE("'Auxiliar'!",AA$1,$U6) -> 'Auxiliar'!P4 | AB6: =CONCATENATE("'Auxiliar'!",AB$1,$U6) -> 'Auxiliar'!Q4
A7: ='Tab Primeira Fase'!N14 -> LUIZ GOMES | B7: =IF('Tab Primeira Fase'!O14<'Tab Primeira Fase'!Q14,0,IF('Tab Primeira Fase'!O14='Tab Primeira Fase'!Q14,1,IF('Tab Primeira Fase'!O14>'Tab Primeira Fase'!Q14,2))) -> 0 | C7: ='Tab Primeira Fase'!R14 -> ZÉ RICARDO | D7: =IF('Tab Primeira Fase'!O14>'Tab Primeira Fase'!Q14,0,IF('Tab Primeira Fase'!O14='Tab Primeira Fase'!Q14,1,IF('Tab Primeira Fase'!O14<'Tab Primeira Fase'!Q14,2))) -> 2 | E7: =IF(ISNUMBER('Tab Primeira Fase'!O14),1,0) -> 1 | F7: =IF(B7*E7=2,1,0) -> 0 | G7: =IF(B7*E7=1,1,0) -> 0 | H7: =IF(B7=0,IF(E7=1,1,0),0) -> 1 | I7: =IF(E7*D7=2,1,0) -> 1 | J7: =IF(E7*D7=1,1,0) -> 0 | K7: =IF(D7=0,IF(E7=1,1,0),0) -> 0 | L7: M. PORTO | M7: =SUMIF($A$1:$A$773,L7,$F$1:$F$773)+SUMIF($C$1:$C$773,L7,$I$1:$I$773) -> 3 | N7: =SUMIF($A$1:$A$773,L7,$G$1:$G$773)+SUMIF($C$1:$C$773,L7,$J$1:$J$773) -> 2 | O7: =SUMIF($A$1:$A$773,L7,$H$1:$H$773)+SUMIF($C$1:$C$773,L7,$K$1:$K$773) -> 1 | P7: =SUMIF('Tab Primeira Fase'!$N$8:$N$831,L7,'Tab Primeira Fase'!$O$8:$O$831)+SUMIF('Tab Primeira Fase'!$R$8:$R$831,L7,'Tab Primeira Fase'!$Q$8:$Q$831) -> 11 | Q7: =SUMIF('Tab Primeira Fase'!$N$8:$N$831,L7,'Tab Primeira Fase'!$Q$8:$Q$831)+SUMIF('Tab Primeira Fase'!$R$8:$R$831,L7,'Tab Primeira Fase'!$O$8:$O$831) -> 5 | R7: =(1000000*((3*M7)+N7))+(10000*M7)+(100*(P7-Q7))+P7+(0.001*(7-T7)) -> 11030611 | S7: =RANK(R7,$R$2:$R$8) -> 2 | T7: 6 | U7: =IF($S$2=T7,2,0)+IF($S$3=T7,3,0)+IF($S$4=T7,4,0)+IF($S$5=T7,5,0)+IF($S$6=T7,6,0)+IF($S$7=T7,7,0)+IF($S$8=T7,8,0) -> 5 | W7: =CONCATENATE("'Auxiliar'!",W$1,$U7) -> 'Auxiliar'!L5 | X7: =CONCATENATE("'Auxiliar'!",X$1,$U7) -> 'Auxiliar'!M5 | Y7: =CONCATENATE("'Auxiliar'!",Y$1,$U7) -> 'Auxiliar'!N5 | Z7: =CONCATENATE("'Auxiliar'!",Z$1,$U7) -> 'Auxiliar'!O5 | AA7: =CONCATENATE("'Auxiliar'!",AA$1,$U7) -> 'Auxiliar'!P5 | AB7: =CONCATENATE("'Auxiliar'!",AB$1,$U7) -> 'Auxiliar'!Q5
A8: ='Tab Primeira Fase'!N15 -> M. SILVA | B8: =IF('Tab Primeira Fase'!O15<'Tab Primeira Fase'!Q15,0,IF('Tab Primeira Fase'!O15='Tab Primeira Fase'!Q15,1,IF('Tab Primeira Fase'!O15>'Tab Primeira Fase'!Q15,2))) -> 2 | C8: ='Tab Primeira Fase'!R15 -> FARNEZE | D8: =IF('Tab Primeira Fase'!O15>'Tab Primeira Fase'!Q15,0,IF('Tab Primeira Fase'!O15='Tab Primeira Fase'!Q15,1,IF('Tab Primeira Fase'!O15<'Tab Primeira Fase'!Q15,2))) -> 0 | E8: =IF(ISNUMBER('Tab Primeira Fase'!O15),1,0) -> 1 | F8: =IF(B8*E8=2,1,0) -> 1 | G8: =IF(B8*E8=1,1,0) -> 0 | H8: =IF(B8=0,IF(E8=1,1,0),0) -> 0 | I8: =IF(E8*D8=2,1,0) -> 0 | J8: =IF(E8*D8=1,1,0) -> 0 | K8: =IF(D8=0,IF(E8=1,1,0),0) -> 1 | L8: ORNELAS | M8: =SUMIF($A$1:$A$773,L8,$F$1:$F$773)+SUMIF($C$1:$C$773,L8,$I$1:$I$773) -> 1 | N8: =SUMIF($A$1:$A$773,L8,$G$1:$G$773)+SUMIF($C$1:$C$773,L8,$J$1:$J$773) -> 1 | O8: =SUMIF($A$1:$A$773,L8,$H$1:$H$773)+SUMIF($C$1:$C$773,L8,$K$1:$K$773) -> 4 | P8: =SUMIF('Tab Primeira Fase'!$N$8:$N$831,L8,'Tab Primeira Fase'!$O$8:$O$831)+SUMIF('Tab Primeira Fase'!$R$8:$R$831,L8,'Tab Primeira Fase'!$Q$8:$Q$831) -> 4 | Q8: =SUMIF('Tab Primeira Fase'!$N$8:$N$831,L8,'Tab Primeira Fase'!$Q$8:$Q$831)+SUMIF('Tab Primeira Fase'!$R$8:$R$831,L8,'Tab Primeira Fase'!$O$8:$O$831) -> 12 | R8: =(1000000*((3*M8)+N8))+(10000*M8)+(100*(P8-Q8))+P8+(0.001*(7-T8)) -> 4009204 | S8: =RANK(R8,$R$2:$R$8) -> 7 | T8: 7 | U8: =IF($S$2=T8,2,0)+IF($S$3=T8,3,0)+IF($S$4=T8,4,0)+IF($S$5=T8,5,0)+IF($S$6=T8,6,0)+IF($S$7=T8,7,0)+IF($S$8=T8,8,0) -> 8 | W8: =CONCATENATE("'Auxiliar'!",W$1,$U8) -> 'Auxiliar'!L8 | X8: =CONCATENATE("'Auxiliar'!",X$1,$U8) -> 'Auxiliar'!M8 | Y8: =CONCATENATE("'Auxiliar'!",Y$1,$U8) -> 'Auxiliar'!N8 | Z8: =CONCATENATE("'Auxiliar'!",Z$1,$U8) -> 'Auxiliar'!O8 | AA8: =CONCATENATE("'Auxiliar'!",AA$1,$U8) -> 'Auxiliar'!P8 | AB8: =CONCATENATE("'Auxiliar'!",AB$1,$U8) -> 'Auxiliar'!Q8
A9: ='Tab Primeira Fase'!N16 -> M. VASQUES | B9: =IF('Tab Primeira Fase'!O16<'Tab Primeira Fase'!Q16,0,IF('Tab Primeira Fase'!O16='Tab Primeira Fase'!Q16,1,IF('Tab Primeira Fase'!O16>'Tab Primeira Fase'!Q16,2))) -> 0 | C9: ='Tab Primeira Fase'!R16 -> MAGNO | D9: =IF('Tab Primeira Fase'!O16>'Tab Primeira Fase'!Q16,0,IF('Tab Primeira Fase'!O16='Tab Primeira Fase'!Q16,1,IF('Tab Primeira Fase'!O16<'Tab Primeira Fase'!Q16,2))) -> 2 | E9: =IF(ISNUMBER('Tab Primeira Fase'!O16),1,0) -> 1 | F9: =IF(B9*E9=2,1,0) -> 0 | G9: =IF(B9*E9=1,1,0) -> 0 | H9: =IF(B9=0,IF(E9=1,1,0),0) -> 1 | I9: =IF(E9*D9=2,1,0) -> 1 | J9: =IF(E9*D9=1,1,0) -> 0 | K9: =IF(D9=0,IF(E9=1,1,0),0) -> 0
A10: ='Tab Primeira Fase'!N17 -> MARCUS | B10: =IF('Tab Primeira Fase'!O17<'Tab Primeira Fase'!Q17,0,IF('Tab Primeira Fase'!O17='Tab Primeira Fase'!Q17,1,IF('Tab Primeira Fase'!O17>'Tab Primeira Fase'!Q17,2))) -> 2 | C10: ='Tab Primeira Fase'!R17 -> ROBERTO | D10: =IF('Tab Primeira Fase'!O17>'Tab Primeira Fase'!Q17,0,IF('Tab Primeira Fase'!O17='Tab Primeira Fase'!Q17,1,IF('Tab Primeira Fase'!O17<'Tab Primeira Fase'!Q17,2))) -> 0 | E10: =IF(ISNUMBER('Tab Primeira Fase'!O17),1,0) -> 1 | F10: =IF(B10*E10=2,1,0) -> 1 | G10: =IF(B10*E10=1,1,0) -> 0 | H10: =IF(B10=0,IF(E10=1,1,0),0) -> 0 | I10: =IF(E10*D10=2,1,0) -> 0 | J10: =IF(E10*D10=1,1,0) -> 0 | K10: =IF(D10=0,IF(E10=1,1,0),0) -> 1 | L10: TONINHO | M10: =SUMIF($A$1:$A$773,L10,$F$1:$F$773)+SUMIF($C$1:$C$773,L10,$I$1:$I$773) -> 1 | N10: =SUMIF($A$1:$A$773,L10,$G$1:$G$773)+SUMIF($C$1:$C$773,L10,$J$1:$J$773) -> 1 | O10: =SUMIF($A$1:$A$773,L10,$H$1:$H$773)+SUMIF($C$1:$C$773,L10,$K$1:$K$773) -> 3 | P10: =SUMIF('Tab Primeira Fase'!$N$8:$N$831,L10,'Tab Primeira Fase'!$O$8:$O$831)+SUMIF('Tab Primeira Fase'!$R$8:$R$831,L10,'Tab Primeira Fase'!$Q$8:$Q$831) -> 6 | Q10: =SUMIF('Tab Primeira Fase'!$N$8:$N$831,L10,'Tab Primeira Fase'!$Q$8:$Q$831)+SUMIF('Tab Primeira Fase'!$R$8:$R$831,L10,'Tab Primeira Fase'!$O$8:$O$831) -> 7 | R10: =(1000000*((3*M10)+N10))+(10000*M10)+(100*(P10-Q10))+P10+(0.001*(6-T10)) -> 4009906 | S10: =RANK(R10,$R$10:$R$15) -> 4 | T10: 1 | U10: =IF($S$10=T10,10,0)+IF($S$11=T10,11,0)+IF($S$12=T10,12,0)+IF($S$13=T10,13,0)+IF($S$14=T10,14,0)+IF($S$15=T10,15,0) -> 15 | W10: =CONCATENATE("'Auxiliar'!",W$1,$U10) -> 'Auxiliar'!L15 | X10: =CONCATENATE("'Auxiliar'!",X$1,$U10) -> 'Auxiliar'!M15 | Y10: =CONCATENATE("'Auxiliar'!",Y$1,$U10) -> 'Auxiliar'!N15 | Z10: =CONCATENATE("'Auxiliar'!",Z$1,$U10) -> 'Auxiliar'!O15 | AA10: =CONCATENATE("'Auxiliar'!",AA$1,$U10) -> 'Auxiliar'!P15 | AB10: =CONCATENATE("'Auxiliar'!",AB$1,$U10) -> 'Auxiliar'!Q15
A11: ='Tab Primeira Fase'!N18 -> JEAN | B11: =IF('Tab Primeira Fase'!O18<'Tab Primeira Fase'!Q18,0,IF('Tab Primeira Fase'!O18='Tab Primeira Fase'!Q18,1,IF('Tab Primeira Fase'!O18>'Tab Primeira Fase'!Q18,2))) -> 0 | C11: ='Tab Primeira Fase'!R18 -> M. FERREIRA | D11: =IF('Tab Primeira Fase'!O18>'Tab Primeira Fase'!Q18,0,IF('Tab Primeira Fase'!O18='Tab Primeira Fase'!Q18,1,IF('Tab Primeira Fase'!O18<'Tab Primeira Fase'!Q18,2))) -> 2 | E11: =IF(ISNUMBER('Tab Primeira Fase'!O18),1,0) -> 1 | F11: =IF(B11*E11=2,1,0) -> 0 | G11: =IF(B11*E11=1,1,0) -> 0 | H11: =IF(B11=0,IF(E11=1,1,0),0) -> 1 | I11: =IF(E11*D11=2,1,0) -> 1 | J11: =IF(E11*D11=1,1,0) -> 0 | K11: =IF(D11=0,IF(E11=1,1,0),0) -> 0 | L11: BETO | M11: =SUMIF($A$1:$A$773,L11,$F$1:$F$773)+SUMIF($C$1:$C$773,L11,$I$1:$I$773) -> 3 | N11: =SUMIF($A$1:$A$773,L11,$G$1:$G$773)+SUMIF($C$1:$C$773,L11,$J$1:$J$773) -> 0 | O11: =SUMIF($A$1:$A$773,L11,$H$1:$H$773)+SUMIF($C$1:$C$773,L11,$K$1:$K$773) -> 2 | P11: =SUMIF('Tab Primeira Fase'!$N$8:$N$831,L11,'Tab Primeira Fase'!$O$8:$O$831)+SUMIF('Tab Primeira Fase'!$R$8:$R$831,L11,'Tab Primeira Fase'!$Q$8:$Q$831) -> 8 | Q11: =SUMIF('Tab Primeira Fase'!$N$8:$N$831,L11,'Tab Primeira Fase'!$Q$8:$Q$831)+SUMIF('Tab Primeira Fase'!$R$8:$R$831,L11,'Tab Primeira Fase'!$O$8:$O$831) -> 6 | R11: =(1000000*((3*M11)+N11))+(10000*M11)+(100*(P11-Q11))+P11+(0.001*(6-T11)) -> 9030208 | S11: =RANK(R11,$R$10:$R$15) -> 3 | T11: 2 | U11: =IF($S$10=T11,10,0)+IF($S$11=T11,11,0)+IF($S$12=T11,12,0)+IF($S$13=T11,13,0)+IF($S$14=T11,14,0)+IF($S$15=T11,15,0) -> 14 | W11: =CONCATENATE("'Auxiliar'!",W$1,$U11) -> 'Auxiliar'!L14 | X11: =CONCATENATE("'Auxiliar'!",X$1,$U11) -> 'Auxiliar'!M14 | Y11: =CONCATENATE("'Auxiliar'!",Y$1,$U11) -> 'Auxiliar'!N14 | Z11: =CONCATENATE("'Auxiliar'!",Z$1,$U11) -> 'Auxiliar'!O14 | AA11: =CONCATENATE("'Auxiliar'!",AA$1,$U11) -> 'Auxiliar'!P14 | AB11: =CONCATENATE("'Auxiliar'!",AB$1,$U11) -> 'Auxiliar'!Q14
A12: ='Tab Primeira Fase'!N19 -> MARQUINHO | B12: =IF('Tab Primeira Fase'!O19<'Tab Primeira Fase'!Q19,0,IF('Tab Primeira Fase'!O19='Tab Primeira Fase'!Q19,1,IF('Tab Primeira Fase'!O19>'Tab Primeira Fase'!Q19,2))) -> 2 | C12: ='Tab Primeira Fase'!R19 -> ALBERTO | D12: =IF('Tab Primeira Fase'!O19>'Tab Primeira Fase'!Q19,0,IF('Tab Primeira Fase'!O19='Tab Primeira Fase'!Q19,1,IF('Tab Primeira Fase'!O19<'Tab Primeira Fase'!Q19,2))) -> 0 | E12: =IF(ISNUMBER('Tab Primeira Fase'!O19),1,0) -> 1 | F12: =IF(B12*E12=2,1,0) -> 1 | G12: =IF(B12*E12=1,1,0) -> 0 | H12: =IF(B12=0,IF(E12=1,1,0),0) -> 0 | I12: =IF(E12*D12=2,1,0) -> 0 | J12: =IF(E12*D12=1,1,0) -> 0 | K12: =IF(D12=0,IF(E12=1,1,0),0) -> 1 | L12: MOTTA | M12: =SUMIF($A$1:$A$773,L12,$F$1:$F$773)+SUMIF($C$1:$C$773,L12,$I$1:$I$773) -> 1 | N12: =SUMIF($A$1:$A$773,L12,$G$1:$G$773)+SUMIF($C$1:$C$773,L12,$J$1:$J$773) -> 0 | O12: =SUMIF($A$1:$A$773,L12,$H$1:$H$773)+SUMIF($C$1:$C$773,L12,$K$1:$K$773) -> 4 | P12: =SUMIF('Tab Primeira Fase'!$N$8:$N$831,L12,'Tab Primeira Fase'!$O$8:$O$831)+SUMIF('Tab Primeira Fase'!$R$8:$R$831,L12,'Tab Primeira Fase'!$Q$8:$Q$831) -> 3 | Q12: =SUMIF('Tab Primeira Fase'!$N$8:$N$831,L12,'Tab Primeira Fase'!$Q$8:$Q$831)+SUMIF('Tab Primeira Fase'!$R$8:$R$831,L12,'Tab Primeira Fase'!$O$8:$O$831) -> 10 | R12: =(1000000*((3*M12)+N12))+(10000*M12)+(100*(P12-Q12))+P12+(0.001*(6-T12)) -> 3009303 | S12: =RANK(R12,$R$10:$R$15) -> 6 | T12: 3 | U12: =IF($S$10=T12,10,0)+IF($S$11=T12,11,0)+IF($S$12=T12,12,0)+IF($S$13=T12,13,0)+IF($S$14=T12,14,0)+IF($S$15=T12,15,0) -> 11 | W12: =CONCATENATE("'Auxiliar'!",W$1,$U12) -> 'Auxiliar'!L11 | X12: =CONCATENATE("'Auxiliar'!",X$1,$U12) -> 'Auxiliar'!M11 | Y12: =CONCATENATE("'Auxiliar'!",Y$1,$U12) -> 'Auxiliar'!N11 | Z12: =CONCATENATE("'Auxiliar'!",Z$1,$U12) -> 'Auxiliar'!O11 | AA12: =CONCATENATE("'Auxiliar'!",AA$1,$U12) -> 'Auxiliar'!P11 | AB12: =CONCATENATE("'Auxiliar'!",AB$1,$U12) -> 'Auxiliar'!Q11
A13: ='Tab Primeira Fase'!N20 -> TARCÍZIO | B13: =IF('Tab Primeira Fase'!O20<'Tab Primeira Fase'!Q20,0,IF('Tab Primeira Fase'!O20='Tab Primeira Fase'!Q20,1,IF('Tab Primeira Fase'!O20>'Tab Primeira Fase'!Q20,2))) -> 0 | C13: ='Tab Primeira Fase'!R20 -> WENDEL | D13: =IF('Tab Primeira Fase'!O20>'Tab Primeira Fase'!Q20,0,IF('Tab Primeira Fase'!O20='Tab Primeira Fase'!Q20,1,IF('Tab Primeira Fase'!O20<'Tab Primeira Fase'!Q20,2))) -> 2 | E13: =IF(ISNUMBER('Tab Primeira Fase'!O20),1,0) -> 1 | F13: =IF(B13*E13=2,1,0) -> 0 | G13: =IF(B13*E13=1,1,0) -> 0 | H13: =IF(B13=0,IF(E13=1,1,0),0) -> 1 | I13: =IF(E13*D13=2,1,0) -> 1 | J13: =IF(E13*D13=1,1,0) -> 0 | K13: =IF(D13=0,IF(E13=1,1,0),0) -> 0 | L13: PIMENTEL | M13: =SUMIF($A$1:$A$773,L13,$F$1:$F$773)+SUMIF($C$1:$C$773,L13,$I$1:$I$773) -> 1 | N13: =SUMIF($A$1:$A$773,L13,$G$1:$G$773)+SUMIF($C$1:$C$773,L13,$J$1:$J$773) -> 0 | O13: =SUMIF($A$1:$A$773,L13,$H$1:$H$773)+SUMIF($C$1:$C$773,L13,$K$1:$K$773) -> 4 | P13: =SUMIF('Tab Primeira Fase'!$N$8:$N$831,L13,'Tab Primeira Fase'!$O$8:$O$831)+SUMIF('Tab Primeira Fase'!$R$8:$R$831,L13,'Tab Primeira Fase'!$Q$8:$Q$831) -> 4 | Q13: =SUMIF('Tab Primeira Fase'!$N$8:$N$831,L13,'Tab Primeira Fase'!$Q$8:$Q$831)+SUMIF('Tab Primeira Fase'!$R$8:$R$831,L13,'Tab Primeira Fase'!$O$8:$O$831) -> 9 | R13: =(1000000*((3*M13)+N13))+(10000*M13)+(100*(P13-Q13))+P13+(0.001*(6-T13)) -> 3009504 | S13: =RANK(R13,$R$10:$R$15) -> 5 | T13: 4 | U13: =IF($S$10=T13,10,0)+IF($S$11=T13,11,0)+IF($S$12=T13,12,0)+IF($S$13=T13,13,0)+IF($S$14=T13,14,0)+IF($S$15=T13,15,0) -> 10 | W13: =CONCATENATE("'Auxiliar'!",W$1,$U13) -> 'Auxiliar'!L10 | X13: =CONCATENATE("'Auxiliar'!",X$1,$U13) -> 'Auxiliar'!M10 | Y13: =CONCATENATE("'Auxiliar'!",Y$1,$U13) -> 'Auxiliar'!N10 | Z13: =CONCATENATE("'Auxiliar'!",Z$1,$U13) -> 'Auxiliar'!O10 | AA13: =CONCATENATE("'Auxiliar'!",AA$1,$U13) -> 'Auxiliar'!P10 | AB13: =CONCATENATE("'Auxiliar'!",AB$1,$U13) -> 'Auxiliar'!Q10
A14: ='Tab Primeira Fase'!N21 -> PAULO CÉSAR | B14: =IF('Tab Primeira Fase'!O21<'Tab Primeira Fase'!Q21,0,IF('Tab Primeira Fase'!O21='Tab Primeira Fase'!Q21,1,IF('Tab Primeira Fase'!O21>'Tab Primeira Fase'!Q21,2))) -> 0 | C14: ='Tab Primeira Fase'!R21 -> ALCIDES | D14: =IF('Tab Primeira Fase'!O21>'Tab Primeira Fase'!Q21,0,IF('Tab Primeira Fase'!O21='Tab Primeira Fase'!Q21,1,IF('Tab Primeira Fase'!O21<'Tab Primeira Fase'!Q21,2))) -> 2 | E14: =IF(ISNUMBER('Tab Primeira Fase'!O21),1,0) -> 1 | F14: =IF(B14*E14=2,1,0) -> 0 | G14: =IF(B14*E14=1,1,0) -> 0 | H14: =IF(B14=0,IF(E14=1,1,0),0) -> 1 | I14: =IF(E14*D14=2,1,0) -> 1 | J14: =IF(E14*D14=1,1,0) -> 0 | K14: =IF(D14=0,IF(E14=1,1,0),0) -> 0 | L14: LUIZ CLÁUDIO | M14: =SUMIF($A$1:$A$773,L14,$F$1:$F$773)+SUMIF($C$1:$C$773,L14,$I$1:$I$773) -> 3 | N14: =SUMIF($A$1:$A$773,L14,$G$1:$G$773)+SUMIF($C$1:$C$773,L14,$J$1:$J$773) -> 1 | O14: =SUMIF($A$1:$A$773,L14,$H$1:$H$773)+SUMIF($C$1:$C$773,L14,$K$1:$K$773) -> 1 | P14: =SUMIF('Tab Primeira Fase'!$N$8:$N$831,L14,'Tab Primeira Fase'!$O$8:$O$831)+SUMIF('Tab Primeira Fase'!$R$8:$R$831,L14,'Tab Primeira Fase'!$Q$8:$Q$831) -> 6 | Q14: =SUMIF('Tab Primeira Fase'!$N$8:$N$831,L14,'Tab Primeira Fase'!$Q$8:$Q$831)+SUMIF('Tab Primeira Fase'!$R$8:$R$831,L14,'Tab Primeira Fase'!$O$8:$O$831) -> 4 | R14: =(1000000*((3*M14)+N14))+(10000*M14)+(100*(P14-Q14))+P14+(0.001*(6-T14)) -> 10030206 | S14: =RANK(R14,$R$10:$R$15) -> 2 | T14: 5 | U14: =IF($S$10=T14,10,0)+IF($S$11=T14,11,0)+IF($S$12=T14,12,0)+IF($S$13=T14,13,0)+IF($S$14=T14,14,0)+IF($S$15=T14,15,0) -> 13 | W14: =CONCATENATE("'Auxiliar'!",W$1,$U14) -> 'Auxiliar'!L13 | X14: =CONCATENATE("'Auxiliar'!",X$1,$U14) -> 'Auxiliar'!M13 | Y14: =CONCATENATE("'Auxiliar'!",Y$1,$U14) -> 'Auxiliar'!N13 | Z14: =CONCATENATE("'Auxiliar'!",Z$1,$U14) -> 'Auxiliar'!O13 | AA14: =CONCATENATE("'Auxiliar'!",AA$1,$U14) -> 'Auxiliar'!P13 | AB14: =CONCATENATE("'Auxiliar'!",AB$1,$U14) -> 'Auxiliar'!Q13
A15: ='Tab Primeira Fase'!N22 -> JUNIOR | B15: =IF('Tab Primeira Fase'!O22<'Tab Primeira Fase'!Q22,0,IF('Tab Primeira Fase'!O22='Tab Primeira Fase'!Q22,1,IF('Tab Primeira Fase'!O22>'Tab Primeira Fase'!Q22,2))) -> 1 | C15: ='Tab Primeira Fase'!R22 -> ALAN | D15: =IF('Tab Primeira Fase'!O22>'Tab Primeira Fase'!Q22,0,IF('Tab Primeira Fase'!O22='Tab Primeira Fase'!Q22,1,IF('Tab Primeira Fase'!O22<'Tab Primeira Fase'!Q22,2))) -> 1 | E15: =IF(ISNUMBER('Tab Primeira Fase'!O22),1,0) -> 1 | F15: =IF(B15*E15=2,1,0) -> 0 | G15: =IF(B15*E15=1,1,0) -> 1 | H15: =IF(B15=0,IF(E15=1,1,0),0) -> 0 | I15: =IF(E15*D15=2,1,0) -> 0 | J15: =IF(E15*D15=1,1,0) -> 1 | K15: =IF(D15=0,IF(E15=1,1,0),0) -> 0 | L15: LORIVAL | M15: =SUMIF($A$1:$A$773,L15,$F$1:$F$773)+SUMIF($C$1:$C$773,L15,$I$1:$I$773) -> 5 | N15: =SUMIF($A$1:$A$773,L15,$G$1:$G$773)+SUMIF($C$1:$C$773,L15,$J$1:$J$773) -> 0 | O15: =SUMIF($A$1:$A$773,L15,$H$1:$H$773)+SUMIF($C$1:$C$773,L15,$K$1:$K$773) -> 0 | P15: =SUMIF('Tab Primeira Fase'!$N$8:$N$831,L15,'Tab Primeira Fase'!$O$8:$O$831)+SUMIF('Tab Primeira Fase'!$R$8:$R$831,L15,'Tab Primeira Fase'!$Q$8:$Q$831) -> 12 | Q15: =SUMIF('Tab Primeira Fase'!$N$8:$N$831,L15,'Tab Primeira Fase'!$Q$8:$Q$831)+SUMIF('Tab Primeira Fase'!$R$8:$R$831,L15,'Tab Primeira Fase'!$O$8:$O$831) -> 3 | R15: =(1000000*((3*M15)+N15))+(10000*M15)+(100*(P15-Q15))+P15+(0.001*(6-T15)) -> 15050912 | S15: =RANK(R15,$R$10:$R$15) -> 1 | T15: 6 | U15: =IF($S$10=T15,10,0)+IF($S$11=T15,11,0)+IF($S$12=T15,12,0)+IF($S$13=T15,13,0)+IF($S$14=T15,14,0)+IF($S$15=T15,15,0) -> 12 | W15: =CONCATENATE("'Auxiliar'!",W$1,$U15) -> 'Auxiliar'!L12 | X15: =CONCATENATE("'Auxiliar'!",X$1,$U15) -> 'Auxiliar'!M12 | Y15: =CONCATENATE("'Auxiliar'!",Y$1,$U15) -> 'Auxiliar'!N12 | Z15: =CONCATENATE("'Auxiliar'!",Z$1,$U15) -> 'Auxiliar'!O12 | AA15: =CONCATENATE("'Auxiliar'!",AA$1,$U15) -> 'Auxiliar'!P12 | AB15: =CONCATENATE("'Auxiliar'!",AB$1,$U15) -> 'Auxiliar'!Q12
A16: ='Tab Primeira Fase'!N23 -> ADOLPHO | B16: =IF('Tab Primeira Fase'!O23<'Tab Primeira Fase'!Q23,0,IF('Tab Primeira Fase'!O23='Tab Primeira Fase'!Q23,1,IF('Tab Primeira Fase'!O23>'Tab Primeira Fase'!Q23,2))) -> 2 | C16: ='Tab Primeira Fase'!R23 -> ORNELAS | D16: =IF('Tab Primeira Fase'!O23>'Tab Primeira Fase'!Q23,0,IF('Tab Primeira Fase'!O23='Tab Primeira Fase'!Q23,1,IF('Tab Primeira Fase'!O23<'Tab Primeira Fase'!Q23,2))) -> 0 | E16: =IF(ISNUMBER('Tab Primeira Fase'!O23),1,0) -> 1 | F16: =IF(B16*E16=2,1,0) -> 1 | G16: =IF(B16*E16=1,1,0) -> 0 | H16: =IF(B16=0,IF(E16=1,1,0),0) -> 0 | I16: =IF(E16*D16=2,1,0) -> 0 | J16: =IF(E16*D16=1,1,0) -> 0 | K16: =IF(D16=0,IF(E16=1,1,0),0) -> 1
A17: ='Tab Primeira Fase'!N24 -> THIAGO | B17: =IF('Tab Primeira Fase'!O24<'Tab Primeira Fase'!Q24,0,IF('Tab Primeira Fase'!O24='Tab Primeira Fase'!Q24,1,IF('Tab Primeira Fase'!O24>'Tab Primeira Fase'!Q24,2))) -> 1 | C17: ='Tab Primeira Fase'!R24 -> M. PORTO | D17: =IF('Tab Primeira Fase'!O24>'Tab Primeira Fase'!Q24,0,IF('Tab Primeira Fase'!O24='Tab Primeira Fase'!Q24,1,IF('Tab Primeira Fase'!O24<'Tab Primeira Fase'!Q24,2))) -> 1 | E17: =IF(ISNUMBER('Tab Primeira Fase'!O24),1,0) -> 1 | F17: =IF(B17*E17=2,1,0) -> 0 | G17: =IF(B17*E17=1,1,0) -> 1 | H17: =IF(B17=0,IF(E17=1,1,0),0) -> 0 | I17: =IF(E17*D17=2,1,0) -> 0 | J17: =IF(E17*D17=1,1,0) -> 1 | K17: =IF(D17=0,IF(E17=1,1,0),0) -> 0 | L17: ANDRÉ | M17: =SUMIF($A$1:$A$773,L17,$F$1:$F$773)+SUMIF($C$1:$C$773,L17,$I$1:$I$773) -> 2 | N17: =SUMIF($A$1:$A$773,L17,$G$1:$G$773)+SUMIF($C$1:$C$773,L17,$J$1:$J$773) -> 2 | O17: =SUMIF($A$1:$A$773,L17,$H$1:$H$773)+SUMIF($C$1:$C$773,L17,$K$1:$K$773) -> 1 | P17: =SUMIF('Tab Primeira Fase'!$N$8:$N$831,L17,'Tab Primeira Fase'!$O$8:$O$831)+SUMIF('Tab Primeira Fase'!$R$8:$R$831,L17,'Tab Primeira Fase'!$Q$8:$Q$831) -> 12 | Q17: =SUMIF('Tab Primeira Fase'!$N$8:$N$831,L17,'Tab Primeira Fase'!$Q$8:$Q$831)+SUMIF('Tab Primeira Fase'!$R$8:$R$831,L17,'Tab Primeira Fase'!$O$8:$O$831) -> 5 | R17: =(1000000*((3*M17)+N17))+(10000*M17)+(100*(P17-Q17))+P17+(0.001*(6-T17)) -> 8020712 | S17: =RANK(R17,$R$17:$R$22) -> 3 | T17: 1 | U17: =IF($S$17=T17,17,0)+IF($S$18=T17,18,0)+IF($S$19=T17,19,0)+IF($S$20=T17,20,0)+IF($S$21=T17,21,0)+IF($S$22=T17,22,0) -> 18 | W17: =CONCATENATE("'Auxiliar'!",W$1,$U17) -> 'Auxiliar'!L18 | X17: =CONCATENATE("'Auxiliar'!",X$1,$U17) -> 'Auxiliar'!M18 | Y17: =CONCATENATE("'Auxiliar'!",Y$1,$U17) -> 'Auxiliar'!N18 | Z17: =CONCATENATE("'Auxiliar'!",Z$1,$U17) -> 'Auxiliar'!O18 | AA17: =CONCATENATE("'Auxiliar'!",AA$1,$U17) -> 'Auxiliar'!P18 | AB17: =CONCATENATE("'Auxiliar'!",AB$1,$U17) -> 'Auxiliar'!Q18
A18: ='Tab Primeira Fase'!N25 -> PAULÃO | B18: =IF('Tab Primeira Fase'!O25<'Tab Primeira Fase'!Q25,0,IF('Tab Primeira Fase'!O25='Tab Primeira Fase'!Q25,1,IF('Tab Primeira Fase'!O25>'Tab Primeira Fase'!Q25,2))) -> 0 | C18: ='Tab Primeira Fase'!R25 -> RAFAEL PENA | D18: =IF('Tab Primeira Fase'!O25>'Tab Primeira Fase'!Q25,0,IF('Tab Primeira Fase'!O25='Tab Primeira Fase'!Q25,1,IF('Tab Primeira Fase'!O25<'Tab Primeira Fase'!Q25,2))) -> 2 | E18: =IF(ISNUMBER('Tab Primeira Fase'!O25),1,0) -> 1 | F18: =IF(B18*E18=2,1,0) -> 0 | G18: =IF(B18*E18=1,1,0) -> 0 | H18: =IF(B18=0,IF(E18=1,1,0),0) -> 1 | I18: =IF(E18*D18=2,1,0) -> 1 | J18: =IF(E18*D18=1,1,0) -> 0 | K18: =IF(D18=0,IF(E18=1,1,0),0) -> 0 | L18: ELINTO | M18: =SUMIF($A$1:$A$773,L18,$F$1:$F$773)+SUMIF($C$1:$C$773,L18,$I$1:$I$773) -> 4 | N18: =SUMIF($A$1:$A$773,L18,$G$1:$G$773)+SUMIF($C$1:$C$773,L18,$J$1:$J$773) -> 0 | O18: =SUMIF($A$1:$A$773,L18,$H$1:$H$773)+SUMIF($C$1:$C$773,L18,$K$1:$K$773) -> 1 | P18: =SUMIF('Tab Primeira Fase'!$N$8:$N$831,L18,'Tab Primeira Fase'!$O$8:$O$831)+SUMIF('Tab Primeira Fase'!$R$8:$R$831,L18,'Tab Primeira Fase'!$Q$8:$Q$831) -> 13 | Q18: =SUMIF('Tab Primeira Fase'!$N$8:$N$831,L18,'Tab Primeira Fase'!$Q$8:$Q$831)+SUMIF('Tab Primeira Fase'!$R$8:$R$831,L18,'Tab Primeira Fase'!$O$8:$O$831) -> 5 | R18: =(1000000*((3*M18)+N18))+(10000*M18)+(100*(P18-Q18))+P18+(0.001*(6-T18)) -> 12040813 | S18: =RANK(R18,$R$17:$R$22) -> 1 | T18: 2 | U18: =IF($S$17=T18,17,0)+IF($S$18=T18,18,0)+IF($S$19=T18,19,0)+IF($S$20=T18,20,0)+IF($S$21=T18,21,0)+IF($S$22=T18,22,0) -> 22 | W18: =CONCATENATE("'Auxiliar'!",W$1,$U18) -> 'Auxiliar'!L22 | X18: =CONCATENATE("'Auxiliar'!",X$1,$U18) -> 'Auxiliar'!M22 | Y18: =CONCATENATE("'Auxiliar'!",Y$1,$U18) -> 'Auxiliar'!N22 | Z18: =CONCATENATE("'Auxiliar'!",Z$1,$U18) -> 'Auxiliar'!O22 | AA18: =CONCATENATE("'Auxiliar'!",AA$1,$U18) -> 'Auxiliar'!P22 | AB18: =CONCATENATE("'Auxiliar'!",AB$1,$U18) -> 'Auxiliar'!Q22
A19: ='Tab Primeira Fase'!N26 -> LORIVAL | B19: =IF('Tab Primeira Fase'!O26<'Tab Primeira Fase'!Q26,0,IF('Tab Primeira Fase'!O26='Tab Primeira Fase'!Q26,1,IF('Tab Primeira Fase'!O26>'Tab Primeira Fase'!Q26,2))) -> 2 | C19: ='Tab Primeira Fase'!R26 -> PIMENTEL | D19: =IF('Tab Primeira Fase'!O26>'Tab Primeira Fase'!Q26,0,IF('Tab Primeira Fase'!O26='Tab Primeira Fase'!Q26,1,IF('Tab Primeira Fase'!O26<'Tab Primeira Fase'!Q26,2))) -> 0 | E19: =IF(ISNUMBER('Tab Primeira Fase'!O26),1,0) -> 1 | F19: =IF(B19*E19=2,1,0) -> 1 | G19: =IF(B19*E19=1,1,0) -> 0 | H19: =IF(B19=0,IF(E19=1,1,0),0) -> 0 | I19: =IF(E19*D19=2,1,0) -> 0 | J19: =IF(E19*D19=1,1,0) -> 0 | K19: =IF(D19=0,IF(E19=1,1,0),0) -> 1 | L19: FRANCISCO | M19: =SUMIF($A$1:$A$773,L19,$F$1:$F$773)+SUMIF($C$1:$C$773,L19,$I$1:$I$773) -> 0 | N19: =SUMIF($A$1:$A$773,L19,$G$1:$G$773)+SUMIF($C$1:$C$773,L19,$J$1:$J$773) -> 1 | O19: =SUMIF($A$1:$A$773,L19,$H$1:$H$773)+SUMIF($C$1:$C$773,L19,$K$1:$K$773) -> 4 | P19: =SUMIF('Tab Primeira Fase'!$N$8:$N$831,L19,'Tab Primeira Fase'!$O$8:$O$831)+SUMIF('Tab Primeira Fase'!$R$8:$R$831,L19,'Tab Primeira Fase'!$Q$8:$Q$831) -> 2 | Q19: =SUMIF('Tab Primeira Fase'!$N$8:$N$831,L19,'Tab Primeira Fase'!$Q$8:$Q$831)+SUMIF('Tab Primeira Fase'!$R$8:$R$831,L19,'Tab Primeira Fase'!$O$8:$O$831) -> 16 | R19: =(1000000*((3*M19)+N19))+(10000*M19)+(100*(P19-Q19))+P19+(0.001*(6-T19)) -> 998602 | S19: =RANK(R19,$R$17:$R$22) -> 6 | T19: 3 | U19: =IF($S$17=T19,17,0)+IF($S$18=T19,18,0)+IF($S$19=T19,19,0)+IF($S$20=T19,20,0)+IF($S$21=T19,21,0)+IF($S$22=T19,22,0) -> 17 | W19: =CONCATENATE("'Auxiliar'!",W$1,$U19) -> 'Auxiliar'!L17 | X19: =CONCATENATE("'Auxiliar'!",X$1,$U19) -> 'Auxiliar'!M17 | Y19: =CONCATENATE("'Auxiliar'!",Y$1,$U19) -> 'Auxiliar'!N17 | Z19: =CONCATENATE("'Auxiliar'!",Z$1,$U19) -> 'Auxiliar'!O17 | AA19: =CONCATENATE("'Auxiliar'!",AA$1,$U19) -> 'Auxiliar'!P17 | AB19: =CONCATENATE("'Auxiliar'!",AB$1,$U19) -> 'Auxiliar'!Q17
A20: ='Tab Primeira Fase'!N27 -> LUIZ CLÁUDIO | B20: =IF('Tab Primeira Fase'!O27<'Tab Primeira Fase'!Q27,0,IF('Tab Primeira Fase'!O27='Tab Primeira Fase'!Q27,1,IF('Tab Primeira Fase'!O27>'Tab Primeira Fase'!Q27,2))) -> 2 | C20: ='Tab Primeira Fase'!R27 -> MOTTA | D20: =IF('Tab Primeira Fase'!O27>'Tab Primeira Fase'!Q27,0,IF('Tab Primeira Fase'!O27='Tab Primeira Fase'!Q27,1,IF('Tab Primeira Fase'!O27<'Tab Primeira Fase'!Q27,2))) -> 0 | E20: =IF(ISNUMBER('Tab Primeira Fase'!O27),1,0) -> 1 | F20: =IF(B20*E20=2,1,0) -> 1 | G20: =IF(B20*E20=1,1,0) -> 0 | H20: =IF(B20=0,IF(E20=1,1,0),0) -> 0 | I20: =IF(E20*D20=2,1,0) -> 0 | J20: =IF(E20*D20=1,1,0) -> 0 | K20: =IF(D20=0,IF(E20=1,1,0),0) -> 1 | L20: LUIZ GOMES | M20: =SUMIF($A$1:$A$773,L20,$F$1:$F$773)+SUMIF($C$1:$C$773,L20,$I$1:$I$773) -> 0 | N20: =SUMIF($A$1:$A$773,L20,$G$1:$G$773)+SUMIF($C$1:$C$773,L20,$J$1:$J$773) -> 1 | O20: =SUMIF($A$1:$A$773,L20,$H$1:$H$773)+SUMIF($C$1:$C$773,L20,$K$1:$K$773) -> 4 | P20: =SUMIF('Tab Primeira Fase'!$N$8:$N$831,L20,'Tab Primeira Fase'!$O$8:$O$831)+SUMIF('Tab Primeira Fase'!$R$8:$R$831,L20,'Tab Primeira Fase'!$Q$8:$Q$831) -> 4 | Q20: =SUMIF('Tab Primeira Fase'!$N$8:$N$831,L20,'Tab Primeira Fase'!$Q$8:$Q$831)+SUMIF('Tab Primeira Fase'!$R$8:$R$831,L20,'Tab Primeira Fase'!$O$8:$O$831) -> 15 | R20: =(1000000*((3*M20)+N20))+(10000*M20)+(100*(P20-Q20))+P20+(0.001*(6-T20)) -> 998904 | S20: =RANK(R20,$R$17:$R$22) -> 5 | T20: 4 | U20: =IF($S$17=T20,17,0)+IF($S$18=T20,18,0)+IF($S$19=T20,19,0)+IF($S$20=T20,20,0)+IF($S$21=T20,21,0)+IF($S$22=T20,22,0) -> 21 | W20: =CONCATENATE("'Auxiliar'!",W$1,$U20) -> 'Auxiliar'!L21 | X20: =CONCATENATE("'Auxiliar'!",X$1,$U20) -> 'Auxiliar'!M21 | Y20: =CONCATENATE("'Auxiliar'!",Y$1,$U20) -> 'Auxiliar'!N21 | Z20: =CONCATENATE("'Auxiliar'!",Z$1,$U20) -> 'Auxiliar'!O21 | AA20: =CONCATENATE("'Auxiliar'!",AA$1,$U20) -> 'Auxiliar'!P21 | AB20: =CONCATENATE("'Auxiliar'!",AB$1,$U20) -> 'Auxiliar'!Q21
A21: ='Tab Primeira Fase'!N28 -> TONINHO | B21: =IF('Tab Primeira Fase'!O28<'Tab Primeira Fase'!Q28,0,IF('Tab Primeira Fase'!O28='Tab Primeira Fase'!Q28,1,IF('Tab Primeira Fase'!O28>'Tab Primeira Fase'!Q28,2))) -> 0 | C21: ='Tab Primeira Fase'!R28 -> BETO | D21: =IF('Tab Primeira Fase'!O28>'Tab Primeira Fase'!Q28,0,IF('Tab Primeira Fase'!O28='Tab Primeira Fase'!Q28,1,IF('Tab Primeira Fase'!O28<'Tab Primeira Fase'!Q28,2))) -> 2 | E21: =IF(ISNUMBER('Tab Primeira Fase'!O28),1,0) -> 1 | F21: =IF(B21*E21=2,1,0) -> 0 | G21: =IF(B21*E21=1,1,0) -> 0 | H21: =IF(B21=0,IF(E21=1,1,0),0) -> 1 | I21: =IF(E21*D21=2,1,0) -> 1 | J21: =IF(E21*D21=1,1,0) -> 0 | K21: =IF(D21=0,IF(E21=1,1,0),0) -> 0 | L21: ZÉ RICARDO | M21: =SUMIF($A$1:$A$773,L21,$F$1:$F$773)+SUMIF($C$1:$C$773,L21,$I$1:$I$773) -> 2 | N21: =SUMIF($A$1:$A$773,L21,$G$1:$G$773)+SUMIF($C$1:$C$773,L21,$J$1:$J$773) -> 2 | O21: =SUMIF($A$1:$A$773,L21,$H$1:$H$773)+SUMIF($C$1:$C$773,L21,$K$1:$K$773) -> 1 | P21: =SUMIF('Tab Primeira Fase'!$N$8:$N$831,L21,'Tab Primeira Fase'!$O$8:$O$831)+SUMIF('Tab Primeira Fase'!$R$8:$R$831,L21,'Tab Primeira Fase'!$Q$8:$Q$831) -> 8 | Q21: =SUMIF('Tab Primeira Fase'!$N$8:$N$831,L21,'Tab Primeira Fase'!$Q$8:$Q$831)+SUMIF('Tab Primeira Fase'!$R$8:$R$831,L21,'Tab Primeira Fase'!$O$8:$O$831) -> 4 | R21: =(1000000*((3*M21)+N21))+(10000*M21)+(100*(P21-Q21))+P21+(0.001*(6-T21)) -> 8020408 | S21: =RANK(R21,$R$17:$R$22) -> 4 | T21: 5 | U21: =IF($S$17=T21,17,0)+IF($S$18=T21,18,0)+IF($S$19=T21,19,0)+IF($S$20=T21,20,0)+IF($S$21=T21,21,0)+IF($S$22=T21,22,0) -> 20 | W21: =CONCATENATE("'Auxiliar'!",W$1,$U21) -> 'Auxiliar'!L20 | X21: =CONCATENATE("'Auxiliar'!",X$1,$U21) -> 'Auxiliar'!M20 | Y21: =CONCATENATE("'Auxiliar'!",Y$1,$U21) -> 'Auxiliar'!N20 | Z21: =CONCATENATE("'Auxiliar'!",Z$1,$U21) -> 'Auxiliar'!O20 | AA21: =CONCATENATE("'Auxiliar'!",AA$1,$U21) -> 'Auxiliar'!P20 | AB21: =CONCATENATE("'Auxiliar'!",AB$1,$U21) -> 'Auxiliar'!Q20
A22: ='Tab Primeira Fase'!N29 -> DUGUET | B22: =IF('Tab Primeira Fase'!O29<'Tab Primeira Fase'!Q29,0,IF('Tab Primeira Fase'!O29='Tab Primeira Fase'!Q29,1,IF('Tab Primeira Fase'!O29>'Tab Primeira Fase'!Q29,2))) -> 1 | C22: ='Tab Primeira Fase'!R29 -> ZÉ RICARDO | D22: =IF('Tab Primeira Fase'!O29>'Tab Primeira Fase'!Q29,0,IF('Tab Primeira Fase'!O29='Tab Primeira Fase'!Q29,1,IF('Tab Primeira Fase'!O29<'Tab Primeira Fase'!Q29,2))) -> 1 | E22: =IF(ISNUMBER('Tab Primeira Fase'!O29),1,0) -> 1 | F22: =IF(B22*E22=2,1,0) -> 0 | G22: =IF(B22*E22=1,1,0) -> 1 | H22: =IF(B22=0,IF(E22=1,1,0),0) -> 0 | I22: =IF(E22*D22=2,1,0) -> 0 | J22: =IF(E22*D22=1,1,0) -> 1 | K22: =IF(D22=0,IF(E22=1,1,0),0) -> 0 | L22: DUGUET | M22: =SUMIF($A$1:$A$773,L22,$F$1:$F$773)+SUMIF($C$1:$C$773,L22,$I$1:$I$773) -> 3 | N22: =SUMIF($A$1:$A$773,L22,$G$1:$G$773)+SUMIF($C$1:$C$773,L22,$J$1:$J$773) -> 2 | O22: =SUMIF($A$1:$A$773,L22,$H$1:$H$773)+SUMIF($C$1:$C$773,L22,$K$1:$K$773) -> 0 | P22: =SUMIF('Tab Primeira Fase'!$N$8:$N$831,L22,'Tab Primeira Fase'!$O$8:$O$831)+SUMIF('Tab Primeira Fase'!$R$8:$R$831,L22,'Tab Primeira Fase'!$Q$8:$Q$831) -> 10 | Q22: =SUMIF('Tab Primeira Fase'!$N$8:$N$831,L22,'Tab Primeira Fase'!$Q$8:$Q$831)+SUMIF('Tab Primeira Fase'!$R$8:$R$831,L22,'Tab Primeira Fase'!$O$8:$O$831) -> 4 | R22: =(1000000*((3*M22)+N22))+(10000*M22)+(100*(P22-Q22))+P22+(0.001*(6-T22)) -> 11030610 | S22: =RANK(R22,$R$17:$R$22) -> 2 | T22: 6 | U22: =IF($S$17=T22,17,0)+IF($S$18=T22,18,0)+IF($S$19=T22,19,0)+IF($S$20=T22,20,0)+IF($S$21=T22,21,0)+IF($S$22=T22,22,0) -> 19 | W22: =CONCATENATE("'Auxiliar'!",W$1,$U22) -> 'Auxiliar'!L19 | X22: =CONCATENATE("'Auxiliar'!",X$1,$U22) -> 'Auxiliar'!M19 | Y22: =CONCATENATE("'Auxiliar'!",Y$1,$U22) -> 'Auxiliar'!N19 | Z22: =CONCATENATE("'Auxiliar'!",Z$1,$U22) -> 'Auxiliar'!O19 | AA22: =CONCATENATE("'Auxiliar'!",AA$1,$U22) -> 'Auxiliar'!P19 | AB22: =CONCATENATE("'Auxiliar'!",AB$1,$U22) -> 'Auxiliar'!Q19
A23: ='Tab Primeira Fase'!N30 -> ANDRÉ | B23: =IF('Tab Primeira Fase'!O30<'Tab Primeira Fase'!Q30,0,IF('Tab Primeira Fase'!O30='Tab Primeira Fase'!Q30,1,IF('Tab Primeira Fase'!O30>'Tab Primeira Fase'!Q30,2))) -> 2 | C23: ='Tab Primeira Fase'!R30 -> LUIZ GOMES | D23: =IF('Tab Primeira Fase'!O30>'Tab Primeira Fase'!Q30,0,IF('Tab Primeira Fase'!O30='Tab Primeira Fase'!Q30,1,IF('Tab Primeira Fase'!O30<'Tab Primeira Fase'!Q30,2))) -> 0 | E23: =IF(ISNUMBER('Tab Primeira Fase'!O30),1,0) -> 1 | F23: =IF(B23*E23=2,1,0) -> 1 | G23: =IF(B23*E23=1,1,0) -> 0 | H23: =IF(B23=0,IF(E23=1,1,0),0) -> 0 | I23: =IF(E23*D23=2,1,0) -> 0 | J23: =IF(E23*D23=1,1,0) -> 0 | K23: =IF(D23=0,IF(E23=1,1,0),0) -> 1
A24: ='Tab Primeira Fase'!N31 -> ELINTO | B24: =IF('Tab Primeira Fase'!O31<'Tab Primeira Fase'!Q31,0,IF('Tab Primeira Fase'!O31='Tab Primeira Fase'!Q31,1,IF('Tab Primeira Fase'!O31>'Tab Primeira Fase'!Q31,2))) -> 2 | C24: ='Tab Primeira Fase'!R31 -> FRANCISCO | D24: =IF('Tab Primeira Fase'!O31>'Tab Primeira Fase'!Q31,0,IF('Tab Primeira Fase'!O31='Tab Primeira Fase'!Q31,1,IF('Tab Primeira Fase'!O31<'Tab Primeira Fase'!Q31,2))) -> 0 | E24: =IF(ISNUMBER('Tab Primeira Fase'!O31),1,0) -> 1 | F24: =IF(B24*E24=2,1,0) -> 1 | G24: =IF(B24*E24=1,1,0) -> 0 | H24: =IF(B24=0,IF(E24=1,1,0),0) -> 0 | I24: =IF(E24*D24=2,1,0) -> 0 | J24: =IF(E24*D24=1,1,0) -> 0 | K24: =IF(D24=0,IF(E24=1,1,0),0) -> 1 | L24: M. FERREIRA | M24: =SUMIF($A$1:$A$773,L24,$F$1:$F$773)+SUMIF($C$1:$C$773,L24,$I$1:$I$773) -> 3 | N24: =SUMIF($A$1:$A$773,L24,$G$1:$G$773)+SUMIF($C$1:$C$773,L24,$J$1:$J$773) -> 1 | O24: =SUMIF($A$1:$A$773,L24,$H$1:$H$773)+SUMIF($C$1:$C$773,L24,$K$1:$K$773) -> 1 | P24: =SUMIF('Tab Primeira Fase'!$N$8:$N$831,L24,'Tab Primeira Fase'!$O$8:$O$831)+SUMIF('Tab Primeira Fase'!$R$8:$R$831,L24,'Tab Primeira Fase'!$Q$8:$Q$831) -> 11 | Q24: =SUMIF('Tab Primeira Fase'!$N$8:$N$831,L24,'Tab Primeira Fase'!$Q$8:$Q$831)+SUMIF('Tab Primeira Fase'!$R$8:$R$831,L24,'Tab Primeira Fase'!$O$8:$O$831) -> 5 | R24: =(1000000*((3*M24)+N24))+(10000*M24)+(100*(P24-Q24))+P24+(0.001*(6-T24)) -> 10030611 | S24: =RANK(R24,$R$24:$R$29) -> 2 | T24: 1 | U24: =IF($S$24=T24,24,0)+IF($S$25=T24,25,0)+IF($S$26=T24,26,0)+IF($S$27=T24,27,0)+IF($S$28=T24,28,0)+IF($S$29=T24,29,0) -> 25 | W24: =CONCATENATE("'Auxiliar'!",W$1,$U24) -> 'Auxiliar'!L25 | X24: =CONCATENATE("'Auxiliar'!",X$1,$U24) -> 'Auxiliar'!M25 | Y24: =CONCATENATE("'Auxiliar'!",Y$1,$U24) -> 'Auxiliar'!N25 | Z24: =CONCATENATE("'Auxiliar'!",Z$1,$U24) -> 'Auxiliar'!O25 | AA24: =CONCATENATE("'Auxiliar'!",AA$1,$U24) -> 'Auxiliar'!P25 | AB24: =CONCATENATE("'Auxiliar'!",AB$1,$U24) -> 'Auxiliar'!Q25
A25: ='Tab Primeira Fase'!N32 -> ROBERTO | B25: =IF('Tab Primeira Fase'!O32<'Tab Primeira Fase'!Q32,0,IF('Tab Primeira Fase'!O32='Tab Primeira Fase'!Q32,1,IF('Tab Primeira Fase'!O32>'Tab Primeira Fase'!Q32,2))) -> 0 | C25: ='Tab Primeira Fase'!R32 -> MARQUINHO | D25: =IF('Tab Primeira Fase'!O32>'Tab Primeira Fase'!Q32,0,IF('Tab Primeira Fase'!O32='Tab Primeira Fase'!Q32,1,IF('Tab Primeira Fase'!O32<'Tab Primeira Fase'!Q32,2))) -> 2 | E25: =IF(ISNUMBER('Tab Primeira Fase'!O32),1,0) -> 1 | F25: =IF(B25*E25=2,1,0) -> 0 | G25: =IF(B25*E25=1,1,0) -> 0 | H25: =IF(B25=0,IF(E25=1,1,0),0) -> 1 | I25: =IF(E25*D25=2,1,0) -> 1 | J25: =IF(E25*D25=1,1,0) -> 0 | K25: =IF(D25=0,IF(E25=1,1,0),0) -> 0 | L25: MARCUS | M25: =SUMIF($A$1:$A$773,L25,$F$1:$F$773)+SUMIF($C$1:$C$773,L25,$I$1:$I$773) -> 5 | N25: =SUMIF($A$1:$A$773,L25,$G$1:$G$773)+SUMIF($C$1:$C$773,L25,$J$1:$J$773) -> 0 | O25: =SUMIF($A$1:$A$773,L25,$H$1:$H$773)+SUMIF($C$1:$C$773,L25,$K$1:$K$773) -> 0 | P25: =SUMIF('Tab Primeira Fase'!$N$8:$N$831,L25,'Tab Primeira Fase'!$O$8:$O$831)+SUMIF('Tab Primeira Fase'!$R$8:$R$831,L25,'Tab Primeira Fase'!$Q$8:$Q$831) -> 15 | Q25: =SUMIF('Tab Primeira Fase'!$N$8:$N$831,L25,'Tab Primeira Fase'!$Q$8:$Q$831)+SUMIF('Tab Primeira Fase'!$R$8:$R$831,L25,'Tab Primeira Fase'!$O$8:$O$831) -> 3 | R25: =(1000000*((3*M25)+N25))+(10000*M25)+(100*(P25-Q25))+P25+(0.001*(6-T25)) -> 15051215 | S25: =RANK(R25,$R$24:$R$29) -> 1 | T25: 2 | U25: =IF($S$24=T25,24,0)+IF($S$25=T25,25,0)+IF($S$26=T25,26,0)+IF($S$27=T25,27,0)+IF($S$28=T25,28,0)+IF($S$29=T25,29,0) -> 24 | W25: =CONCATENATE("'Auxiliar'!",W$1,$U25) -> 'Auxiliar'!L24 | X25: =CONCATENATE("'Auxiliar'!",X$1,$U25) -> 'Auxiliar'!M24 | Y25: =CONCATENATE("'Auxiliar'!",Y$1,$U25) -> 'Auxiliar'!N24 | Z25: =CONCATENATE("'Auxiliar'!",Z$1,$U25) -> 'Auxiliar'!O24 | AA25: =CONCATENATE("'Auxiliar'!",AA$1,$U25) -> 'Auxiliar'!P24 | AB25: =CONCATENATE("'Auxiliar'!",AB$1,$U25) -> 'Auxiliar'!Q24
A26: ='Tab Primeira Fase'!N33 -> ALBERTO | B26: =IF('Tab Primeira Fase'!O33<'Tab Primeira Fase'!Q33,0,IF('Tab Primeira Fase'!O33='Tab Primeira Fase'!Q33,1,IF('Tab Primeira Fase'!O33>'Tab Primeira Fase'!Q33,2))) -> 2 | C26: ='Tab Primeira Fase'!R33 -> JEAN | D26: =IF('Tab Primeira Fase'!O33>'Tab Primeira Fase'!Q33,0,IF('Tab Primeira Fase'!O33='Tab Primeira Fase'!Q33,1,IF('Tab Primeira Fase'!O33<'Tab Primeira Fase'!Q33,2))) -> 0 | E26: =IF(ISNUMBER('Tab Primeira Fase'!O33),1,0) -> 1 | F26: =IF(B26*E26=2,1,0) -> 1 | G26: =IF(B26*E26=1,1,0) -> 0 | H26: =IF(B26=0,IF(E26=1,1,0),0) -> 0 | I26: =IF(E26*D26=2,1,0) -> 0 | J26: =IF(E26*D26=1,1,0) -> 0 | K26: =IF(D26=0,IF(E26=1,1,0),0) -> 1 | L26: JEAN | M26: =SUMIF($A$1:$A$773,L26,$F$1:$F$773)+SUMIF($C$1:$C$773,L26,$I$1:$I$773) -> 1 | N26: =SUMIF($A$1:$A$773,L26,$G$1:$G$773)+SUMIF($C$1:$C$773,L26,$J$1:$J$773) -> 1 | O26: =SUMIF($A$1:$A$773,L26,$H$1:$H$773)+SUMIF($C$1:$C$773,L26,$K$1:$K$773) -> 3 | P26: =SUMIF('Tab Primeira Fase'!$N$8:$N$831,L26,'Tab Primeira Fase'!$O$8:$O$831)+SUMIF('Tab Primeira Fase'!$R$8:$R$831,L26,'Tab Primeira Fase'!$Q$8:$Q$831) -> 9 | Q26: =SUMIF('Tab Primeira Fase'!$N$8:$N$831,L26,'Tab Primeira Fase'!$Q$8:$Q$831)+SUMIF('Tab Primeira Fase'!$R$8:$R$831,L26,'Tab Primeira Fase'!$O$8:$O$831) -> 9 | R26: =(1000000*((3*M26)+N26))+(10000*M26)+(100*(P26-Q26))+P26+(0.001*(6-T26)) -> 4010009 | S26: =RANK(R26,$R$24:$R$29) -> 5 | T26: 3 | U26: =IF($S$24=T26,24,0)+IF($S$25=T26,25,0)+IF($S$26=T26,26,0)+IF($S$27=T26,27,0)+IF($S$28=T26,28,0)+IF($S$29=T26,29,0) -> 27 | W26: =CONCATENATE("'Auxiliar'!",W$1,$U26) -> 'Auxiliar'!L27 | X26: =CONCATENATE("'Auxiliar'!",X$1,$U26) -> 'Auxiliar'!M27 | Y26: =CONCATENATE("'Auxiliar'!",Y$1,$U26) -> 'Auxiliar'!N27 | Z26: =CONCATENATE("'Auxiliar'!",Z$1,$U26) -> 'Auxiliar'!O27 | AA26: =CONCATENATE("'Auxiliar'!",AA$1,$U26) -> 'Auxiliar'!P27 | AB26: =CONCATENATE("'Auxiliar'!",AB$1,$U26) -> 'Auxiliar'!Q27
A27: ='Tab Primeira Fase'!N34 -> M. FERREIRA | B27: =IF('Tab Primeira Fase'!O34<'Tab Primeira Fase'!Q34,0,IF('Tab Primeira Fase'!O34='Tab Primeira Fase'!Q34,1,IF('Tab Primeira Fase'!O34>'Tab Primeira Fase'!Q34,2))) -> 0 | C27: ='Tab Primeira Fase'!R34 -> MARCUS | D27: =IF('Tab Primeira Fase'!O34>'Tab Primeira Fase'!Q34,0,IF('Tab Primeira Fase'!O34='Tab Primeira Fase'!Q34,1,IF('Tab Primeira Fase'!O34<'Tab Primeira Fase'!Q34,2))) -> 2 | E27: =IF(ISNUMBER('Tab Primeira Fase'!O34),1,0) -> 1 | F27: =IF(B27*E27=2,1,0) -> 0 | G27: =IF(B27*E27=1,1,0) -> 0 | H27: =IF(B27=0,IF(E27=1,1,0),0) -> 1 | I27: =IF(E27*D27=2,1,0) -> 1 | J27: =IF(E27*D27=1,1,0) -> 0 | K27: =IF(D27=0,IF(E27=1,1,0),0) -> 0 | L27: MARQUINHO | M27: =SUMIF($A$1:$A$773,L27,$F$1:$F$773)+SUMIF($C$1:$C$773,L27,$I$1:$I$773) -> 2 | N27: =SUMIF($A$1:$A$773,L27,$G$1:$G$773)+SUMIF($C$1:$C$773,L27,$J$1:$J$773) -> 1 | O27: =SUMIF($A$1:$A$773,L27,$H$1:$H$773)+SUMIF($C$1:$C$773,L27,$K$1:$K$773) -> 2 | P27: =SUMIF('Tab Primeira Fase'!$N$8:$N$831,L27,'Tab Primeira Fase'!$O$8:$O$831)+SUMIF('Tab Primeira Fase'!$R$8:$R$831,L27,'Tab Primeira Fase'!$Q$8:$Q$831) -> 7 | Q27: =SUMIF('Tab Primeira Fase'!$N$8:$N$831,L27,'Tab Primeira Fase'!$Q$8:$Q$831)+SUMIF('Tab Primeira Fase'!$R$8:$R$831,L27,'Tab Primeira Fase'!$O$8:$O$831) -> 6 | R27: =(1000000*((3*M27)+N27))+(10000*M27)+(100*(P27-Q27))+P27+(0.001*(6-T27)) -> 7020107 | S27: =RANK(R27,$R$24:$R$29) -> 3 | T27: 4 | U27: =IF($S$24=T27,24,0)+IF($S$25=T27,25,0)+IF($S$26=T27,26,0)+IF($S$27=T27,27,0)+IF($S$28=T27,28,0)+IF($S$29=T27,29,0) -> 28 | W27: =CONCATENATE("'Auxiliar'!",W$1,$U27) -> 'Auxiliar'!L28 | X27: =CONCATENATE("'Auxiliar'!",X$1,$U27) -> 'Auxiliar'!M28 | Y27: =CONCATENATE("'Auxiliar'!",Y$1,$U27) -> 'Auxiliar'!N28 | Z27: =CONCATENATE("'Auxiliar'!",Z$1,$U27) -> 'Auxiliar'!O28 | AA27: =CONCATENATE("'Auxiliar'!",AA$1,$U27) -> 'Auxiliar'!P28 | AB27: =CONCATENATE("'Auxiliar'!",AB$1,$U27) -> 'Auxiliar'!Q28
A28: ='Tab Primeira Fase'!N35 -> M. VASQUES | B28: =IF('Tab Primeira Fase'!O35<'Tab Primeira Fase'!Q35,0,IF('Tab Primeira Fase'!O35='Tab Primeira Fase'!Q35,1,IF('Tab Primeira Fase'!O35>'Tab Primeira Fase'!Q35,2))) -> 1 | C28: ='Tab Primeira Fase'!R35 -> M. SILVA | D28: =IF('Tab Primeira Fase'!O35>'Tab Primeira Fase'!Q35,0,IF('Tab Primeira Fase'!O35='Tab Primeira Fase'!Q35,1,IF('Tab Primeira Fase'!O35<'Tab Primeira Fase'!Q35,2))) -> 1 | E28: =IF(ISNUMBER('Tab Primeira Fase'!O35),1,0) -> 1 | F28: =IF(B28*E28=2,1,0) -> 0 | G28: =IF(B28*E28=1,1,0) -> 1 | H28: =IF(B28=0,IF(E28=1,1,0),0) -> 0 | I28: =IF(E28*D28=2,1,0) -> 0 | J28: =IF(E28*D28=1,1,0) -> 1 | K28: =IF(D28=0,IF(E28=1,1,0),0) -> 0 | L28: ALBERTO | M28: =SUMIF($A$1:$A$773,L28,$F$1:$F$773)+SUMIF($C$1:$C$773,L28,$I$1:$I$773) -> 1 | N28: =SUMIF($A$1:$A$773,L28,$G$1:$G$773)+SUMIF($C$1:$C$773,L28,$J$1:$J$773) -> 2 | O28: =SUMIF($A$1:$A$773,L28,$H$1:$H$773)+SUMIF($C$1:$C$773,L28,$K$1:$K$773) -> 2 | P28: =SUMIF('Tab Primeira Fase'!$N$8:$N$831,L28,'Tab Primeira Fase'!$O$8:$O$831)+SUMIF('Tab Primeira Fase'!$R$8:$R$831,L28,'Tab Primeira Fase'!$Q$8:$Q$831) -> 7 | Q28: =SUMIF('Tab Primeira Fase'!$N$8:$N$831,L28,'Tab Primeira Fase'!$Q$8:$Q$831)+SUMIF('Tab Primeira Fase'!$R$8:$R$831,L28,'Tab Primeira Fase'!$O$8:$O$831) -> 9 | R28: =(1000000*((3*M28)+N28))+(10000*M28)+(100*(P28-Q28))+P28+(0.001*(6-T28)) -> 5009807 | S28: =RANK(R28,$R$24:$R$29) -> 4 | T28: 5 | U28: =IF($S$24=T28,24,0)+IF($S$25=T28,25,0)+IF($S$26=T28,26,0)+IF($S$27=T28,27,0)+IF($S$28=T28,28,0)+IF($S$29=T28,29,0) -> 26 | W28: =CONCATENATE("'Auxiliar'!",W$1,$U28) -> 'Auxiliar'!L26 | X28: =CONCATENATE("'Auxiliar'!",X$1,$U28) -> 'Auxiliar'!M26 | Y28: =CONCATENATE("'Auxiliar'!",Y$1,$U28) -> 'Auxiliar'!N26 | Z28: =CONCATENATE("'Auxiliar'!",Z$1,$U28) -> 'Auxiliar'!O26 | AA28: =CONCATENATE("'Auxiliar'!",AA$1,$U28) -> 'Auxiliar'!P26 | AB28: =CONCATENATE("'Auxiliar'!",AB$1,$U28) -> 'Auxiliar'!Q26
A29: ='Tab Primeira Fase'!N36 -> MAGNO | B29: =IF('Tab Primeira Fase'!O36<'Tab Primeira Fase'!Q36,0,IF('Tab Primeira Fase'!O36='Tab Primeira Fase'!Q36,1,IF('Tab Primeira Fase'!O36>'Tab Primeira Fase'!Q36,2))) -> 0 | C29: ='Tab Primeira Fase'!R36 -> JULIANO | D29: =IF('Tab Primeira Fase'!O36>'Tab Primeira Fase'!Q36,0,IF('Tab Primeira Fase'!O36='Tab Primeira Fase'!Q36,1,IF('Tab Primeira Fase'!O36<'Tab Primeira Fase'!Q36,2))) -> 2 | E29: =IF(ISNUMBER('Tab Primeira Fase'!O36),1,0) -> 1 | F29: =IF(B29*E29=2,1,0) -> 0 | G29: =IF(B29*E29=1,1,0) -> 0 | H29: =IF(B29=0,IF(E29=1,1,0),0) -> 1 | I29: =IF(E29*D29=2,1,0) -> 1 | J29: =IF(E29*D29=1,1,0) -> 0 | K29: =IF(D29=0,IF(E29=1,1,0),0) -> 0 | L29: ROBERTO | M29: =SUMIF($A$1:$A$773,L29,$F$1:$F$773)+SUMIF($C$1:$C$773,L29,$I$1:$I$773) -> 0 | N29: =SUMIF($A$1:$A$773,L29,$G$1:$G$773)+SUMIF($C$1:$C$773,L29,$J$1:$J$773) -> 1 | O29: =SUMIF($A$1:$A$773,L29,$H$1:$H$773)+SUMIF($C$1:$C$773,L29,$K$1:$K$773) -> 4 | P29: =SUMIF('Tab Primeira Fase'!$N$8:$N$831,L29,'Tab Primeira Fase'!$O$8:$O$831)+SUMIF('Tab Primeira Fase'!$R$8:$R$831,L29,'Tab Primeira Fase'!$Q$8:$Q$831) -> 3 | Q29: =SUMIF('Tab Primeira Fase'!$N$8:$N$831,L29,'Tab Primeira Fase'!$Q$8:$Q$831)+SUMIF('Tab Primeira Fase'!$R$8:$R$831,L29,'Tab Primeira Fase'!$O$8:$O$831) -> 20 | R29: =(1000000*((3*M29)+N29))+(10000*M29)+(100*(P29-Q29))+P29+(0.001*(6-T29)) -> 998303 | S29: =RANK(R29,$R$24:$R$29) -> 6 | T29: 6 | U29: =IF($S$24=T29,24,0)+IF($S$25=T29,25,0)+IF($S$26=T29,26,0)+IF($S$27=T29,27,0)+IF($S$28=T29,28,0)+IF($S$29=T29,29,0) -> 29 | W29: =CONCATENATE("'Auxiliar'!",W$1,$U29) -> 'Auxiliar'!L29 | X29: =CONCATENATE("'Auxiliar'!",X$1,$U29) -> 'Auxiliar'!M29 | Y29: =CONCATENATE("'Auxiliar'!",Y$1,$U29) -> 'Auxiliar'!N29 | Z29: =CONCATENATE("'Auxiliar'!",Z$1,$U29) -> 'Auxiliar'!O29 | AA29: =CONCATENATE("'Auxiliar'!",AA$1,$U29) -> 'Auxiliar'!P29 | AB29: =CONCATENATE("'Auxiliar'!",AB$1,$U29) -> 'Auxiliar'!Q29
A30: ='Tab Primeira Fase'!N37 -> FARNEZE | B30: =IF('Tab Primeira Fase'!O37<'Tab Primeira Fase'!Q37,0,IF('Tab Primeira Fase'!O37='Tab Primeira Fase'!Q37,1,IF('Tab Primeira Fase'!O37>'Tab Primeira Fase'!Q37,2))) -> 0 | C30: ='Tab Primeira Fase'!R37 -> C. HENRIQUE | D30: =IF('Tab Primeira Fase'!O37>'Tab Primeira Fase'!Q37,0,IF('Tab Primeira Fase'!O37='Tab Primeira Fase'!Q37,1,IF('Tab Primeira Fase'!O37<'Tab Primeira Fase'!Q37,2))) -> 2 | E30: =IF(ISNUMBER('Tab Primeira Fase'!O37),1,0) -> 1 | F30: =IF(B30*E30=2,1,0) -> 0 | G30: =IF(B30*E30=1,1,0) -> 0 | H30: =IF(B30=0,IF(E30=1,1,0),0) -> 1 | I30: =IF(E30*D30=2,1,0) -> 1 | J30: =IF(E30*D30=1,1,0) -> 0 | K30: =IF(D30=0,IF(E30=1,1,0),0) -> 0
A31: ='Tab Primeira Fase'!N38 -> PAULO CÉSAR | B31: =IF('Tab Primeira Fase'!O38<'Tab Primeira Fase'!Q38,0,IF('Tab Primeira Fase'!O38='Tab Primeira Fase'!Q38,1,IF('Tab Primeira Fase'!O38>'Tab Primeira Fase'!Q38,2))) -> 0 | C31: ='Tab Primeira Fase'!R38 -> WENDEL | D31: =IF('Tab Primeira Fase'!O38>'Tab Primeira Fase'!Q38,0,IF('Tab Primeira Fase'!O38='Tab Primeira Fase'!Q38,1,IF('Tab Primeira Fase'!O38<'Tab Primeira Fase'!Q38,2))) -> 2 | E31: =IF(ISNUMBER('Tab Primeira Fase'!O38),1,0) -> 1 | F31: =IF(B31*E31=2,1,0) -> 0 | G31: =IF(B31*E31=1,1,0) -> 0 | H31: =IF(B31=0,IF(E31=1,1,0),0) -> 1 | I31: =IF(E31*D31=2,1,0) -> 1 | J31: =IF(E31*D31=1,1,0) -> 0 | K31: =IF(D31=0,IF(E31=1,1,0),0) -> 0 | L31: JULIANO | M31: =SUMIF($A$1:$A$773,L31,$F$1:$F$773)+SUMIF($C$1:$C$773,L31,$I$1:$I$773) -> 5 | N31: =SUMIF($A$1:$A$773,L31,$G$1:$G$773)+SUMIF($C$1:$C$773,L31,$J$1:$J$773) -> 0 | O31: =SUMIF($A$1:$A$773,L31,$H$1:$H$773)+SUMIF($C$1:$C$773,L31,$K$1:$K$773) -> 0 | P31: =SUMIF('Tab Primeira Fase'!$N$8:$N$831,L31,'Tab Primeira Fase'!$O$8:$O$831)+SUMIF('Tab Primeira Fase'!$R$8:$R$831,L31,'Tab Primeira Fase'!$Q$8:$Q$831) -> 14 | Q31: =SUMIF('Tab Primeira Fase'!$N$8:$N$831,L31,'Tab Primeira Fase'!$Q$8:$Q$831)+SUMIF('Tab Primeira Fase'!$R$8:$R$831,L31,'Tab Primeira Fase'!$O$8:$O$831) -> 4 | R31: =(1000000*((3*M31)+N31))+(10000*M31)+(100*(P31-Q31))+P31+(0.001*(6-T31)) -> 15051014 | S31: =RANK(R31,$R$31:$R$36) -> 1 | T31: 1 | U31: =IF($S$31=T31,31,0)+IF($S$32=T31,32,0)+IF($S$33=T31,33,0)+IF($S$34=T31,34,0)+IF($S$35=T31,35,0)+IF($S$36=T31,36,0) -> 31 | W31: =CONCATENATE("'Auxiliar'!",W$1,$U31) -> 'Auxiliar'!L31 | X31: =CONCATENATE("'Auxiliar'!",X$1,$U31) -> 'Auxiliar'!M31 | Y31: =CONCATENATE("'Auxiliar'!",Y$1,$U31) -> 'Auxiliar'!N31 | Z31: =CONCATENATE("'Auxiliar'!",Z$1,$U31) -> 'Auxiliar'!O31 | AA31: =CONCATENATE("'Auxiliar'!",AA$1,$U31) -> 'Auxiliar'!P31 | AB31: =CONCATENATE("'Auxiliar'!",AB$1,$U31) -> 'Auxiliar'!Q31
A32: ='Tab Primeira Fase'!N39 -> JUNIOR | B32: =IF('Tab Primeira Fase'!O39<'Tab Primeira Fase'!Q39,0,IF('Tab Primeira Fase'!O39='Tab Primeira Fase'!Q39,1,IF('Tab Primeira Fase'!O39>'Tab Primeira Fase'!Q39,2))) -> 0 | C32: ='Tab Primeira Fase'!R39 -> TARCÍZIO | D32: =IF('Tab Primeira Fase'!O39>'Tab Primeira Fase'!Q39,0,IF('Tab Primeira Fase'!O39='Tab Primeira Fase'!Q39,1,IF('Tab Primeira Fase'!O39<'Tab Primeira Fase'!Q39,2))) -> 2 | E32: =IF(ISNUMBER('Tab Primeira Fase'!O39),1,0) -> 1 | F32: =IF(B32*E32=2,1,0) -> 0 | G32: =IF(B32*E32=1,1,0) -> 0 | H32: =IF(B32=0,IF(E32=1,1,0),0) -> 1 | I32: =IF(E32*D32=2,1,0) -> 1 | J32: =IF(E32*D32=1,1,0) -> 0 | K32: =IF(D32=0,IF(E32=1,1,0),0) -> 0 | L32: M. VASQUES | M32: =SUMIF($A$1:$A$773,L32,$F$1:$F$773)+SUMIF($C$1:$C$773,L32,$I$1:$I$773) -> 0 | N32: =SUMIF($A$1:$A$773,L32,$G$1:$G$773)+SUMIF($C$1:$C$773,L32,$J$1:$J$773) -> 1 | O32: =SUMIF($A$1:$A$773,L32,$H$1:$H$773)+SUMIF($C$1:$C$773,L32,$K$1:$K$773) -> 4 | P32: =SUMIF('Tab Primeira Fase'!$N$8:$N$831,L32,'Tab Primeira Fase'!$O$8:$O$831)+SUMIF('Tab Primeira Fase'!$R$8:$R$831,L32,'Tab Primeira Fase'!$Q$8:$Q$831) -> 2 | Q32: =SUMIF('Tab Primeira Fase'!$N$8:$N$831,L32,'Tab Primeira Fase'!$Q$8:$Q$831)+SUMIF('Tab Primeira Fase'!$R$8:$R$831,L32,'Tab Primeira Fase'!$O$8:$O$831) -> 10 | R32: =(1000000*((3*M32)+N32))+(10000*M32)+(100*(P32-Q32))+P32+(0.001*(6-T32)) -> 999202 | S32: =RANK(R32,$R$31:$R$36) -> 6 | T32: 2 | U32: =IF($S$31=T32,31,0)+IF($S$32=T32,32,0)+IF($S$33=T32,33,0)+IF($S$34=T32,34,0)+IF($S$35=T32,35,0)+IF($S$36=T32,36,0) -> 35 | W32: =CONCATENATE("'Auxiliar'!",W$1,$U32) -> 'Auxiliar'!L35 | X32: =CONCATENATE("'Auxiliar'!",X$1,$U32) -> 'Auxiliar'!M35 | Y32: =CONCATENATE("'Auxiliar'!",Y$1,$U32) -> 'Auxiliar'!N35 | Z32: =CONCATENATE("'Auxiliar'!",Z$1,$U32) -> 'Auxiliar'!O35 | AA32: =CONCATENATE("'Auxiliar'!",AA$1,$U32) -> 'Auxiliar'!P35 | AB32: =CONCATENATE("'Auxiliar'!",AB$1,$U32) -> 'Auxiliar'!Q35
A33: ='Tab Primeira Fase'!N40 -> ALAN | B33: =IF('Tab Primeira Fase'!O40<'Tab Primeira Fase'!Q40,0,IF('Tab Primeira Fase'!O40='Tab Primeira Fase'!Q40,1,IF('Tab Primeira Fase'!O40>'Tab Primeira Fase'!Q40,2))) -> 2 | C33: ='Tab Primeira Fase'!R40 -> ALCIDES | D33: =IF('Tab Primeira Fase'!O40>'Tab Primeira Fase'!Q40,0,IF('Tab Primeira Fase'!O40='Tab Primeira Fase'!Q40,1,IF('Tab Primeira Fase'!O40<'Tab Primeira Fase'!Q40,2))) -> 0 | E33: =IF(ISNUMBER('Tab Primeira Fase'!O40),1,0) -> 1 | F33: =IF(B33*E33=2,1,0) -> 1 | G33: =IF(B33*E33=1,1,0) -> 0 | H33: =IF(B33=0,IF(E33=1,1,0),0) -> 0 | I33: =IF(E33*D33=2,1,0) -> 0 | J33: =IF(E33*D33=1,1,0) -> 0 | K33: =IF(D33=0,IF(E33=1,1,0),0) -> 1 | L33: MAGNO | M33: =SUMIF($A$1:$A$773,L33,$F$1:$F$773)+SUMIF($C$1:$C$773,L33,$I$1:$I$773) -> 2 | N33: =SUMIF($A$1:$A$773,L33,$G$1:$G$773)+SUMIF($C$1:$C$773,L33,$J$1:$J$773) -> 0 | O33: =SUMIF($A$1:$A$773,L33,$H$1:$H$773)+SUMIF($C$1:$C$773,L33,$K$1:$K$773) -> 3 | P33: =SUMIF('Tab Primeira Fase'!$N$8:$N$831,L33,'Tab Primeira Fase'!$O$8:$O$831)+SUMIF('Tab Primeira Fase'!$R$8:$R$831,L33,'Tab Primeira Fase'!$Q$8:$Q$831) -> 10 | Q33: =SUMIF('Tab Primeira Fase'!$N$8:$N$831,L33,'Tab Primeira Fase'!$Q$8:$Q$831)+SUMIF('Tab Primeira Fase'!$R$8:$R$831,L33,'Tab Primeira Fase'!$O$8:$O$831) -> 10 | R33: =(1000000*((3*M33)+N33))+(10000*M33)+(100*(P33-Q33))+P33+(0.001*(6-T33)) -> 6020010 | S33: =RANK(R33,$R$31:$R$36) -> 4 | T33: 3 | U33: =IF($S$31=T33,31,0)+IF($S$32=T33,32,0)+IF($S$33=T33,33,0)+IF($S$34=T33,34,0)+IF($S$35=T33,35,0)+IF($S$36=T33,36,0) -> 36 | W33: =CONCATENATE("'Auxiliar'!",W$1,$U33) -> 'Auxiliar'!L36 | X33: =CONCATENATE("'Auxiliar'!",X$1,$U33) -> 'Auxiliar'!M36 | Y33: =CONCATENATE("'Auxiliar'!",Y$1,$U33) -> 'Auxiliar'!N36 | Z33: =CONCATENATE("'Auxiliar'!",Z$1,$U33) -> 'Auxiliar'!O36 | AA33: =CONCATENATE("'Auxiliar'!",AA$1,$U33) -> 'Auxiliar'!P36 | AB33: =CONCATENATE("'Auxiliar'!",AB$1,$U33) -> 'Auxiliar'!Q36
A34: ='Tab Primeira Fase'!N41 -> THIAGO | B34: =IF('Tab Primeira Fase'!O41<'Tab Primeira Fase'!Q41,0,IF('Tab Primeira Fase'!O41='Tab Primeira Fase'!Q41,1,IF('Tab Primeira Fase'!O41>'Tab Primeira Fase'!Q41,2))) -> 2 | C34: ='Tab Primeira Fase'!R41 -> CARUSO | D34: =IF('Tab Primeira Fase'!O41>'Tab Primeira Fase'!Q41,0,IF('Tab Primeira Fase'!O41='Tab Primeira Fase'!Q41,1,IF('Tab Primeira Fase'!O41<'Tab Primeira Fase'!Q41,2))) -> 0 | E34: =IF(ISNUMBER('Tab Primeira Fase'!O41),1,0) -> 1 | F34: =IF(B34*E34=2,1,0) -> 1 | G34: =IF(B34*E34=1,1,0) -> 0 | H34: =IF(B34=0,IF(E34=1,1,0),0) -> 0 | I34: =IF(E34*D34=2,1,0) -> 0 | J34: =IF(E34*D34=1,1,0) -> 0 | K34: =IF(D34=0,IF(E34=1,1,0),0) -> 1 | L34: FARNEZE | M34: =SUMIF($A$1:$A$773,L34,$F$1:$F$773)+SUMIF($C$1:$C$773,L34,$I$1:$I$773) -> 1 | N34: =SUMIF($A$1:$A$773,L34,$G$1:$G$773)+SUMIF($C$1:$C$773,L34,$J$1:$J$773) -> 0 | O34: =SUMIF($A$1:$A$773,L34,$H$1:$H$773)+SUMIF($C$1:$C$773,L34,$K$1:$K$773) -> 4 | P34: =SUMIF('Tab Primeira Fase'!$N$8:$N$831,L34,'Tab Primeira Fase'!$O$8:$O$831)+SUMIF('Tab Primeira Fase'!$R$8:$R$831,L34,'Tab Primeira Fase'!$Q$8:$Q$831) -> 3 | Q34: =SUMIF('Tab Primeira Fase'!$N$8:$N$831,L34,'Tab Primeira Fase'!$Q$8:$Q$831)+SUMIF('Tab Primeira Fase'!$R$8:$R$831,L34,'Tab Primeira Fase'!$O$8:$O$831) -> 10 | R34: =(1000000*((3*M34)+N34))+(10000*M34)+(100*(P34-Q34))+P34+(0.001*(6-T34)) -> 3009303 | S34: =RANK(R34,$R$31:$R$36) -> 5 | T34: 4 | U34: =IF($S$31=T34,31,0)+IF($S$32=T34,32,0)+IF($S$33=T34,33,0)+IF($S$34=T34,34,0)+IF($S$35=T34,35,0)+IF($S$36=T34,36,0) -> 33 | W34: =CONCATENATE("'Auxiliar'!",W$1,$U34) -> 'Auxiliar'!L33 | X34: =CONCATENATE("'Auxiliar'!",X$1,$U34) -> 'Auxiliar'!M33 | Y34: =CONCATENATE("'Auxiliar'!",Y$1,$U34) -> 'Auxiliar'!N33 | Z34: =CONCATENATE("'Auxiliar'!",Z$1,$U34) -> 'Auxiliar'!O33 | AA34: =CONCATENATE("'Auxiliar'!",AA$1,$U34) -> 'Auxiliar'!P33 | AB34: =CONCATENATE("'Auxiliar'!",AB$1,$U34) -> 'Auxiliar'!Q33
A35: ='Tab Primeira Fase'!N42 -> PAULÃO | B35: =IF('Tab Primeira Fase'!O42<'Tab Primeira Fase'!Q42,0,IF('Tab Primeira Fase'!O42='Tab Primeira Fase'!Q42,1,IF('Tab Primeira Fase'!O42>'Tab Primeira Fase'!Q42,2))) -> 0 | C35: ='Tab Primeira Fase'!R42 -> ORNELAS | D35: =IF('Tab Primeira Fase'!O42>'Tab Primeira Fase'!Q42,0,IF('Tab Primeira Fase'!O42='Tab Primeira Fase'!Q42,1,IF('Tab Primeira Fase'!O42<'Tab Primeira Fase'!Q42,2))) -> 2 | E35: =IF(ISNUMBER('Tab Primeira Fase'!O42),1,0) -> 1 | F35: =IF(B35*E35=2,1,0) -> 0 | G35: =IF(B35*E35=1,1,0) -> 0 | H35: =IF(B35=0,IF(E35=1,1,0),0) -> 1 | I35: =IF(E35*D35=2,1,0) -> 1 | J35: =IF(E35*D35=1,1,0) -> 0 | K35: =IF(D35=0,IF(E35=1,1,0),0) -> 0 | L35: C. HENRIQUE | M35: =SUMIF($A$1:$A$773,L35,$F$1:$F$773)+SUMIF($C$1:$C$773,L35,$I$1:$I$773) -> 4 | N35: =SUMIF($A$1:$A$773,L35,$G$1:$G$773)+SUMIF($C$1:$C$773,L35,$J$1:$J$773) -> 0 | O35: =SUMIF($A$1:$A$773,L35,$H$1:$H$773)+SUMIF($C$1:$C$773,L35,$K$1:$K$773) -> 1 | P35: =SUMIF('Tab Primeira Fase'!$N$8:$N$831,L35,'Tab Primeira Fase'!$O$8:$O$831)+SUMIF('Tab Primeira Fase'!$R$8:$R$831,L35,'Tab Primeira Fase'!$Q$8:$Q$831) -> 8 | Q35: =SUMIF('Tab Primeira Fase'!$N$8:$N$831,L35,'Tab Primeira Fase'!$Q$8:$Q$831)+SUMIF('Tab Primeira Fase'!$R$8:$R$831,L35,'Tab Primeira Fase'!$O$8:$O$831) -> 3 | R35: =(1000000*((3*M35)+N35))+(10000*M35)+(100*(P35-Q35))+P35+(0.001*(6-T35)) -> 12040508 | S35: =RANK(R35,$R$31:$R$36) -> 2 | T35: 5 | U35: =IF($S$31=T35,31,0)+IF($S$32=T35,32,0)+IF($S$33=T35,33,0)+IF($S$34=T35,34,0)+IF($S$35=T35,35,0)+IF($S$36=T35,36,0) -> 34 | W35: =CONCATENATE("'Auxiliar'!",W$1,$U35) -> 'Auxiliar'!L34 | X35: =CONCATENATE("'Auxiliar'!",X$1,$U35) -> 'Auxiliar'!M34 | Y35: =CONCATENATE("'Auxiliar'!",Y$1,$U35) -> 'Auxiliar'!N34 | Z35: =CONCATENATE("'Auxiliar'!",Z$1,$U35) -> 'Auxiliar'!O34 | AA35: =CONCATENATE("'Auxiliar'!",AA$1,$U35) -> 'Auxiliar'!P34 | AB35: =CONCATENATE("'Auxiliar'!",AB$1,$U35) -> 'Auxiliar'!Q34
A36: ='Tab Primeira Fase'!N43 -> RAFAEL PENA | B36: =IF('Tab Primeira Fase'!O43<'Tab Primeira Fase'!Q43,0,IF('Tab Primeira Fase'!O43='Tab Primeira Fase'!Q43,1,IF('Tab Primeira Fase'!O43>'Tab Primeira Fase'!Q43,2))) -> 0 | C36: ='Tab Primeira Fase'!R43 -> M. PORTO | D36: =IF('Tab Primeira Fase'!O43>'Tab Primeira Fase'!Q43,0,IF('Tab Primeira Fase'!O43='Tab Primeira Fase'!Q43,1,IF('Tab Primeira Fase'!O43<'Tab Primeira Fase'!Q43,2))) -> 2 | E36: =IF(ISNUMBER('Tab Primeira Fase'!O43),1,0) -> 1 | F36: =IF(B36*E36=2,1,0) -> 0 | G36: =IF(B36*E36=1,1,0) -> 0 | H36: =IF(B36=0,IF(E36=1,1,0),0) -> 1 | I36: =IF(E36*D36=2,1,0) -> 1 | J36: =IF(E36*D36=1,1,0) -> 0 | K36: =IF(D36=0,IF(E36=1,1,0),0) -> 0 | L36: M. SILVA | M36: =SUMIF($A$1:$A$773,L36,$F$1:$F$773)+SUMIF($C$1:$C$773,L36,$I$1:$I$773) -> 2 | N36: =SUMIF($A$1:$A$773,L36,$G$1:$G$773)+SUMIF($C$1:$C$773,L36,$J$1:$J$773) -> 1 | O36: =SUMIF($A$1:$A$773,L36,$H$1:$H$773)+SUMIF($C$1:$C$773,L36,$K$1:$K$773) -> 2 | P36: =SUMIF('Tab Primeira Fase'!$N$8:$N$831,L36,'Tab Primeira Fase'!$O$8:$O$831)+SUMIF('Tab Primeira Fase'!$R$8:$R$831,L36,'Tab Primeira Fase'!$Q$8:$Q$831) -> 6 | Q36: =SUMIF('Tab Primeira Fase'!$N$8:$N$831,L36,'Tab Primeira Fase'!$Q$8:$Q$831)+SUMIF('Tab Primeira Fase'!$R$8:$R$831,L36,'Tab Primeira Fase'!$O$8:$O$831) -> 6 | R36: =(1000000*((3*M36)+N36))+(10000*M36)+(100*(P36-Q36))+P36+(0.001*(6-T36)) -> 7020006 | S36: =RANK(R36,$R$31:$R$36) -> 3 | T36: 6 | U36: =IF($S$31=T36,31,0)+IF($S$32=T36,32,0)+IF($S$33=T36,33,0)+IF($S$34=T36,34,0)+IF($S$35=T36,35,0)+IF($S$36=T36,36,0) -> 32 | W36: =CONCATENATE("'Auxiliar'!",W$1,$U36) -> 'Auxiliar'!L32 | X36: =CONCATENATE("'Auxiliar'!",X$1,$U36) -> 'Auxiliar'!M32 | Y36: =CONCATENATE("'Auxiliar'!",Y$1,$U36) -> 'Auxiliar'!N32 | Z36: =CONCATENATE("'Auxiliar'!",Z$1,$U36) -> 'Auxiliar'!O32 | AA36: =CONCATENATE("'Auxiliar'!",AA$1,$U36) -> 'Auxiliar'!P32 | AB36: =CONCATENATE("'Auxiliar'!",AB$1,$U36) -> 'Auxiliar'!Q32
A37: ='Tab Primeira Fase'!N44 -> MOTTA | B37: =IF('Tab Primeira Fase'!O44<'Tab Primeira Fase'!Q44,0,IF('Tab Primeira Fase'!O44='Tab Primeira Fase'!Q44,1,IF('Tab Primeira Fase'!O44>'Tab Primeira Fase'!Q44,2))) -> 0 | C37: ='Tab Primeira Fase'!R44 -> LORIVAL | D37: =IF('Tab Primeira Fase'!O44>'Tab Primeira Fase'!Q44,0,IF('Tab Primeira Fase'!O44='Tab Primeira Fase'!Q44,1,IF('Tab Primeira Fase'!O44<'Tab Primeira Fase'!Q44,2))) -> 2 | E37: =IF(ISNUMBER('Tab Primeira Fase'!O44),1,0) -> 1 | F37: =IF(B37*E37=2,1,0) -> 0 | G37: =IF(B37*E37=1,1,0) -> 0 | H37: =IF(B37=0,IF(E37=1,1,0),0) -> 1 | I37: =IF(E37*D37=2,1,0) -> 1 | J37: =IF(E37*D37=1,1,0) -> 0 | K37: =IF(D37=0,IF(E37=1,1,0),0) -> 0
A38: ='Tab Primeira Fase'!N45 -> LUIZ CLÁUDIO | B38: =IF('Tab Primeira Fase'!O45<'Tab Primeira Fase'!Q45,0,IF('Tab Primeira Fase'!O45='Tab Primeira Fase'!Q45,1,IF('Tab Primeira Fase'!O45>'Tab Primeira Fase'!Q45,2))) -> 1 | C38: ='Tab Primeira Fase'!R45 -> TONINHO | D38: =IF('Tab Primeira Fase'!O45>'Tab Primeira Fase'!Q45,0,IF('Tab Primeira Fase'!O45='Tab Primeira Fase'!Q45,1,IF('Tab Primeira Fase'!O45<'Tab Primeira Fase'!Q45,2))) -> 1 | E38: =IF(ISNUMBER('Tab Primeira Fase'!O45),1,0) -> 1 | F38: =IF(B38*E38=2,1,0) -> 0 | G38: =IF(B38*E38=1,1,0) -> 1 | H38: =IF(B38=0,IF(E38=1,1,0),0) -> 0 | I38: =IF(E38*D38=2,1,0) -> 0 | J38: =IF(E38*D38=1,1,0) -> 1 | K38: =IF(D38=0,IF(E38=1,1,0),0) -> 0 | L38: ALCIDES | M38: =SUMIF($A$1:$A$773,L38,$F$1:$F$773)+SUMIF($C$1:$C$773,L38,$I$1:$I$773) -> 1 | N38: =SUMIF($A$1:$A$773,L38,$G$1:$G$773)+SUMIF($C$1:$C$773,L38,$J$1:$J$773) -> 2 | O38: =SUMIF($A$1:$A$773,L38,$H$1:$H$773)+SUMIF($C$1:$C$773,L38,$K$1:$K$773) -> 2 | P38: =SUMIF('Tab Primeira Fase'!$N$8:$N$831,L38,'Tab Primeira Fase'!$O$8:$O$831)+SUMIF('Tab Primeira Fase'!$R$8:$R$831,L38,'Tab Primeira Fase'!$Q$8:$Q$831) -> 6 | Q38: =SUMIF('Tab Primeira Fase'!$N$8:$N$831,L38,'Tab Primeira Fase'!$Q$8:$Q$831)+SUMIF('Tab Primeira Fase'!$R$8:$R$831,L38,'Tab Primeira Fase'!$O$8:$O$831) -> 7 | R38: =(1000000*((3*M38)+N38))+(10000*M38)+(100*(P38-Q38))+P38+(0.001*(6-T38)) -> 5009906 | S38: =RANK(R38,$R$38:$R$43) -> 5 | T38: 1 | U38: =IF($S$38=T38,38,0)+IF($S$39=T38,39,0)+IF($S$40=T38,40,0)+IF($S$41=T38,41,0)+IF($S$42=T38,42,0)+IF($S$43=T38,43,0) -> 43 | W38: =CONCATENATE("'Auxiliar'!",W$1,$U38) -> 'Auxiliar'!L43 | X38: =CONCATENATE("'Auxiliar'!",X$1,$U38) -> 'Auxiliar'!M43 | Y38: =CONCATENATE("'Auxiliar'!",Y$1,$U38) -> 'Auxiliar'!N43 | Z38: =CONCATENATE("'Auxiliar'!",Z$1,$U38) -> 'Auxiliar'!O43 | AA38: =CONCATENATE("'Auxiliar'!",AA$1,$U38) -> 'Auxiliar'!P43 | AB38: =CONCATENATE("'Auxiliar'!",AB$1,$U38) -> 'Auxiliar'!Q43
A39: ='Tab Primeira Fase'!N46 -> PIMENTEL | B39: =IF('Tab Primeira Fase'!O46<'Tab Primeira Fase'!Q46,0,IF('Tab Primeira Fase'!O46='Tab Primeira Fase'!Q46,1,IF('Tab Primeira Fase'!O46>'Tab Primeira Fase'!Q46,2))) -> 0 | C39: ='Tab Primeira Fase'!R46 -> BETO | D39: =IF('Tab Primeira Fase'!O46>'Tab Primeira Fase'!Q46,0,IF('Tab Primeira Fase'!O46='Tab Primeira Fase'!Q46,1,IF('Tab Primeira Fase'!O46<'Tab Primeira Fase'!Q46,2))) -> 2 | E39: =IF(ISNUMBER('Tab Primeira Fase'!O46),1,0) -> 1 | F39: =IF(B39*E39=2,1,0) -> 0 | G39: =IF(B39*E39=1,1,0) -> 0 | H39: =IF(B39=0,IF(E39=1,1,0),0) -> 1 | I39: =IF(E39*D39=2,1,0) -> 1 | J39: =IF(E39*D39=1,1,0) -> 0 | K39: =IF(D39=0,IF(E39=1,1,0),0) -> 0 | L39: TARCÍZIO | M39: =SUMIF($A$1:$A$773,L39,$F$1:$F$773)+SUMIF($C$1:$C$773,L39,$I$1:$I$773) -> 3 | N39: =SUMIF($A$1:$A$773,L39,$G$1:$G$773)+SUMIF($C$1:$C$773,L39,$J$1:$J$773) -> 1 | O39: =SUMIF($A$1:$A$773,L39,$H$1:$H$773)+SUMIF($C$1:$C$773,L39,$K$1:$K$773) -> 1 | P39: =SUMIF('Tab Primeira Fase'!$N$8:$N$831,L39,'Tab Primeira Fase'!$O$8:$O$831)+SUMIF('Tab Primeira Fase'!$R$8:$R$831,L39,'Tab Primeira Fase'!$Q$8:$Q$831) -> 9 | Q39: =SUMIF('Tab Primeira Fase'!$N$8:$N$831,L39,'Tab Primeira Fase'!$Q$8:$Q$831)+SUMIF('Tab Primeira Fase'!$R$8:$R$831,L39,'Tab Primeira Fase'!$O$8:$O$831) -> 3 | R39: =(1000000*((3*M39)+N39))+(10000*M39)+(100*(P39-Q39))+P39+(0.001*(6-T39)) -> 10030609 | S39: =RANK(R39,$R$38:$R$43) -> 2 | T39: 2 | U39: =IF($S$38=T39,38,0)+IF($S$39=T39,39,0)+IF($S$40=T39,40,0)+IF($S$41=T39,41,0)+IF($S$42=T39,42,0)+IF($S$43=T39,43,0) -> 39 | W39: =CONCATENATE("'Auxiliar'!",W$1,$U39) -> 'Auxiliar'!L39 | X39: =CONCATENATE("'Auxiliar'!",X$1,$U39) -> 'Auxiliar'!M39 | Y39: =CONCATENATE("'Auxiliar'!",Y$1,$U39) -> 'Auxiliar'!N39 | Z39: =CONCATENATE("'Auxiliar'!",Z$1,$U39) -> 'Auxiliar'!O39 | AA39: =CONCATENATE("'Auxiliar'!",AA$1,$U39) -> 'Auxiliar'!P39 | AB39: =CONCATENATE("'Auxiliar'!",AB$1,$U39) -> 'Auxiliar'!Q39
A40: ='Tab Primeira Fase'!N47 -> DUGUET | B40: =IF('Tab Primeira Fase'!O47<'Tab Primeira Fase'!Q47,0,IF('Tab Primeira Fase'!O47='Tab Primeira Fase'!Q47,1,IF('Tab Primeira Fase'!O47>'Tab Primeira Fase'!Q47,2))) -> 2 | C40: ='Tab Primeira Fase'!R47 -> LUIZ GOMES | D40: =IF('Tab Primeira Fase'!O47>'Tab Primeira Fase'!Q47,0,IF('Tab Primeira Fase'!O47='Tab Primeira Fase'!Q47,1,IF('Tab Primeira Fase'!O47<'Tab Primeira Fase'!Q47,2))) -> 0 | E40: =IF(ISNUMBER('Tab Primeira Fase'!O47),1,0) -> 1 | F40: =IF(B40*E40=2,1,0) -> 1 | G40: =IF(B40*E40=1,1,0) -> 0 | H40: =IF(B40=0,IF(E40=1,1,0),0) -> 0 | I40: =IF(E40*D40=2,1,0) -> 0 | J40: =IF(E40*D40=1,1,0) -> 0 | K40: =IF(D40=0,IF(E40=1,1,0),0) -> 1 | L40: PAULO CÉSAR | M40: =SUMIF($A$1:$A$773,L40,$F$1:$F$773)+SUMIF($C$1:$C$773,L40,$I$1:$I$773) -> 0 | N40: =SUMIF($A$1:$A$773,L40,$G$1:$G$773)+SUMIF($C$1:$C$773,L40,$J$1:$J$773) -> 0 | O40: =SUMIF($A$1:$A$773,L40,$H$1:$H$773)+SUMIF($C$1:$C$773,L40,$K$1:$K$773) -> 5 | P40: =SUMIF('Tab Primeira Fase'!$N$8:$N$831,L40,'Tab Primeira Fase'!$O$8:$O$831)+SUMIF('Tab Primeira Fase'!$R$8:$R$831,L40,'Tab Primeira Fase'!$Q$8:$Q$831) -> 2 | Q40: =SUMIF('Tab Primeira Fase'!$N$8:$N$831,L40,'Tab Primeira Fase'!$Q$8:$Q$831)+SUMIF('Tab Primeira Fase'!$R$8:$R$831,L40,'Tab Primeira Fase'!$O$8:$O$831) -> 9 | R40: =(1000000*((3*M40)+N40))+(10000*M40)+(100*(P40-Q40))+P40+(0.001*(6-T40)) -> -697.997 | S40: =RANK(R40,$R$38:$R$43) -> 6 | T40: 3 | U40: =IF($S$38=T40,38,0)+IF($S$39=T40,39,0)+IF($S$40=T40,40,0)+IF($S$41=T40,41,0)+IF($S$42=T40,42,0)+IF($S$43=T40,43,0) -> 42 | W40: =CONCATENATE("'Auxiliar'!",W$1,$U40) -> 'Auxiliar'!L42 | X40: =CONCATENATE("'Auxiliar'!",X$1,$U40) -> 'Auxiliar'!M42 | Y40: =CONCATENATE("'Auxiliar'!",Y$1,$U40) -> 'Auxiliar'!N42 | Z40: =CONCATENATE("'Auxiliar'!",Z$1,$U40) -> 'Auxiliar'!O42 | AA40: =CONCATENATE("'Auxiliar'!",AA$1,$U40) -> 'Auxiliar'!P42 | AB40: =CONCATENATE("'Auxiliar'!",AB$1,$U40) -> 'Auxiliar'!Q42
A41: ='Tab Primeira Fase'!N48 -> ZÉ RICARDO | B41: =IF('Tab Primeira Fase'!O48<'Tab Primeira Fase'!Q48,0,IF('Tab Primeira Fase'!O48='Tab Primeira Fase'!Q48,1,IF('Tab Primeira Fase'!O48>'Tab Primeira Fase'!Q48,2))) -> 2 | C41: ='Tab Primeira Fase'!R48 -> FRANCISCO | D41: =IF('Tab Primeira Fase'!O48>'Tab Primeira Fase'!Q48,0,IF('Tab Primeira Fase'!O48='Tab Primeira Fase'!Q48,1,IF('Tab Primeira Fase'!O48<'Tab Primeira Fase'!Q48,2))) -> 0 | E41: =IF(ISNUMBER('Tab Primeira Fase'!O48),1,0) -> 1 | F41: =IF(B41*E41=2,1,0) -> 1 | G41: =IF(B41*E41=1,1,0) -> 0 | H41: =IF(B41=0,IF(E41=1,1,0),0) -> 0 | I41: =IF(E41*D41=2,1,0) -> 0 | J41: =IF(E41*D41=1,1,0) -> 0 | K41: =IF(D41=0,IF(E41=1,1,0),0) -> 1 | L41: JUNIOR | M41: =SUMIF($A$1:$A$773,L41,$F$1:$F$773)+SUMIF($C$1:$C$773,L41,$I$1:$I$773) -> 2 | N41: =SUMIF($A$1:$A$773,L41,$G$1:$G$773)+SUMIF($C$1:$C$773,L41,$J$1:$J$773) -> 1 | O41: =SUMIF($A$1:$A$773,L41,$H$1:$H$773)+SUMIF($C$1:$C$773,L41,$K$1:$K$773) -> 2 | P41: =SUMIF('Tab Primeira Fase'!$N$8:$N$831,L41,'Tab Primeira Fase'!$O$8:$O$831)+SUMIF('Tab Primeira Fase'!$R$8:$R$831,L41,'Tab Primeira Fase'!$Q$8:$Q$831) -> 6 | Q41: =SUMIF('Tab Primeira Fase'!$N$8:$N$831,L41,'Tab Primeira Fase'!$Q$8:$Q$831)+SUMIF('Tab Primeira Fase'!$R$8:$R$831,L41,'Tab Primeira Fase'!$O$8:$O$831) -> 9 | R41: =(1000000*((3*M41)+N41))+(10000*M41)+(100*(P41-Q41))+P41+(0.001*(6-T41)) -> 7019706 | S41: =RANK(R41,$R$38:$R$43) -> 4 | T41: 4 | U41: =IF($S$38=T41,38,0)+IF($S$39=T41,39,0)+IF($S$40=T41,40,0)+IF($S$41=T41,41,0)+IF($S$42=T41,42,0)+IF($S$43=T41,43,0) -> 41 | W41: =CONCATENATE("'Auxiliar'!",W$1,$U41) -> 'Auxiliar'!L41 | X41: =CONCATENATE("'Auxiliar'!",X$1,$U41) -> 'Auxiliar'!M41 | Y41: =CONCATENATE("'Auxiliar'!",Y$1,$U41) -> 'Auxiliar'!N41 | Z41: =CONCATENATE("'Auxiliar'!",Z$1,$U41) -> 'Auxiliar'!O41 | AA41: =CONCATENATE("'Auxiliar'!",AA$1,$U41) -> 'Auxiliar'!P41 | AB41: =CONCATENATE("'Auxiliar'!",AB$1,$U41) -> 'Auxiliar'!Q41
A42: ='Tab Primeira Fase'!N49 -> ANDRÉ | B42: =IF('Tab Primeira Fase'!O49<'Tab Primeira Fase'!Q49,0,IF('Tab Primeira Fase'!O49='Tab Primeira Fase'!Q49,1,IF('Tab Primeira Fase'!O49>'Tab Primeira Fase'!Q49,2))) -> 0 | C42: ='Tab Primeira Fase'!R49 -> ELINTO | D42: =IF('Tab Primeira Fase'!O49>'Tab Primeira Fase'!Q49,0,IF('Tab Primeira Fase'!O49='Tab Primeira Fase'!Q49,1,IF('Tab Primeira Fase'!O49<'Tab Primeira Fase'!Q49,2))) -> 2 | E42: =IF(ISNUMBER('Tab Primeira Fase'!O49),1,0) -> 1 | F42: =IF(B42*E42=2,1,0) -> 0 | G42: =IF(B42*E42=1,1,0) -> 0 | H42: =IF(B42=0,IF(E42=1,1,0),0) -> 1 | I42: =IF(E42*D42=2,1,0) -> 1 | J42: =IF(E42*D42=1,1,0) -> 0 | K42: =IF(D42=0,IF(E42=1,1,0),0) -> 0 | L42: ALAN | M42: =SUMIF($A$1:$A$773,L42,$F$1:$F$773)+SUMIF($C$1:$C$773,L42,$I$1:$I$773) -> 2 | N42: =SUMIF($A$1:$A$773,L42,$G$1:$G$773)+SUMIF($C$1:$C$773,L42,$J$1:$J$773) -> 2 | O42: =SUMIF($A$1:$A$773,L42,$H$1:$H$773)+SUMIF($C$1:$C$773,L42,$K$1:$K$773) -> 1 | P42: =SUMIF('Tab Primeira Fase'!$N$8:$N$831,L42,'Tab Primeira Fase'!$O$8:$O$831)+SUMIF('Tab Primeira Fase'!$R$8:$R$831,L42,'Tab Primeira Fase'!$Q$8:$Q$831) -> 5 | Q42: =SUMIF('Tab Primeira Fase'!$N$8:$N$831,L42,'Tab Primeira Fase'!$Q$8:$Q$831)+SUMIF('Tab Primeira Fase'!$R$8:$R$831,L42,'Tab Primeira Fase'!$O$8:$O$831) -> 4 | R42: =(1000000*((3*M42)+N42))+(10000*M42)+(100*(P42-Q42))+P42+(0.001*(6-T42)) -> 8020105 | S42: =RANK(R42,$R$38:$R$43) -> 3 | T42: 5 | U42: =IF($S$38=T42,38,0)+IF($S$39=T42,39,0)+IF($S$40=T42,40,0)+IF($S$41=T42,41,0)+IF($S$42=T42,42,0)+IF($S$43=T42,43,0) -> 38 | W42: =CONCATENATE("'Auxiliar'!",W$1,$U42) -> 'Auxiliar'!L38 | X42: =CONCATENATE("'Auxiliar'!",X$1,$U42) -> 'Auxiliar'!M38 | Y42: =CONCATENATE("'Auxiliar'!",Y$1,$U42) -> 'Auxiliar'!N38 | Z42: =CONCATENATE("'Auxiliar'!",Z$1,$U42) -> 'Auxiliar'!O38 | AA42: =CONCATENATE("'Auxiliar'!",AA$1,$U42) -> 'Auxiliar'!P38 | AB42: =CONCATENATE("'Auxiliar'!",AB$1,$U42) -> 'Auxiliar'!Q38
A43: ='Tab Primeira Fase'!N50 -> M. FERREIRA | B43: =IF('Tab Primeira Fase'!O50<'Tab Primeira Fase'!Q50,0,IF('Tab Primeira Fase'!O50='Tab Primeira Fase'!Q50,1,IF('Tab Primeira Fase'!O50>'Tab Primeira Fase'!Q50,2))) -> 2 | C43: ='Tab Primeira Fase'!R50 -> ROBERTO | D43: =IF('Tab Primeira Fase'!O50>'Tab Primeira Fase'!Q50,0,IF('Tab Primeira Fase'!O50='Tab Primeira Fase'!Q50,1,IF('Tab Primeira Fase'!O50<'Tab Primeira Fase'!Q50,2))) -> 0 | E43: =IF(ISNUMBER('Tab Primeira Fase'!O50),1,0) -> 1 | F43: =IF(B43*E43=2,1,0) -> 1 | G43: =IF(B43*E43=1,1,0) -> 0 | H43: =IF(B43=0,IF(E43=1,1,0),0) -> 0 | I43: =IF(E43*D43=2,1,0) -> 0 | J43: =IF(E43*D43=1,1,0) -> 0 | K43: =IF(D43=0,IF(E43=1,1,0),0) -> 1 | L43: WENDEL | M43: =SUMIF($A$1:$A$773,L43,$F$1:$F$773)+SUMIF($C$1:$C$773,L43,$I$1:$I$773) -> 3 | N43: =SUMIF($A$1:$A$773,L43,$G$1:$G$773)+SUMIF($C$1:$C$773,L43,$J$1:$J$773) -> 2 | O43: =SUMIF($A$1:$A$773,L43,$H$1:$H$773)+SUMIF($C$1:$C$773,L43,$K$1:$K$773) -> 0 | P43: =SUMIF('Tab Primeira Fase'!$N$8:$N$831,L43,'Tab Primeira Fase'!$O$8:$O$831)+SUMIF('Tab Primeira Fase'!$R$8:$R$831,L43,'Tab Primeira Fase'!$Q$8:$Q$831) -> 6 | Q43: =SUMIF('Tab Primeira Fase'!$N$8:$N$831,L43,'Tab Primeira Fase'!$Q$8:$Q$831)+SUMIF('Tab Primeira Fase'!$R$8:$R$831,L43,'Tab Primeira Fase'!$O$8:$O$831) -> 2 | R43: =(1000000*((3*M43)+N43))+(10000*M43)+(100*(P43-Q43))+P43+(0.001*(6-T43)) -> 11030406 | S43: =RANK(R43,$R$38:$R$43) -> 1 | T43: 6 | U43: =IF($S$38=T43,38,0)+IF($S$39=T43,39,0)+IF($S$40=T43,40,0)+IF($S$41=T43,41,0)+IF($S$42=T43,42,0)+IF($S$43=T43,43,0) -> 40 | W43: =CONCATENATE("'Auxiliar'!",W$1,$U43) -> 'Auxiliar'!L40 | X43: =CONCATENATE("'Auxiliar'!",X$1,$U43) -> 'Auxiliar'!M40 | Y43: =CONCATENATE("'Auxiliar'!",Y$1,$U43) -> 'Auxiliar'!N40 | Z43: =CONCATENATE("'Auxiliar'!",Z$1,$U43) -> 'Auxiliar'!O40 | AA43: =CONCATENATE("'Auxiliar'!",AA$1,$U43) -> 'Auxiliar'!P40 | AB43: =CONCATENATE("'Auxiliar'!",AB$1,$U43) -> 'Auxiliar'!Q40
A44: ='Tab Primeira Fase'!N51 -> MARCUS | B44: =IF('Tab Primeira Fase'!O51<'Tab Primeira Fase'!Q51,0,IF('Tab Primeira Fase'!O51='Tab Primeira Fase'!Q51,1,IF('Tab Primeira Fase'!O51>'Tab Primeira Fase'!Q51,2))) -> 2 | C44: ='Tab Primeira Fase'!R51 -> ALBERTO | D44: =IF('Tab Primeira Fase'!O51>'Tab Primeira Fase'!Q51,0,IF('Tab Primeira Fase'!O51='Tab Primeira Fase'!Q51,1,IF('Tab Primeira Fase'!O51<'Tab Primeira Fase'!Q51,2))) -> 0 | E44: =IF(ISNUMBER('Tab Primeira Fase'!O51),1,0) -> 1 | F44: =IF(B44*E44=2,1,0) -> 1 | G44: =IF(B44*E44=1,1,0) -> 0 | H44: =IF(B44=0,IF(E44=1,1,0),0) -> 0 | I44: =IF(E44*D44=2,1,0) -> 0 | J44: =IF(E44*D44=1,1,0) -> 0 | K44: =IF(D44=0,IF(E44=1,1,0),0) -> 1
A45: ='Tab Primeira Fase'!N52 -> JEAN | B45: =IF('Tab Primeira Fase'!O52<'Tab Primeira Fase'!Q52,0,IF('Tab Primeira Fase'!O52='Tab Primeira Fase'!Q52,1,IF('Tab Primeira Fase'!O52>'Tab Primeira Fase'!Q52,2))) -> 1 | C45: ='Tab Primeira Fase'!R52 -> MARQUINHO | D45: =IF('Tab Primeira Fase'!O52>'Tab Primeira Fase'!Q52,0,IF('Tab Primeira Fase'!O52='Tab Primeira Fase'!Q52,1,IF('Tab Primeira Fase'!O52<'Tab Primeira Fase'!Q52,2))) -> 1 | E45: =IF(ISNUMBER('Tab Primeira Fase'!O52),1,0) -> 1 | F45: =IF(B45*E45=2,1,0) -> 0 | G45: =IF(B45*E45=1,1,0) -> 1 | H45: =IF(B45=0,IF(E45=1,1,0),0) -> 0 | I45: =IF(E45*D45=2,1,0) -> 0 | J45: =IF(E45*D45=1,1,0) -> 1 | K45: =IF(D45=0,IF(E45=1,1,0),0) -> 0
A46: ='Tab Primeira Fase'!N53 -> JULIANO | B46: =IF('Tab Primeira Fase'!O53<'Tab Primeira Fase'!Q53,0,IF('Tab Primeira Fase'!O53='Tab Primeira Fase'!Q53,1,IF('Tab Primeira Fase'!O53>'Tab Primeira Fase'!Q53,2))) -> 2 | C46: ='Tab Primeira Fase'!R53 -> M. SILVA | D46: =IF('Tab Primeira Fase'!O53>'Tab Primeira Fase'!Q53,0,IF('Tab Primeira Fase'!O53='Tab Primeira Fase'!Q53,1,IF('Tab Primeira Fase'!O53<'Tab Primeira Fase'!Q53,2))) -> 0 | E46: =IF(ISNUMBER('Tab Primeira Fase'!O53),1,0) -> 1 | F46: =IF(B46*E46=2,1,0) -> 1 | G46: =IF(B46*E46=1,1,0) -> 0 | H46: =IF(B46=0,IF(E46=1,1,0),0) -> 0 | I46: =IF(E46*D46=2,1,0) -> 0 | J46: =IF(E46*D46=1,1,0) -> 0 | K46: =IF(D46=0,IF(E46=1,1,0),0) -> 1
A47: ='Tab Primeira Fase'!N54 -> M. VASQUES | B47: =IF('Tab Primeira Fase'!O54<'Tab Primeira Fase'!Q54,0,IF('Tab Primeira Fase'!O54='Tab Primeira Fase'!Q54,1,IF('Tab Primeira Fase'!O54>'Tab Primeira Fase'!Q54,2))) -> 0 | C47: ='Tab Primeira Fase'!R54 -> C. HENRIQUE | D47: =IF('Tab Primeira Fase'!O54>'Tab Primeira Fase'!Q54,0,IF('Tab Primeira Fase'!O54='Tab Primeira Fase'!Q54,1,IF('Tab Primeira Fase'!O54<'Tab Primeira Fase'!Q54,2))) -> 2 | E47: =IF(ISNUMBER('Tab Primeira Fase'!O54),1,0) -> 1 | F47: =IF(B47*E47=2,1,0) -> 0 | G47: =IF(B47*E47=1,1,0) -> 0 | H47: =IF(B47=0,IF(E47=1,1,0),0) -> 1 | I47: =IF(E47*D47=2,1,0) -> 1 | J47: =IF(E47*D47=1,1,0) -> 0 | K47: =IF(D47=0,IF(E47=1,1,0),0) -> 0
A48: ='Tab Primeira Fase'!N55 -> MAGNO | B48: =IF('Tab Primeira Fase'!O55<'Tab Primeira Fase'!Q55,0,IF('Tab Primeira Fase'!O55='Tab Primeira Fase'!Q55,1,IF('Tab Primeira Fase'!O55>'Tab Primeira Fase'!Q55,2))) -> 2 | C48: ='Tab Primeira Fase'!R55 -> FARNEZE | D48: =IF('Tab Primeira Fase'!O55>'Tab Primeira Fase'!Q55,0,IF('Tab Primeira Fase'!O55='Tab Primeira Fase'!Q55,1,IF('Tab Primeira Fase'!O55<'Tab Primeira Fase'!Q55,2))) -> 0 | E48: =IF(ISNUMBER('Tab Primeira Fase'!O55),1,0) -> 1 | F48: =IF(B48*E48=2,1,0) -> 1 | G48: =IF(B48*E48=1,1,0) -> 0 | H48: =IF(B48=0,IF(E48=1,1,0),0) -> 0 | I48: =IF(E48*D48=2,1,0) -> 0 | J48: =IF(E48*D48=1,1,0) -> 0 | K48: =IF(D48=0,IF(E48=1,1,0),0) -> 1
A49: ='Tab Primeira Fase'!N56 -> WENDEL | B49: =IF('Tab Primeira Fase'!O56<'Tab Primeira Fase'!Q56,0,IF('Tab Primeira Fase'!O56='Tab Primeira Fase'!Q56,1,IF('Tab Primeira Fase'!O56>'Tab Primeira Fase'!Q56,2))) -> 1 | C49: ='Tab Primeira Fase'!R56 -> ALAN | D49: =IF('Tab Primeira Fase'!O56>'Tab Primeira Fase'!Q56,0,IF('Tab Primeira Fase'!O56='Tab Primeira Fase'!Q56,1,IF('Tab Primeira Fase'!O56<'Tab Primeira Fase'!Q56,2))) -> 1 | E49: =IF(ISNUMBER('Tab Primeira Fase'!O56),1,0) -> 1 | F49: =IF(B49*E49=2,1,0) -> 0 | G49: =IF(B49*E49=1,1,0) -> 1 | H49: =IF(B49=0,IF(E49=1,1,0),0) -> 0 | I49: =IF(E49*D49=2,1,0) -> 0 | J49: =IF(E49*D49=1,1,0) -> 1 | K49: =IF(D49=0,IF(E49=1,1,0),0) -> 0
A50: ='Tab Primeira Fase'!N57 -> ALCIDES | B50: =IF('Tab Primeira Fase'!O57<'Tab Primeira Fase'!Q57,0,IF('Tab Primeira Fase'!O57='Tab Primeira Fase'!Q57,1,IF('Tab Primeira Fase'!O57>'Tab Primeira Fase'!Q57,2))) -> 0 | C50: ='Tab Primeira Fase'!R57 -> JUNIOR | D50: =IF('Tab Primeira Fase'!O57>'Tab Primeira Fase'!Q57,0,IF('Tab Primeira Fase'!O57='Tab Primeira Fase'!Q57,1,IF('Tab Primeira Fase'!O57<'Tab Primeira Fase'!Q57,2))) -> 2 | E50: =IF(ISNUMBER('Tab Primeira Fase'!O57),1,0) -> 1 | F50: =IF(B50*E50=2,1,0) -> 0 | G50: =IF(B50*E50=1,1,0) -> 0 | H50: =IF(B50=0,IF(E50=1,1,0),0) -> 1 | I50: =IF(E50*D50=2,1,0) -> 1 | J50: =IF(E50*D50=1,1,0) -> 0 | K50: =IF(D50=0,IF(E50=1,1,0),0) -> 0
A51: ='Tab Primeira Fase'!N58 -> TARCÍZIO | B51: =IF('Tab Primeira Fase'!O58<'Tab Primeira Fase'!Q58,0,IF('Tab Primeira Fase'!O58='Tab Primeira Fase'!Q58,1,IF('Tab Primeira Fase'!O58>'Tab Primeira Fase'!Q58,2))) -> 2 | C51: ='Tab Primeira Fase'!R58 -> PAULO CÉSAR | D51: =IF('Tab Primeira Fase'!O58>'Tab Primeira Fase'!Q58,0,IF('Tab Primeira Fase'!O58='Tab Primeira Fase'!Q58,1,IF('Tab Primeira Fase'!O58<'Tab Primeira Fase'!Q58,2))) -> 0 | E51: =IF(ISNUMBER('Tab Primeira Fase'!O58),1,0) -> 1 | F51: =IF(B51*E51=2,1,0) -> 1 | G51: =IF(B51*E51=1,1,0) -> 0 | H51: =IF(B51=0,IF(E51=1,1,0),0) -> 0 | I51: =IF(E51*D51=2,1,0) -> 0 | J51: =IF(E51*D51=1,1,0) -> 0 | K51: =IF(D51=0,IF(E51=1,1,0),0) -> 1
A52: ='Tab Primeira Fase'!N59 -> ORNELAS | B52: =IF('Tab Primeira Fase'!O59<'Tab Primeira Fase'!Q59,0,IF('Tab Primeira Fase'!O59='Tab Primeira Fase'!Q59,1,IF('Tab Primeira Fase'!O59>'Tab Primeira Fase'!Q59,2))) -> 1 | C52: ='Tab Primeira Fase'!R59 -> RAFAEL PENA | D52: =IF('Tab Primeira Fase'!O59>'Tab Primeira Fase'!Q59,0,IF('Tab Primeira Fase'!O59='Tab Primeira Fase'!Q59,1,IF('Tab Primeira Fase'!O59<'Tab Primeira Fase'!Q59,2))) -> 1 | E52: =IF(ISNUMBER('Tab Primeira Fase'!O59),1,0) -> 1 | F52: =IF(B52*E52=2,1,0) -> 0 | G52: =IF(B52*E52=1,1,0) -> 1 | H52: =IF(B52=0,IF(E52=1,1,0),0) -> 0 | I52: =IF(E52*D52=2,1,0) -> 0 | J52: =IF(E52*D52=1,1,0) -> 1 | K52: =IF(D52=0,IF(E52=1,1,0),0) -> 0
A53: ='Tab Primeira Fase'!N60 -> CARUSO | B53: =IF('Tab Primeira Fase'!O60<'Tab Primeira Fase'!Q60,0,IF('Tab Primeira Fase'!O60='Tab Primeira Fase'!Q60,1,IF('Tab Primeira Fase'!O60>'Tab Primeira Fase'!Q60,2))) -> 2 | C53: ='Tab Primeira Fase'!R60 -> PAULÃO | D53: =IF('Tab Primeira Fase'!O60>'Tab Primeira Fase'!Q60,0,IF('Tab Primeira Fase'!O60='Tab Primeira Fase'!Q60,1,IF('Tab Primeira Fase'!O60<'Tab Primeira Fase'!Q60,2))) -> 0 | E53: =IF(ISNUMBER('Tab Primeira Fase'!O60),1,0) -> 1 | F53: =IF(B53*E53=2,1,0) -> 1 | G53: =IF(B53*E53=1,1,0) -> 0 | H53: =IF(B53=0,IF(E53=1,1,0),0) -> 0 | I53: =IF(E53*D53=2,1,0) -> 0 | J53: =IF(E53*D53=1,1,0) -> 0 | K53: =IF(D53=0,IF(E53=1,1,0),0) -> 1
A54: ='Tab Primeira Fase'!N61 -> ADOLPHO | B54: =IF('Tab Primeira Fase'!O61<'Tab Primeira Fase'!Q61,0,IF('Tab Primeira Fase'!O61='Tab Primeira Fase'!Q61,1,IF('Tab Primeira Fase'!O61>'Tab Primeira Fase'!Q61,2))) -> 2 | C54: ='Tab Primeira Fase'!R61 -> THIAGO | D54: =IF('Tab Primeira Fase'!O61>'Tab Primeira Fase'!Q61,0,IF('Tab Primeira Fase'!O61='Tab Primeira Fase'!Q61,1,IF('Tab Primeira Fase'!O61<'Tab Primeira Fase'!Q61,2))) -> 0 | E54: =IF(ISNUMBER('Tab Primeira Fase'!O61),1,0) -> 1 | F54: =IF(B54*E54=2,1,0) -> 1 | G54: =IF(B54*E54=1,1,0) -> 0 | H54: =IF(B54=0,IF(E54=1,1,0),0) -> 0 | I54: =IF(E54*D54=2,1,0) -> 0 | J54: =IF(E54*D54=1,1,0) -> 0 | K54: =IF(D54=0,IF(E54=1,1,0),0) -> 1
A55: ='Tab Primeira Fase'!N62 -> PAULÃO | B55: =IF('Tab Primeira Fase'!O62<'Tab Primeira Fase'!Q62,0,IF('Tab Primeira Fase'!O62='Tab Primeira Fase'!Q62,1,IF('Tab Primeira Fase'!O62>'Tab Primeira Fase'!Q62,2))) -> 1 | C55: ='Tab Primeira Fase'!R62 -> ADOLPHO | D55: =IF('Tab Primeira Fase'!O62>'Tab Primeira Fase'!Q62,0,IF('Tab Primeira Fase'!O62='Tab Primeira Fase'!Q62,1,IF('Tab Primeira Fase'!O62<'Tab Primeira Fase'!Q62,2))) -> 1 | E55: =IF(ISNUMBER('Tab Primeira Fase'!O62),1,0) -> 1 | F55: =IF(B55*E55=2,1,0) -> 0 | G55: =IF(B55*E55=1,1,0) -> 1 | H55: =IF(B55=0,IF(E55=1,1,0),0) -> 0 | I55: =IF(E55*D55=2,1,0) -> 0 | J55: =IF(E55*D55=1,1,0) -> 1 | K55: =IF(D55=0,IF(E55=1,1,0),0) -> 0
... A97: ='Tab Primeira Fase'!N104 -> C. HENRIQUE | B97: =IF('Tab Primeira Fase'!O104<'Tab Primeira Fase'!Q104,0,IF('Tab Primeira Fase'!O104='Tab Primeira Fase'!Q104,1,IF('Tab Primeira Fase'!O104>'Tab Primeira Fase'!Q104,2))) -> 2 | C97: ='Tab Primeira Fase'!R104 -> MAGNO | D97: =IF('Tab Primeira Fase'!O104>'Tab Primeira Fase'!Q104,0,IF('Tab Primeira Fase'!O104='Tab Primeira Fase'!Q104,1,IF('Tab Primeira Fase'!O104<'Tab Primeira Fase'!Q104,2))) -> 0 | E97: =IF(ISNUMBER('Tab Primeira Fase'!O104),1,0) -> 1 | F97: =IF(B97*E97=2,1,0) -> 1 | G97: =IF(B97*E97=1,1,0) -> 0 | H97: =IF(B97=0,IF(E97=1,1,0),0) -> 0 | I97: =IF(E97*D97=2,1,0) -> 0 | J97: =IF(E97*D97=1,1,0) -> 0 | K97: =IF(D97=0,IF(E97=1,1,0),0) -> 1

Sheet Tab Primeira Fase
A1: Federação de Futebol de Mesa do Distrito Federal - 3 Toques
A2: VI Copa Centro-Oeste Individual 2020
A3: TABELA DA PRIMEIRA FASE
A5: DATA: | B5: 07.03.2020
A7: ROD | B7: M | C7: ÁRBITROS | D7: ARTILHEIROS | O7: JOGOS | S7: ARTILHEIROS
A8: 0.375 | B8: 1 | C8: MARCUS | D8: 8 | E8: 12 | F8: 7 | G8: 9 | H8: 8 | N8: M. PORTO | O8: =IF(D8="","",IF(D8=0,0,COUNT(D8:M8))) -> 5 | P8: x | Q8: =IF(S8="","",IF(S8=0,0,COUNT(S8:AB8))) -> 1 | R8: PAULÃO | S8: 3
B9: 2 | C9: JEAN | D9: 0 | M9: t | N9: ORNELAS | O9: =IF(D9="","",IF(D9=0,0,COUNT(D9:M9))) -> 0 | P9: x | Q9: =IF(S9="","",IF(S9=0,0,COUNT(S9:AB9))) -> 1 | R9: THIAGO | S9: 10
B10: 3 | C10: MARQUINHO | D10: 6 | N10: CARUSO | O10: =IF(D10="","",IF(D10=0,0,COUNT(D10:M10))) -> 1 | P10: x | Q10: =IF(S10="","",IF(S10=0,0,COUNT(S10:AB10))) -> 2 | R10: ADOLPHO | S10: 9 | T10: 6
B11: 4 | C11: ALBERTO | D11: 0 | N11: MOTTA | O11: =IF(D11="","",IF(D11=0,0,COUNT(D11:M11))) -> 0 | P11: x | Q11: =IF(S11="","",IF(S11=0,0,COUNT(S11:AB11))) -> 3 | R11: TONINHO | S11: 2 | T11: 11 | U11: 8
B12: 5 | C12: ROBERTO | D12: 0 | N12: PIMENTEL | O12: =IF(D12="","",IF(D12=0,0,COUNT(D12:M12))) -> 0 | P12: x | Q12: =IF(S12="","",IF(S12=0,0,COUNT(S12:AB12))) -> 2 | R12: LUIZ CLÁUDIO | S12: 10 | T12: 5
B13: 6 | C13: M. FERREIRA | D13: 0 | N13: FRANCISCO | O13: =IF(D13="","",IF(D13=0,0,COUNT(D13:M13))) -> 0 | P13: x | Q13: =IF(S13="","",IF(S13=0,0,COUNT(S13:AB13))) -> 5 | R13: ANDRÉ | S13: 2 | T13: 20 | U13: 19 | V13: 9 | W13: 11
B14: 7 | C14: JUNIOR | D14: 0 | N14: LUIZ GOMES | O14: =IF(D14="","",IF(D14=0,0,COUNT(D14:M14))) -> 0 | P14: x | Q14: =IF(S14="","",IF(S14=0,0,COUNT(S14:AB14))) -> 2 | R14: ZÉ RICARDO | S14: 28 | T14: 16
B15: 8 | C15: WENDEL | D15: 8 | E15: 16 | F15: 16 | N15: M. SILVA | O15: =IF(D15="","",IF(D15=0,0,COUNT(D15:M15))) -> 3 | P15: x | Q15: =IF(S15="","",IF(S15=0,0,COUNT(S15:AB15))) -> 1 | R15: FARNEZE | S15: 10
B16: 9 | C16: RAFAEL PENA | D16: 0 | N16: M. VASQUES | O16: =IF(D16="","",IF(D16=0,0,COUNT(D16:M16))) -> 0 | P16: x | Q16: =IF(S16="","",IF(S16=0,0,COUNT(S16:AB16))) -> 3 | R16: MAGNO | S16: 9 | T16: 6 | U16: 10
A17: 0.41666667 | B17: 1 | C17: PIMENTEL | D17: 2 | E17: 8 | F17: 9 | G17: 7 | H17: 8 | N17: MARCUS | O17: =IF(D17="","",IF(D17=0,0,COUNT(D17:M17))) -> 5 | P17: x | Q17: =IF(S17="","",IF(S17=0,0,COUNT(S17:AB17))) -> 0 | R17: ROBERTO | S17: 0
B18: 2 | C18: TONINHO | D18: 0 | N18: JEAN | O18: =IF(D18="","",IF(D18=0,0,COUNT(D18:M18))) -> 0 | P18: x | Q18: =IF(S18="","",IF(S18=0,0,COUNT(S18:AB18))) -> 4 | R18: M. FERREIRA | S18: 8 | T18: 19 | U18: 3 | V18: 19
B19: 3 | C19: LORIVAL | D19: 8 | E19: 2 | F19: 9 | N19: MARQUINHO | O19: =IF(D19="","",IF(D19=0,0,COUNT(D19:M19))) -> 3 | P19: x | Q19: =IF(S19="","",IF(S19=0,0,COUNT(S19:AB19))) -> 1 | R19: ALBERTO | S19: 7
B20: 4 | C20: MOTTA | D20: 0 | N20: TARCÍZIO | O20: =IF(D20="","",IF(D20=0,0,COUNT(D20:M20))) -> 0 | P20: x | Q20: =IF(S20="","",IF(S20=0,0,COUNT(S20:AB20))) -> 1 | R20: WENDEL | S20: 7
B21: 5 | C21: LUIZ CLÁUDIO | D21: 3 | N21: PAULO CÉSAR | O21: =IF(D21="","",IF(D21=0,0,COUNT(D21:M21))) -> 1 | P21: x | Q21: =IF(S21="","",IF(S21=0,0,COUNT(S21:AB21))) -> 3 | R21: ALCIDES | S21: 8 | T21: 8 | U21: 16
B22: 6 | C22: LUIZ GOMES | D22: 5 | N22: JUNIOR | O22: =IF(D22="","",IF(D22=0,0,COUNT(D22:M22))) -> 1 | P22: x | Q22: =IF(S22="","",IF(S22=0,0,COUNT(S22:AB22))) -> 1 | R22: ALAN | S22: 11
B23: 7 | C23: DUGUET | D23: 6 | E23: 4 | F23: 6 | G23: 8 | H23: 2 | N23: ADOLPHO | O23: =IF(D23="","",IF(D23=0,0,COUNT(D23:M23))) -> 5 | P23: x | Q23: =IF(S23="","",IF(S23=0,0,COUNT(S23:AB23))) -> 0 | R23: ORNELAS | S23: 0
B24: 8 | C24: ANDRÉ | D24: 5 | E24: 3 | N24: THIAGO | O24: =IF(D24="","",IF(D24=0,0,COUNT(D24:M24))) -> 2 | P24: x | Q24: =IF(S24="","",IF(S24=0,0,COUNT(S24:AB24))) -> 2 | R24: M. PORTO | S24: 7 | T24: 2
B25: 9 | C25: FRANCISCO | D25: 0 | N25: PAULÃO | O25: =IF(D25="","",IF(D25=0,0,COUNT(D25:M25))) -> 0 | P25: x | Q25: =IF(S25="","",IF(S25=0,0,COUNT(S25:AB25))) -> 1 | R25: RAFAEL PENA | S25: 14
A26: 0.45833333 | B26: 1 | C26: ORNELAS | D26: 20 | E26: 8 | M26: t | N26: LORIVAL | O26: =IF(D26="","",IF(D26=0,0,COUNT(D26:M26))) -> 2 | P26: x | Q26: =IF(S26="","",IF(S26=0,0,COUNT(S26:AB26))) -> 1 | R26: PIMENTEL | S26: 10
B27: 2 | C27: RAFAEL PENA | D27: 8 | E27: 6 | N27: LUIZ CLÁUDIO | O27: =IF(D27="","",IF(D27=0,0,COUNT(D27:M27))) -> 2 | P27: x | Q27: =IF(S27="","",IF(S27=0,0,COUNT(S27:AB27))) -> 1 | R27: MOTTA | S27: 8 | AB27: t
B28: 3 | C28: CARUSO | D28: 7 | N28: TONINHO | O28: =IF(D28="","",IF(D28=0,0,COUNT(D28:M28))) -> 1 | P28: x | Q28: =IF(S28="","",IF(S28=0,0,COUNT(S28:AB28))) -> 2 | R28: BETO | S28: 3 | T28: 9
B29: 4 | C29: M. PORTO | D29: 10 | N29: DUGUET | O29: =IF(D29="","",IF(D29=0,0,COUNT(D29:M29))) -> 1 | P29: x | Q29: =IF(S29="","",IF(S29=0,0,COUNT(S29:AB29))) -> 1 | R29: ZÉ RICARDO | S29: 10 | AB29: t
B30: 5 | C30: THIAGO | D30: 19 | E30: 25 | F30: 19 | G30: 20 | N30: ANDRÉ | O30: =IF(D30="","",IF(D30=0,0,COUNT(D30:M30))) -> 4 | P30: x | Q30: =IF(S30="","",IF(S30=0,0,COUNT(S30:AB30))) -> 0 | R30: LUIZ GOMES | S30: 0
B31: 6 | C31: ADOLPHO | D31: 8 | E31: 8 | F31: 5 | N31: ELINTO | O31: =IF(D31="","",IF(D31=0,0,COUNT(D31:M31))) -> 3 | P31: x | Q31: =IF(S31="","",IF(S31=0,0,COUNT(S31:AB31))) -> 0 | R31: FRANCISCO | S31: 0
B32: 7 | C32: PAULÃO | D32: 5 | N32: ROBERTO | O32: =IF(D32="","",IF(D32=0,0,COUNT(D32:M32))) -> 1 | P32: x | Q32: =IF(S32="","",IF(S32=0,0,COUNT(S32:AB32))) -> 3 | R32: MARQUINHO | S32: 10 | T32: 19 | U32: 10
B33: 8 | C33: ALAN | D33: 10 | E33: 5 | N33: ALBERTO | O33: =IF(D33="","",IF(D33=0,0,COUNT(D33:M33))) -> 2 | P33: x | Q33: =IF(S33="","",IF(S33=0,0,COUNT(S33:AB33))) -> 1 | R33: JEAN | S33: 10
B34: 9 | C34: TARCÍZIO | D34: 9 | N34: M. FERREIRA | O34: =IF(D34="","",IF(D34=0,0,COUNT(D34:M34))) -> 1 | P34: x | Q34: =IF(S34="","",IF(S34=0,0,COUNT(S34:AB34))) -> 4 | R34: MARCUS | S34: 8 | T34: 5 | U34: 5 | V34: 2
B35: 10 | C35: ALCIDES | D35: 0 | N35: M. VASQUES | O35: =IF(D35="","",IF(D35=0,0,COUNT(D35:M35))) -> 0 | P35: x | Q35: =IF(S35="","",IF(S35=0,0,COUNT(S35:AB35))) -> 0 | R35: M. SILVA | S35: 0
B36: 11 | C36: PAULO CÉSAR | D36: 5 | N36: MAGNO | O36: =IF(D36="","",IF(D36=0,0,COUNT(D36:M36))) -> 1 | P36: x | Q36: =IF(S36="","",IF(S36=0,0,COUNT(S36:AB36))) -> 4 | R36: JULIANO | S36: 7 | T36: 2 | U36: 14 | V36: 14 | AA36: t | AB36: t
B37: 12 | C37: JUNIOR | D37: 0 | N37: FARNEZE | O37: =IF(D37="","",IF(D37=0,0,COUNT(D37:M37))) -> 0 | P37: x | Q37: =IF(S37="","",IF(S37=0,0,COUNT(S37:AB37))) -> 1 | R37: C. HENRIQUE | S37: 10
A38: 0.5 | B38: 1 | C38: ALBERTO | D38: 0 | N38: PAULO CÉSAR | O38: =IF(D38="","",IF(D38=0,0,COUNT(D38:M38))) -> 0 | P38: x | Q38: =IF(S38="","",IF(S38=0,0,COUNT(S38:AB38))) -> 1 | R38: WENDEL | S38: 1
B39: 2 | C39: JEAN | D39: 0 | N39: JUNIOR | O39: =IF(D39="","",IF(D39=0,0,COUNT(D39:M39))) -> 0 | P39: x | Q39: =IF(S39="","",IF(S39=0,0,COUNT(S39:AB39))) -> 4 | R39: TARCÍZIO | S39: 20 | T39: 21 | U39: 20 | V39: 10
B40: 3 | C40: ROBERTO | D40: 9 | N40: ALAN | O40: =IF(D40="","",IF(D40=0,0,COUNT(D40:M40))) -> 1 | P40: x | Q40: =IF(S40="","",IF(S40=0,0,COUNT(S40:AB40))) -> 0 | R40: ALCIDES | S40: 0
B41: 4 | C41: M. FERREIRA | D41: 9 | E41: 11 | N41: THIAGO | O41: =IF(D41="","",IF(D41=0,0,COUNT(D41:M41))) -> 2 | P41: x | Q41: =IF(S41="","",IF(S41=0,0,COUNT(S41:AB41))) -> 1 | R41: CARUSO | S41: 9
B42: 5 | C42: MARCUS | D42: 15 | M42: t | N42: PAULÃO | O42: =IF(D42="","",IF(D42=0,0,COUNT(D42:M42))) -> 1 | P42: x | Q42: =IF(S42="","",IF(S42=0,0,COUNT(S42:AB42))) -> 2 | R42: ORNELAS | S42: 21 | T42: 9
B43: 6 | C43: MARQUINHO | D43: 0 | N43: RAFAEL PENA | O43: =IF(D43="","",IF(D43=0,0,COUNT(D43:M43))) -> 0 | P43: x | Q43: =IF(S43="","",IF(S43=0,0,COUNT(S43:AB43))) -> 2 | R43: M. PORTO | S43: 19 | T43: 14
B44: 7 | C44: MAGNO | D44: 0 | N44: MOTTA | O44: =IF(D44="","",IF(D44=0,0,COUNT(D44:M44))) -> 0 | P44: x | Q44: =IF(S44="","",IF(S44=0,0,COUNT(S44:AB44))) -> 2 | R44: LORIVAL | S44: 8 | T44: 7
B45: 8 | C45: JULIANO | D45: 10 | N45: LUIZ CLÁUDIO | O45: =IF(D45="","",IF(D45=0,0,COUNT(D45:M45))) -> 1 | P45: x | Q45: =IF(S45="","",IF(S45=0,0,COUNT(S45:AB45))) -> 1 | R45: TONINHO | S45: 3
B46: 9 | C46: M. VASQUES | D46: 11 | M46: t | N46: PIMENTEL | O46: =IF(D46="","",IF(D46=0,0,COUNT(D46:M46))) -> 1 | P46: x | Q46: =IF(S46="","",IF(S46=0,0,COUNT(S46:AB46))) -> 3 | R46: BETO | S46: 8 | T46: 11 | U46: 8
B47: 10 | C47: FARNEZE | D47: 4 | E47: 30 | F47: 10 | N47: DUGUET | O47: =IF(D47="","",IF(D47=0,0,COUNT(D47:M47))) -> 3 | P47: x | Q47: =IF(S47="","",IF(S47=0,0,COUNT(S47:AB47))) -> 1 | R47: LUIZ GOMES | S47: 7
B48: 11 | C48: M. SILVA | D48: 13 | E48: 11 | F48: 29 | N48: ZÉ RICARDO | O48: =IF(D48="","",IF(D48=0,0,COUNT(D48:M48))) -> 3 | P48: x | Q48: =IF(S48="","",IF(S48=0,0,COUNT(S48:AB48))) -> 0 | R48: FRANCISCO | S48: 0
B49: 12 | C49: C. HENRIQUE | D49: 10 | M49: t | N49: ANDRÉ | O49: =IF(D49="","",IF(D49=0,0,COUNT(D49:M49))) -> 1 | P49: x | Q49: =IF(S49="","",IF(S49=0,0,COUNT(S49:AB49))) -> 3 | R49: ELINTO | S49: 7 | T49: 9 | U49: 7 | AB49: t
A50: 0.58333333 | B50: 1 | C50: ANDRÉ | D50: 10 | E50: 9 | F50: 9 | G50: 19 | N50: M. FERREIRA | O50: =IF(D50="","",IF(D50=0,0,COUNT(D50:M50))) -> 4 | P50: x | Q50: =IF(S50="","",IF(S50=0,0,COUNT(S50:AB50))) -> 0 | R50: ROBERTO | S50: 0
B51: 2 | C51: LUIZ GOMES | D51: 9 | E51: 8 | N51: MARCUS | O51: =IF(D51="","",IF(D51=0,0,COUNT(D51:M51))) -> 2 | P51: x | Q51: =IF(S51="","",IF(S51=0,0,COUNT(S51:AB51))) -> 1 | R51: ALBERTO | S51: 2
B52: 3 | C52: FRANCISCO | D52: 26 | M52: t | N52: JEAN | O52: =IF(D52="","",IF(D52=0,0,COUNT(D52:M52))) -> 1 | P52: x | Q52: =IF(S52="","",IF(S52=0,0,COUNT(S52:AB52))) -> 1 | R52: MARQUINHO | S52: 10
B53: 4 | C53: ELINTO | D53: 14 | E53: 22 | F53: 3 | N53: JULIANO | O53: =IF(D53="","",IF(D53=0,0,COUNT(D53:M53))) -> 3 | P53: x | Q53: =IF(S53="","",IF(S53=0,0,COUNT(S53:AB53))) -> 0 | R53: M. SILVA | S53: 0
B54: 5 | C54: ZÉ RICARDO | D54: 0 | N54: M. VASQUES | O54: =IF(D54="","",IF(D54=0,0,COUNT(D54:M54))) -> 0 | P54: x | Q54: =IF(S54="","",IF(S54=0,0,COUNT(S54:AB54))) -> 3 | R54: C. HENRIQUE | S54: 9 | T54: 8 | U54: 9
B55: 6 | C55: DUGUET | D55: 8 | E55: 7 | F55: 5 | G55: 7 | N55: MAGNO | O55: =IF(D55="","",IF(D55=0,0,COUNT(D55:M55))) -> 4 | P55: x | Q55: =IF(S55="","",IF(S55=0,0,COUNT(S55:AB55))) -> 1 | R55: FARNEZE | S55: 10
B56: 7 | C56: MOTTA | D56: 0 | N56: WENDEL | O56: =IF(D56="","",IF(D56=0,0,COUNT(D56:M56))) -> 0 | P56: x | Q56: =IF(S56="","",IF(S56=0,0,COUNT(S56:AB56))) -> 0 | R56: ALAN | S56: 0
B57: 8 | C57: PIMENTEL | D57: 7 | N57: ALCIDES | O57: =IF(D57="","",IF(D57=0,0,COUNT(D57:M57))) -> 1 | P57: x | Q57: =IF(S57="","",IF(S57=0,0,COUNT(S57:AB57))) -> 3 | R57: JUNIOR | S57: 11 | T57: 6 | U57: 2
B58: 9 | C58: BETO | D58: 2 | E58: 20 | N58: TARCÍZIO | O58: =IF(D58="","",IF(D58=0,0,COUNT(D58:M58))) -> 2 | P58: x | Q58: =IF(S58="","",IF(S58=0,0,COUNT(S58:AB58))) -> 0 | R58: PAULO CÉSAR | S58: 0
B59: 10 | C59: LORIVAL | D59: 11 | M59: t | N59: ORNELAS | O59: =IF(D59="","",IF(D59=0,0,COUNT(D59:M59))) -> 1 | P59: x | Q59: =IF(S59="","",IF(S59=0,0,COUNT(S59:AB59))) -> 1 | R59: RAFAEL PENA | S59: 22 | AB59: t
B60: 11 | C60: TONINHO | D60: 4 | E60: 7 | N60: CARUSO | O60: =IF(D60="","",IF(D60=0,0,COUNT(D60:M60))) -> 2 | P60: x | Q60: =IF(S60="","",IF(S60=0,0,COUNT(S60:AB60))) -> 0 | R60: PAULÃO | S60: 0
B61: 12 | C61: LUIZ CLÁUDIO | D61: 19 | E61: 7 | N61: ADOLPHO | O61: =IF(D61="","",IF(D61=0,0,COUNT(D61:M61))) -> 2 | P61: x | Q61: =IF(S61="","",IF(S61=0,0,COUNT(S61:AB61))) -> 0 | R61: THIAGO | S61: 0
A62: 0.625 | B62: 1 | C62: ALCIDES | D62: 0 | N62: PAULÃO | O62: =IF(D62="","",IF(D62=0,0,COUNT(D62:M62))) -> 0 | P62: x | Q62: =IF(S62="","",IF(S62=0,0,COUNT(S62:AB62))) -> 0 | R62: ADOLPHO | S62: 0
B63: 2 | C63: PAULO CÉSAR | D63: 16 | E63: 9 | N63: RAFAEL PENA | O63: =IF(D63="","",IF(D63=0,0,COUNT(D63:M63))) -> 2 | P63: x | Q63: =IF(S63="","",IF(S63=0,0,COUNT(S63:AB63))) -> 2 | R63: CARUSO | S63: 10 | T63: 2 | AB63: t
B64: 3 | C64: MAGNO | D64: 7 | E64: 99 | N64: M. PORTO | O64: =IF(D64="","",IF(D64=0,0,COUNT(D64:M64))) -> 2 | P64: x | Q64: =IF(S64="","",IF(S64=0,0,COUNT(S64:AB64))) -> 0 | R64: ORNELAS | S64: 0
B65: 4 | C65: TARCÍZIO | D65: 8 | N65: TONINHO | O65: =IF(D65="","",IF(D65=0,0,COUNT(D65:M65))) -> 1 | P65: x | Q65: =IF(S65="","",IF(S65=0,0,COUNT(S65:AB65))) -> 3 | R65: LORIVAL | S65: 8 | T65: 8 | U65: 4
B66: 5 | C66: WENDEL | D66: 0 | N66: BETO | O66: =IF(D66="","",IF(D66=0,0,COUNT(D66:M66))) -> 0 | P66: x | Q66: =IF(S66="","",IF(S66=0,0,COUNT(S66:AB66))) -> 1 | R66: LUIZ CLÁUDIO | S66: 8
B67: 6 | C67: ALAN | D67: 19 | E67: 28 | N67: MOTTA | O67: =IF(D67="","",IF(D67=0,0,COUNT(D67:M67))) -> 2 | P67: x | Q67: =IF(S67="","",IF(S67=0,0,COUNT(S67:AB67))) -> 1 | R67: PIMENTEL | S67: 7
B68: 7 | C68: M. SILVA | D68: 0 | M68: t | N68: FRANCISCO | O68: =IF(D68="","",IF(D68=0,0,COUNT(D68:M68))) -> 0 | P68: x | Q68: =IF(S68="","",IF(S68=0,0,COUNT(S68:AB68))) -> 3 | R68: DUGUET | S68: 30 | T68: 10 | U68: 30
B69: 8 | C69: FARNEZE | D69: 28 | N69: ZÉ RICARDO | O69: =IF(D69="","",IF(D69=0,0,COUNT(D69:M69))) -> 1 | P69: x | Q69: =IF(S69="","",IF(S69=0,0,COUNT(S69:AB69))) -> 1 | R69: ANDRÉ | S69: 10
B70: 9 | C70: THIAGO | D70: 6 | N70: LUIZ GOMES | O70: =IF(D70="","",IF(D70=0,0,COUNT(D70:M70))) -> 1 | P70: x | Q70: =IF(S70="","",IF(S70=0,0,COUNT(S70:AB70))) -> 4 | R70: ELINTO | S70: 5 | T70: 99 | U70: 8 | V70: 5
B71: 10 | C71: M. VASQUES | D71: 3 | E71: 6 | N71: ROBERTO | O71: =IF(D71="","",IF(D71=0,0,COUNT(D71:M71))) -> 2 | P71: x | Q71: =IF(S71="","",IF(S71=0,0,COUNT(S71:AB71))) -> 2 | R71: ALBERTO | S71: 10 | T71: 7
B72: 11 | C72: C. HENRIQUE | D72: 9 | M72: t | N72: M. FERREIRA | O72: =IF(D72="","",IF(D72=0,0,COUNT(D72:M72))) -> 1 | P72: x | Q72: =IF(S72="","",IF(S72=0,0,COUNT(S72:AB72))) -> 0 | R72: MARQUINHO | S72: 0
B73: 12 | C73: JULIANO | D73: 9 | E73: 9 | N73: MARCUS | O73: =IF(D73="","",IF(D73=0,0,COUNT(D73:M73))) -> 2 | P73: x | Q73: =IF(S73="","",IF(S73=0,0,COUNT(S73:AB73))) -> 1 | R73: JEAN | S73: 10
A74: 0.66666667 | B74: 1 | C74: MARQUINHO | D74: 10 | N74: MAGNO | O74: =IF(D74="","",IF(D74=0,0,COUNT(D74:M74))) -> 1 | P74: x | Q74: =IF(S74="","",IF(S74=0,0,COUNT(S74:AB74))) -> 3 | R74: M. SILVA | S74: 23 | T74: 9 | U74: 8
B75: 2 | C75: ALBERTO | D75: 6 | N75: FARNEZE | O75: =IF(D75="","",IF(D75=0,0,COUNT(D75:M75))) -> 1 | P75: x | Q75: =IF(S75="","",IF(S75=0,0,COUNT(S75:AB75))) -> 0 | R75: M. VASQUES | S75: 0 | AB75: t
B76: 3 | C76: MARCUS | D76: 2 | L76: t | M76: t | N76: C. HENRIQUE | O76: =IF(D76="","",IF(D76=0,0,COUNT(D76:M76))) -> 1 | P76: x | Q76: =IF(S76="","",IF(S76=0,0,COUNT(S76:AB76))) -> 2 | R76: JULIANO | S76: 7 | T76: 2 | AB76: t
B77: 4 | C77: JEAN | D77: 10 | E77: 11 | N77: ALAN | O77: =IF(D77="","",IF(D77=0,0,COUNT(D77:M77))) -> 2 | P77: x | Q77: =IF(S77="","",IF(S77=0,0,COUNT(S77:AB77))) -> 1 | R77: PAULO CÉSAR | S77: 2
B78: 5 | C78: ROBERTO | D78: 8 | E78: 10 | F78: 9 | N78: WENDEL | O78: =IF(D78="","",IF(D78=0,0,COUNT(D78:M78))) -> 3 | P78: x | Q78: =IF(S78="","",IF(S78=0,0,COUNT(S78:AB78))) -> 1 | R78: JUNIOR | S78: 7
B79: 6 | C79: M. FERREIRA | D79: 16 | M79: t | N79: ALCIDES | O79: =IF(D79="","",IF(D79=0,0,COUNT(D79:M79))) -> 1 | P79: x | Q79: =IF(S79="","",IF(S79=0,0,COUNT(S79:AB79))) -> 1 | R79: TARCÍZIO | S79: 2
B80: 7 | C80: DUGUET | D80: 11 | E80: 4 | N80: CARUSO | O80: =IF(D80="","",IF(D80=0,0,COUNT(D80:M80))) -> 2 | P80: x | Q80: =IF(S80="","",IF(S80=0,0,COUNT(S80:AB80))) -> 0 | R80: M. PORTO | S80: 0
B81: 8 | C81: FRANCISCO | D81: 19 | E81: 9 | F81: 2 | G81: 9 | N81: ADOLPHO | O81: =IF(D81="","",IF(D81=0,0,COUNT(D81:M81))) -> 4 | P81: x | Q81: =IF(S81="","",IF(S81=0,0,COUNT(S81:AB81))) -> 0 | R81: RAFAEL PENA | S81: 0
B82: 9 | C82: LUIZ GOMES | D82: 0 | N82: THIAGO | O82: =IF(D82="","",IF(D82=0,0,COUNT(D82:M82))) -> 0 | P82: x | Q82: =IF(S82="","",IF(S82=0,0,COUNT(S82:AB82))) -> 1 | R82: PAULÃO | S82: 13
B83: 10 | C83: ZÉ RICARDO | D83: 2 | E83: 10 | N83: LORIVAL | O83: =IF(D83="","",IF(D83=0,0,COUNT(D83:M83))) -> 2 | P83: x | Q83: =IF(S83="","",IF(S83=0,0,COUNT(S83:AB83))) -> 0 | R83: LUIZ CLÁUDIO | S83: 0
B84: 11 | C84: ELINTO | D84: 0 | N84: TONINHO | O84: =IF(D84="","",IF(D84=0,0,COUNT(D84:M84))) -> 0 | P84: x | Q84: =IF(S84="","",IF(S84=0,0,COUNT(S84:AB84))) -> 1 | R84: PIMENTEL | S84: 7
B85: 12 | C85: ANDRÉ | D85: 11 | E85: 4 | N85: BETO | O85: =IF(D85="","",IF(D85=0,0,COUNT(D85:M85))) -> 2 | P85: x | Q85: =IF(S85="","",IF(S85=0,0,COUNT(S85:AB85))) -> 0 | R85: MOTTA | S85: 0
A86: 0.70833333 | B86: 1 | C86: ORNELAS | D86: 10 | N86: ANDRÉ | O86: =IF(D86="","",IF(D86=0,0,COUNT(D86:M86))) -> 1 | P86: x | Q86: =IF(S86="","",IF(S86=0,0,COUNT(S86:AB86))) -> 1 | R86: DUGUET | S86: 30 | AB86: t
B87: 2 | C87: RAFAEL PENA | D87: 4 | E87: 8 | N87: FRANCISCO | O87: =IF(D87="","",IF(D87=0,0,COUNT(D87:M87))) -> 2 | P87: x | Q87: =IF(S87="","",IF(S87=0,0,COUNT(S87:AB87))) -> 2 | R87: LUIZ GOMES | S87: 11 | T87: 9
B88: 3 | C88: THIAGO | D88: 2 | E88: 8 | N88: ELINTO | O88: =IF(D88="","",IF(D88=0,0,COUNT(D88:M88))) -> 2 | P88: x | Q88: =IF(S88="","",IF(S88=0,0,COUNT(S88:AB88))) -> 1 | R88: ZÉ RICARDO | S88: 29
B89: 4 | C89: M. PORTO | D89: 33 | E89: 33 | F89: 7 | G89: 33 | H89: 7 | I89: 33 | N89: JEAN | O89: =IF(D89="","",IF(D89=0,0,COUNT(D89:M89))) -> 6 | P89: x | Q89: =IF(S89="","",IF(S89=0,0,COUNT(S89:AB89))) -> 0 | R89: ROBERTO | S89: 0
B90: 5 | C90: CARUSO | D90: 0 | N90: MARQUINHO | O90: =IF(D90="","",IF(D90=0,0,COUNT(D90:M90))) -> 0 | P90: x | Q90: =IF(S90="","",IF(S90=0,0,COUNT(S90:AB90))) -> 2 | R90: MARCUS | S90: 6 | T90: 5
B91: 6 | C91: PAULÃO | D91: 10 | N91: ALBERTO | O91: =IF(D91="","",IF(D91=0,0,COUNT(D91:M91))) -> 1 | P91: x | Q91: =IF(S91="","",IF(S91=0,0,COUNT(S91:AB91))) -> 1 | R91: M. FERREIRA | S91: 7
B92: 7 | C92: ADOLPHO | D92: 0 | N92: M. SILVA | O92: =IF(D92="","",IF(D92=0,0,COUNT(D92:M92))) -> 0 | P92: x | Q92: =IF(S92="","",IF(S92=0,0,COUNT(S92:AB92))) -> 1 | R92: C. HENRIQUE | S92: 5
B93: 8 | C93: LORIVAL | D93: 22 | E93: 14 | N93: JULIANO | O93: =IF(D93="","",IF(D93=0,0,COUNT(D93:M93))) -> 2 | P93: x | Q93: =IF(S93="","",IF(S93=0,0,COUNT(S93:AB93))) -> 0 | R93: FARNEZE | S93: 0
B94: 9 | O94: =IF(D94="","",IF(D94=0,0,COUNT(D94:M94))) | P94: x | Q94: =IF(S94="","",IF(S94=0,0,COUNT(S94:AB94)))
B95: 10 | C95: LUIZ CLÁUDIO | D95: 7 | N95: ALCIDES | O95: =IF(D95="","",IF(D95=0,0,COUNT(D95:M95))) -> 1 | P95: x | Q95: =IF(S95="","",IF(S95=0,0,COUNT(S95:AB95))) -> 1 | R95: WENDEL | S95: 9
B96: 11 | C96: PIMENTEL | D96: 7 | E96: 10 | N96: TARCÍZIO | O96: =IF(D96="","",IF(D96=0,0,COUNT(D96:M96))) -> 2 | P96: x | Q96: =IF(S96="","",IF(S96=0,0,COUNT(S96:AB96))) -> 1 | R96: ALAN | S96: 10
B97: 12 | C97: BETO | D97: 0 | N97: PAULO CÉSAR | O97: =IF(D97="","",IF(D97=0,0,COUNT(D97:M97))) -> 0 | P97: x | Q97: =IF(S97="","",IF(S97=0,0,COUNT(S97:AB97))) -> 1 | R97: JUNIOR | S97: 6
A98: 0.75 | B98: 1 | C98: FARNEZE | D98: 11 | E98: 20 | N98: RAFAEL PENA | O98: =IF(D98="","",IF(D98=0,0,COUNT(D98:M98))) -> 2 | P98: x | Q98: =IF(S98="","",IF(S98=0,0,COUNT(S98:AB98))) -> 1 | R98: THIAGO | S98: 11
B99: 2 | C99: ALAN | D99: 0 | N99: M. PORTO | O99: =IF(D99="","",IF(D99=0,0,COUNT(D99:M99))) -> 0 | P99: x | Q99: =IF(S99="","",IF(S99=0,0,COUNT(S99:AB99))) -> 0 | R99: ADOLPHO | S99: 0
B100: 3 | C100: M. SILVA | D100: 20 | N100: ORNELAS | O100: =IF(D100="","",IF(D100=0,0,COUNT(D100:M100))) -> 1 | P100: x | Q100: =IF(S100="","",IF(S100=0,0,COUNT(S100:AB100))) -> 2 | R100: CARUSO | S100: 7 | T100: 11
B101: 4 | C101: JUNIOR | D101: 18 | N101: BETO | O101: =IF(D101="","",IF(D101=0,0,COUNT(D101:M101))) -> 1 | P101: x | Q101: =IF(S101="","",IF(S101=0,0,COUNT(S101:AB101))) -> 3 | R101: LORIVAL | S101: 8 | T101: 2 | U101: 8
B102: 5 | C102: ALCIDES | D102: 7 | N102: ELINTO | O102: =IF(D102="","",IF(D102=0,0,COUNT(D102:M102))) -> 1 | P102: x | Q102: =IF(S102="","",IF(S102=0,0,COUNT(S102:AB102))) -> 2 | R102: DUGUET | S102: 10 | T102: 4 | AB102: t
...

Sheet Classif da Prim Fase
A1: Federação de Futebol de Mesa do DF - 3 Toques
A2: ='Tab Primeira Fase'!A2:AB2 -> VI Copa Centro-Oeste Individual 2020
A3: CLASSIFICAÇÃO FINAL DA PRIMEIRA FASE
A5: GRUPO | B5: CF | C5: TÉCNICOS | D5: J | E5: V | F5: E | G5: D | H5: GF | I5: GC | J5: SG | K5: PG | L5: Aprov.
A7: A | B7: 1º | C7: =INDIRECT(Auxiliar!W2) -> ADOLPHO | D7: =E7+F7+G7 -> 6 | E7: =INDIRECT(Auxiliar!X2) -> 4 | F7: =INDIRECT(Auxiliar!Y2) -> 2 | G7: =INDIRECT(Auxiliar!Z2) -> 0 | H7: =INDIRECT(Auxiliar!AA2) -> 13 | I7: =INDIRECT(Auxiliar!AB2) -> 1 | J7: =H7-I7 -> 12 | K7: =(3*E7)+F7 -> 14 | L7: =IF(ISERR((K7/(D7*3))),0,((K7/(D7*3)))) -> 0.77777778
B8: 2º | C8: =INDIRECT(Auxiliar!W3) -> M. PORTO | D8: =E8+F8+G8 -> 6 | E8: =INDIRECT(Auxiliar!X3) -> 3 | F8: =INDIRECT(Auxiliar!Y3) -> 2 | G8: =INDIRECT(Auxiliar!Z3) -> 1 | H8: =INDIRECT(Auxiliar!AA3) -> 11 | I8: =INDIRECT(Auxiliar!AB3) -> 5 | J8: =H8-I8 -> 6 | K8: =(3*E8)+F8 -> 11 | L8: =IF(ISERR((K8/(D8*3))),0,((K8/(D8*3)))) -> 0.61111111
B9: 3º | C9: =INDIRECT(Auxiliar!W4) -> CARUSO | D9: =E9+F9+G9 -> 6 | E9: =INDIRECT(Auxiliar!X4) -> 3 | F9: =INDIRECT(Auxiliar!Y4) -> 1 | G9: =INDIRECT(Auxiliar!Z4) -> 2 | H9: =INDIRECT(Auxiliar!AA4) -> 10 | I9: =INDIRECT(Auxiliar!AB4) -> 7 | J9: =H9-I9 -> 3 | K9: =(3*E9)+F9 -> 10 | L9: =IF(ISERR((K9/(D9*3))),0,((K9/(D9*3)))) -> 0.55555556
B10: 4º | C10: =INDIRECT(Auxiliar!W5) -> RAFAEL PENA | D10: =E10+F10+G10 -> 6 | E10: =INDIRECT(Auxiliar!X5) -> 2 | F10: =INDIRECT(Auxiliar!Y5) -> 2 | G10: =INDIRECT(Auxiliar!Z5) -> 2 | H10: =INDIRECT(Auxiliar!AA5) -> 6 | I10: =INDIRECT(Auxiliar!AB5) -> 10 | J10: =H10-I10 -> -4 | K10: =(3*E10)+F10 -> 8 | L10: =IF(ISERR((K10/(D10*3))),0,((K10/(D10*3)))) -> 0.44444444
B11: 5º | C11: =INDIRECT(Auxiliar!W6) -> THIAGO | D11: =E11+F11+G11 -> 6 | E11: =INDIRECT(Auxiliar!X6) -> 2 | F11: =INDIRECT(Auxiliar!Y6) -> 1 | G11: =INDIRECT(Auxiliar!Z6) -> 3 | H11: =INDIRECT(Auxiliar!AA6) -> 6 | I11: =INDIRECT(Auxiliar!AB6) -> 8 | J11: =H11-I11 -> -2 | K11: =(3*E11)+F11 -> 7 | L11: =IF(ISERR((K11/(D11*3))),0,((K11/(D11*3)))) -> 0.38888889
B12: 6º | C12: =INDIRECT(Auxiliar!W7) -> PAULÃO | D12: =E12+F12+G12 -> 6 | E12: =INDIRECT(Auxiliar!X7) -> 1 | F12: =INDIRECT(Auxiliar!Y7) -> 1 | G12: =INDIRECT(Auxiliar!Z7) -> 4 | H12: =INDIRECT(Auxiliar!AA7) -> 3 | I12: =INDIRECT(Auxiliar!AB7) -> 10 | J12: =H12-I12 -> -7 | K12: =(3*E12)+F12 -> 4 | L12: =IF(ISERR((K12/(D12*3))),0,((K12/(D12*3)))) -> 0.22222222
B13: 7º | C13: =INDIRECT(Auxiliar!W8) -> ORNELAS | D13: =E13+F13+G13 -> 6 | E13: =INDIRECT(Auxiliar!X8) -> 1 | F13: =INDIRECT(Auxiliar!Y8) -> 1 | G13: =INDIRECT(Auxiliar!Z8) -> 4 | H13: =INDIRECT(Auxiliar!AA8) -> 4 | I13: =INDIRECT(Auxiliar!AB8) -> 12 | J13: =H13-I13 -> -8 | K13: =(3*E13)+F13 -> 4 | L13: =IF(ISERR((K13/(D13*3))),0,((K13/(D13*3)))) -> 0.22222222
A15: GRUPO | B15: CF | C15: TÉCNICOS | D15: J | E15: V | F15: E | G15: D | H15: GF | I15: GC | J15: SG | K15: PG | L15: Aprov.
A17: B | B17: 1º | C17: =INDIRECT(Auxiliar!W10) -> LORIVAL | D17: =E17+F17+G17 -> 5 | E17: =INDIRECT(Auxiliar!X10) -> 5 | F17: =INDIRECT(Auxiliar!Y10) -> 0 | G17: =INDIRECT(Auxiliar!Z10) -> 0 | H17: =INDIRECT(Auxiliar!AA10) -> 12 | I17: =INDIRECT(Auxiliar!AB10) -> 3 | J17: =H17-I17 -> 9 | K17: =(3*E17)+F17 -> 15 | L17: =IF(ISERR((K17/(D17*3))),0,((K17/(D17*3)))) -> 1
B18: 2º | C18: =INDIRECT(Auxiliar!W11) -> LUIZ CLÁUDIO | D18: =E18+F18+G18 -> 5 | E18: =INDIRECT(Auxiliar!X11) -> 3 | F18: =INDIRECT(Auxiliar!Y11) -> 1 | G18: =INDIRECT(Auxiliar!Z11) -> 1 | H18: =INDIRECT(Auxiliar!AA11) -> 6 | I18: =INDIRECT(Auxiliar!AB11) -> 4 | J18: =H18-I18 -> 2 | K18: =(3*E18)+F18 -> 10 | L18: =IF(ISERR((K18/(D18*3))),0,((K18/(D18*3)))) -> 0.66666667
B19: 3º | C19: =INDIRECT(Auxiliar!W12) -> BETO | D19: =E19+F19+G19 -> 5 | E19: =INDIRECT(Auxiliar!X12) -> 3 | F19: =INDIRECT(Auxiliar!Y12) -> 0 | G19: =INDIRECT(Auxiliar!Z12) -> 2 | H19: =INDIRECT(Auxiliar!AA12) -> 8 | I19: =INDIRECT(Auxiliar!AB12) -> 6 | J19: =H19-I19 -> 2 | K19: =(3*E19)+F19 -> 9 | L19: =IF(ISERR((K19/(D19*3))),0,((K19/(D19*3)))) -> 0.6
B20: 4º | C20: =INDIRECT(Auxiliar!W13) -> TONINHO | D20: =E20+F20+G20 -> 5 | E20: =INDIRECT(Auxiliar!X13) -> 1 | F20: =INDIRECT(Auxiliar!Y13) -> 1 | G20: =INDIRECT(Auxiliar!Z13) -> 3 | H20: =INDIRECT(Auxiliar!AA13) -> 6 | I20: =INDIRECT(Auxiliar!AB13) -> 7 | J20: =H20-I20 -> -1 | K20: =(3*E20)+F20 -> 4 | L20: =IF(ISERR((K20/(D20*3))),0,((K20/(D20*3)))) -> 0.26666667
B21: 5º | C21: =INDIRECT(Auxiliar!W14) -> PIMENTEL | D21: =E21+F21+G21 -> 5 | E21: =INDIRECT(Auxiliar!X14) -> 1 | F21: =INDIRECT(Auxiliar!Y14) -> 0 | G21: =INDIRECT(Auxiliar!Z14) -> 4 | H21: =INDIRECT(Auxiliar!AA14) -> 4 | I21: =INDIRECT(Auxiliar!AB14) -> 9 | J21: =H21-I21 -> -5 | K21: =(3*E21)+F21 -> 3 | L21: =IF(ISERR((K21/(D21*3))),0,((K21/(D21*3)))) -> 0.2
B22: 6º | C22: =INDIRECT(Auxiliar!W15) -> MOTTA | D22: =E22+F22+G22 -> 5 | E22: =INDIRECT(Auxiliar!X15) -> 1 | F22: =INDIRECT(Auxiliar!Y15) -> 0 | G22: =INDIRECT(Auxiliar!Z15) -> 4 | H22: =INDIRECT(Auxiliar!AA15) -> 3 | I22: =INDIRECT(Auxiliar!AB15) -> 10 | J22: =H22-I22 -> -7 | K22: =(3*E22)+F22 -> 3 | L22: =IF(ISERR((K22/(D22*3))),0,((K22/(D22*3)))) -> 0.2
A24: GRUPO | B24: CF | C24: TÉCNICOS | D24: J | E24: V | F24: E | G24: D | H24: GF | I24: GC | J24: SG | K24: PG | L24: Aprov.
A26: C | B26: 1º | C26: =INDIRECT(Auxiliar!W17) -> ELINTO | D26: =E26+F26+G26 -> 5 | E26: =INDIRECT(Auxiliar!X17) -> 4 | F26: =INDIRECT(Auxiliar!Y17) -> 0 | G26: =INDIRECT(Auxiliar!Z17) -> 1 | H26: =INDIRECT(Auxiliar!AA17) -> 13 | I26: =INDIRECT(Auxiliar!AB17) -> 5 | J26: =H26-I26 -> 8 | K26: =(3*E26)+F26 -> 12 | L26: =IF(ISERR((K26/(D26*3))),0,((K26/(D26*3)))) -> 0.8
B27: 2º | C27: =INDIRECT(Auxiliar!W18) -> DUGUET | D27: =E27+F27+G27 -> 5 | E27: =INDIRECT(Auxiliar!X18) -> 3 | F27: =INDIRECT(Auxiliar!Y18) -> 2 | G27: =INDIRECT(Auxiliar!Z18) -> 0 | H27: =INDIRECT(Auxiliar!AA18) -> 10 | I27: =INDIRECT(Auxiliar!AB18) -> 4 | J27: =H27-I27 -> 6 | K27: =(3*E27)+F27 -> 11 | L27: =IF(ISERR((K27/(D27*3))),0,((K27/(D27*3)))) -> 0.73333333
B28: 3º | C28: =INDIRECT(Auxiliar!W19) -> ANDRÉ | D28: =E28+F28+G28 -> 5 | E28: =INDIRECT(Auxiliar!X19) -> 2 | F28: =INDIRECT(Auxiliar!Y19) -> 2 | G28: =INDIRECT(Auxiliar!Z19) -> 1 | H28: =INDIRECT(Auxiliar!AA19) -> 12 | I28: =INDIRECT(Auxiliar!AB19) -> 5 | J28: =H28-I28 -> 7 | K28: =(3*E28)+F28 -> 8 | L28: =IF(ISERR((K28/(D28*3))),0,((K28/(D28*3)))) -> 0.53333333
B29: 4º | C29: =INDIRECT(Auxiliar!W20) -> ZÉ RICARDO | D29: =E29+F29+G29 -> 5 | E29: =INDIRECT(Auxiliar!X20) -> 2 | F29: =INDIRECT(Auxiliar!Y20) -> 2 | G29: =INDIRECT(Auxiliar!Z20) -> 1 | H29: =INDIRECT(Auxiliar!AA20) -> 8 | I29: =INDIRECT(Auxiliar!AB20) -> 4 | J29: =H29-I29 -> 4 | K29: =(3*E29)+F29 -> 8 | L29: =IF(ISERR((K29/(D29*3))),0,((K29/(D29*3)))) -> 0.53333333
B30: 5º | C30: =INDIRECT(Auxiliar!W21) -> LUIZ GOMES | D30: =E30+F30+G30 -> 5 | E30: =INDIRECT(Auxiliar!X21) -> 0 | F30: =INDIRECT(Auxiliar!Y21) -> 1 | G30: =INDIRECT(Auxiliar!Z21) -> 4 | H30: =INDIRECT(Auxiliar!AA21) -> 4 | I30: =INDIRECT(Auxiliar!AB21) -> 15 | J30: =H30-I30 -> -11 | K30: =(3*E30)+F30 -> 1 | L30: =IF(ISERR((K30/(D30*3))),0,((K30/(D30*3)))) -> 0.066666667
B31: 6º | C31: =INDIRECT(Auxiliar!W22) -> FRANCISCO | D31: =E31+F31+G31 -> 5 | E31: =INDIRECT(Auxiliar!X22) -> 0 | F31: =INDIRECT(Auxiliar!Y22) -> 1 | G31: =INDIRECT(Auxiliar!Z22) -> 4 | H31: =INDIRECT(Auxiliar!AA22) -> 2 | I31: =INDIRECT(Auxiliar!AB22) -> 16 | J31: =H31-I31 -> -14 | K31: =(3*E31)+F31 -> 1 | L31: =IF(ISERR((K31/(D31*3))),0,((K31/(D31*3)))) -> 0.066666667
A33: GRUPO | B33: CF | C33: TÉCNICOS | D33: J | E33: V | F33: E | G33: D | H33: GF | I33: GC | J33: SG | K33: PG | L33: Aprov.
A35: D | B35: 1º | C35: =INDIRECT(Auxiliar!W24) -> MARCUS | D35: =E35+F35+G35 -> 5 | E35: =INDIRECT(Auxiliar!X24) -> 5 | F35: =INDIRECT(Auxiliar!Y24) -> 0 | G35: =INDIRECT(Auxiliar!Z24) -> 0 | H35: =INDIRECT(Auxiliar!AA24) -> 15 | I35: =INDIRECT(Auxiliar!AB24) -> 3 | J35: =H35-I35 -> 12 | K35: =(3*E35)+F35 -> 15 | L35: =IF(ISERR((K35/(D35*3))),0,((K35/(D35*3)))) -> 1
B36: 2º | C36: =INDIRECT(Auxiliar!W25) -> M. FERREIRA | D36: =E36+F36+G36 -> 5 | E36: =INDIRECT(Auxiliar!X25) -> 3 | F36: =INDIRECT(Auxiliar!Y25) -> 1 | G36: =INDIRECT(Auxiliar!Z25) -> 1 | H36: =INDIRECT(Auxiliar!AA25) -> 11 | I36: =INDIRECT(Auxiliar!AB25) -> 5 | J36: =H36-I36 -> 6 | K36: =(3*E36)+F36 -> 10 | L36: =IF(ISERR((K36/(D36*3))),0,((K36/(D36*3)))) -> 0.66666667
B37: 3º | C37: =INDIRECT(Auxiliar!W26) -> MARQUINHO | D37: =E37+F37+G37 -> 5 | E37: =INDIRECT(Auxiliar!X26) -> 2 | F37: =INDIRECT(Auxiliar!Y26) -> 1 | G37: =INDIRECT(Auxiliar!Z26) -> 2 | H37: =INDIRECT(Auxiliar!AA26) -> 7 | I37: =INDIRECT(Auxiliar!AB26) -> 6 | J37: =H37-I37 -> 1 | K37: =(3*E37)+F37 -> 7 | L37: =IF(ISERR((K37/(D37*3))),0,((K37/(D37*3)))) -> 0.46666667
B38: 4º | C38: =INDIRECT(Auxiliar!W27) -> ALBERTO | D38: =E38+F38+G38 -> 5 | E38: =INDIRECT(Auxiliar!X27) -> 1 | F38: =INDIRECT(Auxiliar!Y27) -> 2 | G38: =INDIRECT(Auxiliar!Z27) -> 2 | H38: =INDIRECT(Auxiliar!AA27) -> 7 | I38: =INDIRECT(Auxiliar!AB27) -> 9 | J38: =H38-I38 -> -2 | K38: =(3*E38)+F38 -> 5 | L38: =IF(ISERR((K38/(D38*3))),0,((K38/(D38*3)))) -> 0.33333333
B39: 5º | C39: =INDIRECT(Auxiliar!W28) -> JEAN | D39: =E39+F39+G39 -> 5 | E39: =INDIRECT(Auxiliar!X28) -> 1 | F39: =INDIRECT(Auxiliar!Y28) -> 1 | G39: =INDIRECT(Auxiliar!Z28) -> 3 | H39: =INDIRECT(Auxiliar!AA28) -> 9 | I39: =INDIRECT(Auxiliar!AB28) -> 9 | J39: =H39-I39 -> 0 | K39: =(3*E39)+F39 -> 4 | L39: =IF(ISERR((K39/(D39*3))),0,((K39/(D39*3)))) -> 0.26666667
B40: 6º | C40: =INDIRECT(Auxiliar!W29) -> ROBERTO | D40: =E40+F40+G40 -> 5 | E40: =INDIRECT(Auxiliar!X29) -> 0 | F40: =INDIRECT(Auxiliar!Y29) -> 1 | G40: =INDIRECT(Auxiliar!Z29) -> 4 | H40: =INDIRECT(Auxiliar!AA29) -> 3 | I40: =INDIRECT(Auxiliar!AB29) -> 20 | J40: =H40-I40 -> -17 | K40: =(3*E40)+F40 -> 1 | L40: =IF(ISERR((K40/(D40*3))),0,((K40/(D40*3)))) -> 0.066666667
A42: GRUPO | B42: CF | C42: TÉCNICOS | D42: J | E42: V | F42: E | G42: D | H42: GF | I42: GC | J42: SG | K42: PG | L42: Aprov.
A44: E | B44: 1º | C44: =INDIRECT(Auxiliar!W31) -> JULIANO | D44: =E44+F44+G44 -> 5 | E44: =INDIRECT(Auxiliar!X31) -> 5 | F44: =INDIRECT(Auxiliar!Y31) -> 0 | G44: =INDIRECT(Auxiliar!Z31) -> 0 | H44: =INDIRECT(Auxiliar!AA31) -> 14 | I44: =INDIRECT(Auxiliar!AB31) -> 4 | J44: =H44-I44 -> 10 | K44: =(3*E44)+F44 -> 15 | L44: =IF(ISERR((K44/(D44*3))),0,((K44/(D44*3)))) -> 1
B45: 2º | C45: =INDIRECT(Auxiliar!W32) -> C. HENRIQUE | D45: =E45+F45+G45 -> 5 | E45: =INDIRECT(Auxiliar!X32) -> 4 | F45: =INDIRECT(Auxiliar!Y32) -> 0 | G45: =INDIRECT(Auxiliar!Z32) -> 1 | H45: =INDIRECT(Auxiliar!AA32) -> 8 | I45: =INDIRECT(Auxiliar!AB32) -> 3 | J45: =H45-I45 -> 5 | K45: =(3*E45)+F45 -> 12 | L45: =IF(ISERR((K45/(D45*3))),0,((K45/(D45*3)))) -> 0.8
B46: 3º | C46: =INDIRECT(Auxiliar!W33) -> M. SILVA | D46: =E46+F46+G46 -> 5 | E46: =INDIRECT(Auxiliar!X33) -> 2 | F46: =INDIRECT(Auxiliar!Y33) -> 1 | G46: =INDIRECT(Auxiliar!Z33) -> 2 | H46: =INDIRECT(Auxiliar!AA33) -> 6 | I46: =INDIRECT(Auxiliar!AB33) -> 6 | J46: =H46-I46 -> 0 | K46: =(3*E46)+F46 -> 7 | L46: =IF(ISERR((K46/(D46*3))),0,((K46/(D46*3)))) -> 0.46666667
B47: 4º | C47: =INDIRECT(Auxiliar!W34) -> MAGNO | D47: =E47+F47+G47 -> 5 | E47: =INDIRECT(Auxiliar!X34) -> 2 | F47: =INDIRECT(Auxiliar!Y34) -> 0 | G47: =INDIRECT(Auxiliar!Z34) -> 3 | H47: =INDIRECT(Auxiliar!AA34) -> 10 | I47: =INDIRECT(Auxiliar!AB34) -> 10 | J47: =H47-I47 -> 0 | K47: =(3*E47)+F47 -> 6 | L47: =IF(ISERR((K47/(D47*3))),0,((K47/(D47*3)))) -> 0.4
B48: 5º | C48: =INDIRECT(Auxiliar!W35) -> FARNEZE | D48: =E48+F48+G48 -> 5 | E48: =INDIRECT(Auxiliar!X35) -> 1 | F48: =INDIRECT(Auxiliar!Y35) -> 0 | G48: =INDIRECT(Auxiliar!Z35) -> 4 | H48: =INDIRECT(Auxiliar!AA35) -> 3 | I48: =INDIRECT(Auxiliar!AB35) -> 10 | J48: =H48-I48 -> -7 | K48: =(3*E48)+F48 -> 3 | L48: =IF(ISERR((K48/(D48*3))),0,((K48/(D48*3)))) -> 0.2
B49: 6º | C49: =INDIRECT(Auxiliar!W36) -> M. VASQUES | D49: =E49+F49+G49 -> 5 | E49: =INDIRECT(Auxiliar!X36) -> 0 | F49: =INDIRECT(Auxiliar!Y36) -> 1 | G49: =INDIRECT(Auxiliar!Z36) -> 4 | H49: =INDIRECT(Auxiliar!AA36) -> 2 | I49: =INDIRECT(Auxiliar!AB36) -> 10 | J49: =H49-I49 -> -8 | K49: =(3*E49)+F49 -> 1 | L49: =IF(ISERR((K49/(D49*3))),0,((K49/(D49*3)))) -> 0.066666667
A51: GRUPO | B51: CF | C51: TÉCNICOS | D51: J | E51: V | F51: E | G51: D | H51: GF | I51: GC | J51: SG | K51: PG | L51: Aprov.
A53: F | B53: 1º | C53: =INDIRECT(Auxiliar!W38) -> WENDEL | D53: =E53+F53+G53 -> 5 | E53: =INDIRECT(Auxiliar!X38) -> 3 | F53: =INDIRECT(Auxiliar!Y38) -> 2 | G53: =INDIRECT(Auxiliar!Z38) -> 0 | H53: =INDIRECT(Auxiliar!AA38) -> 6 | I53: =INDIRECT(Auxiliar!AB38) -> 2 | J53: =H53-I53 -> 4 | K53: =(3*E53)+F53 -> 11 | L53: =IF(ISERR((K53/(D53*3))),0,((K53/(D53*3)))) -> 0.73333333
B54: 2º | C54: =INDIRECT(Auxiliar!W39) -> TARCÍZIO | D54: =E54+F54+G54 -> 5 | E54: =INDIRECT(Auxiliar!X39) -> 3 | F54: =INDIRECT(Auxiliar!Y39) -> 1 | G54: =INDIRECT(Auxiliar!Z39) -> 1 | H54: =INDIRECT(Auxiliar!AA39) -> 9 | I54: =INDIRECT(Auxiliar!AB39) -> 3 | J54: =H54-I54 -> 6 | K54: =(3*E54)+F54 -> 10 | L54: =IF(ISERR((K54/(D54*3))),0,((K54/(D54*3)))) -> 0.66666667
B55: 3º | C55: =INDIRECT(Auxiliar!W40) -> ALAN | D55: =E55+F55+G55 -> 5 | E55: =INDIRECT(Auxiliar!X40) -> 2 | F55: =INDIRECT(Auxiliar!Y40) -> 2 | G55: =INDIRECT(Auxiliar!Z40) -> 1 | H55: =INDIRECT(Auxiliar!AA40) -> 5 | I55: =INDIRECT(Auxiliar!AB40) -> 4 | J55: =H55-I55 -> 1 | K55: =(3*E55)+F55 -> 8 | L55: =IF(ISERR((K55/(D55*3))),0,((K55/(D55*3)))) -> 0.53333333
B56: 4º | C56: =INDIRECT(Auxiliar!W41) -> JUNIOR | D56: =E56+F56+G56 -> 5 | E56: =INDIRECT(Auxiliar!X41) -> 2 | F56: =INDIRECT(Auxiliar!Y41) -> 1 | G56: =INDIRECT(Auxiliar!Z41) -> 2 | H56: =INDIRECT(Auxiliar!AA41) -> 6 | I56: =INDIRECT(Auxiliar!AB41) -> 9 | J56: =H56-I56 -> -3 | K56: =(3*E56)+F56 -> 7 | L56: =IF(ISERR((K56/(D56*3))),0,((K56/(D56*3)))) -> 0.46666667
B57: 5º | C57: =INDIRECT(Auxiliar!W42) -> ALCIDES | D57: =E57+F57+G57 -> 5 | E57: =INDIRECT(Auxiliar!X42) -> 1 | F57: =INDIRECT(Auxiliar!Y42) -> 2 | G57: =INDIRECT(Auxiliar!Z42) -> 2 | H57: =INDIRECT(Auxiliar!AA42) -> 6 | I57: =INDIRECT(Auxiliar!AB42) -> 7 | J57: =H57-I57 -> -1 | K57: =(3*E57)+F57 -> 5 | L57: =IF(ISERR((K57/(D57*3))),0,((K57/(D57*3)))) -> 0.33333333
B58: 6º | C58: =INDIRECT(Auxiliar!W43) -> PAULO CÉSAR | D58: =E58+F58+G58 -> 5 | E58: =INDIRECT(Auxiliar!X43) -> 0 | F58: =INDIRECT(Auxiliar!Y43) -> 0 | G58: =INDIRECT(Auxiliar!Z43) -> 5 | H58: =INDIRECT(Auxiliar!AA43) -> 2 | I58: =INDIRECT(Auxiliar!AB43) -> 9 | J58: =H58-I58 -> -7 | K58: =(3*E58)+F58 -> 0 | L58: =IF(ISERR((K58/(D58*3))),0,((K58/(D58*3)))) -> 0

Sheet Auxiliar (2)
A1: ='Tab da Seg Fase'!N8 -> ADOLPHO | B1: =IF('Tab da Seg Fase'!O8<'Tab da Seg Fase'!Q8,0,IF('Tab da Seg Fase'!O8='Tab da Seg Fase'!Q8,1,IF('Tab da Seg Fase'!O8>'Tab da Seg Fase'!Q8,2))) -> 2 | C1: ='Tab da Seg Fase'!R8 -> ANDRÉ | D1: =IF('Tab da Seg Fase'!O8>'Tab da Seg Fase'!Q8,0,IF('Tab da Seg Fase'!O8='Tab da Seg Fase'!Q8,1,IF('Tab da Seg Fase'!O8<'Tab da Seg Fase'!Q8,2))) -> 0 | E1: =IF(ISNUMBER('Tab da Seg Fase'!O8),1,0) -> 1 | F1: =IF(B1*E1=2,1,0) -> 1 | G1: =IF(B1*E1=1,1,0) -> 0 | H1: =IF(B1=0,IF(E1=1,1,0),0) -> 0 | I1: =IF(E1*D1=2,1,0) -> 0 | J1: =IF(E1*D1=1,1,0) -> 0 | K1: =IF(D1=0,IF(E1=1,1,0),0) -> 1 | L1: CLUBES | M1: V | N1: E | O1: D | P1: GP | Q1: GC | W1: L | X1: M | Y1: N | Z1: O | AA1: P | AB1: Q
A2: ='Tab da Seg Fase'!N9 -> LORIVAL | B2: =IF('Tab da Seg Fase'!O9<'Tab da Seg Fase'!Q9,0,IF('Tab da Seg Fase'!O9='Tab da Seg Fase'!Q9,1,IF('Tab da Seg Fase'!O9>'Tab da Seg Fase'!Q9,2))) -> 1 | C2: ='Tab da Seg Fase'!R9 -> DUGUET | D2: =IF('Tab da Seg Fase'!O9>'Tab da Seg Fase'!Q9,0,IF('Tab da Seg Fase'!O9='Tab da Seg Fase'!Q9,1,IF('Tab da Seg Fase'!O9<'Tab da Seg Fase'!Q9,2))) -> 1 | E2: =IF(ISNUMBER('Tab da Seg Fase'!O9),1,0) -> 1 | F2: =IF(B2*E2=2,1,0) -> 0 | G2: =IF(B2*E2=1,1,0) -> 1 | H2: =IF(B2=0,IF(E2=1,1,0),0) -> 0 | I2: =IF(E2*D2=2,1,0) -> 0 | J2: =IF(E2*D2=1,1,0) -> 1 | K2: =IF(D2=0,IF(E2=1,1,0),0) -> 0 | L2: ='Classif da Prim Fase'!C7 -> ADOLPHO | M2: =SUMIF($A$1:$A$36,L2,$F$1:$F$36)+SUMIF($C$1:$C$36,L2,$I$1:$I$36) -> 2 | N2: =SUMIF($A$1:$A$36,L2,$G$1:$G$36)+SUMIF($C$1:$C$36,L2,$J$1:$J$36) -> 0 | O2: =SUMIF($A$1:$A$36,L2,$H$1:$H$36)+SUMIF($C$1:$C$36,L2,$K$1:$K$36) -> 0 | P2: =SUMIF('Tab da Seg Fase'!$N$8:$N$43,L2,'Tab da Seg Fase'!$O$8:$O$43)+SUMIF('Tab da Seg Fase'!$R$8:$R$43,L2,'Tab da Seg Fase'!$Q$8:$Q$43) -> 4 | Q2: =SUMIF('Tab da Seg Fase'!$N$8:$N$43,L2,'Tab da Seg Fase'!$Q$8:$Q$43)+SUMIF('Tab da Seg Fase'!$R$8:$R$43,L2,'Tab da Seg Fase'!$O$8:$O$43) -> 1 | R2: =(1000000*((3*M2)+N2))+(10000*M2)+(100*(P2-Q2))+P2+(0.001*(3-T2)) -> 6020304 | S2: =RANK(R2,$R$2:$R$4) -> 1 | T2: 1 | U2: =IF($S$2=T2,2,0)+IF($S$3=T2,3,0)+IF($S$4=T2,4,0) -> 2 | W2: =CONCATENATE("'Auxiliar (2)'!",W$1,$U2) -> 'Auxiliar (2)'!L2 | X2: =CONCATENATE("'Auxiliar (2)'!",X$1,$U2) -> 'Auxiliar (2)'!M2 | Y2: =CONCATENATE("'Auxiliar (2)'!",Y$1,$U2) -> 'Auxiliar (2)'!N2 | Z2: =CONCATENATE("'Auxiliar (2)'!",Z$1,$U2) -> 'Auxiliar (2)'!O2 | AA2: =CONCATENATE("'Auxiliar (2)'!",AA$1,$U2) -> 'Auxiliar (2)'!P2 | AB2: =CONCATENATE("'Auxiliar (2)'!",AB$1,$U2) -> 'Auxiliar (2)'!Q2 | AC2: G
A3: ='Tab da Seg Fase'!N10 -> M. FERREIRA | B3: =IF('Tab da Seg Fase'!O10<'Tab da Seg Fase'!Q10,0,IF('Tab da Seg Fase'!O10='Tab da Seg Fase'!Q10,1,IF('Tab da Seg Fase'!O10>'Tab da Seg Fase'!Q10,2))) -> 1 | C3: ='Tab da Seg Fase'!R10 -> M. SILVA | D3: =IF('Tab da Seg Fase'!O10>'Tab da Seg Fase'!Q10,0,IF('Tab da Seg Fase'!O10='Tab da Seg Fase'!Q10,1,IF('Tab da Seg Fase'!O10<'Tab da Seg Fase'!Q10,2))) -> 1 | E3: =IF(ISNUMBER('Tab da Seg Fase'!O10),1,0) -> 1 | F3: =IF(B3*E3=2,1,0) -> 0 | G3: =IF(B3*E3=1,1,0) -> 1 | H3: =IF(B3=0,IF(E3=1,1,0),0) -> 0 | I3: =IF(E3*D3=2,1,0) -> 0 | J3: =IF(E3*D3=1,1,0) -> 1 | K3: =IF(D3=0,IF(E3=1,1,0),0) -> 0 | L3: ='Classif da Prim Fase'!C18 -> LUIZ CLÁUDIO | M3: =SUMIF($A$1:$A$36,L3,$F$1:$F$36)+SUMIF($C$1:$C$36,L3,$I$1:$I$36) -> 0 | N3: =SUMIF($A$1:$A$36,L3,$G$1:$G$36)+SUMIF($C$1:$C$36,L3,$J$1:$J$36) -> 0 | O3: =SUMIF($A$1:$A$36,L3,$H$1:$H$36)+SUMIF($C$1:$C$36,L3,$K$1:$K$36) -> 2 | P3: =SUMIF('Tab da Seg Fase'!$N$8:$N$43,L3,'Tab da Seg Fase'!$O$8:$O$43)+SUMIF('Tab da Seg Fase'!$R$8:$R$43,L3,'Tab da Seg Fase'!$Q$8:$Q$43) -> 0 | Q3: =SUMIF('Tab da Seg Fase'!$N$8:$N$43,L3,'Tab da Seg Fase'!$Q$8:$Q$43)+SUMIF('Tab da Seg Fase'!$R$8:$R$43,L3,'Tab da Seg Fase'!$O$8:$O$43) -> 3 | R3: =(1000000*((3*M3)+N3))+(10000*M3)+(100*(P3-Q3))+P3+(0.001*(3-T3)) -> -299.999 | S3: =RANK(R3,$R$2:$R$4) -> 3 | T3: 2 | U3: =IF($S$2=T3,2,0)+IF($S$3=T3,3,0)+IF($S$4=T3,4,0) -> 4 | W3: =CONCATENATE("'Auxiliar (2)'!",W$1,$U3) -> 'Auxiliar (2)'!L4 | X3: =CONCATENATE("'Auxiliar (2)'!",X$1,$U3) -> 'Auxiliar (2)'!M4 | Y3: =CONCATENATE("'Auxiliar (2)'!",Y$1,$U3) -> 'Auxiliar (2)'!N4 | Z3: =CONCATENATE("'Auxiliar (2)'!",Z$1,$U3) -> 'Auxiliar (2)'!O4 | AA3: =CONCATENATE("'Auxiliar (2)'!",AA$1,$U3) -> 'Auxiliar (2)'!P4 | AB3: =CONCATENATE("'Auxiliar (2)'!",AB$1,$U3) -> 'Auxiliar (2)'!Q4
A4: ='Tab da Seg Fase'!N11 -> MARCUS | B4: =IF('Tab da Seg Fase'!O11<'Tab da Seg Fase'!Q11,0,IF('Tab da Seg Fase'!O11='Tab da Seg Fase'!Q11,1,IF('Tab da Seg Fase'!O11>'Tab da Seg Fase'!Q11,2))) -> 2 | C4: ='Tab da Seg Fase'!R11 -> ALAN | D4: =IF('Tab da Seg Fase'!O11>'Tab da Seg Fase'!Q11,0,IF('Tab da Seg Fase'!O11='Tab da Seg Fase'!Q11,1,IF('Tab da Seg Fase'!O11<'Tab da Seg Fase'!Q11,2))) -> 0 | E4: =IF(ISNUMBER('Tab da Seg Fase'!O11),1,0) -> 1 | F4: =IF(B4*E4=2,1,0) -> 1 | G4: =IF(B4*E4=1,1,0) -> 0 | H4: =IF(B4=0,IF(E4=1,1,0),0) -> 0 | I4: =IF(E4*D4=2,1,0) -> 0 | J4: =IF(E4*D4=1,1,0) -> 0 | K4: =IF(D4=0,IF(E4=1,1,0),0) -> 1 | L4: ='Classif da Prim Fase'!C28 -> ANDRÉ | M4: =SUMIF($A$1:$A$36,L4,$F$1:$F$36)+SUMIF($C$1:$C$36,L4,$I$1:$I$36) -> 1 | N4: =SUMIF($A$1:$A$36,L4,$G$1:$G$36)+SUMIF($C$1:$C$36,L4,$J$1:$J$36) -> 0 | O4: =SUMIF($A$1:$A$36,L4,$H$1:$H$36)+SUMIF($C$1:$C$36,L4,$K$1:$K$36) -> 1 | P4: =SUMIF('Tab da Seg Fase'!$N$8:$N$43,L4,'Tab da Seg Fase'!$O$8:$O$43)+SUMIF('Tab da Seg Fase'!$R$8:$R$43,L4,'Tab da Seg Fase'!$Q$8:$Q$43) -> 2 | Q4: =SUMIF('Tab da Seg Fase'!$N$8:$N$43,L4,'Tab da Seg Fase'!$Q$8:$Q$43)+SUMIF('Tab da Seg Fase'!$R$8:$R$43,L4,'Tab da Seg Fase'!$O$8:$O$43) -> 2 | R4: =(1000000*((3*M4)+N4))+(10000*M4)+(100*(P4-Q4))+P4+(0.001*(3-T4)) -> 3010002 | S4: =RANK(R4,$R$2:$R$4) -> 2 | T4: 3 | U4: =IF($S$2=T4,2,0)+IF($S$3=T4,3,0)+IF($S$4=T4,4,0) -> 3 | W4: =CONCATENATE("'Auxiliar (2)'!",W$1,$U4) -> 'Auxiliar (2)'!L3 | X4: =CONCATENATE("'Auxiliar (2)'!",X$1,$U4) -> 'Auxiliar (2)'!M3 | Y4: =CONCATENATE("'Auxiliar (2)'!",Y$1,$U4) -> 'Auxiliar (2)'!N3 | Z4: =CONCATENATE("'Auxiliar (2)'!",Z$1,$U4) -> 'Auxiliar (2)'!O3 | AA4: =CONCATENATE("'Auxiliar (2)'!",AA$1,$U4) -> 'Auxiliar (2)'!P3 | AB4: =CONCATENATE("'Auxiliar (2)'!",AB$1,$U4) -> 'Auxiliar (2)'!Q3
A5: ='Tab da Seg Fase'!N12 -> TARCÍZIO | B5: =IF('Tab da Seg Fase'!O12<'Tab da Seg Fase'!Q12,0,IF('Tab da Seg Fase'!O12='Tab da Seg Fase'!Q12,1,IF('Tab da Seg Fase'!O12>'Tab da Seg Fase'!Q12,2))) -> 0 | C5: ='Tab da Seg Fase'!R12 -> CARUSO | D5: =IF('Tab da Seg Fase'!O12>'Tab da Seg Fase'!Q12,0,IF('Tab da Seg Fase'!O12='Tab da Seg Fase'!Q12,1,IF('Tab da Seg Fase'!O12<'Tab da Seg Fase'!Q12,2))) -> 2 | E5: =IF(ISNUMBER('Tab da Seg Fase'!O12),1,0) -> 1 | F5: =IF(B5*E5=2,1,0) -> 0 | G5: =IF(B5*E5=1,1,0) -> 0 | H5: =IF(B5=0,IF(E5=1,1,0),0) -> 1 | I5: =IF(E5*D5=2,1,0) -> 1 | J5: =IF(E5*D5=1,1,0) -> 0 | K5: =IF(D5=0,IF(E5=1,1,0),0) -> 0
A6: ='Tab da Seg Fase'!N13 -> WENDEL | B6: =IF('Tab da Seg Fase'!O13<'Tab da Seg Fase'!Q13,0,IF('Tab da Seg Fase'!O13='Tab da Seg Fase'!Q13,1,IF('Tab da Seg Fase'!O13>'Tab da Seg Fase'!Q13,2))) -> 0 | C6: ='Tab da Seg Fase'!R13 -> BETO | D6: =IF('Tab da Seg Fase'!O13>'Tab da Seg Fase'!Q13,0,IF('Tab da Seg Fase'!O13='Tab da Seg Fase'!Q13,1,IF('Tab da Seg Fase'!O13<'Tab da Seg Fase'!Q13,2))) -> 2 | E6: =IF(ISNUMBER('Tab da Seg Fase'!O13),1,0) -> 1 | F6: =IF(B6*E6=2,1,0) -> 0 | G6: =IF(B6*E6=1,1,0) -> 0 | H6: =IF(B6=0,IF(E6=1,1,0),0) -> 1 | I6: =IF(E6*D6=2,1,0) -> 1 | J6: =IF(E6*D6=1,1,0) -> 0 | K6: =IF(D6=0,IF(E6=1,1,0),0) -> 0 | L6: ='Classif da Prim Fase'!C17 -> LORIVAL | M6: =SUMIF($A$1:$A$36,L6,$F$1:$F$36)+SUMIF($C$1:$C$36,L6,$I$1:$I$36) -> 1 | N6: =SUMIF($A$1:$A$36,L6,$G$1:$G$36)+SUMIF($C$1:$C$36,L6,$J$1:$J$36) -> 1 | O6: =SUMIF($A$1:$A$36,L6,$H$1:$H$36)+SUMIF($C$1:$C$36,L6,$K$1:$K$36) -> 0 | P6: =SUMIF('Tab da Seg Fase'!$N$8:$N$43,L6,'Tab da Seg Fase'!$O$8:$O$43)+SUMIF('Tab da Seg Fase'!$R$8:$R$43,L6,'Tab da Seg Fase'!$Q$8:$Q$43) -> 6 | Q6: =SUMIF('Tab da Seg Fase'!$N$8:$N$43,L6,'Tab da Seg Fase'!$Q$8:$Q$43)+SUMIF('Tab da Seg Fase'!$R$8:$R$43,L6,'Tab da Seg Fase'!$O$8:$O$43) -> 1 | R6: =(1000000*((3*M6)+N6))+(10000*M6)+(100*(P6-Q6))+P6+(0.001*(3-T6)) -> 4010506 | S6: =RANK(R6,$R$6:$R$8) -> 1 | T6: 1 | U6: =IF($S$6=T6,6,0)+IF($S$7=T6,7,0)+IF($S$8=T6,8,0) -> 6 | W6: =CONCATENATE("'Auxiliar (2)'!",W$1,$U6) -> 'Auxiliar (2)'!L6 | X6: =CONCATENATE("'Auxiliar (2)'!",X$1,$U6) -> 'Auxiliar (2)'!M6 | Y6: =CONCATENATE("'Auxiliar (2)'!",Y$1,$U6) -> 'Auxiliar (2)'!N6 | Z6: =CONCATENATE("'Auxiliar (2)'!",Z$1,$U6) -> 'Auxiliar (2)'!O6 | AA6: =CONCATENATE("'Auxiliar (2)'!",AA$1,$U6) -> 'Auxiliar (2)'!P6 | AB6: =CONCATENATE("'Auxiliar (2)'!",AB$1,$U6) -> 'Auxiliar (2)'!Q6 | AC6: H
A7: ='Tab da Seg Fase'!N14 -> RAFAEL PENA | B7: =IF('Tab da Seg Fase'!O14<'Tab da Seg Fase'!Q14,0,IF('Tab da Seg Fase'!O14='Tab da Seg Fase'!Q14,1,IF('Tab da Seg Fase'!O14>'Tab da Seg Fase'!Q14,2))) -> 1 | C7: ='Tab da Seg Fase'!R14 -> FRANCISCO | D7: =IF('Tab da Seg Fase'!O14>'Tab da Seg Fase'!Q14,0,IF('Tab da Seg Fase'!O14='Tab da Seg Fase'!Q14,1,IF('Tab da Seg Fase'!O14<'Tab da Seg Fase'!Q14,2))) -> 1 | E7: =IF(ISNUMBER('Tab da Seg Fase'!O14),1,0) -> 1 | F7: =IF(B7*E7=2,1,0) -> 0 | G7: =IF(B7*E7=1,1,0) -> 1 | H7: =IF(B7=0,IF(E7=1,1,0),0) -> 0 | I7: =IF(E7*D7=2,1,0) -> 0 | J7: =IF(E7*D7=1,1,0) -> 1 | K7: =IF(D7=0,IF(E7=1,1,0),0) -> 0 | L7: ='Classif da Prim Fase'!C27 -> DUGUET | M7: =SUMIF($A$1:$A$36,L7,$F$1:$F$36)+SUMIF($C$1:$C$36,L7,$I$1:$I$36) -> 1 | N7: =SUMIF($A$1:$A$36,L7,$G$1:$G$36)+SUMIF($C$1:$C$36,L7,$J$1:$J$36) -> 1 | O7: =SUMIF($A$1:$A$36,L7,$H$1:$H$36)+SUMIF($C$1:$C$36,L7,$K$1:$K$36) -> 0 | P7: =SUMIF('Tab da Seg Fase'!$N$8:$N$43,L7,'Tab da Seg Fase'!$O$8:$O$43)+SUMIF('Tab da Seg Fase'!$R$8:$R$43,L7,'Tab da Seg Fase'!$Q$8:$Q$43) -> 4 | Q7: =SUMIF('Tab da Seg Fase'!$N$8:$N$43,L7,'Tab da Seg Fase'!$Q$8:$Q$43)+SUMIF('Tab da Seg Fase'!$R$8:$R$43,L7,'Tab da Seg Fase'!$O$8:$O$43) -> 3 | R7: =(1000000*((3*M7)+N7))+(10000*M7)+(100*(P7-Q7))+P7+(0.001*(3-T7)) -> 4010104 | S7: =RANK(R7,$R$6:$R$8) -> 2 | T7: 2 | U7: =IF($S$6=T7,6,0)+IF($S$7=T7,7,0)+IF($S$8=T7,8,0) -> 7 | W7: =CONCATENATE("'Auxiliar (2)'!",W$1,$U7) -> 'Auxiliar (2)'!L7 | X7: =CONCATENATE("'Auxiliar (2)'!",X$1,$U7) -> 'Auxiliar (2)'!M7 | Y7: =CONCATENATE("'Auxiliar (2)'!",Y$1,$U7) -> 'Auxiliar (2)'!N7 | Z7: =CONCATENATE("'Auxiliar (2)'!",Z$1,$U7) -> 'Auxiliar (2)'!O7 | AA7: =CONCATENATE("'Auxiliar (2)'!",AA$1,$U7) -> 'Auxiliar (2)'!P7 | AB7: =CONCATENATE("'Auxiliar (2)'!",AB$1,$U7) -> 'Auxiliar (2)'!Q7
A8: ='Tab da Seg Fase'!N15 -> TONINHO | B8: =IF('Tab da Seg Fase'!O15<'Tab da Seg Fase'!Q15,0,IF('Tab da Seg Fase'!O15='Tab da Seg Fase'!Q15,1,IF('Tab da Seg Fase'!O15>'Tab da Seg Fase'!Q15,2))) -> 1 | C8: ='Tab da Seg Fase'!R15 -> LUIZ GOMES | D8: =IF('Tab da Seg Fase'!O15>'Tab da Seg Fase'!Q15,0,IF('Tab da Seg Fase'!O15='Tab da Seg Fase'!Q15,1,IF('Tab da Seg Fase'!O15<'Tab da Seg Fase'!Q15,2))) -> 1 | E8: =IF(ISNUMBER('Tab da Seg Fase'!O15),1,0) -> 1 | F8: =IF(B8*E8=2,1,0) -> 0 | G8: =IF(B8*E8=1,1,0) -> 1 | H8: =IF(B8=0,IF(E8=1,1,0),0) -> 0 | I8: =IF(E8*D8=2,1,0) -> 0 | J8: =IF(E8*D8=1,1,0) -> 1 | K8: =IF(D8=0,IF(E8=1,1,0),0) -> 0 | L8: ='Classif da Prim Fase'!C37 -> MARQUINHO | M8: =SUMIF($A$1:$A$36,L8,$F$1:$F$36)+SUMIF($C$1:$C$36,L8,$I$1:$I$36) -> 0 | N8: =SUMIF($A$1:$A$36,L8,$G$1:$G$36)+SUMIF($C$1:$C$36,L8,$J$1:$J$36) -> 0 | O8: =SUMIF($A$1:$A$36,L8,$H$1:$H$36)+SUMIF($C$1:$C$36,L8,$K$1:$K$36) -> 2 | P8: =SUMIF('Tab da Seg Fase'!$N$8:$N$43,L8,'Tab da Seg Fase'!$O$8:$O$43)+SUMIF('Tab da Seg Fase'!$R$8:$R$43,L8,'Tab da Seg Fase'!$Q$8:$Q$43) -> 2 | Q8: =SUMIF('Tab da Seg Fase'!$N$8:$N$43,L8,'Tab da Seg Fase'!$Q$8:$Q$43)+SUMIF('Tab da Seg Fase'!$R$8:$R$43,L8,'Tab da Seg Fase'!$O$8:$O$43) -> 8 | R8: =(1000000*((3*M8)+N8))+(10000*M8)+(100*(P8-Q8))+P8+(0.001*(3-T8)) -> -598 | S8: =RANK(R8,$R$6:$R$8) -> 3 | T8: 3 | U8: =IF($S$6=T8,6,0)+IF($S$7=T8,7,0)+IF($S$8=T8,8,0) -> 8 | W8: =CONCATENATE("'Auxiliar (2)'!",W$1,$U8) -> 'Auxiliar (2)'!L8 | X8: =CONCATENATE("'Auxiliar (2)'!",X$1,$U8) -> 'Auxiliar (2)'!M8 | Y8: =CONCATENATE("'Auxiliar (2)'!",Y$1,$U8) -> 'Auxiliar (2)'!N8 | Z8: =CONCATENATE("'Auxiliar (2)'!",Z$1,$U8) -> 'Auxiliar (2)'!O8 | AA8: =CONCATENATE("'Auxiliar (2)'!",AA$1,$U8) -> 'Auxiliar (2)'!P8 | AB8: =CONCATENATE("'Auxiliar (2)'!",AB$1,$U8) -> 'Auxiliar (2)'!Q8
A9: ='Tab da Seg Fase'!N16 -> ZÉ RICARDO | B9: =IF('Tab da Seg Fase'!O16<'Tab da Seg Fase'!Q16,0,IF('Tab da Seg Fase'!O16='Tab da Seg Fase'!Q16,1,IF('Tab da Seg Fase'!O16>'Tab da Seg Fase'!Q16,2))) -> 1 | C9: ='Tab da Seg Fase'!R16 -> JEAN | D9: =IF('Tab da Seg Fase'!O16>'Tab da Seg Fase'!Q16,0,IF('Tab da Seg Fase'!O16='Tab da Seg Fase'!Q16,1,IF('Tab da Seg Fase'!O16<'Tab da Seg Fase'!Q16,2))) -> 1 | E9: =IF(ISNUMBER('Tab da Seg Fase'!O16),1,0) -> 1 | F9: =IF(B9*E9=2,1,0) -> 0 | G9: =IF(B9*E9=1,1,0) -> 1 | H9: =IF(B9=0,IF(E9=1,1,0),0) -> 0 | I9: =IF(E9*D9=2,1,0) -> 0 | J9: =IF(E9*D9=1,1,0) -> 1 | K9: =IF(D9=0,IF(E9=1,1,0),0) -> 0
A10: ='Tab da Seg Fase'!N17 -> FARNEZE | B10: =IF('Tab da Seg Fase'!O17<'Tab da Seg Fase'!Q17,0,IF('Tab da Seg Fase'!O17='Tab da Seg Fase'!Q17,1,IF('Tab da Seg Fase'!O17>'Tab da Seg Fase'!Q17,2))) -> 0 | C10: ='Tab da Seg Fase'!R17 -> PAULO CÉSAR | D10: =IF('Tab da Seg Fase'!O17>'Tab da Seg Fase'!Q17,0,IF('Tab da Seg Fase'!O17='Tab da Seg Fase'!Q17,1,IF('Tab da Seg Fase'!O17<'Tab da Seg Fase'!Q17,2))) -> 2 | E10: =IF(ISNUMBER('Tab da Seg Fase'!O17),1,0) -> 1 | F10: =IF(B10*E10=2,1,0) -> 0 | G10: =IF(B10*E10=1,1,0) -> 0 | H10: =IF(B10=0,IF(E10=1,1,0),0) -> 1 | I10: =IF(E10*D10=2,1,0) -> 1 | J10: =IF(E10*D10=1,1,0) -> 0 | K10: =IF(D10=0,IF(E10=1,1,0),0) -> 0 | L10: ='Classif da Prim Fase'!C26 -> ELINTO | M10: =SUMIF($A$1:$A$36,L10,$F$1:$F$36)+SUMIF($C$1:$C$36,L10,$I$1:$I$36) -> 2 | N10: =SUMIF($A$1:$A$36,L10,$G$1:$G$36)+SUMIF($C$1:$C$36,L10,$J$1:$J$36) -> 0 | O10: =SUMIF($A$1:$A$36,L10,$H$1:$H$36)+SUMIF($C$1:$C$36,L10,$K$1:$K$36) -> 0 | P10: =SUMIF('Tab da Seg Fase'!$N$8:$N$43,L10,'Tab da Seg Fase'!$O$8:$O$43)+SUMIF('Tab da Seg Fase'!$R$8:$R$43,L10,'Tab da Seg Fase'!$Q$8:$Q$43) -> 5 | Q10: =SUMIF('Tab da Seg Fase'!$N$8:$N$43,L10,'Tab da Seg Fase'!$Q$8:$Q$43)+SUMIF('Tab da Seg Fase'!$R$8:$R$43,L10,'Tab da Seg Fase'!$O$8:$O$43) -> 2 | R10: =(1000000*((3*M10)+N10))+(10000*M10)+(100*(P10-Q10))+P10+(0.001*(3-T10)) -> 6020305 | S10: =RANK(R10,$R$10:$R$12) -> 1 | T10: 1 | U10: =IF($S$10=T10,10,0)+IF($S$11=T10,11,0)+IF($S$12=T10,12,0) -> 10 | W10: =CONCATENATE("'Auxiliar (2)'!",W$1,$U10) -> 'Auxiliar (2)'!L10 | X10: =CONCATENATE("'Auxiliar (2)'!",X$1,$U10) -> 'Auxiliar (2)'!M10 | Y10: =CONCATENATE("'Auxiliar (2)'!",Y$1,$U10) -> 'Auxiliar (2)'!N10 | Z10: =CONCATENATE("'Auxiliar (2)'!",Z$1,$U10) -> 'Auxiliar (2)'!O10 | AA10: =CONCATENATE("'Auxiliar (2)'!",AA$1,$U10) -> 'Auxiliar (2)'!P10 | AB10: =CONCATENATE("'Auxiliar (2)'!",AB$1,$U10) -> 'Auxiliar (2)'!Q10 | AC10: I
A11: ='Tab da Seg Fase'!N18 -> ALCIDES | B11: =IF('Tab da Seg Fase'!O18<'Tab da Seg Fase'!Q18,0,IF('Tab da Seg Fase'!O18='Tab da Seg Fase'!Q18,1,IF('Tab da Seg Fase'!O18>'Tab da Seg Fase'!Q18,2))) -> 2 | C11: ='Tab da Seg Fase'!R18 -> PAULÃO | D11: =IF('Tab da Seg Fase'!O18>'Tab da Seg Fase'!Q18,0,IF('Tab da Seg Fase'!O18='Tab da Seg Fase'!Q18,1,IF('Tab da Seg Fase'!O18<'Tab da Seg Fase'!Q18,2))) -> 0 | E11: =IF(ISNUMBER('Tab da Seg Fase'!O18),1,0) -> 1 | F11: =IF(B11*E11=2,1,0) -> 1 | G11: =IF(B11*E11=1,1,0) -> 0 | H11: =IF(B11=0,IF(E11=1,1,0),0) -> 0 | I11: =IF(E11*D11=2,1,0) -> 0 | J11: =IF(E11*D11=1,1,0) -> 0 | K11: =IF(D11=0,IF(E11=1,1,0),0) -> 1 | L11: ='Classif da Prim Fase'!C36 -> M. FERREIRA | M11: =SUMIF($A$1:$A$36,L11,$F$1:$F$36)+SUMIF($C$1:$C$36,L11,$I$1:$I$36) -> 0 | N11: =SUMIF($A$1:$A$36,L11,$G$1:$G$36)+SUMIF($C$1:$C$36,L11,$J$1:$J$36) -> 1 | O11: =SUMIF($A$1:$A$36,L11,$H$1:$H$36)+SUMIF($C$1:$C$36,L11,$K$1:$K$36) -> 1 | P11: =SUMIF('Tab da Seg Fase'!$N$8:$N$43,L11,'Tab da Seg Fase'!$O$8:$O$43)+SUMIF('Tab da Seg Fase'!$R$8:$R$43,L11,'Tab da Seg Fase'!$Q$8:$Q$43) -> 1 | Q11: =SUMIF('Tab da Seg Fase'!$N$8:$N$43,L11,'Tab da Seg Fase'!$Q$8:$Q$43)+SUMIF('Tab da Seg Fase'!$R$8:$R$43,L11,'Tab da Seg Fase'!$O$8:$O$43) -> 3 | R11: =(1000000*((3*M11)+N11))+(10000*M11)+(100*(P11-Q11))+P11+(0.001*(3-T11)) -> 999801 | S11: =RANK(R11,$R$10:$R$12) -> 3 | T11: 2 | U11: =IF($S$10=T11,10,0)+IF($S$11=T11,11,0)+IF($S$12=T11,12,0) -> 12 | W11: =CONCATENATE("'Auxiliar (2)'!",W$1,$U11) -> 'Auxiliar (2)'!L12 | X11: =CONCATENATE("'Auxiliar (2)'!",X$1,$U11) -> 'Auxiliar (2)'!M12 | Y11: =CONCATENATE("'Auxiliar (2)'!",Y$1,$U11) -> 'Auxiliar (2)'!N12 | Z11: =CONCATENATE("'Auxiliar (2)'!",Z$1,$U11) -> 'Auxiliar (2)'!O12 | AA11: =CONCATENATE("'Auxiliar (2)'!",AA$1,$U11) -> 'Auxiliar (2)'!P12 | AB11: =CONCATENATE("'Auxiliar (2)'!",AB$1,$U11) -> 'Auxiliar (2)'!Q12
A12: ='Tab da Seg Fase'!N19 -> JUNIOR | B12: =IF('Tab da Seg Fase'!O19<'Tab da Seg Fase'!Q19,0,IF('Tab da Seg Fase'!O19='Tab da Seg Fase'!Q19,1,IF('Tab da Seg Fase'!O19>'Tab da Seg Fase'!Q19,2))) -> 2 | C12: ='Tab da Seg Fase'!R19 -> MOTTA | D12: =IF('Tab da Seg Fase'!O19>'Tab da Seg Fase'!Q19,0,IF('Tab da Seg Fase'!O19='Tab da Seg Fase'!Q19,1,IF('Tab da Seg Fase'!O19<'Tab da Seg Fase'!Q19,2))) -> 0 | E12: =IF(ISNUMBER('Tab da Seg Fase'!O19),1,0) -> 1 | F12: =IF(B12*E12=2,1,0) -> 1 | G12: =IF(B12*E12=1,1,0) -> 0 | H12: =IF(B12=0,IF(E12=1,1,0),0) -> 0 | I12: =IF(E12*D12=2,1,0) -> 0 | J12: =IF(E12*D12=1,1,0) -> 0 | K12: =IF(D12=0,IF(E12=1,1,0),0) -> 1 | L12: ='Classif da Prim Fase'!C46 -> M. SILVA | M12: =SUMIF($A$1:$A$36,L12,$F$1:$F$36)+SUMIF($C$1:$C$36,L12,$I$1:$I$36) -> 0 | N12: =SUMIF($A$1:$A$36,L12,$G$1:$G$36)+SUMIF($C$1:$C$36,L12,$J$1:$J$36) -> 1 | O12: =SUMIF($A$1:$A$36,L12,$H$1:$H$36)+SUMIF($C$1:$C$36,L12,$K$1:$K$36) -> 1 | P12: =SUMIF('Tab da Seg Fase'!$N$8:$N$43,L12,'Tab da Seg Fase'!$O$8:$O$43)+SUMIF('Tab da Seg Fase'!$R$8:$R$43,L12,'Tab da Seg Fase'!$Q$8:$Q$43) -> 3 | Q12: =SUMIF('Tab da Seg Fase'!$N$8:$N$43,L12,'Tab da Seg Fase'!$Q$8:$Q$43)+SUMIF('Tab da Seg Fase'!$R$8:$R$43,L12,'Tab da Seg Fase'!$O$8:$O$43) -> 4 | R12: =(1000000*((3*M12)+N12))+(10000*M12)+(100*(P12-Q12))+P12+(0.001*(3-T12)) -> 999903 | S12: =RANK(R12,$R$10:$R$12) -> 2 | T12: 3 | U12: =IF($S$10=T12,10,0)+IF($S$11=T12,11,0)+IF($S$12=T12,12,0) -> 11 | W12: =CONCATENATE("'Auxiliar (2)'!",W$1,$U12) -> 'Auxiliar (2)'!L11 | X12: =CONCATENATE("'Auxiliar (2)'!",X$1,$U12) -> 'Auxiliar (2)'!M11 | Y12: =CONCATENATE("'Auxiliar (2)'!",Y$1,$U12) -> 'Auxiliar (2)'!N11 | Z12: =CONCATENATE("'Auxiliar (2)'!",Z$1,$U12) -> 'Auxiliar (2)'!O11 | AA12: =CONCATENATE("'Auxiliar (2)'!",AA$1,$U12) -> 'Auxiliar (2)'!P11 | AB12: =CONCATENATE("'Auxiliar (2)'!",AB$1,$U12) -> 'Auxiliar (2)'!Q11
A13: ='Tab da Seg Fase'!N20 -> MOTTA | B13: =IF('Tab da Seg Fase'!O20<'Tab da Seg Fase'!Q20,0,IF('Tab da Seg Fase'!O20='Tab da Seg Fase'!Q20,1,IF('Tab da Seg Fase'!O20>'Tab da Seg Fase'!Q20,2))) -> 0 | C13: ='Tab da Seg Fase'!R20 -> THIAGO | D13: =IF('Tab da Seg Fase'!O20>'Tab da Seg Fase'!Q20,0,IF('Tab da Seg Fase'!O20='Tab da Seg Fase'!Q20,1,IF('Tab da Seg Fase'!O20<'Tab da Seg Fase'!Q20,2))) -> 2 | E13: =IF(ISNUMBER('Tab da Seg Fase'!O20),1,0) -> 1 | F13: =IF(B13*E13=2,1,0) -> 0 | G13: =IF(B13*E13=1,1,0) -> 0 | H13: =IF(B13=0,IF(E13=1,1,0),0) -> 1 | I13: =IF(E13*D13=2,1,0) -> 1 | J13: =IF(E13*D13=1,1,0) -> 0 | K13: =IF(D13=0,IF(E13=1,1,0),0) -> 0
A14: ='Tab da Seg Fase'!N21 -> PAULÃO | B14: =IF('Tab da Seg Fase'!O21<'Tab da Seg Fase'!Q21,0,IF('Tab da Seg Fase'!O21='Tab da Seg Fase'!Q21,1,IF('Tab da Seg Fase'!O21>'Tab da Seg Fase'!Q21,2))) -> 1 | C14: ='Tab da Seg Fase'!R21 -> MAGNO | D14: =IF('Tab da Seg Fase'!O21>'Tab da Seg Fase'!Q21,0,IF('Tab da Seg Fase'!O21='Tab da Seg Fase'!Q21,1,IF('Tab da Seg Fase'!O21<'Tab da Seg Fase'!Q21,2))) -> 1 | E14: =IF(ISNUMBER('Tab da Seg Fase'!O21),1,0) -> 1 | F14: =IF(B14*E14=2,1,0) -> 0 | G14: =IF(B14*E14=1,1,0) -> 1 | H14: =IF(B14=0,IF(E14=1,1,0),0) -> 0 | I14: =IF(E14*D14=2,1,0) -> 0 | J14: =IF(E14*D14=1,1,0) -> 1 | K14: =IF(D14=0,IF(E14=1,1,0),0) -> 0 | L14: ='Classif da Prim Fase'!C35 -> MARCUS | M14: =SUMIF($A$1:$A$36,L14,$F$1:$F$36)+SUMIF($C$1:$C$36,L14,$I$1:$I$36) -> 1 | N14: =SUMIF($A$1:$A$36,L14,$G$1:$G$36)+SUMIF($C$1:$C$36,L14,$J$1:$J$36) -> 0 | O14: =SUMIF($A$1:$A$36,L14,$H$1:$H$36)+SUMIF($C$1:$C$36,L14,$K$1:$K$36) -> 1 | P14: =SUMIF('Tab da Seg Fase'!$N$8:$N$43,L14,'Tab da Seg Fase'!$O$8:$O$43)+SUMIF('Tab da Seg Fase'!$R$8:$R$43,L14,'Tab da Seg Fase'!$Q$8:$Q$43) -> 3 | Q14: =SUMIF('Tab da Seg Fase'!$N$8:$N$43,L14,'Tab da Seg Fase'!$Q$8:$Q$43)+SUMIF('Tab da Seg Fase'!$R$8:$R$43,L14,'Tab da Seg Fase'!$O$8:$O$43) -> 2 | R14: =(1000000*((3*M14)+N14))+(10000*M14)+(100*(P14-Q14))+P14+(0.001*(3-T14)) -> 3010103 | S14: =RANK(R14,$R$14:$R$16) -> 2 | T14: 1 | U14: =IF($S$14=T14,14,0)+IF($S$15=T14,15,0)+IF($S$16=T14,16,0) -> 15 | W14: =CONCATENATE("'Auxiliar (2)'!",W$1,$U14) -> 'Auxiliar (2)'!L15 | X14: =CONCATENATE("'Auxiliar (2)'!",X$1,$U14) -> 'Auxiliar (2)'!M15 | Y14: =CONCATENATE("'Auxiliar (2)'!",Y$1,$U14) -> 'Auxiliar (2)'!N15 | Z14: =CONCATENATE("'Auxiliar (2)'!",Z$1,$U14) -> 'Auxiliar (2)'!O15 | AA14: =CONCATENATE("'Auxiliar (2)'!",AA$1,$U14) -> 'Auxiliar (2)'!P15 | AB14: =CONCATENATE("'Auxiliar (2)'!",AB$1,$U14) -> 'Auxiliar (2)'!Q15 | AC14: J
A15: ='Tab da Seg Fase'!N22 -> FARNEZE | B15: =IF('Tab da Seg Fase'!O22<'Tab da Seg Fase'!Q22,0,IF('Tab da Seg Fase'!O22='Tab da Seg Fase'!Q22,1,IF('Tab da Seg Fase'!O22>'Tab da Seg Fase'!Q22,2))) -> 2 | C15: ='Tab da Seg Fase'!R22 -> ALBERTO | D15: =IF('Tab da Seg Fase'!O22>'Tab da Seg Fase'!Q22,0,IF('Tab da Seg Fase'!O22='Tab da Seg Fase'!Q22,1,IF('Tab da Seg Fase'!O22<'Tab da Seg Fase'!Q22,2))) -> 0 | E15: =IF(ISNUMBER('Tab da Seg Fase'!O22),1,0) -> 1 | F15: =IF(B15*E15=2,1,0) -> 1 | G15: =IF(B15*E15=1,1,0) -> 0 | H15: =IF(B15=0,IF(E15=1,1,0),0) -> 0 | I15: =IF(E15*D15=2,1,0) -> 0 | J15: =IF(E15*D15=1,1,0) -> 0 | K15: =IF(D15=0,IF(E15=1,1,0),0) -> 1 | L15: ='Classif da Prim Fase'!C45 -> C. HENRIQUE | M15: =SUMIF($A$1:$A$36,L15,$F$1:$F$36)+SUMIF($C$1:$C$36,L15,$I$1:$I$36) -> 2 | N15: =SUMIF($A$1:$A$36,L15,$G$1:$G$36)+SUMIF($C$1:$C$36,L15,$J$1:$J$36) -> 0 | O15: =SUMIF($A$1:$A$36,L15,$H$1:$H$36)+SUMIF($C$1:$C$36,L15,$K$1:$K$36) -> 0 | P15: =SUMIF('Tab da Seg Fase'!$N$8:$N$43,L15,'Tab da Seg Fase'!$O$8:$O$43)+SUMIF('Tab da Seg Fase'!$R$8:$R$43,L15,'Tab da Seg Fase'!$Q$8:$Q$43) -> 5 | Q15: =SUMIF('Tab da Seg Fase'!$N$8:$N$43,L15,'Tab da Seg Fase'!$Q$8:$Q$43)+SUMIF('Tab da Seg Fase'!$R$8:$R$43,L15,'Tab da Seg Fase'!$O$8:$O$43) -> 1 | R15: =(1000000*((3*M15)+N15))+(10000*M15)+(100*(P15-Q15))+P15+(0.001*(3-T15)) -> 6020405 | S15: =RANK(R15,$R$14:$R$16) -> 1 | T15: 2 | U15: =IF($S$14=T15,14,0)+IF($S$15=T15,15,0)+IF($S$16=T15,16,0) -> 14 | W15: =CONCATENATE("'Auxiliar (2)'!",W$1,$U15) -> 'Auxiliar (2)'!L14 | X15: =CONCATENATE("'Auxiliar (2)'!",X$1,$U15) -> 'Auxiliar (2)'!M14 | Y15: =CONCATENATE("'Auxiliar (2)'!",Y$1,$U15) -> 'Auxiliar (2)'!N14 | Z15: =CONCATENATE("'Auxiliar (2)'!",Z$1,$U15) -> 'Auxiliar (2)'!O14 | AA15: =CONCATENATE("'Auxiliar (2)'!",AA$1,$U15) -> 'Auxiliar (2)'!P14 | AB15: =CONCATENATE("'Auxiliar (2)'!",AB$1,$U15) -> 'Auxiliar (2)'!Q14
A16: ='Tab da Seg Fase'!N23 -> M. VASQUES | B16: =IF('Tab da Seg Fase'!O23<'Tab da Seg Fase'!Q23,0,IF('Tab da Seg Fase'!O23='Tab da Seg Fase'!Q23,1,IF('Tab da Seg Fase'!O23>'Tab da Seg Fase'!Q23,2))) -> 2 | C16: ='Tab da Seg Fase'!R23 -> JEAN | D16: =IF('Tab da Seg Fase'!O23>'Tab da Seg Fase'!Q23,0,IF('Tab da Seg Fase'!O23='Tab da Seg Fase'!Q23,1,IF('Tab da Seg Fase'!O23<'Tab da Seg Fase'!Q23,2))) -> 0 | E16: =IF(ISNUMBER('Tab da Seg Fase'!O23),1,0) -> 1 | F16: =IF(B16*E16=2,1,0) -> 1 | G16: =IF(B16*E16=1,1,0) -> 0 | H16: =IF(B16=0,IF(E16=1,1,0),0) -> 0 | I16: =IF(E16*D16=2,1,0) -> 0 | J16: =IF(E16*D16=1,1,0) -> 0 | K16: =IF(D16=0,IF(E16=1,1,0),0) -> 1 | L16: ='Classif da Prim Fase'!C55 -> ALAN | M16: =SUMIF($A$1:$A$36,L16,$F$1:$F$36)+SUMIF($C$1:$C$36,L16,$I$1:$I$36) -> 0 | N16: =SUMIF($A$1:$A$36,L16,$G$1:$G$36)+SUMIF($C$1:$C$36,L16,$J$1:$J$36) -> 0 | O16: =SUMIF($A$1:$A$36,L16,$H$1:$H$36)+SUMIF($C$1:$C$36,L16,$K$1:$K$36) -> 2 | P16: =SUMIF('Tab da Seg Fase'!$N$8:$N$43,L16,'Tab da Seg Fase'!$O$8:$O$43)+SUMIF('Tab da Seg Fase'!$R$8:$R$43,L16,'Tab da Seg Fase'!$Q$8:$Q$43) -> 0 | Q16: =SUMIF('Tab da Seg Fase'!$N$8:$N$43,L16,'Tab da Seg Fase'!$Q$8:$Q$43)+SUMIF('Tab da Seg Fase'!$R$8:$R$43,L16,'Tab da Seg Fase'!$O$8:$O$43) -> 5 | R16: =(1000000*((3*M16)+N16))+(10000*M16)+(100*(P16-Q16))+P16+(0.001*(3-T16)) -> -500 | S16: =RANK(R16,$R$14:$R$16) -> 3 | T16: 3 | U16: =IF($S$14=T16,14,0)+IF($S$15=T16,15,0)+IF($S$16=T16,16,0) -> 16 | W16: =CONCATENATE("'Auxiliar (2)'!",W$1,$U16) -> 'Auxiliar (2)'!L16 | X16: =CONCATENATE("'Auxiliar (2)'!",X$1,$U16) -> 'Auxiliar (2)'!M16 | Y16: =CONCATENATE("'Auxiliar (2)'!",Y$1,$U16) -> 'Auxiliar (2)'!N16 | Z16: =CONCATENATE("'Auxiliar (2)'!",Z$1,$U16) -> 'Auxiliar (2)'!O16 | AA16: =CONCATENATE("'Auxiliar (2)'!",AA$1,$U16) -> 'Auxiliar (2)'!P16 | AB16: =CONCATENATE("'Auxiliar (2)'!",AB$1,$U16) -> 'Auxiliar (2)'!Q16
A17: ='Tab da Seg Fase'!N24 -> ROBERTO | B17: =IF('Tab da Seg Fase'!O24<'Tab da Seg Fase'!Q24,0,IF('Tab da Seg Fase'!O24='Tab da Seg Fase'!Q24,1,IF('Tab da Seg Fase'!O24>'Tab da Seg Fase'!Q24,2))) -> 0 | C17: ='Tab da Seg Fase'!R24 -> LUIZ GOMES | D17: =IF('Tab da Seg Fase'!O24>'Tab da Seg Fase'!Q24,0,IF('Tab da Seg Fase'!O24='Tab da Seg Fase'!Q24,1,IF('Tab da Seg Fase'!O24<'Tab da Seg Fase'!Q24,2))) -> 2 | E17: =IF(ISNUMBER('Tab da Seg Fase'!O24),1,0) -> 1 | F17: =IF(B17*E17=2,1,0) -> 0 | G17: =IF(B17*E17=1,1,0) -> 0 | H17: =IF(B17=0,IF(E17=1,1,0),0) -> 1 | I17: =IF(E17*D17=2,1,0) -> 1 | J17: =IF(E17*D17=1,1,0) -> 0 | K17: =IF(D17=0,IF(E17=1,1,0),0) -> 0
A18: ='Tab da Seg Fase'!N25 -> FRANCISCO | B18: =IF('Tab da Seg Fase'!O25<'Tab da Seg Fase'!Q25,0,IF('Tab da Seg Fase'!O25='Tab da Seg Fase'!Q25,1,IF('Tab da Seg Fase'!O25>'Tab da Seg Fase'!Q25,2))) -> 1 | C18: ='Tab da Seg Fase'!R25 -> PIMENTEL | D18: =IF('Tab da Seg Fase'!O25>'Tab da Seg Fase'!Q25,0,IF('Tab da Seg Fase'!O25='Tab da Seg Fase'!Q25,1,IF('Tab da Seg Fase'!O25<'Tab da Seg Fase'!Q25,2))) -> 1 | E18: =IF(ISNUMBER('Tab da Seg Fase'!O25),1,0) -> 1 | F18: =IF(B18*E18=2,1,0) -> 0 | G18: =IF(B18*E18=1,1,0) -> 1 | H18: =IF(B18=0,IF(E18=1,1,0),0) -> 0 | I18: =IF(E18*D18=2,1,0) -> 0 | J18: =IF(E18*D18=1,1,0) -> 1 | K18: =IF(D18=0,IF(E18=1,1,0),0) -> 0 | L18: ='Classif da Prim Fase'!C44 -> JULIANO | M18: =SUMIF($A$1:$A$36,L18,$F$1:$F$36)+SUMIF($C$1:$C$36,L18,$I$1:$I$36) -> 1 | N18: =SUMIF($A$1:$A$36,L18,$G$1:$G$36)+SUMIF($C$1:$C$36,L18,$J$1:$J$36) -> 1 | O18: =SUMIF($A$1:$A$36,L18,$H$1:$H$36)+SUMIF($C$1:$C$36,L18,$K$1:$K$36) -> 0 | P18: =SUMIF('Tab da Seg Fase'!$N$8:$N$43,L18,'Tab da Seg Fase'!$O$8:$O$43)+SUMIF('Tab da Seg Fase'!$R$8:$R$43,L18,'Tab da Seg Fase'!$Q$8:$Q$43) -> 2 | Q18: =SUMIF('Tab da Seg Fase'!$N$8:$N$43,L18,'Tab da Seg Fase'!$Q$8:$Q$43)+SUMIF('Tab da Seg Fase'!$R$8:$R$43,L18,'Tab da Seg Fase'!$O$8:$O$43) -> 1 | R18: =(1000000*((3*M18)+N18))+(10000*M18)+(100*(P18-Q18))+P18+(0.001*(3-T18)) -> 4010102 | S18: =RANK(R18,$R$18:$R$20) -> 1 | T18: 1 | U18: =IF($S$18=T18,18,0)+IF($S$19=T18,19,0)+IF($S$20=T18,20,0) -> 18 | W18: =CONCATENATE("'Auxiliar (2)'!",W$1,$U18) -> 'Auxiliar (2)'!L18 | X18: =CONCATENATE("'Auxiliar (2)'!",X$1,$U18) -> 'Auxiliar (2)'!M18 | Y18: =CONCATENATE("'Auxiliar (2)'!",Y$1,$U18) -> 'Auxiliar (2)'!N18 | Z18: =CONCATENATE("'Auxiliar (2)'!",Z$1,$U18) -> 'Auxiliar (2)'!O18 | AA18: =CONCATENATE("'Auxiliar (2)'!",AA$1,$U18) -> 'Auxiliar (2)'!P18 | AB18: =CONCATENATE("'Auxiliar (2)'!",AB$1,$U18) -> 'Auxiliar (2)'!Q18 | AC18: K
A19: ='Tab da Seg Fase'!N26 -> WENDEL | B19: =IF('Tab da Seg Fase'!O26<'Tab da Seg Fase'!Q26,0,IF('Tab da Seg Fase'!O26='Tab da Seg Fase'!Q26,1,IF('Tab da Seg Fase'!O26>'Tab da Seg Fase'!Q26,2))) -> 2 | C19: ='Tab da Seg Fase'!R26 -> M. PORTO | D19: =IF('Tab da Seg Fase'!O26>'Tab da Seg Fase'!Q26,0,IF('Tab da Seg Fase'!O26='Tab da Seg Fase'!Q26,1,IF('Tab da Seg Fase'!O26<'Tab da Seg Fase'!Q26,2))) -> 0 | E19: =IF(ISNUMBER('Tab da Seg Fase'!O26),1,0) -> 1 | F19: =IF(B19*E19=2,1,0) -> 1 | G19: =IF(B19*E19=1,1,0) -> 0 | H19: =IF(B19=0,IF(E19=1,1,0),0) -> 0 | I19: =IF(E19*D19=2,1,0) -> 0 | J19: =IF(E19*D19=1,1,0) -> 0 | K19: =IF(D19=0,IF(E19=1,1,0),0) -> 1 | L19: ='Classif da Prim Fase'!C54 -> TARCÍZIO | M19: =SUMIF($A$1:$A$36,L19,$F$1:$F$36)+SUMIF($C$1:$C$36,L19,$I$1:$I$36) -> 0 | N19: =SUMIF($A$1:$A$36,L19,$G$1:$G$36)+SUMIF($C$1:$C$36,L19,$J$1:$J$36) -> 1 | O19: =SUMIF($A$1:$A$36,L19,$H$1:$H$36)+SUMIF($C$1:$C$36,L19,$K$1:$K$36) -> 1 | P19: =SUMIF('Tab da Seg Fase'!$N$8:$N$43,L19,'Tab da Seg Fase'!$O$8:$O$43)+SUMIF('Tab da Seg Fase'!$R$8:$R$43,L19,'Tab da Seg Fase'!$Q$8:$Q$43) -> 2 | Q19: =SUMIF('Tab da Seg Fase'!$N$8:$N$43,L19,'Tab da Seg Fase'!$Q$8:$Q$43)+SUMIF('Tab da Seg Fase'!$R$8:$R$43,L19,'Tab da Seg Fase'!$O$8:$O$43) -> 3 | R19: =(1000000*((3*M19)+N19))+(10000*M19)+(100*(P19-Q19))+P19+(0.001*(3-T19)) -> 999902 | S19: =RANK(R19,$R$18:$R$20) -> 3 | T19: 2 | U19: =IF($S$18=T19,18,0)+IF($S$19=T19,19,0)+IF($S$20=T19,20,0) -> 20 | W19: =CONCATENATE("'Auxiliar (2)'!",W$1,$U19) -> 'Auxiliar (2)'!L20 | X19: =CONCATENATE("'Auxiliar (2)'!",X$1,$U19) -> 'Auxiliar (2)'!M20 | Y19: =CONCATENATE("'Auxiliar (2)'!",Y$1,$U19) -> 'Auxiliar (2)'!N20 | Z19: =CONCATENATE("'Auxiliar (2)'!",Z$1,$U19) -> 'Auxiliar (2)'!O20 | AA19: =CONCATENATE("'Auxiliar (2)'!",AA$1,$U19) -> 'Auxiliar (2)'!P20 | AB19: =CONCATENATE("'Auxiliar (2)'!",AB$1,$U19) -> 'Auxiliar (2)'!Q20
A20: ='Tab da Seg Fase'!N27 -> TARCÍZIO | B20: =IF('Tab da Seg Fase'!O27<'Tab da Seg Fase'!Q27,0,IF('Tab da Seg Fase'!O27='Tab da Seg Fase'!Q27,1,IF('Tab da Seg Fase'!O27>'Tab da Seg Fase'!Q27,2))) -> 1 | C20: ='Tab da Seg Fase'!R27 -> JULIANO | D20: =IF('Tab da Seg Fase'!O27>'Tab da Seg Fase'!Q27,0,IF('Tab da Seg Fase'!O27='Tab da Seg Fase'!Q27,1,IF('Tab da Seg Fase'!O27<'Tab da Seg Fase'!Q27,2))) -> 1 | E20: =IF(ISNUMBER('Tab da Seg Fase'!O27),1,0) -> 1 | F20: =IF(B20*E20=2,1,0) -> 0 | G20: =IF(B20*E20=1,1,0) -> 1 | H20: =IF(B20=0,IF(E20=1,1,0),0) -> 0 | I20: =IF(E20*D20=2,1,0) -> 0 | J20: =IF(E20*D20=1,1,0) -> 1 | K20: =IF(D20=0,IF(E20=1,1,0),0) -> 0 | L20: ='Classif da Prim Fase'!C9 -> CARUSO | M20: =SUMIF($A$1:$A$36,L20,$F$1:$F$36)+SUMIF($C$1:$C$36,L20,$I$1:$I$36) -> 1 | N20: =SUMIF($A$1:$A$36,L20,$G$1:$G$36)+SUMIF($C$1:$C$36,L20,$J$1:$J$36) -> 0 | O20: =SUMIF($A$1:$A$36,L20,$H$1:$H$36)+SUMIF($C$1:$C$36,L20,$K$1:$K$36) -> 1 | P20: =SUMIF('Tab da Seg Fase'!$N$8:$N$43,L20,'Tab da Seg Fase'!$O$8:$O$43)+SUMIF('Tab da Seg Fase'!$R$8:$R$43,L20,'Tab da Seg Fase'!$Q$8:$Q$43) -> 2 | Q20: =SUMIF('Tab da Seg Fase'!$N$8:$N$43,L20,'Tab da Seg Fase'!$Q$8:$Q$43)+SUMIF('Tab da Seg Fase'!$R$8:$R$43,L20,'Tab da Seg Fase'!$O$8:$O$43) -> 2 | R20: =(1000000*((3*M20)+N20))+(10000*M20)+(100*(P20-Q20))+P20+(0.001*(3-T20)) -> 3010002 | S20: =RANK(R20,$R$18:$R$20) -> 2 | T20: 3 | U20: =IF($S$18=T20,18,0)+IF($S$19=T20,19,0)+IF($S$20=T20,20,0) -> 19 | W20: =CONCATENATE("'Auxiliar (2)'!",W$1,$U20) -> 'Auxiliar (2)'!L19 | X20: =CONCATENATE("'Auxiliar (2)'!",X$1,$U20) -> 'Auxiliar (2)'!M19 | Y20: =CONCATENATE("'Auxiliar (2)'!",Y$1,$U20) -> 'Auxiliar (2)'!N19 | Z20: =CONCATENATE("'Auxiliar (2)'!",Z$1,$U20) -> 'Auxiliar (2)'!O19 | AA20: =CONCATENATE("'Auxiliar (2)'!",AA$1,$U20) -> 'Auxiliar (2)'!P19 | AB20: =CONCATENATE("'Auxiliar (2)'!",AB$1,$U20) -> 'Auxiliar (2)'!Q19
A21: ='Tab da Seg Fase'!N28 -> ALAN | B21: =IF('Tab da Seg Fase'!O28<'Tab da Seg Fase'!Q28,0,IF('Tab da Seg Fase'!O28='Tab da Seg Fase'!Q28,1,IF('Tab da Seg Fase'!O28>'Tab da Seg Fase'!Q28,2))) -> 0 | C21: ='Tab da Seg Fase'!R28 -> C. HENRIQUE | D21: =IF('Tab da Seg Fase'!O28>'Tab da Seg Fase'!Q28,0,IF('Tab da Seg Fase'!O28='Tab da Seg Fase'!Q28,1,IF('Tab da Seg Fase'!O28<'Tab da Seg Fase'!Q28,2))) -> 2 | E21: =IF(ISNUMBER('Tab da Seg Fase'!O28),1,0) -> 1 | F21: =IF(B21*E21=2,1,0) -> 0 | G21: =IF(B21*E21=1,1,0) -> 0 | H21: =IF(B21=0,IF(E21=1,1,0),0) -> 1 | I21: =IF(E21*D21=2,1,0) -> 1 | J21: =IF(E21*D21=1,1,0) -> 0 | K21: =IF(D21=0,IF(E21=1,1,0),0) -> 0
A22: ='Tab da Seg Fase'!N29 -> M. SILVA | B22: =IF('Tab da Seg Fase'!O29<'Tab da Seg Fase'!Q29,0,IF('Tab da Seg Fase'!O29='Tab da Seg Fase'!Q29,1,IF('Tab da Seg Fase'!O29>'Tab da Seg Fase'!Q29,2))) -> 0 | C22: ='Tab da Seg Fase'!R29 -> ELINTO | D22: =IF('Tab da Seg Fase'!O29>'Tab da Seg Fase'!Q29,0,IF('Tab da Seg Fase'!O29='Tab da Seg Fase'!Q29,1,IF('Tab da Seg Fase'!O29<'Tab da Seg Fase'!Q29,2))) -> 2 | E22: =IF(ISNUMBER('Tab da Seg Fase'!O29),1,0) -> 1 | F22: =IF(B22*E22=2,1,0) -> 0 | G22: =IF(B22*E22=1,1,0) -> 0 | H22: =IF(B22=0,IF(E22=1,1,0),0) -> 1 | I22: =IF(E22*D22=2,1,0) -> 1 | J22: =IF(E22*D22=1,1,0) -> 0 | K22: =IF(D22=0,IF(E22=1,1,0),0) -> 0 | L22: ='Classif da Prim Fase'!C53 -> WENDEL | M22: =SUMIF($A$1:$A$36,L22,$F$1:$F$36)+SUMIF($C$1:$C$36,L22,$I$1:$I$36) -> 1 | N22: =SUMIF($A$1:$A$36,L22,$G$1:$G$36)+SUMIF($C$1:$C$36,L22,$J$1:$J$36) -> 0 | O22: =SUMIF($A$1:$A$36,L22,$H$1:$H$36)+SUMIF($C$1:$C$36,L22,$K$1:$K$36) -> 1 | P22: =SUMIF('Tab da Seg Fase'!$N$8:$N$43,L22,'Tab da Seg Fase'!$O$8:$O$43)+SUMIF('Tab da Seg Fase'!$R$8:$R$43,L22,'Tab da Seg Fase'!$Q$8:$Q$43) -> 3 | Q22: =SUMIF('Tab da Seg Fase'!$N$8:$N$43,L22,'Tab da Seg Fase'!$Q$8:$Q$43)+SUMIF('Tab da Seg Fase'!$R$8:$R$43,L22,'Tab da Seg Fase'!$O$8:$O$43) -> 2 | R22: =(1000000*((3*M22)+N22))+(10000*M22)+(100*(P22-Q22))+P22+(0.001*(3-T22)) -> 3010103 | S22: =RANK(R22,$R$22:$R$24) -> 2 | T22: 1 | U22: =IF($S$22=T22,22,0)+IF($S$23=T22,23,0)+IF($S$24=T22,24,0) -> 24 | W22: =CONCATENATE("'Auxiliar (2)'!",W$1,$U22) -> 'Auxiliar (2)'!L24 | X22: =CONCATENATE("'Auxiliar (2)'!",X$1,$U22) -> 'Auxiliar (2)'!M24 | Y22: =CONCATENATE("'Auxiliar (2)'!",Y$1,$U22) -> 'Auxiliar (2)'!N24 | Z22: =CONCATENATE("'Auxiliar (2)'!",Z$1,$U22) -> 'Auxiliar (2)'!O24 | AA22: =CONCATENATE("'Auxiliar (2)'!",AA$1,$U22) -> 'Auxiliar (2)'!P24 | AB22: =CONCATENATE("'Auxiliar (2)'!",AB$1,$U22) -> 'Auxiliar (2)'!Q24 | AC22: L
A23: ='Tab da Seg Fase'!N30 -> DUGUET | B23: =IF('Tab da Seg Fase'!O30<'Tab da Seg Fase'!Q30,0,IF('Tab da Seg Fase'!O30='Tab da Seg Fase'!Q30,1,IF('Tab da Seg Fase'!O30>'Tab da Seg Fase'!Q30,2))) -> 2 | C23: ='Tab da Seg Fase'!R30 -> MARQUINHO | D23: =IF('Tab da Seg Fase'!O30>'Tab da Seg Fase'!Q30,0,IF('Tab da Seg Fase'!O30='Tab da Seg Fase'!Q30,1,IF('Tab da Seg Fase'!O30<'Tab da Seg Fase'!Q30,2))) -> 0 | E23: =IF(ISNUMBER('Tab da Seg Fase'!O30),1,0) -> 1 | F23: =IF(B23*E23=2,1,0) -> 1 | G23: =IF(B23*E23=1,1,0) -> 0 | H23: =IF(B23=0,IF(E23=1,1,0),0) -> 0 | I23: =IF(E23*D23=2,1,0) -> 0 | J23: =IF(E23*D23=1,1,0) -> 0 | K23: =IF(D23=0,IF(E23=1,1,0),0) -> 1 | L23: ='Classif da Prim Fase'!C8 -> M. PORTO | M23: =SUMIF($A$1:$A$36,L23,$F$1:$F$36)+SUMIF($C$1:$C$36,L23,$I$1:$I$36) -> 0 | N23: =SUMIF($A$1:$A$36,L23,$G$1:$G$36)+SUMIF($C$1:$C$36,L23,$J$1:$J$36) -> 0 | O23: =SUMIF($A$1:$A$36,L23,$H$1:$H$36)+SUMIF($C$1:$C$36,L23,$K$1:$K$36) -> 2 | P23: =SUMIF('Tab da Seg Fase'!$N$8:$N$43,L23,'Tab da Seg Fase'!$O$8:$O$43)+SUMIF('Tab da Seg Fase'!$R$8:$R$43,L23,'Tab da Seg Fase'!$Q$8:$Q$43) -> 1 | Q23: =SUMIF('Tab da Seg Fase'!$N$8:$N$43,L23,'Tab da Seg Fase'!$Q$8:$Q$43)+SUMIF('Tab da Seg Fase'!$R$8:$R$43,L23,'Tab da Seg Fase'!$O$8:$O$43) -> 5 | R23: =(1000000*((3*M23)+N23))+(10000*M23)+(100*(P23-Q23))+P23+(0.001*(3-T23)) -> -398.999 | S23: =RANK(R23,$R$22:$R$24) -> 3 | T23: 2 | U23: =IF($S$22=T23,22,0)+IF($S$23=T23,23,0)+IF($S$24=T23,24,0) -> 22 | W23: =CONCATENATE("'Auxiliar (2)'!",W$1,$U23) -> 'Auxiliar (2)'!L22 | X23: =CONCATENATE("'Auxiliar (2)'!",X$1,$U23) -> 'Auxiliar (2)'!M22 | Y23: =CONCATENATE("'Auxiliar (2)'!",Y$1,$U23) -> 'Auxiliar (2)'!N22 | Z23: =CONCATENATE("'Auxiliar (2)'!",Z$1,$U23) -> 'Auxiliar (2)'!O22 | AA23: =CONCATENATE("'Auxiliar (2)'!",AA$1,$U23) -> 'Auxiliar (2)'!P22 | AB23: =CONCATENATE("'Auxiliar (2)'!",AB$1,$U23) -> 'Auxiliar (2)'!Q22
A24: ='Tab da Seg Fase'!N31 -> ANDRÉ | B24: =IF('Tab da Seg Fase'!O31<'Tab da Seg Fase'!Q31,0,IF('Tab da Seg Fase'!O31='Tab da Seg Fase'!Q31,1,IF('Tab da Seg Fase'!O31>'Tab da Seg Fase'!Q31,2))) -> 2 | C24: ='Tab da Seg Fase'!R31 -> LUIZ CLÁUDIO | D24: =IF('Tab da Seg Fase'!O31>'Tab da Seg Fase'!Q31,0,IF('Tab da Seg Fase'!O31='Tab da Seg Fase'!Q31,1,IF('Tab da Seg Fase'!O31<'Tab da Seg Fase'!Q31,2))) -> 0 | E24: =IF(ISNUMBER('Tab da Seg Fase'!O31),1,0) -> 1 | F24: =IF(B24*E24=2,1,0) -> 1 | G24: =IF(B24*E24=1,1,0) -> 0 | H24: =IF(B24=0,IF(E24=1,1,0),0) -> 0 | I24: =IF(E24*D24=2,1,0) -> 0 | J24: =IF(E24*D24=1,1,0) -> 0 | K24: =IF(D24=0,IF(E24=1,1,0),0) -> 1 | L24: ='Classif da Prim Fase'!C19 -> BETO | M24: =SUMIF($A$1:$A$36,L24,$F$1:$F$36)+SUMIF($C$1:$C$36,L24,$I$1:$I$36) -> 2 | N24: =SUMIF($A$1:$A$36,L24,$G$1:$G$36)+SUMIF($C$1:$C$36,L24,$J$1:$J$36) -> 0 | O24: =SUMIF($A$1:$A$36,L24,$H$1:$H$36)+SUMIF($C$1:$C$36,L24,$K$1:$K$36) -> 0 | P24: =SUMIF('Tab da Seg Fase'!$N$8:$N$43,L24,'Tab da Seg Fase'!$O$8:$O$43)+SUMIF('Tab da Seg Fase'!$R$8:$R$43,L24,'Tab da Seg Fase'!$Q$8:$Q$43) -> 3 | Q24: =SUMIF('Tab da Seg Fase'!$N$8:$N$43,L24,'Tab da Seg Fase'!$Q$8:$Q$43)+SUMIF('Tab da Seg Fase'!$R$8:$R$43,L24,'Tab da Seg Fase'!$O$8:$O$43) -> 0 | R24: =(1000000*((3*M24)+N24))+(10000*M24)+(100*(P24-Q24))+P24+(0.001*(3-T24)) -> 6020303 | S24: =RANK(R24,$R$22:$R$24) -> 1 | T24: 3 | U24: =IF($S$22=T24,22,0)+IF($S$23=T24,23,0)+IF($S$24=T24,24,0) -> 23 | W24: =CONCATENATE("'Auxiliar (2)'!",W$1,$U24) -> 'Auxiliar (2)'!L23 | X24: =CONCATENATE("'Auxiliar (2)'!",X$1,$U24) -> 'Auxiliar (2)'!M23 | Y24: =CONCATENATE("'Auxiliar (2)'!",Y$1,$U24) -> 'Auxiliar (2)'!N23 | Z24: =CONCATENATE("'Auxiliar (2)'!",Z$1,$U24) -> 'Auxiliar (2)'!O23 | AA24: =CONCATENATE("'Auxiliar (2)'!",AA$1,$U24) -> 'Auxiliar (2)'!P23 | AB24: =CONCATENATE("'Auxiliar (2)'!",AB$1,$U24) -> 'Auxiliar (2)'!Q23
A25: ='Tab da Seg Fase'!N32 -> ALCIDES | B25: =IF('Tab da Seg Fase'!O32<'Tab da Seg Fase'!Q32,0,IF('Tab da Seg Fase'!O32='Tab da Seg Fase'!Q32,1,IF('Tab da Seg Fase'!O32>'Tab da Seg Fase'!Q32,2))) -> 0 | C25: ='Tab da Seg Fase'!R32 -> MAGNO | D25: =IF('Tab da Seg Fase'!O32>'Tab da Seg Fase'!Q32,0,IF('Tab da Seg Fase'!O32='Tab da Seg Fase'!Q32,1,IF('Tab da Seg Fase'!O32<'Tab da Seg Fase'!Q32,2))) -> 2 | E25: =IF(ISNUMBER('Tab da Seg Fase'!O32),1,0) -> 1 | F25: =IF(B25*E25=2,1,0) -> 0 | G25: =IF(B25*E25=1,1,0) -> 0 | H25: =IF(B25=0,IF(E25=1,1,0),0) -> 1 | I25: =IF(E25*D25=2,1,0) -> 1 | J25: =IF(E25*D25=1,1,0) -> 0 | K25: =IF(D25=0,IF(E25=1,1,0),0) -> 0
A26: ='Tab da Seg Fase'!N33 -> LUIZ CLÁUDIO | B26: =IF('Tab da Seg Fase'!O33<'Tab da Seg Fase'!Q33,0,IF('Tab da Seg Fase'!O33='Tab da Seg Fase'!Q33,1,IF('Tab da Seg Fase'!O33>'Tab da Seg Fase'!Q33,2))) -> 0 | C26: ='Tab da Seg Fase'!R33 -> ADOLPHO | D26: =IF('Tab da Seg Fase'!O33>'Tab da Seg Fase'!Q33,0,IF('Tab da Seg Fase'!O33='Tab da Seg Fase'!Q33,1,IF('Tab da Seg Fase'!O33<'Tab da Seg Fase'!Q33,2))) -> 2 | E26: =IF(ISNUMBER('Tab da Seg Fase'!O33),1,0) -> 1 | F26: =IF(B26*E26=2,1,0) -> 0 | G26: =IF(B26*E26=1,1,0) -> 0 | H26: =IF(B26=0,IF(E26=1,1,0),0) -> 1 | I26: =IF(E26*D26=2,1,0) -> 1 | J26: =IF(E26*D26=1,1,0) -> 0 | K26: =IF(D26=0,IF(E26=1,1,0),0) -> 0 | L26: ='Classif da Prim Fase'!C10 -> RAFAEL PENA | M26: =SUMIF($A$1:$A$36,L26,$F$1:$F$36)+SUMIF($C$1:$C$36,L26,$I$1:$I$36) -> 0 | N26: =SUMIF($A$1:$A$36,L26,$G$1:$G$36)+SUMIF($C$1:$C$36,L26,$J$1:$J$36) -> 1 | O26: =SUMIF($A$1:$A$36,L26,$H$1:$H$36)+SUMIF($C$1:$C$36,L26,$K$1:$K$36) -> 1 | P26: =SUMIF('Tab da Seg Fase'!$N$8:$N$43,L26,'Tab da Seg Fase'!$O$8:$O$43)+SUMIF('Tab da Seg Fase'!$R$8:$R$43,L26,'Tab da Seg Fase'!$Q$8:$Q$43) -> 1 | Q26: =SUMIF('Tab da Seg Fase'!$N$8:$N$43,L26,'Tab da Seg Fase'!$Q$8:$Q$43)+SUMIF('Tab da Seg Fase'!$R$8:$R$43,L26,'Tab da Seg Fase'!$O$8:$O$43) -> 2 | R26: =(1000000*((3*M26)+N26))+(10000*M26)+(100*(P26-Q26))+P26+(0.001*(3-T26)) -> 999901 | S26: =RANK(R26,$R$26:$R$28) -> 3 | T26: 1 | U26: =IF($S$26=T26,26,0)+IF($S$27=T26,27,0)+IF($S$28=T26,28,0) -> 27 | W26: =CONCATENATE("'Auxiliar (2)'!",W$1,$U26) -> 'Auxiliar (2)'!L27 | X26: =CONCATENATE("'Auxiliar (2)'!",X$1,$U26) -> 'Auxiliar (2)'!M27 | Y26: =CONCATENATE("'Auxiliar (2)'!",Y$1,$U26) -> 'Auxiliar (2)'!N27 | Z26: =CONCATENATE("'Auxiliar (2)'!",Z$1,$U26) -> 'Auxiliar (2)'!O27 | AA26: =CONCATENATE("'Auxiliar (2)'!",AA$1,$U26) -> 'Auxiliar (2)'!P27 | AB26: =CONCATENATE("'Auxiliar (2)'!",AB$1,$U26) -> 'Auxiliar (2)'!Q27 | AC26: M
A27: ='Tab da Seg Fase'!N34 -> MARQUINHO | B27: =IF('Tab da Seg Fase'!O34<'Tab da Seg Fase'!Q34,0,IF('Tab da Seg Fase'!O34='Tab da Seg Fase'!Q34,1,IF('Tab da Seg Fase'!O34>'Tab da Seg Fase'!Q34,2))) -> 0 | C27: ='Tab da Seg Fase'!R34 -> LORIVAL | D27: =IF('Tab da Seg Fase'!O34>'Tab da Seg Fase'!Q34,0,IF('Tab da Seg Fase'!O34='Tab da Seg Fase'!Q34,1,IF('Tab da Seg Fase'!O34<'Tab da Seg Fase'!Q34,2))) -> 2 | E27: =IF(ISNUMBER('Tab da Seg Fase'!O34),1,0) -> 1 | F27: =IF(B27*E27=2,1,0) -> 0 | G27: =IF(B27*E27=1,1,0) -> 0 | H27: =IF(B27=0,IF(E27=1,1,0),0) -> 1 | I27: =IF(E27*D27=2,1,0) -> 1 | J27: =IF(E27*D27=1,1,0) -> 0 | K27: =IF(D27=0,IF(E27=1,1,0),0) -> 0 | L27: ='Classif da Prim Fase'!C21 -> PIMENTEL | M27: =SUMIF($A$1:$A$36,L27,$F$1:$F$36)+SUMIF($C$1:$C$36,L27,$I$1:$I$36) -> 1 | N27: =SUMIF($A$1:$A$36,L27,$G$1:$G$36)+SUMIF($C$1:$C$36,L27,$J$1:$J$36) -> 1 | O27: =SUMIF($A$1:$A$36,L27,$H$1:$H$36)+SUMIF($C$1:$C$36,L27,$K$1:$K$36) -> 0 | P27: =SUMIF('Tab da Seg Fase'!$N$8:$N$43,L27,'Tab da Seg Fase'!$O$8:$O$43)+SUMIF('Tab da Seg Fase'!$R$8:$R$43,L27,'Tab da Seg Fase'!$Q$8:$Q$43) -> 3 | Q27: =SUMIF('Tab da Seg Fase'!$N$8:$N$43,L27,'Tab da Seg Fase'!$Q$8:$Q$43)+SUMIF('Tab da Seg Fase'!$R$8:$R$43,L27,'Tab da Seg Fase'!$O$8:$O$43) -> 2 | R27: =(1000000*((3*M27)+N27))+(10000*M27)+(100*(P27-Q27))+P27+(0.001*(3-T27)) -> 4010103 | S27: =RANK(R27,$R$26:$R$28) -> 1 | T27: 2 | U27: =IF($S$26=T27,26,0)+IF($S$27=T27,27,0)+IF($S$28=T27,28,0) -> 28 | W27: =CONCATENATE("'Auxiliar (2)'!",W$1,$U27) -> 'Auxiliar (2)'!L28 | X27: =CONCATENATE("'Auxiliar (2)'!",X$1,$U27) -> 'Auxiliar (2)'!M28 | Y27: =CONCATENATE("'Auxiliar (2)'!",Y$1,$U27) -> 'Auxiliar (2)'!N28 | Z27: =CONCATENATE("'Auxiliar (2)'!",Z$1,$U27) -> 'Auxiliar (2)'!O28 | AA27: =CONCATENATE("'Auxiliar (2)'!",AA$1,$U27) -> 'Auxiliar (2)'!P28 | AB27: =CONCATENATE("'Auxiliar (2)'!",AB$1,$U27) -> 'Auxiliar (2)'!Q28
A28: ='Tab da Seg Fase'!N35 -> M. FERREIRA | B28: =IF('Tab da Seg Fase'!O35<'Tab da Seg Fase'!Q35,0,IF('Tab da Seg Fase'!O35='Tab da Seg Fase'!Q35,1,IF('Tab da Seg Fase'!O35>'Tab da Seg Fase'!Q35,2))) -> 0 | C28: ='Tab da Seg Fase'!R35 -> ELINTO | D28: =IF('Tab da Seg Fase'!O35>'Tab da Seg Fase'!Q35,0,IF('Tab da Seg Fase'!O35='Tab da Seg Fase'!Q35,1,IF('Tab da Seg Fase'!O35<'Tab da Seg Fase'!Q35,2))) -> 2 | E28: =IF(ISNUMBER('Tab da Seg Fase'!O35),1,0) -> 1 | F28: =IF(B28*E28=2,1,0) -> 0 | G28: =IF(B28*E28=1,1,0) -> 0 | H28: =IF(B28=0,IF(E28=1,1,0),0) -> 1 | I28: =IF(E28*D28=2,1,0) -> 1 | J28: =IF(E28*D28=1,1,0) -> 0 | K28: =IF(D28=0,IF(E28=1,1,0),0) -> 0 | L28: ='Classif da Prim Fase'!C31 -> FRANCISCO | M28: =SUMIF($A$1:$A$36,L28,$F$1:$F$36)+SUMIF($C$1:$C$36,L28,$I$1:$I$36) -> 0 | N28: =SUMIF($A$1:$A$36,L28,$G$1:$G$36)+SUMIF($C$1:$C$36,L28,$J$1:$J$36) -> 2 | O28: =SUMIF($A$1:$A$36,L28,$H$1:$H$36)+SUMIF($C$1:$C$36,L28,$K$1:$K$36) -> 0 | P28: =SUMIF('Tab da Seg Fase'!$N$8:$N$43,L28,'Tab da Seg Fase'!$O$8:$O$43)+SUMIF('Tab da Seg Fase'!$R$8:$R$43,L28,'Tab da Seg Fase'!$Q$8:$Q$43) -> 3 | Q28: =SUMIF('Tab da Seg Fase'!$N$8:$N$43,L28,'Tab da Seg Fase'!$Q$8:$Q$43)+SUMIF('Tab da Seg Fase'!$R$8:$R$43,L28,'Tab da Seg Fase'!$O$8:$O$43) -> 3 | R28: =(1000000*((3*M28)+N28))+(10000*M28)+(100*(P28-Q28))+P28+(0.001*(3-T28)) -> 2000003 | S28: =RANK(R28,$R$26:$R$28) -> 2 | T28: 3 | U28: =IF($S$26=T28,26,0)+IF($S$27=T28,27,0)+IF($S$28=T28,28,0) -> 26 | W28: =CONCATENATE("'Auxiliar (2)'!",W$1,$U28) -> 'Auxiliar (2)'!L26 | X28: =CONCATENATE("'Auxiliar (2)'!",X$1,$U28) -> 'Auxiliar (2)'!M26 | Y28: =CONCATENATE("'Auxiliar (2)'!",Y$1,$U28) -> 'Auxiliar (2)'!N26 | Z28: =CONCATENATE("'Auxiliar (2)'!",Z$1,$U28) -> 'Auxiliar (2)'!O26 | AA28: =CONCATENATE("'Auxiliar (2)'!",AA$1,$U28) -> 'Auxiliar (2)'!P26 | AB28: =CONCATENATE("'Auxiliar (2)'!",AB$1,$U28) -> 'Auxiliar (2)'!Q26
A29: ='Tab da Seg Fase'!N36 -> C. HENRIQUE | B29: =IF('Tab da Seg Fase'!O36<'Tab da Seg Fase'!Q36,0,IF('Tab da Seg Fase'!O36='Tab da Seg Fase'!Q36,1,IF('Tab da Seg Fase'!O36>'Tab da Seg Fase'!Q36,2))) -> 2 | C29: ='Tab da Seg Fase'!R36 -> MARCUS | D29: =IF('Tab da Seg Fase'!O36>'Tab da Seg Fase'!Q36,0,IF('Tab da Seg Fase'!O36='Tab da Seg Fase'!Q36,1,IF('Tab da Seg Fase'!O36<'Tab da Seg Fase'!Q36,2))) -> 0 | E29: =IF(ISNUMBER('Tab da Seg Fase'!O36),1,0) -> 1 | F29: =IF(B29*E29=2,1,0) -> 1 | G29: =IF(B29*E29=1,1,0) -> 0 | H29: =IF(B29=0,IF(E29=1,1,0),0) -> 0 | I29: =IF(E29*D29=2,1,0) -> 0 | J29: =IF(E29*D29=1,1,0) -> 0 | K29: =IF(D29=0,IF(E29=1,1,0),0) -> 1
A30: ='Tab da Seg Fase'!N37 -> CARUSO | B30: =IF('Tab da Seg Fase'!O37<'Tab da Seg Fase'!Q37,0,IF('Tab da Seg Fase'!O37='Tab da Seg Fase'!Q37,1,IF('Tab da Seg Fase'!O37>'Tab da Seg Fase'!Q37,2))) -> 0 | C30: ='Tab da Seg Fase'!R37 -> JULIANO | D30: =IF('Tab da Seg Fase'!O37>'Tab da Seg Fase'!Q37,0,IF('Tab da Seg Fase'!O37='Tab da Seg Fase'!Q37,1,IF('Tab da Seg Fase'!O37<'Tab da Seg Fase'!Q37,2))) -> 2 | E30: =IF(ISNUMBER('Tab da Seg Fase'!O37),1,0) -> 1 | F30: =IF(B30*E30=2,1,0) -> 0 | G30: =IF(B30*E30=1,1,0) -> 0 | H30: =IF(B30=0,IF(E30=1,1,0),0) -> 1 | I30: =IF(E30*D30=2,1,0) -> 1 | J30: =IF(E30*D30=1,1,0) -> 0 | K30: =IF(D30=0,IF(E30=1,1,0),0) -> 0 | L30: ='Classif da Prim Fase'!C20 -> TONINHO | M30: =SUMIF($A$1:$A$36,L30,$F$1:$F$36)+SUMIF($C$1:$C$36,L30,$I$1:$I$36) -> 1 | N30: =SUMIF($A$1:$A$36,L30,$G$1:$G$36)+SUMIF($C$1:$C$36,L30,$J$1:$J$36) -> 1 | O30: =SUMIF($A$1:$A$36,L30,$H$1:$H$36)+SUMIF($C$1:$C$36,L30,$K$1:$K$36) -> 0 | P30: =SUMIF('Tab da Seg Fase'!$N$8:$N$43,L30,'Tab da Seg Fase'!$O$8:$O$43)+SUMIF('Tab da Seg Fase'!$R$8:$R$43,L30,'Tab da Seg Fase'!$Q$8:$Q$43) -> 3 | Q30: =SUMIF('Tab da Seg Fase'!$N$8:$N$43,L30,'Tab da Seg Fase'!$Q$8:$Q$43)+SUMIF('Tab da Seg Fase'!$R$8:$R$43,L30,'Tab da Seg Fase'!$O$8:$O$43) -> 0 | R30: =(1000000*((3*M30)+N30))+(10000*M30)+(100*(P30-Q30))+P30+(0.001*(3-T30)) -> 4010303 | S30: =RANK(R30,$R$30:$R$32) -> 2 | T30: 1 | U30: =IF($S$30=T30,30,0)+IF($S$31=T30,31,0)+IF($S$32=T30,32,0) -> 31 | W30: =CONCATENATE("'Auxiliar (2)'!",W$1,$U30) -> 'Auxiliar (2)'!L31 | X30: =CONCATENATE("'Auxiliar (2)'!",X$1,$U30) -> 'Auxiliar (2)'!M31 | Y30: =CONCATENATE("'Auxiliar (2)'!",Y$1,$U30) -> 'Auxiliar (2)'!N31 | Z30: =CONCATENATE("'Auxiliar (2)'!",Z$1,$U30) -> 'Auxiliar (2)'!O31 | AA30: =CONCATENATE("'Auxiliar (2)'!",AA$1,$U30) -> 'Auxiliar (2)'!P31 | AB30: =CONCATENATE("'Auxiliar (2)'!",AB$1,$U30) -> 'Auxiliar (2)'!Q31 | AC30: N
A31: ='Tab da Seg Fase'!N38 -> PIMENTEL | B31: =IF('Tab da Seg Fase'!O38<'Tab da Seg Fase'!Q38,0,IF('Tab da Seg Fase'!O38='Tab da Seg Fase'!Q38,1,IF('Tab da Seg Fase'!O38>'Tab da Seg Fase'!Q38,2))) -> 2 | C31: ='Tab da Seg Fase'!R38 -> RAFAEL PENA | D31: =IF('Tab da Seg Fase'!O38>'Tab da Seg Fase'!Q38,0,IF('Tab da Seg Fase'!O38='Tab da Seg Fase'!Q38,1,IF('Tab da Seg Fase'!O38<'Tab da Seg Fase'!Q38,2))) -> 0 | E31: =IF(ISNUMBER('Tab da Seg Fase'!O38),1,0) -> 1 | F31: =IF(B31*E31=2,1,0) -> 1 | G31: =IF(B31*E31=1,1,0) -> 0 | H31: =IF(B31=0,IF(E31=1,1,0),0) -> 0 | I31: =IF(E31*D31=2,1,0) -> 0 | J31: =IF(E31*D31=1,1,0) -> 0 | K31: =IF(D31=0,IF(E31=1,1,0),0) -> 1 | L31: ='Classif da Prim Fase'!C30 -> LUIZ GOMES | M31: =SUMIF($A$1:$A$36,L31,$F$1:$F$36)+SUMIF($C$1:$C$36,L31,$I$1:$I$36) -> 1 | N31: =SUMIF($A$1:$A$36,L31,$G$1:$G$36)+SUMIF($C$1:$C$36,L31,$J$1:$J$36) -> 1 | O31: =SUMIF($A$1:$A$36,L31,$H$1:$H$36)+SUMIF($C$1:$C$36,L31,$K$1:$K$36) -> 0 | P31: =SUMIF('Tab da Seg Fase'!$N$8:$N$43,L31,'Tab da Seg Fase'!$O$8:$O$43)+SUMIF('Tab da Seg Fase'!$R$8:$R$43,L31,'Tab da Seg Fase'!$Q$8:$Q$43) -> 4 | Q31: =SUMIF('Tab da Seg Fase'!$N$8:$N$43,L31,'Tab da Seg Fase'!$Q$8:$Q$43)+SUMIF('Tab da Seg Fase'!$R$8:$R$43,L31,'Tab da Seg Fase'!$O$8:$O$43) -> 1 | R31: =(1000000*((3*M31)+N31))+(10000*M31)+(100*(P31-Q31))+P31+(0.001*(3-T31)) -> 4010304 | S31: =RANK(R31,$R$30:$R$32) -> 1 | T31: 2 | U31: =IF($S$30=T31,30,0)+IF($S$31=T31,31,0)+IF($S$32=T31,32,0) -> 30 | W31: =CONCATENATE("'Auxiliar (2)'!",W$1,$U31) -> 'Auxiliar (2)'!L30 | X31: =CONCATENATE("'Auxiliar (2)'!",X$1,$U31) -> 'Auxiliar (2)'!M30 | Y31: =CONCATENATE("'Auxiliar (2)'!",Y$1,$U31) -> 'Auxiliar (2)'!N30 | Z31: =CONCATENATE("'Auxiliar (2)'!",Z$1,$U31) -> 'Auxiliar (2)'!O30 | AA31: =CONCATENATE("'Auxiliar (2)'!",AA$1,$U31) -> 'Auxiliar (2)'!P30 | AB31: =CONCATENATE("'Auxiliar (2)'!",AB$1,$U31) -> 'Auxiliar (2)'!Q30
A32: ='Tab da Seg Fase'!N39 -> M. PORTO | B32: =IF('Tab da Seg Fase'!O39<'Tab da Seg Fase'!Q39,0,IF('Tab da Seg Fase'!O39='Tab da Seg Fase'!Q39,1,IF('Tab da Seg Fase'!O39>'Tab da Seg Fase'!Q39,2))) -> 0 | C32: ='Tab da Seg Fase'!R39 -> BETO | D32: =IF('Tab da Seg Fase'!O39>'Tab da Seg Fase'!Q39,0,IF('Tab da Seg Fase'!O39='Tab da Seg Fase'!Q39,1,IF('Tab da Seg Fase'!O39<'Tab da Seg Fase'!Q39,2))) -> 2 | E32: =IF(ISNUMBER('Tab da Seg Fase'!O39),1,0) -> 1 | F32: =IF(B32*E32=2,1,0) -> 0 | G32: =IF(B32*E32=1,1,0) -> 0 | H32: =IF(B32=0,IF(E32=1,1,0),0) -> 1 | I32: =IF(E32*D32=2,1,0) -> 1 | J32: =IF(E32*D32=1,1,0) -> 0 | K32: =IF(D32=0,IF(E32=1,1,0),0) -> 0 | L32: ='Classif da Prim Fase'!C40 -> ROBERTO | M32: =SUMIF($A$1:$A$36,L32,$F$1:$F$36)+SUMIF($C$1:$C$36,L32,$I$1:$I$36) -> 0 | N32: =SUMIF($A$1:$A$36,L32,$G$1:$G$36)+SUMIF($C$1:$C$36,L32,$J$1:$J$36) -> 0 | O32: =SUMIF($A$1:$A$36,L32,$H$1:$H$36)+SUMIF($C$1:$C$36,L32,$K$1:$K$36) -> 2 | P32: =SUMIF('Tab da Seg Fase'!$N$8:$N$43,L32,'Tab da Seg Fase'!$O$8:$O$43)+SUMIF('Tab da Seg Fase'!$R$8:$R$43,L32,'Tab da Seg Fase'!$Q$8:$Q$43) -> 1 | Q32: =SUMIF('Tab da Seg Fase'!$N$8:$N$43,L32,'Tab da Seg Fase'!$Q$8:$Q$43)+SUMIF('Tab da Seg Fase'!$R$8:$R$43,L32,'Tab da Seg Fase'!$O$8:$O$43) -> 7 | R32: =(1000000*((3*M32)+N32))+(10000*M32)+(100*(P32-Q32))+P32+(0.001*(3-T32)) -> -599 | S32: =RANK(R32,$R$30:$R$32) -> 3 | T32: 3 | U32: =IF($S$30=T32,30,0)+IF($S$31=T32,31,0)+IF($S$32=T32,32,0) -> 32 | W32: =CONCATENATE("'Auxiliar (2)'!",W$1,$U32) -> 'Auxiliar (2)'!L32 | X32: =CONCATENATE("'Auxiliar (2)'!",X$1,$U32) -> 'Auxiliar (2)'!M32 | Y32: =CONCATENATE("'Auxiliar (2)'!",Y$1,$U32) -> 'Auxiliar (2)'!N32 | Z32: =CONCATENATE("'Auxiliar (2)'!",Z$1,$U32) -> 'Auxiliar (2)'!O32 | AA32: =CONCATENATE("'Auxiliar (2)'!",AA$1,$U32) -> 'Auxiliar (2)'!P32 | AB32: =CONCATENATE("'Auxiliar (2)'!",AB$1,$U32) -> 'Auxiliar (2)'!Q32
A33: ='Tab da Seg Fase'!N40 -> ROBERTO | B33: =IF('Tab da Seg Fase'!O40<'Tab da Seg Fase'!Q40,0,IF('Tab da Seg Fase'!O40='Tab da Seg Fase'!Q40,1,IF('Tab da Seg Fase'!O40>'Tab da Seg Fase'!Q40,2))) -> 0 | C33: ='Tab da Seg Fase'!R40 -> TONINHO | D33: =IF('Tab da Seg Fase'!O40>'Tab da Seg Fase'!Q40,0,IF('Tab da Seg Fase'!O40='Tab da Seg Fase'!Q40,1,IF('Tab da Seg Fase'!O40<'Tab da Seg Fase'!Q40,2))) -> 2 | E33: =IF(ISNUMBER('Tab da Seg Fase'!O40),1,0) -> 1 | F33: =IF(B33*E33=2,1,0) -> 0 | G33: =IF(B33*E33=1,1,0) -> 0 | H33: =IF(B33=0,IF(E33=1,1,0),0) -> 1 | I33: =IF(E33*D33=2,1,0) -> 1 | J33: =IF(E33*D33=1,1,0) -> 0 | K33: =IF(D33=0,IF(E33=1,1,0),0) -> 0
A34: ='Tab da Seg Fase'!N41 -> ZÉ RICARDO | B34: =IF('Tab da Seg Fase'!O41<'Tab da Seg Fase'!Q41,0,IF('Tab da Seg Fase'!O41='Tab da Seg Fase'!Q41,1,IF('Tab da Seg Fase'!O41>'Tab da Seg Fase'!Q41,2))) -> 1 | C34: ='Tab da Seg Fase'!R41 -> M. VASQUES | D34: =IF('Tab da Seg Fase'!O41>'Tab da Seg Fase'!Q41,0,IF('Tab da Seg Fase'!O41='Tab da Seg Fase'!Q41,1,IF('Tab da Seg Fase'!O41<'Tab da Seg Fase'!Q41,2))) -> 1 | E34: =IF(ISNUMBER('Tab da Seg Fase'!O41),1,0) -> 1 | F34: =IF(B34*E34=2,1,0) -> 0 | G34: =IF(B34*E34=1,1,0) -> 1 | H34: =IF(B34=0,IF(E34=1,1,0),0) -> 0 | I34: =IF(E34*D34=2,1,0) -> 0 | J34: =IF(E34*D34=1,1,0) -> 1 | K34: =IF(D34=0,IF(E34=1,1,0),0) -> 0 | L34: ='Classif da Prim Fase'!C29 -> ZÉ RICARDO | M34: =SUMIF($A$1:$A$36,L34,$F$1:$F$36)+SUMIF($C$1:$C$36,L34,$I$1:$I$36) -> 0 | N34: =SUMIF($A$1:$A$36,L34,$G$1:$G$36)+SUMIF($C$1:$C$36,L34,$J$1:$J$36) -> 2 | O34: =SUMIF($A$1:$A$36,L34,$H$1:$H$36)+SUMIF($C$1:$C$36,L34,$K$1:$K$36) -> 0 | P34: =SUMIF('Tab da Seg Fase'!$N$8:$N$43,L34,'Tab da Seg Fase'!$O$8:$O$43)+SUMIF('Tab da Seg Fase'!$R$8:$R$43,L34,'Tab da Seg Fase'!$Q$8:$Q$43) -> 1 | Q34: =SUMIF('Tab da Seg Fase'!$N$8:$N$43,L34,'Tab da Seg Fase'!$Q$8:$Q$43)+SUMIF('Tab da Seg Fase'!$R$8:$R$43,L34,'Tab da Seg Fase'!$O$8:$O$43) -> 1 | R34: =(1000000*((3*M34)+N34))+(10000*M34)+(100*(P34-Q34))+P34+(0.001*(3-T34)) -> 2000001 | S34: =RANK(R34,$R$34:$R$36) -> 2 | T34: 1 | U34: =IF($S$34=T34,34,0)+IF($S$35=T34,35,0)+IF($S$36=T34,36,0) -> 36 | W34: =CONCATENATE("'Auxiliar (2)'!",W$1,$U34) -> 'Auxiliar (2)'!L36 | X34: =CONCATENATE("'Auxiliar (2)'!",X$1,$U34) -> 'Auxiliar (2)'!M36 | Y34: =CONCATENATE("'Auxiliar (2)'!",Y$1,$U34) -> 'Auxiliar (2)'!N36 | Z34: =CONCATENATE("'Auxiliar (2)'!",Z$1,$U34) -> 'Auxiliar (2)'!O36 | AA34: =CONCATENATE("'Auxiliar (2)'!",AA$1,$U34) -> 'Auxiliar (2)'!P36 | AB34: =CONCATENATE("'Auxiliar (2)'!",AB$1,$U34) -> 'Auxiliar (2)'!Q36 | AC34: O
A35: ='Tab da Seg Fase'!N42 -> THIAGO | B35: =IF('Tab da Seg Fase'!O42<'Tab da Seg Fase'!Q42,0,IF('Tab da Seg Fase'!O42='Tab da Seg Fase'!Q42,1,IF('Tab da Seg Fase'!O42>'Tab da Seg Fase'!Q42,2))) -> 1 | C35: ='Tab da Seg Fase'!R42 -> JUNIOR | D35: =IF('Tab da Seg Fase'!O42>'Tab da Seg Fase'!Q42,0,IF('Tab da Seg Fase'!O42='Tab da Seg Fase'!Q42,1,IF('Tab da Seg Fase'!O42<'Tab da Seg Fase'!Q42,2))) -> 1 | E35: =IF(ISNUMBER('Tab da Seg Fase'!O42),1,0) -> 1 | F35: =IF(B35*E35=2,1,0) -> 0 | G35: =IF(B35*E35=1,1,0) -> 1 | H35: =IF(B35=0,IF(E35=1,1,0),0) -> 0 | I35: =IF(E35*D35=2,1,0) -> 0 | J35: =IF(E35*D35=1,1,0) -> 1 | K35: =IF(D35=0,IF(E35=1,1,0),0) -> 0 | L35: ='Classif da Prim Fase'!C39 -> JEAN | M35: =SUMIF($A$1:$A$36,L35,$F$1:$F$36)+SUMIF($C$1:$C$36,L35,$I$1:$I$36) -> 0 | N35: =SUMIF($A$1:$A$36,L35,$G$1:$G$36)+SUMIF($C$1:$C$36,L35,$J$1:$J$36) -> 1 | O35: =SUMIF($A$1:$A$36,L35,$H$1:$H$36)+SUMIF($C$1:$C$36,L35,$K$1:$K$36) -> 1 | P35: =SUMIF('Tab da Seg Fase'!$N$8:$N$43,L35,'Tab da Seg Fase'!$O$8:$O$43)+SUMIF('Tab da Seg Fase'!$R$8:$R$43,L35,'Tab da Seg Fase'!$Q$8:$Q$43) -> 1 | Q35: =SUMIF('Tab da Seg Fase'!$N$8:$N$43,L35,'Tab da Seg Fase'!$Q$8:$Q$43)+SUMIF('Tab da Seg Fase'!$R$8:$R$43,L35,'Tab da Seg Fase'!$O$8:$O$43) -> 3 | R35: =(1000000*((3*M35)+N35))+(10000*M35)+(100*(P35-Q35))+P35+(0.001*(3-T35)) -> 999801 | S35: =RANK(R35,$R$34:$R$38) -> 3 | T35: 2 | U35: =IF($S$34=T35,34,0)+IF($S$35=T35,35,0)+IF($S$36=T35,36,0) -> 34 | W35: =CONCATENATE("'Auxiliar (2)'!",W$1,$U35) -> 'Auxiliar (2)'!L34 | X35: =CONCATENATE("'Auxiliar (2)'!",X$1,$U35) -> 'Auxiliar (2)'!M34 | Y35: =CONCATENATE("'Auxiliar (2)'!",Y$1,$U35) -> 'Auxiliar (2)'!N34 | Z35: =CONCATENATE("'Auxiliar (2)'!",Z$1,$U35) -> 'Auxiliar (2)'!O34 | AA35: =CONCATENATE("'Auxiliar (2)'!",AA$1,$U35) -> 'Auxiliar (2)'!P34 | AB35: =CONCATENATE("'Auxiliar (2)'!",AB$1,$U35) -> 'Auxiliar (2)'!Q34
A36: ='Tab da Seg Fase'!N43 -> PAULO CÉSAR | B36: =IF('Tab da Seg Fase'!O43<'Tab da Seg Fase'!Q43,0,IF('Tab da Seg Fase'!O43='Tab da Seg Fase'!Q43,1,IF('Tab da Seg Fase'!O43>'Tab da Seg Fase'!Q43,2))) -> 2 | C36: ='Tab da Seg Fase'!R43 -> ALBERTO | D36: =IF('Tab da Seg Fase'!O43>'Tab da Seg Fase'!Q43,0,IF('Tab da Seg Fase'!O43='Tab da Seg Fase'!Q43,1,IF('Tab da Seg Fase'!O43<'Tab da Seg Fase'!Q43,2))) -> 0 | E36: =IF(ISNUMBER('Tab da Seg Fase'!O43),1,0) -> 1 | F36: =IF(B36*E36=2,1,0) -> 1 | G36: =IF(B36*E36=1,1,0) -> 0 | H36: =IF(B36=0,IF(E36=1,1,0),0) -> 0 | I36: =IF(E36*D36=2,1,0) -> 0 | J36: =IF(E36*D36=1,1,0) -> 0 | K36: =IF(D36=0,IF(E36=1,1,0),0) -> 1 | L36: ='Classif da Prim Fase'!C49 -> M. VASQUES | M36: =SUMIF($A$1:$A$36,L36,$F$1:$F$36)+SUMIF($C$1:$C$36,L36,$I$1:$I$36) -> 1 | N36: =SUMIF($A$1:$A$36,L36,$G$1:$G$36)+SUMIF($C$1:$C$36,L36,$J$1:$J$36) -> 1 | O36: =SUMIF($A$1:$A$36,L36,$H$1:$H$36)+SUMIF($C$1:$C$36,L36,$K$1:$K$36) -> 0 | P36: =SUMIF('Tab da Seg Fase'!$N$8:$N$43,L36,'Tab da Seg Fase'!$O$8:$O$43)+SUMIF('Tab da Seg Fase'!$R$8:$R$43,L36,'Tab da Seg Fase'!$Q$8:$Q$43) -> 2 | Q36: =SUMIF('Tab da Seg Fase'!$N$8:$N$43,L36,'Tab da Seg Fase'!$Q$8:$Q$43)+SUMIF('Tab da Seg Fase'!$R$8:$R$43,L36,'Tab da Seg Fase'!$O$8:$O$43) -> 0 | R36: =(1000000*((3*M36)+N36))+(10000*M36)+(100*(P36-Q36))+P36+(0.001*(3-T36)) -> 4010202 | S36: =RANK(R36,$R$34:$R$38) -> 1 | T36: 3 | U36: =IF($S$34=T36,34,0)+IF($S$35=T36,35,0)+IF($S$36=T36,36,0) -> 35 | W36: =CONCATENATE("'Auxiliar (2)'!",W$1,$U36) -> 'Auxiliar (2)'!L35 | X36: =CONCATENATE("'Auxiliar (2)'!",X$1,$U36) -> 'Auxiliar (2)'!M35 | Y36: =CONCATENATE("'Auxiliar (2)'!",Y$1,$U36) -> 'Auxiliar (2)'!N35 | Z36: =CONCATENATE("'Auxiliar (2)'!",Z$1,$U36) -> 'Auxiliar (2)'!O35 | AA36: =CONCATENATE("'Auxiliar (2)'!",AA$1,$U36) -> 'Auxiliar (2)'!P35 | AB36: =CONCATENATE("'Auxiliar (2)'!",AB$1,$U36) -> 'Auxiliar (2)'!Q35
L38: ='Classif da Prim Fase'!C38 -> ALBERTO | M38: =SUMIF($A$1:$A$36,L38,$F$1:$F$36)+SUMIF($C$1:$C$36,L38,$I$1:$I$36) -> 0 | N38: =SUMIF($A$1:$A$36,L38,$G$1:$G$36)+SUMIF($C$1:$C$36,L38,$J$1:$J$36) -> 0 | O38: =SUMIF($A$1:$A$36,L38,$H$1:$H$36)+SUMIF($C$1:$C$36,L38,$K$1:$K$36) -> 2 | P38: =SUMIF('Tab da Seg Fase'!$N$8:$N$43,L38,'Tab da Seg Fase'!$O$8:$O$43)+SUMIF('Tab da Seg Fase'!$R$8:$R$43,L38,'Tab da Seg Fase'!$Q$8:$Q$43) -> 0 | Q38: =SUMIF('Tab da Seg Fase'!$N$8:$N$43,L38,'Tab da Seg Fase'!$Q$8:$Q$43)+SUMIF('Tab da Seg Fase'!$R$8:$R$43,L38,'Tab da Seg Fase'!$O$8:$O$43) -> 2 | R38: =(1000000*((3*M38)+N38))+(10000*M38)+(100*(P38-Q38))+P38+(0.001*(3-T38)) -> -199.998 | S38: =RANK(R38,$R$38:$R$40) -> 3 | T38: 1 | U38: =IF($S$38=T38,38,0)+IF($S$39=T38,39,0)+IF($S$38=T40,40,0) -> 40 | W38: =CONCATENATE("'Auxiliar (2)'!",W$1,$U38) -> 'Auxiliar (2)'!L40 | X38: =CONCATENATE("'Auxiliar (2)'!",X$1,$U38) -> 'Auxiliar (2)'!M40 | Y38: =CONCATENATE("'Auxiliar (2)'!",Y$1,$U38) -> 'Auxiliar (2)'!N40 | Z38: =CONCATENATE("'Auxiliar (2)'!",Z$1,$U38) -> 'Auxiliar (2)'!O40 | AA38: =CONCATENATE("'Auxiliar (2)'!",AA$1,$U38) -> 'Auxiliar (2)'!P40 | AB38: =CONCATENATE("'Auxiliar (2)'!",AB$1,$U38) -> 'Auxiliar (2)'!Q40 | AC38: P
L39: ='Classif da Prim Fase'!C48 -> FARNEZE | M39: =SUMIF($A$1:$A$36,L39,$F$1:$F$36)+SUMIF($C$1:$C$36,L39,$I$1:$I$36) -> 1 | N39: =SUMIF($A$1:$A$36,L39,$G$1:$G$36)+SUMIF($C$1:$C$36,L39,$J$1:$J$36) -> 0 | O39: =SUMIF($A$1:$A$36,L39,$H$1:$H$36)+SUMIF($C$1:$C$36,L39,$K$1:$K$36) -> 1 | P39: =SUMIF('Tab da Seg Fase'!$N$8:$N$43,L39,'Tab da Seg Fase'!$O$8:$O$43)+SUMIF('Tab da Seg Fase'!$R$8:$R$43,L39,'Tab da Seg Fase'!$Q$8:$Q$43) -> 2 | Q39: =SUMIF('Tab da Seg Fase'!$N$8:$N$43,L39,'Tab da Seg Fase'!$Q$8:$Q$43)+SUMIF('Tab da Seg Fase'!$R$8:$R$43,L39,'Tab da Seg Fase'!$O$8:$O$43) -> 2 | R39: =(1000000*((3*M39)+N39))+(10000*M39)+(100*(P39-Q39))+P39+(0.001*(3-T39)) -> 3010002 | S39: =RANK(R39,$R$38:$R$40) -> 2 | T39: 2 | U39: =IF($S$38=T39,38,0)+IF($S$39=T39,39,0)+IF($S$38=T41,40,0) -> 39 | W39: =CONCATENATE("'Auxiliar (2)'!",W$1,$U39) -> 'Auxiliar (2)'!L39 | X39: =CONCATENATE("'Auxiliar (2)'!",X$1,$U39) -> 'Auxiliar (2)'!M39 | Y39: =CONCATENATE("'Auxiliar (2)'!",Y$1,$U39) -> 'Auxiliar (2)'!N39 | Z39: =CONCATENATE("'Auxiliar (2)'!",Z$1,$U39) -> 'Auxiliar (2)'!O39 | AA39: =CONCATENATE("'Auxiliar (2)'!",AA$1,$U39) -> 'Auxiliar (2)'!P39 | AB39: =CONCATENATE("'Auxiliar (2)'!",AB$1,$U39) -> 'Auxiliar (2)'!Q39
L40: ='Classif da Prim Fase'!C58 -> PAULO CÉSAR | M40: =SUMIF($A$1:$A$36,L40,$F$1:$F$36)+SUMIF($C$1:$C$36,L40,$I$1:$I$36) -> 2 | N40: =SUMIF($A$1:$A$36,L40,$G$1:$G$36)+SUMIF($C$1:$C$36,L40,$J$1:$J$36) -> 0 | O40: =SUMIF($A$1:$A$36,L40,$H$1:$H$36)+SUMIF($C$1:$C$36,L40,$K$1:$K$36) -> 0 | P40: =SUMIF('Tab da Seg Fase'!$N$8:$N$43,L40,'Tab da Seg Fase'!$O$8:$O$43)+SUMIF('Tab da Seg Fase'!$R$8:$R$43,L40,'Tab da Seg Fase'!$Q$8:$Q$43) -> 3 | Q40: =SUMIF('Tab da Seg Fase'!$N$8:$N$43,L40,'Tab da Seg Fase'!$Q$8:$Q$43)+SUMIF('Tab da Seg Fase'!$R$8:$R$43,L40,'Tab da Seg Fase'!$O$8:$O$43) -> 1 | R40: =(1000000*((3*M40)+N40))+(10000*M40)+(100*(P40-Q40))+P40+(0.001*(3-T40)) -> 6020203 | S40: =RANK(R40,$R$38:$R$40) -> 1 | T40: 3 | U40: =IF($S$38=T40,38,0)+IF($S$39=T40,39,0)+IF($S$38=T42,40,0) -> 38 | W40: =CONCATENATE("'Auxiliar (2)'!",W$1,$U40) -> 'Auxiliar (2)'!L38 | X40: =CONCATENATE("'Auxiliar (2)'!",X$1,$U40) -> 'Auxiliar (2)'!M38 | Y40: =CONCATENATE("'Auxiliar (2)'!",Y$1,$U40) -> 'Auxiliar (2)'!N38 | Z40: =CONCATENATE("'Auxiliar (2)'!",Z$1,$U40) -> 'Auxiliar (2)'!O38 | AA40: =CONCATENATE("'Auxiliar (2)'!",AA$1,$U40) -> 'Auxiliar (2)'!P38 | AB40: =CONCATENATE("'Auxiliar (2)'!",AB$1,$U40) -> 'Auxiliar (2)'!Q38
L42: ='Classif da Prim Fase'!C47 -> MAGNO | M42: =SUMIF($A$1:$A$36,L42,$F$1:$F$36)+SUMIF($C$1:$C$36,L42,$I$1:$I$36) -> 1 | N42: =SUMIF($A$1:$A$36,L42,$G$1:$G$36)+SUMIF($C$1:$C$36,L42,$J$1:$J$36) -> 1 | O42: =SUMIF($A$1:$A$36,L42,$H$1:$H$36)+SUMIF($C$1:$C$36,L42,$K$1:$K$36) -> 0 | P42: =SUMIF('Tab da Seg Fase'!$N$8:$N$43,L42,'Tab da Seg Fase'!$O$8:$O$43)+SUMIF('Tab da Seg Fase'!$R$8:$R$43,L42,'Tab da Seg Fase'!$Q$8:$Q$43) -> 2 | Q42: =SUMIF('Tab da Seg Fase'!$N$8:$N$43,L42,'Tab da Seg Fase'!$Q$8:$Q$43)+SUMIF('Tab da Seg Fase'!$R$8:$R$43,L42,'Tab da Seg Fase'!$O$8:$O$43) -> 0 | R42: =(1000000*((3*M42)+N42))+(10000*M42)+(100*(P42-Q42))+P42+(0.001*(3-T42)) -> 4010202 | S42: =RANK(R42,$R$42:$R$44) -> 1 | T42: 1 | U42: =IF($S$42=T42,42,0)+IF($S$43=T42,43,0)+IF($S$44=T42,44,0) -> 42 | W42: =CONCATENATE("'Auxiliar (2)'!",W$1,$U42) -> 'Auxiliar (2)'!L42 | X42: =CONCATENATE("'Auxiliar (2)'!",X$1,$U42) -> 'Auxiliar (2)'!M42 | Y42: =CONCATENATE("'Auxiliar (2)'!",Y$1,$U42) -> 'Auxiliar (2)'!N42 | Z42: =CONCATENATE("'Auxiliar (2)'!",Z$1,$U42) -> 'Auxiliar (2)'!O42 | AA42: =CONCATENATE("'Auxiliar (2)'!",AA$1,$U42) -> 'Auxiliar (2)'!P42 | AB42: =CONCATENATE("'Auxiliar (2)'!",AB$1,$U42) -> 'Auxiliar (2)'!Q42 | AC42: Q
L43: ='Classif da Prim Fase'!C57 -> ALCIDES | M43: =SUMIF($A$1:$A$36,L43,$F$1:$F$36)+SUMIF($C$1:$C$36,L43,$I$1:$I$36) -> 1 | N43: =SUMIF($A$1:$A$36,L43,$G$1:$G$36)+SUMIF($C$1:$C$36,L43,$J$1:$J$36) -> 0 | O43: =SUMIF($A$1:$A$36,L43,$H$1:$H$36)+SUMIF($C$1:$C$36,L43,$K$1:$K$36) -> 1 | P43: =SUMIF('Tab da Seg Fase'!$N$8:$N$43,L43,'Tab da Seg Fase'!$O$8:$O$43)+SUMIF('Tab da Seg Fase'!$R$8:$R$43,L43,'Tab da Seg Fase'!$Q$8:$Q$43) -> 3 | Q43: =SUMIF('Tab da Seg Fase'!$N$8:$N$43,L43,'Tab da Seg Fase'!$Q$8:$Q$43)+SUMIF('Tab da Seg Fase'!$R$8:$R$43,L43,'Tab da Seg Fase'!$O$8:$O$43) -> 2 | R43: =(1000000*((3*M43)+N43))+(10000*M43)+(100*(P43-Q43))+P43+(0.001*(3-T43)) -> 3010103 | S43: =RANK(R43,$R$42:$R$44) -> 2 | T43: 2 | U43: =IF($S$42=T43,42,0)+IF($S$43=T43,43,0)+IF($S$44=T43,44,0) -> 43 | W43: =CONCATENATE("'Auxiliar (2)'!",W$1,$U43) -> 'Auxiliar (2)'!L43 | X43: =CONCATENATE("'Auxiliar (2)'!",X$1,$U43) -> 'Auxiliar (2)'!M43 | Y43: =CONCATENATE("'Auxiliar (2)'!",Y$1,$U43) -> 'Auxiliar (2)'!N43 | Z43: =CONCATENATE("'Auxiliar (2)'!",Z$1,$U43) -> 'Auxiliar (2)'!O43 | AA43: =CONCATENATE("'Auxiliar (2)'!",AA$1,$U43) -> 'Auxiliar (2)'!P43 | AB43: =CONCATENATE("'Auxiliar (2)'!",AB$1,$U43) -> 'Auxiliar (2)'!Q43
L44: ='Classif da Prim Fase'!C12 -> PAULÃO | M44: =SUMIF($A$1:$A$36,L44,$F$1:$F$36)+SUMIF($C$1:$C$36,L44,$I$1:$I$36) -> 0 | N44: =SUMIF($A$1:$A$36,L44,$G$1:$G$36)+SUMIF($C$1:$C$36,L44,$J$1:$J$36) -> 1 | O44: =SUMIF($A$1:$A$36,L44,$H$1:$H$36)+SUMIF($C$1:$C$36,L44,$K$1:$K$36) -> 1 | P44: =SUMIF('Tab da Seg Fase'!$N$8:$N$43,L44,'Tab da Seg Fase'!$O$8:$O$43)+SUMIF('Tab da Seg Fase'!$R$8:$R$43,L44,'Tab da Seg Fase'!$Q$8:$Q$43) -> 0 | Q44: =SUMIF('Tab da Seg Fase'!$N$8:$N$43,L44,'Tab da Seg Fase'!$Q$8:$Q$43)+SUMIF('Tab da Seg Fase'!$R$8:$R$43,L44,'Tab da Seg Fase'!$O$8:$O$43) -> 3 | R44: =(1000000*((3*M44)+N44))+(10000*M44)+(100*(P44-Q44))+P44+(0.001*(3-T44)) -> 999700 | S44: =RANK(R44,$R$42:$R$44) -> 3 | T44: 3 | U44: =IF($S$42=T44,42,0)+IF($S$43=T44,43,0)+IF($S$44=T44,44,0) -> 44 | W44: =CONCATENATE("'Auxiliar (2)'!",W$1,$U44) -> 'Auxiliar (2)'!L44 | X44: =CONCATENATE("'Auxiliar (2)'!",X$1,$U44) -> 'Auxiliar (2)'!M44 | Y44: =CONCATENATE("'Auxiliar (2)'!",Y$1,$U44) -> 'Auxiliar (2)'!N44 | Z44: =CONCATENATE("'Auxiliar (2)'!",Z$1,$U44) -> 'Auxiliar (2)'!O44 | AA44: =CONCATENATE("'Auxiliar (2)'!",AA$1,$U44) -> 'Auxiliar (2)'!P44 | AB44: =CONCATENATE("'Auxiliar (2)'!",AB$1,$U44) -> 'Auxiliar (2)'!Q44
L46: ='Classif da Prim Fase'!C56 -> JUNIOR | M46: =SUMIF($A$1:$A$36,L46,$F$1:$F$36)+SUMIF($C$1:$C$36,L46,$I$1:$I$36) -> 1 | N46: =SUMIF($A$1:$A$36,L46,$G$1:$G$36)+SUMIF($C$1:$C$36,L46,$J$1:$J$36) -> 1 | O46: =SUMIF($A$1:$A$36,L46,$H$1:$H$36)+SUMIF($C$1:$C$36,L46,$K$1:$K$36) -> 0 | P46: =SUMIF('Tab da Seg Fase'!$N$8:$N$43,L46,'Tab da Seg Fase'!$O$8:$O$43)+SUMIF('Tab da Seg Fase'!$R$8:$R$43,L46,'Tab da Seg Fase'!$Q$8:$Q$43) -> 3 | Q46: =SUMIF('Tab da Seg Fase'!$N$8:$N$43,L46,'Tab da Seg Fase'!$Q$8:$Q$43)+SUMIF('Tab da Seg Fase'!$R$8:$R$43,L46,'Tab da Seg Fase'!$O$8:$O$43) -> 2 | R46: =(1000000*((3*M46)+N46))+(10000*M46)+(100*(P46-Q46))+P46+(0.001*(3-T46)) -> 4010103 | S46: =RANK(R46,$R$46:$R$48) -> 1 | T46: 1 | U46: =IF($S$46=T46,46,0)+IF($S$47=T46,47,0)+IF($S$48=T46,48,0) -> 46 | W46: =CONCATENATE("'Auxiliar (2)'!",W$1,$U46) -> 'Auxiliar (2)'!L46 | X46: =CONCATENATE("'Auxiliar (2)'!",X$1,$U46) -> 'Auxiliar (2)'!M46 | Y46: =CONCATENATE("'Auxiliar (2)'!",Y$1,$U46) -> 'Auxiliar (2)'!N46 | Z46: =CONCATENATE("'Auxiliar (2)'!",Z$1,$U46) -> 'Auxiliar (2)'!O46 | AA46: =CONCATENATE("'Auxiliar (2)'!",AA$1,$U46) -> 'Auxiliar (2)'!P46 | AB46: =CONCATENATE("'Auxiliar (2)'!",AB$1,$U46) -> 'Auxiliar (2)'!Q46 | AC46: R
L47: ='Classif da Prim Fase'!C11 -> THIAGO | M47: =SUMIF($A$1:$A$36,L47,$F$1:$F$36)+SUMIF($C$1:$C$36,L47,$I$1:$I$36) -> 1 | N47: =SUMIF($A$1:$A$36,L47,$G$1:$G$36)+SUMIF($C$1:$C$36,L47,$J$1:$J$36) -> 1 | O47: =SUMIF($A$1:$A$36,L47,$H$1:$H$36)+SUMIF($C$1:$C$36,L47,$K$1:$K$36) -> 0 | P47: =SUMIF('Tab da Seg Fase'!$N$8:$N$43,L47,'Tab da Seg Fase'!$O$8:$O$43)+SUMIF('Tab da Seg Fase'!$R$8:$R$43,L47,'Tab da Seg Fase'!$Q$8:$Q$43) -> 3 | Q47: =SUMIF('Tab da Seg Fase'!$N$8:$N$43,L47,'Tab da Seg Fase'!$Q$8:$Q$43)+SUMIF('Tab da Seg Fase'!$R$8:$R$43,L47,'Tab da Seg Fase'!$O$8:$O$43) -> 2 | R47: =(1000000*((3*M47)+N47))+(10000*M47)+(100*(P47-Q47))+P47+(0.001*(3-T47)) -> 4010103 | S47: =RANK(R47,$R$46:$R$48) -> 2 | T47: 2 | U47: =IF($S$46=T47,46,0)+IF($S$47=T47,47,0)+IF($S$48=T47,48,0) -> 47 | W47: =CONCATENATE("'Auxiliar (2)'!",W$1,$U47) -> 'Auxiliar (2)'!L47 | X47: =CONCATENATE("'Auxiliar (2)'!",X$1,$U47) -> 'Auxiliar (2)'!M47 | Y47: =CONCATENATE("'Auxiliar (2)'!",Y$1,$U47) -> 'Auxiliar (2)'!N47 | Z47: =CONCATENATE("'Auxiliar (2)'!",Z$1,$U47) -> 'Auxiliar (2)'!O47 | AA47: =CONCATENATE("'Auxiliar (2)'!",AA$1,$U47) -> 'Auxiliar (2)'!P47 | AB47: =CONCATENATE("'Auxiliar (2)'!",AB$1,$U47) -> 'Auxiliar (2)'!Q47
L48: ='Classif da Prim Fase'!C22 -> MOTTA | M48: =SUMIF($A$1:$A$36,L48,$F$1:$F$36)+SUMIF($C$1:$C$36,L48,$I$1:$I$36) -> 0 | N48: =SUMIF($A$1:$A$36,L48,$G$1:$G$36)+SUMIF($C$1:$C$36,L48,$J$1:$J$36) -> 0 | O48: =SUMIF($A$1:$A$36,L48,$H$1:$H$36)+SUMIF($C$1:$C$36,L48,$K$1:$K$36) -> 2 | P48: =SUMIF('Tab da Seg Fase'!$N$8:$N$43,L48,'Tab da Seg Fase'!$O$8:$O$43)+SUMIF('Tab da Seg Fase'!$R$8:$R$43,L48,'Tab da Seg Fase'!$Q$8:$Q$43) -> 0 | Q48: =SUMIF('Tab da Seg Fase'!$N$8:$N$43,L48,'Tab da Seg Fase'!$Q$8:$Q$43)+SUMIF('Tab da Seg Fase'!$R$8:$R$43,L48,'Tab da Seg Fase'!$O$8:$O$43) -> 2 | R48: =(1000000*((3*M48)+N48))+(10000*M48)+(100*(P48-Q48))+P48+(0.001*(3-T48)) -> -200 | S48: =RANK(R48,$R$46:$R$48) -> 3 | T48: 3 | U48: =IF($S$46=T48,46,0)+IF($S$47=T48,47,0)+IF($S$48=T48,48,0) -> 48 | W48: =CONCATENATE("'Auxiliar (2)'!",W$1,$U48) -> 'Auxiliar (2)'!L48 | X48: =CONCATENATE("'Auxiliar (2)'!",X$1,$U48) -> 'Auxiliar (2)'!M48 | Y48: =CONCATENATE("'Auxiliar (2)'!",Y$1,$U48) -> 'Auxiliar (2)'!N48 | Z48: =CONCATENATE("'Auxiliar (2)'!",Z$1,$U48) -> 'Auxiliar (2)'!O48 | AA48: =CONCATENATE("'Auxiliar (2)'!",AA$1,$U48) -> 'Auxiliar (2)'!P48 | AB48: =CONCATENATE("'Auxiliar (2)'!",AB$1,$U48) -> 'Auxiliar (2)'!Q48

Sheet Tab da Seg Fase
A1: ='Classif da Prim Fase'!A1 -> Federação de Futebol de Mesa do DF - 3 Toques
A2: ='Tab Primeira Fase'!A2:AB2 -> VI Copa Centro-Oeste Individual 2020
A3: TABELA DA SEGUNDA FASE
A5: DATA: | B5: 08.03.2020
A7: H | B7: M | C7: ÁRBITROS | D7: ARTILHEIROS | O7: JOGOS | S7: ARTILHEIROS
A8: 0.375 | B8: 1 | C8: ='Auxiliar (2)'!L23 -> M. PORTO | D8: 2 | E8: 6 | N8: ='Auxiliar (2)'!L2 -> ADOLPHO | O8: =IF(D8="","",IF(D8=0,0,COUNT(D8:M8))) -> 2 | P8: x | Q8: =IF(S8="","",IF(S8=0,0,COUNT(S8:AB8))) -> 1 | R8: ='Auxiliar (2)'!L4 -> ANDRÉ | S8: 10
B9: 2 | C9: ='Auxiliar (2)'!L18 -> JULIANO | D9: 4 | N9: ='Auxiliar (2)'!L6 -> LORIVAL | O9: =IF(D9="","",IF(D9=0,0,COUNT(D9:M9))) -> 1 | P9: x | Q9: =IF(S9="","",IF(S9=0,0,COUNT(S9:AB9))) -> 1 | R9: ='Auxiliar (2)'!L7 -> DUGUET | S9: 10
B10: 3 | C10: ='Auxiliar (2)'!L15 -> C. HENRIQUE | D10: 6 | N10: ='Auxiliar (2)'!L11 -> M. FERREIRA | O10: =IF(D10="","",IF(D10=0,0,COUNT(D10:M10))) -> 1 | P10: x | Q10: =IF(S10="","",IF(S10=0,0,COUNT(S10:AB10))) -> 1 | R10: ='Auxiliar (2)'!L12 -> M. SILVA | S10: 7
B11: 4 | C11: ='Auxiliar (2)'!L10 -> ELINTO | D11: 9 | E11: 9 | N11: ='Auxiliar (2)'!L14 -> MARCUS | O11: =IF(D11="","",IF(D11=0,0,COUNT(D11:M11))) -> 2 | P11: x | Q11: =IF(S11="","",IF(S11=0,0,COUNT(S11:AB11))) -> 0 | R11: ='Auxiliar (2)'!L16 -> ALAN | S11: 0
B12: 5 | C12: ='Auxiliar (2)'!L8 -> MARQUINHO | D12: 20 | N12: ='Auxiliar (2)'!L19 -> TARCÍZIO | O12: =IF(D12="","",IF(D12=0,0,COUNT(D12:M12))) -> 1 | P12: x | Q12: =IF(S12="","",IF(S12=0,0,COUNT(S12:AB12))) -> 2 | R12: ='Auxiliar (2)'!L20 -> CARUSO | S12: 2 | T12: 9
B13: 6 | C13: ='Auxiliar (2)'!L3 -> LUIZ CLÁUDIO | D13: 0 | N13: ='Auxiliar (2)'!L22 -> WENDEL | O13: =IF(D13="","",IF(D13=0,0,COUNT(D13:M13))) -> 0 | P13: x | Q13: =IF(S13="","",IF(S13=0,0,COUNT(S13:AB13))) -> 1 | R13: ='Auxiliar (2)'!L24 -> BETO | S13: 8
B14: 7 | C14: ='Auxiliar (2)'!L47 -> THIAGO | D14: 14 | N14: ='Auxiliar (2)'!L26 -> RAFAEL PENA | O14: =IF(D14="","",IF(D14=0,0,COUNT(D14:M14))) -> 1 | P14: x | Q14: =IF(S14="","",IF(S14=0,0,COUNT(S14:AB14))) -> 1 | R14: ='Auxiliar (2)'!L28 -> FRANCISCO | S14: 9
B15: 8 | C15: ='Auxiliar (2)'!L42 -> MAGNO | D15: 0 | N15: ='Auxiliar (2)'!L30 -> TONINHO | O15: =IF(D15="","",IF(D15=0,0,COUNT(D15:M15))) -> 0 | P15: x | Q15: =IF(S15="","",IF(S15=0,0,COUNT(S15:AB15))) -> 0 | R15: ='Auxiliar (2)'!L31 -> LUIZ GOMES | S15: 0
B16: 9 | C16: ='Auxiliar (2)'!L38 -> ALBERTO | D16: 29 | N16: ='Auxiliar (2)'!L34 -> ZÉ RICARDO | O16: =IF(D16="","",IF(D16=0,0,COUNT(D16:M16))) -> 1 | P16: x | Q16: =IF(S16="","",IF(S16=0,0,COUNT(S16:AB16))) -> 1 | R16: ='Auxiliar (2)'!L35 -> JEAN | S16: 6
B17: 10 | C17: ='Auxiliar (2)'!L36 -> M. VASQUES | D17: 7 | N17: ='Auxiliar (2)'!L39 -> FARNEZE | O17: =IF(D17="","",IF(D17=0,0,COUNT(D17:M17))) -> 1 | P17: x | Q17: =IF(S17="","",IF(S17=0,0,COUNT(S17:AB17))) -> 2 | R17: ='Auxiliar (2)'!L40 -> PAULO CÉSAR | S17: 10 | T17: 4
B18: 11 | C18: ='Auxiliar (2)'!L32 -> ROBERTO | D18: 15 | E18: 2 | F18: 11 | N18: ='Auxiliar (2)'!L43 -> ALCIDES | O18: =IF(D18="","",IF(D18=0,0,COUNT(D18:M18))) -> 3 | P18: x | Q18: =IF(S18="","",IF(S18=0,0,COUNT(S18:AB18))) -> 0 | R18: ='Auxiliar (2)'!L44 -> PAULÃO | S18: 0
B19: 12 | C19: ='Auxiliar (2)'!L27 -> PIMENTEL | D19: 7 | N19: ='Auxiliar (2)'!L46 -> JUNIOR | O19: =IF(D19="","",IF(D19=0,0,COUNT(D19:M19))) -> 1 | P19: x | Q19: =IF(S19="","",IF(S19=0,0,COUNT(S19:AB19))) -> 0 | R19: ='Auxiliar (2)'!L48 -> MOTTA | S19: 0
A20: 0.41666667 | B20: 1 | C20: ='Auxiliar (2)'!L26 -> RAFAEL PENA | D20: 0 | N20: ='Auxiliar (2)'!L48 -> MOTTA | O20: =IF(D20="","",IF(D20=0,0,COUNT(D20:M20))) -> 0 | P20: x | Q20: =IF(S20="","",IF(S20=0,0,COUNT(S20:AB20))) -> 1 | R20: ='Auxiliar (2)'!L47 -> THIAGO | S20: 2
B21: 2 | C21: ='Auxiliar (2)'!L30 -> TONINHO | D21: 0 | N21: ='Auxiliar (2)'!L44 -> PAULÃO | O21: =IF(D21="","",IF(D21=0,0,COUNT(D21:M21))) -> 0 | P21: x | Q21: =IF(S21="","",IF(S21=0,0,COUNT(S21:AB21))) -> 0 | R21: ='Auxiliar (2)'!L42 -> MAGNO | S21: 0
B22: 3 | C22: ='Auxiliar (2)'!L34 -> ZÉ RICARDO | D22: 8 | N22: ='Auxiliar (2)'!L39 -> FARNEZE | O22: =IF(D22="","",IF(D22=0,0,COUNT(D22:M22))) -> 1 | P22: x | Q22: =IF(S22="","",IF(S22=0,0,COUNT(S22:AB22))) -> 0 | R22: ='Auxiliar (2)'!L38 -> ALBERTO | S22: 0
B23: 4 | C23: ='Auxiliar (2)'!L40 -> PAULO CÉSAR | D23: 10 | E23: 17 | M23: t | N23: ='Auxiliar (2)'!L36 -> M. VASQUES | O23: =IF(D23="","",IF(D23=0,0,COUNT(D23:M23))) -> 2 | P23: x | Q23: =IF(S23="","",IF(S23=0,0,COUNT(S23:AB23))) -> 0 | R23: ='Auxiliar (2)'!L35 -> JEAN | S23: 0 | AB23: t
B24: 5 | C24: ='Auxiliar (2)'!L43 -> ALCIDES | D24: 7 | N24: ='Auxiliar (2)'!L32 -> ROBERTO | O24: =IF(D24="","",IF(D24=0,0,COUNT(D24:M24))) -> 1 | P24: x | Q24: =IF(S24="","",IF(S24=0,0,COUNT(S24:AB24))) -> 4 | R24: ='Auxiliar (2)'!L31 -> LUIZ GOMES | S24: 10 | T24: 10 | U24: 8 | V24: 9 | AB24: t
B25: 6 | C25: ='Auxiliar (2)'!L46 -> JUNIOR | D25: 8 | E25: 10 | N25: ='Auxiliar (2)'!L28 -> FRANCISCO | O25: =IF(D25="","",IF(D25=0,0,COUNT(D25:M25))) -> 2 | P25: x | Q25: =IF(S25="","",IF(S25=0,0,COUNT(S25:AB25))) -> 2 | R25: ='Auxiliar (2)'!L27 -> PIMENTEL | S25: 8 | T25: 11
B26: 7 | C26: ='Auxiliar (2)'!L2 -> ADOLPHO | D26: 11 | E26: 11 | F26: 9 | N26: ='Auxiliar (2)'!L22 -> WENDEL | O26: =IF(D26="","",IF(D26=0,0,COUNT(D26:M26))) -> 3 | P26: x | Q26: =IF(S26="","",IF(S26=0,0,COUNT(S26:AB26))) -> 1 | R26: ='Auxiliar (2)'!L23 -> M. PORTO | S26: 22
B27: 8 | C27: ='Auxiliar (2)'!L6 -> LORIVAL | D27: 7 | M27: t | N27: ='Auxiliar (2)'!L19 -> TARCÍZIO | O27: =IF(D27="","",IF(D27=0,0,COUNT(D27:M27))) -> 1 | P27: x | Q27: =IF(S27="","",IF(S27=0,0,COUNT(S27:AB27))) -> 1 | R27: ='Auxiliar (2)'!L18 -> JULIANO | S27: 2 | AB27: t
B28: 9 | C28: ='Auxiliar (2)'!L11 -> M. FERREIRA | D28: 0 | M28: t | N28: ='Auxiliar (2)'!L16 -> ALAN | O28: =IF(D28="","",IF(D28=0,0,COUNT(D28:M28))) -> 0 | P28: x | Q28: =IF(S28="","",IF(S28=0,0,COUNT(S28:AB28))) -> 3 | R28: ='Auxiliar (2)'!L15 -> C. HENRIQUE | S28: 5 | T28: 9 | U28: 7
B29: 10 | C29: ='Auxiliar (2)'!L14 -> MARCUS | D29: 11 | E29: 9 | N29: ='Auxiliar (2)'!L12 -> M. SILVA | O29: =IF(D29="","",IF(D29=0,0,COUNT(D29:M29))) -> 2 | P29: x | Q29: =IF(S29="","",IF(S29=0,0,COUNT(S29:AB29))) -> 3 | R29: ='Auxiliar (2)'!L10 -> ELINTO | S29: 8 | T29: 7 | U29: 8
B30: 11 | C30: ='Auxiliar (2)'!L20 -> CARUSO | D30: 4 | E30: 10 | F30: 10 | N30: ='Auxiliar (2)'!L7 -> DUGUET | O30: =IF(D30="","",IF(D30=0,0,COUNT(D30:M30))) -> 3 | P30: x | Q30: =IF(S30="","",IF(S30=0,0,COUNT(S30:AB30))) -> 2 | R30: ='Auxiliar (2)'!L8 -> MARQUINHO | S30: 6 | T30: 7
B31: 12 | C31: ='Auxiliar (2)'!L24 -> BETO | D31: 10 | N31: ='Auxiliar (2)'!L4 -> ANDRÉ | O31: =IF(D31="","",IF(D31=0,0,COUNT(D31:M31))) -> 1 | P31: x | Q31: =IF(S31="","",IF(S31=0,0,COUNT(S31:AB31))) -> 0 | R31: ='Auxiliar (2)'!L3 -> LUIZ CLÁUDIO | S31: 0
A32: 0.45833333 | B32: 1 | C32: ='Auxiliar (2)'!L28 -> FRANCISCO | D32: 0 | N32: ='Auxiliar (2)'!L43 -> ALCIDES | O32: =IF(D32="","",IF(D32=0,0,COUNT(D32:M32))) -> 0 | P32: x | Q32: =IF(S32="","",IF(S32=0,0,COUNT(S32:AB32))) -> 2 | R32: ='Auxiliar (2)'!L42 -> MAGNO | S32: 4 | T32: 4
B33: 2 | C33: ='Auxiliar (2)'!L22 -> WENDEL | D33: 0 | N33: ='Auxiliar (2)'!L3 -> LUIZ CLÁUDIO | O33: =IF(D33="","",IF(D33=0,0,COUNT(D33:M33))) -> 0 | P33: x | Q33: =IF(S33="","",IF(S33=0,0,COUNT(S33:AB33))) -> 2 | R33: ='Auxiliar (2)'!L2 -> ADOLPHO | S33: 19 | T33: 6 | AA33: t | AB33: t
B34: 3 | C34: ='Auxiliar (2)'!L19 -> TARCÍZIO | D34: 0 | N34: ='Auxiliar (2)'!L8 -> MARQUINHO | O34: =IF(D34="","",IF(D34=0,0,COUNT(D34:M34))) -> 0 | P34: x | Q34: =IF(S34="","",IF(S34=0,0,COUNT(S34:AB34))) -> 5 | R34: ='Auxiliar (2)'!L6 -> LORIVAL | S34: 8 | T34: 8 | U34: 8 | V34: 10 | W34: 10
B35: 4 | C35: ='Auxiliar (2)'!L16 -> ALAN | D35: 0 | N35: ='Auxiliar (2)'!L11 -> M. FERREIRA | O35: =IF(D35="","",IF(D35=0,0,COUNT(D35:M35))) -> 0 | P35: x | Q35: =IF(S35="","",IF(S35=0,0,COUNT(S35:AB35))) -> 2 | R35: ='Auxiliar (2)'!L10 -> ELINTO | S35: 9 | T35: 8 | AB35: t
B36: 5 | C36: ='Auxiliar (2)'!L12 -> M. SILVA | D36: 5 | E36: 6 | M36: t | N36: ='Auxiliar (2)'!L15 -> C. HENRIQUE | O36: =IF(D36="","",IF(D36=0,0,COUNT(D36:M36))) -> 2 | P36: x | Q36: =IF(S36="","",IF(S36=0,0,COUNT(S36:AB36))) -> 1 | R36: ='Auxiliar (2)'!L14 -> MARCUS | S36: 10
B37: 6 | C37: ='Auxiliar (2)'!L7 -> DUGUET | D37: 0 | N37: ='Auxiliar (2)'!L20 -> CARUSO | O37: =IF(D37="","",IF(D37=0,0,COUNT(D37:M37))) -> 0 | P37: x | Q37: =IF(S37="","",IF(S37=0,0,COUNT(S37:AB37))) -> 1 | R37: ='Auxiliar (2)'!L18 -> JULIANO | S37: 11
B38: 7 | C38: ='Auxiliar (2)'!L31 -> LUIZ GOMES | D38: 4 | N38: ='Auxiliar (2)'!L27 -> PIMENTEL | O38: =IF(D38="","",IF(D38=0,0,COUNT(D38:M38))) -> 1 | P38: x | Q38: =IF(S38="","",IF(S38=0,0,COUNT(S38:AB38))) -> 0 | R38: ='Auxiliar (2)'!L26 -> RAFAEL PENA | S38: 0
B39: 8 | C39: ='Auxiliar (2)'!L4 -> ANDRÉ | D39: 0 | N39: ='Auxiliar (2)'!L23 -> M. PORTO | O39: =IF(D39="","",IF(D39=0,0,COUNT(D39:M39))) -> 0 | P39: x | Q39: =IF(S39="","",IF(S39=0,0,COUNT(S39:AB39))) -> 2 | R39: ='Auxiliar (2)'!L24 -> BETO | S39: 11 | T39: 7
B40: 9 | C40: ='Auxiliar (2)'!L35 -> JEAN | D40: 0 | N40: ='Auxiliar (2)'!L32 -> ROBERTO | O40: =IF(D40="","",IF(D40=0,0,COUNT(D40:M40))) -> 0 | P40: x | Q40: =IF(S40="","",IF(S40=0,0,COUNT(S40:AB40))) -> 3 | R40: ='Auxiliar (2)'!L30 -> TONINHO | S40: 14 | T40: 8 | U40: 8
B41: 10 | C41: ='Auxiliar (2)'!L39 -> FARNEZE | D41: 0 | N41: ='Auxiliar (2)'!L34 -> ZÉ RICARDO | O41: =IF(D41="","",IF(D41=0,0,COUNT(D41:M41))) -> 0 | P41: x | Q41: =IF(S41="","",IF(S41=0,0,COUNT(S41:AB41))) -> 0 | R41: ='Auxiliar (2)'!L36 -> M. VASQUES | S41: 0
B42: 11 | C42: ='Auxiliar (2)'!L44 -> PAULÃO | D42: 9 | E42: 10 | N42: ='Auxiliar (2)'!L47 -> THIAGO | O42: =IF(D42="","",IF(D42=0,0,COUNT(D42:M42))) -> 2 | P42: x | Q42: =IF(S42="","",IF(S42=0,0,COUNT(S42:AB42))) -> 2 | R42: ='Auxiliar (2)'!L46 -> JUNIOR | S42: 2 | T42: 2
B43: 12 | C43: ='Auxiliar (2)'!L48 -> MOTTA | D43: 3 | N43: ='Auxiliar (2)'!L40 -> PAULO CÉSAR | O43: =IF(D43="","",IF(D43=0,0,COUNT(D43:M43))) -> 1 | P43: x | Q43: =IF(S43="","",IF(S43=0,0,COUNT(S43:AB43))) -> 0 | R43: ='Auxiliar (2)'!L38 -> ALBERTO | S43: 0
A45: QUARTAS DE FINAL
A47: 0.5 | B47: 1 | C47: M. SILVA | D47: 10 | E47: 8 | L47: t | M47: t | N47: LORIVAL | O47: =IF(D47="","",IF(D47=0,0,COUNT(D47:M47))) -> 2 | P47: x | Q47: =IF(S47="","",IF(S47=0,0,COUNT(S47:AB47))) -> 1 | R47: BETO | S47: 11 | AA47: t | AB47: t
B48: 2 | C48: M. PORTO | D48: 11 | E48: 2 | F48: 2 | N48: JULIANO | O48: =IF(D48="","",IF(D48=0,0,COUNT(D48:M48))) -> 3 | P48: x | Q48: =IF(S48="","",IF(S48=0,0,COUNT(S48:AB48))) -> 3 | R48: DUGUET | S48: 10 | T48: 10 | U48: 10 | AB48: t
B49: 3 | C49: M. FERREIRA | D49: 0 | N49: MARCUS | O49: =IF(D49="","",IF(D49=0,0,COUNT(D49:M49))) -> 0 | P49: x | Q49: =IF(S49="","",IF(S49=0,0,COUNT(S49:AB49))) -> 3 | R49: ADOLPHO | S49: 8 | T49: 9 | U49: 9
B50: 4 | C50: LUIZ CLAUDIO | D50: 6 | N50: ELINTO | O50: =IF(D50="","",IF(D50=0,0,COUNT(D50:M50))) -> 1 | P50: x | Q50: =IF(S50="","",IF(S50=0,0,COUNT(S50:AB50))) -> 3 | R50: C. HENRIQUE | S50: 10 | T50: 10 | U50: 9
B51: 5 | C51: ZÉ RICARDO | D51: 4 | E51: 6 | F51: 9 | N51: JUNIOR | O51: =IF(D51="","",IF(D51=0,0,COUNT(D51:M51))) -> 3 | P51: x | Q51: =IF(S51="","",IF(S51=0,0,COUNT(S51:AB51))) -> 2 | R51: M. VASQUES | S51: 8 | T51: 15
B52: 6 | C52: MOTTA | D52: 0 | N52: MAGNO | O52: =IF(D52="","",IF(D52=0,0,COUNT(D52:M52))) -> 0 | P52: x | Q52: =IF(S52="","",IF(S52=0,0,COUNT(S52:AB52))) -> 0 | R52: LUIZ GOMES | S52: 0
B53: 7 | C53: JEAN | D53: 0 | N53: THIAGO | O53: =IF(D53="","",IF(D53=0,0,COUNT(D53:M53))) -> 0 | P53: x | Q53: =IF(S53="","",IF(S53=0,0,COUNT(S53:AB53))) -> 0 | R53: PAULO CESAR | S53: 0
B54: 8 | C54: FRANCISCO | D54: 8 | E54: 8 | N54: TONINHO | O54: =IF(D54="","",IF(D54=0,0,COUNT(D54:M54))) -> 2 | P54: x | Q54: =IF(S54="","",IF(S54=0,0,COUNT(S54:AB54))) -> 0 | R54: PIMENTEL | S54: 0
A56: SEMIFINAIS
A58: 0.54166667 | B58: 3 | C58: ELINTO | D58: 25 | N58: LORIVAL | O58: =IF(D58="","",IF(D58=0,0,COUNT(D58:M58))) -> 1 | P58: x | Q58: =IF(S58="","",IF(S58=0,0,COUNT(S58:AB58))) -> 1 | R58: JULIANO | S58: 22 | AB58: t
B59: 1 | C59: BETO | D59: 2 | E59: 10 | F59: 7 | L59: t | M59: t | N59: C. HENRIQUE | O59: =IF(D59="","",IF(D59=0,0,COUNT(D59:M59))) -> 3 | P59: x | Q59: =IF(S59="","",IF(S59=0,0,COUNT(S59:AB59))) -> 2 | R59: ADOLPHO | S59: 10 | T59: 19
B60: 4 | C60: VASQUES | D60: 15 | N60: JUNIOR | O60: =IF(D60="","",IF(D60=0,0,COUNT(D60:M60))) -> 1 | P60: x | Q60: =IF(S60="","",IF(S60=0,0,COUNT(S60:AB60))) -> 1 | R60: THIAGO | S60: 9
B61: 2 | C61: LUIZ GOMES | D61: 10 | N61: TONINHO | O61: =IF(D61="","",IF(D61=0,0,COUNT(D61:M61))) -> 1 | P61: x | Q61: =IF(S61="","",IF(S61=0,0,COUNT(S61:AB61))) -> 3 | R61: MAGNO | S61: 9 | T61: 8 | U61: 5
A63: FINAL
A65: 0.58333333 | B65: 4 | C65: ADOLPHO | D65: 8 | E65: 8 | N65: C. HENRIQUE | O65: =IF(D65="","",IF(D65=0,0,COUNT(D65:M65))) -> 2 | P65: x | Q65: =IF(S65="","",IF(S65=0,0,COUNT(S65:AB65))) -> 1 | R65: LORIVAL | S65: 5
B66: 1 | C66: TONINHO | D66: 0 | N66: JUNIOR | O66: =IF(D66="","",IF(D66=0,0,COUNT(D66:M66))) -> 0 | P66: x | Q66: =IF(S66="","",IF(S66=0,0,COUNT(S66:AB66))) -> 0 | R66: MAGNO | S66: 0

Sheet Classif da Seg Fase
A1: ='Classif da Prim Fase'!A1 -> Federação de Futebol de Mesa do DF - 3 Toques
A2: ='Tab Primeira Fase'!A2:AB2 -> VI Copa Centro-Oeste Individual 2020
A3: CLASSIFICAÇÃO FINAL DA SEGUNDA FASE
A5: G | B5: TÉCNICOS | C5: J | D5: V | E5: E | F5: D | G5: GF | H5: GC | I5: SG | J5: PG | K5: Aprov.
A7: 1º | B7: =INDIRECT('Auxiliar (2)'!W2) -> ADOLPHO | C7: =D7+E7+F7 -> 2 | D7: =INDIRECT('Auxiliar (2)'!X2) -> 2 | E7: =INDIRECT('Auxiliar (2)'!Y2) -> 0 | F7: =INDIRECT('Auxiliar (2)'!Z2) -> 0 | G7: =INDIRECT('Auxiliar (2)'!AA2) -> 4 | H7: =INDIRECT('Auxiliar (2)'!AB2) -> 1 | I7: =G7-H7 -> 3 | J7: =(3*D7)+E7 -> 6 | K7: =IF(ISERR((J7/(C7*3))),0,((J7/(C7*3)))) -> 1
A8: 2º | B8: =INDIRECT('Auxiliar (2)'!W3) -> ANDRÉ | C8: =D8+E8+F8 -> 2 | D8: =INDIRECT('Auxiliar (2)'!X3) -> 1 | E8: =INDIRECT('Auxiliar (2)'!Y3) -> 0 | F8: =INDIRECT('Auxiliar (2)'!Z3) -> 1 | G8: =INDIRECT('Auxiliar (2)'!AA3) -> 2 | H8: =INDIRECT('Auxiliar (2)'!AB3) -> 2 | I8: =G8-H8 -> 0 | J8: =(3*D8)+E8 -> 3 | K8: =IF(ISERR((J8/(C8*3))),0,((J8/(C8*3)))) -> 0.5
A9: 3º | B9: =INDIRECT('Auxiliar (2)'!W4) -> LUIZ CLÁUDIO | C9: =D9+E9+F9 -> 2 | D9: =INDIRECT('Auxiliar (2)'!X4) -> 0 | E9: =INDIRECT('Auxiliar (2)'!Y4) -> 0 | F9: =INDIRECT('Auxiliar (2)'!Z4) -> 2 | G9: =INDIRECT('Auxiliar (2)'!AA4) -> 0 | H9: =INDIRECT('Auxiliar (2)'!AB4) -> 3 | I9: =G9-H9 -> -3 | J9: =(3*D9)+E9 -> 0 | K9: =IF(ISERR((J9/(C9*3))),0,((J9/(C9*3)))) -> 0
A11: H | B11: TÉCNICOS | C11: J | D11: V | E11: E | F11: D | G11: GF | H11: GC | I11: SG | J11: PG | K11: Aprov.
