Workbook

Sheet Auxiliar
A1: ='Tab Primeira Fase'!N8 -> M. PORTO | B1: =IF('Tab Primeira Fase'!O8<'Tab Primeira Fase'!Q8,0,IF('Tab Primeira Fase'!O8='Tab Primeira Fase'!Q8,1,IF('Tab Primeira Fase'!O8>'Tab Primeira Fase'!Q8,2))) -> 2 | C1: ='Tab Primeira Fase'!R8 -> PAULÃO | D1: =IF('Tab Primeira Fase'!O8>'Tab Primeira Fase'!Q8,0,IF('Tab Primeira Fase'!O8='Tab Primeira Fase'!Q8,1,IF('Tab Primeira Fase'!O8<'Tab Primeira Fase'!Q8,2))) -> 0 | E1: =IF(ISNUMBER('Tab Primeira Fase'!O8),1,0) -> 1 | F1: =IF(B1*E1=2,1,0) -> 1 | G1: =IF(B1*E1=1,1,0) -> 0 | H1: =IF(B1=0,IF(E1=1,1,0),0) -> 0 | I1: =IF(E1*D1=2,1,0) -> 0 | J1: =IF(E1*D1=1,1,0) -> 0 | K1: =IF(D1=0,IF(E1=1,1,0),0) -> 1 | L1: CLUBES | M1: V | N1: E | O1: D | P1: GP | Q1: GC | W1: L | X1: M | Y1: N | Z1: O | AA1: P | AB1: Q
A2: ='Tab Primeira Fase'!N9 -> ORNELAS | B2: =IF('Tab Primeira Fase'!O9<'Tab Primeira Fase'!Q9,0,IF('Tab Primeira Fase'!O9='Tab Primeira Fase'!Q9,1,IF('Tab Primeira Fase'!O9>'Tab Primeira Fase'!Q9,2))) -> 0 | C2: ='Tab Primeira Fase'!R9 -> THIAGO | D2: =IF('Tab Primeira Fase'!O9>'Tab Primeira Fase'!Q9,0,IF('Tab Primeira Fase'!O9='Tab Primeira Fase'!Q9,1,IF('Tab Primeira Fase'!O9<'Tab Primeira Fase'!Q9,2))) -> 2 | E2: =IF(ISNUMBER('Tab Primeira Fase'!O9),1,0) -> 1 | F2: =IF(B2*E2=2,1,0) -> 0 | G2: =IF(B2*E2=1,1,0) -> 0 | H2: =IF(B2=0,IF(E2=1,1,0),0) -> 1 | I2: =IF(E2*D2=2,1,0) -> 1 | J2: =IF(E2*D2=1,1,0) -> 0 | K2: =IF(D2=0,IF(E2=1,1,0),0) -> 0 | L2: CARUSO | M2: =SUMIF($A$1:$A$773,L2,$F$1:$F$773)+SUMIF($C$1:$C$773,L2,$I$1:$I$773) -> 3 | N2: =SUMIF($A$1:$A$773,L2,$G$1:$G$773)+SUMIF($C$1:$C$773,L2,$J$1:$J$773) -> 1 | O2: =SUMIF($A$1:$A$773,L2,$H$1:$H$773)+SUMIF($C$1:$C$773,L2,$K$1:$K$773) -> 2 | P2: =SUMIF('Tab Primeira Fase'!$N$8:$N$831,L2,'Tab Primeira Fase'!$O$8:$O$831)+SUMIF('Tab Primeira Fase'!$R$8:$R$831,L2,'Tab Primeira Fase'!$Q$8:$Q$831) -> 10 | Q2: =SUMIF('Tab Primeira Fase'!$N$8:$N$831,L2,'Tab Primeira Fase'!$Q$8:$Q$831)+SUMIF('Tab Primeira Fase'!$R$8:$R$831,L2,'Tab Primeira Fase'!$O$8:$O$831) -> 7 | R2: =(1000000*((3*M2)+N2))+(10000*M2)+(100*(P2-Q2))+P2+(0.001*(7-T2)) -> 10030310 | S2: =RANK(R2,$R$2:$R$8) -> 3 | T2: 1 | U2: =IF($S$2=T2,2,0)+IF($S$3=T2,3,0)+IF($S$4=T2,4,0)+IF($S$5=T2,5,0)+IF($S$6=T2,6,0)+IF($S$7=T2,7,0)+IF($S$8=T2,8,0) -> 3 | W2: =CONCATENATE("'Auxiliar'!",W$1,$U2) -> 'Auxiliar'!L3 | X2: =CONCATENATE("'Auxiliar'!",X$1,$U2) -> 'Auxiliar'!M3 | Y2: =CONCATENATE("'Auxiliar'!",Y$1,$U2) -> 'Auxiliar'!N3 | Z2: =CONCATENATE("'Auxiliar'!",Z$1,$U2) -> 'Auxiliar'!O3 | AA2: =CONCATENATE("'Auxiliar'!",AA$1,$U2) -> 'Auxiliar'!P3 | AB2: =CONCATENATE("'Auxiliar'!",AB$1,$U2) -> 'Auxiliar'!Q3
A3: ='Tab Primeira Fase'!N10 -> CARUSO | B3: =IF('Tab Primeira Fase'!O10<'Tab Primeira Fase'!Q10,0,IF('Tab Primeira Fase'!O10='Tab Primeira Fase'!Q10,1,IF('Tab Primeira Fase'!O10>'Tab Primeira Fase'!Q10,2))) -> 0 | C3: ='Tab Primeira Fase'!R10 -> ADOLPHO | D3: =IF('Tab Primeira Fase'!O10>'Tab Primeira Fase'!Q10,0,IF('Tab Primeira Fase'!O10='Tab Primeira Fase'!Q10,1,IF('Tab Primeira Fase'!O10<'Tab Primeira Fase'!Q10,2))) -> 2 | E3: =IF(ISNUMBER('Tab Primeira Fase'!O10),1,0) -> 1 | F3: =IF(B3*E3=2,1,0) -> 0 | G3: =IF(B3*E3=1,1,0) -> 0 | H3: =IF(B3=0,IF(E3=1,1,0),0) -> 1 | I3: =IF(E3*D3=2,1,0) -> 1 | J3: =IF(E3*D3=1,1,0) -> 0 | K3: =IF(D3=0,IF(E3=1,1,0),0) -> 0 | L3: ADOLPHO | M3: =SUMIF($A$1:$A$773,L3,$F$1:$F$773)+SUMIF($C$1:$C$773,L3,$I$1:$I$773) -> 4 | N3: =SUMIF($A$1:$A$773,L3,$G$1:$G$773)+SUMIF($C$1:$C$773,L3,$J$1:$J$773) -> 2 | O3: =SUMIF($A$1:$A$773,L3,$H$1:$H$773)+SUMIF($C$1:$C$773,L3,$K$1:$K$773) -> 0 | P3: =SUMIF('Tab Primeira Fase'!$N$8:$N$831,L3,'Tab Primeira Fase'!$O$8:$O$831)+SUMIF('Tab Primeira Fase'!$R$8:$R$831,L3,'Tab Primeira Fase'!$Q$8:$Q$831) -> 13 | Q3: =SUMIF('Tab Primeira Fase'!$N$8:$N$831,L3,'Tab Primeira Fase'!$Q$8:$Q$831)+SUMIF('Tab Primeira Fase'!$R$8:$R$831,L3,'Tab Primeira Fase'!$O$8:$O$831) -> 1 | R3: =(1000000*((3*M3)+N3))+(10000*M3)+(100*(P3-Q3))+P3+(0.001*(7-T3)) -> 14041213 | S3: =RANK(R3,$R$2:$R$8) -> 1 | T3: 2 | U3: =IF($S$2=T3,2,0)+IF($S$3=T3,3,0)+IF($S$4=T3,4,0)+IF($S$5=T3,5,0)+IF($S$6=T3,6,0)+IF($S$7=T3,7,0)+IF($S$8=T3,8,0) -> 7 | W3: =CONCATENATE("'Auxiliar'!",W$1,$U3) -> 'Auxiliar'!L7 | X3: =CONCATENATE("'Auxiliar'!",X$1,$U3) -> 'Auxiliar'!M7 | Y3: =CONCATENATE("'Auxiliar'!",Y$1,$U3) -> 'Auxiliar'!N7 | Z3: =CONCATENATE("'Auxiliar'!",Z$1,$U3) -> 'Auxiliar'!O7 | AA3: =CONCATENATE("'Auxiliar'!",AA$1,$U3) -> 'Auxiliar'!P7 | AB3: =CONCATENATE("'Auxiliar'!",AB$1,$U3) -> 'Auxiliar'!Q7
A4: ='Tab Primeira Fase'!N11 -> MOTTA | B4: =IF('Tab Primeira Fase'!O11<'Tab Primeira Fase'!Q11,0,IF('Tab Primeira Fase'!O11='Tab Primeira Fase'!Q11,1,IF('Tab Primeira Fase'!O11>'Tab Primeira Fase'!Q11,2))) -> 0 | C4: ='Tab Primeira Fase'!R11 -> TONINHO | D4: =IF('Tab Primeira Fase'!O11>'Tab Primeira Fase'!Q11,0,IF('Tab Primeira Fase'!O11='Tab Primeira Fase'!Q11,1,IF('Tab Primeira Fase'!O11<'Tab Primeira Fase'!Q11,2))) -> 2 | E4: =IF(ISNUMBER('Tab Primeira Fase'!O11),1,0) -> 1 | F4: =IF(B4*E4=2,1,0) -> 0 | G4: =IF(B4*E4=1,1,0) -> 0 | H4: =IF(B4=0,IF(E4=1,1,0),0) -> 1 | I4: =IF(E4*D4=2,1,0) -> 1 | J4: =IF(E4*D4=1,1,0) -> 0 | K4: =IF(D4=0,IF(E4=1,1,0),0) -> 0 | L4: THIAGO | M4: =SUMIF($A$1:$A$773,L4,$F$1:$F$773)+SUMIF($C$1:$C$773,L4,$I$1:$I$773) -> 2 | N4: =SUMIF($A$1:$A$773,L4,$G$1:$G$773)+SUMIF($C$1:$C$773,L4,$J$1:$J$773) -> 1 | O4: =SUMIF($A$1:$A$773,L4,$H$1:$H$773)+SUMIF($C$1:$C$773,L4,$K$1:$K$773) -> 3 | P4: =SUMIF('Tab Primeira Fase'!$N$8:$N$831,L4,'Tab Primeira Fase'!$O$8:$O$831)+SUMIF('Tab Primeira Fase'!$R$8:$R$831,L4,'Tab Primeira Fase'!$Q$8:$Q$831) -> 6 | Q4: =SUMIF('Tab Primeira Fase'!$N$8:$N$831,L4,'Tab Primeira Fase'!$Q$8:$Q$831)+SUMIF('Tab Primeira Fase'!$R$8:$R$831,L4,'Tab Primeira Fase'!$O$8:$O$831) -> 8 | R4: =(1000000*((3*M4)+N4))+(10000*M4)+(100*(P4-Q4))+P4+(0.001*(7-T4)) -> 7019806 | S4: =RANK(R4,$R$2:$R$8) -> 5 | T4: 3 | U4: =IF($S$2=T4,2,0)+IF($S$3=T4,3,0)+IF($S$4=T4,4,0)+IF($S$5=T4,5,0)+IF($S$6=T4,6,0)+IF($S$7=T4,7,0)+IF($S$8=T4,8,0) -> 2 | W4: =CONCATENATE("'Auxiliar'!",W$1,$U4) -> 'Auxiliar'!L2 | X4: =CONCATENATE("'Auxiliar'!",X$1,$U4) -> 'Auxiliar'!M2 | Y4: =CONCATENATE("'Auxiliar'!",Y$1,$U4) -> 'Auxiliar'!N2 | Z4: =CONCATENATE("'Auxiliar'!",Z$1,$U4) -> 'Auxiliar'!O2 | AA4: =CONCATENATE("'Auxiliar'!",AA$1,$U4) -> 'Auxiliar'!P2 | AB4: =CONCATENATE("'Auxiliar'!",AB$1,$U4) -> 'Auxiliar'!Q2
A5: ='Tab Primeira Fase'!N12 -> PIMENTEL | B5: =IF('Tab Primeira Fase'!O12<'Tab Primeira Fase'!Q12,0,IF('Tab Primeira Fase'!O12='Tab Primeira Fase'!Q12,1,IF('Tab Primeira Fase'!O12>'Tab Primeira Fase'!Q12,2))) -> 0 | C5: ='Tab Primeira Fase'!R12 -> LUIZ CLÁUDIO | D5: =IF('Tab Primeira Fase'!O12>'Tab Primeira Fase'!Q12,0,IF('Tab Primeira Fase'!O12='Tab Primeira Fase'!Q12,1,IF('Tab Primeira Fase'!O12<'Tab Primeira Fase'!Q12,2))) -> 2 | E5: =IF(ISNUMBER('Tab Primeira Fase'!O12),1,0) -> 1 | F5: =IF(B5*E5=2,1,0) -> 0 | G5: =IF(B5*E5=1,1,0) -> 0 | H5: =IF(B5=0,IF(E5=1,1,0),0) -> 1 | I5: =IF(E5*D5=2,1,0) -> 1 | J5: =IF(E5*D5=1,1,0) -> 0 | K5: =IF(D5=0,IF(E5=1,1,0),0) -> 0 | L5: PAULÃO | M5: =SUMIF($A$1:$A$773,L5,$F$1:$F$773)+SUMIF($C$1:$C$773,L5,$I$1:$I$773) -> 1 | N5: =SUMIF($A$1:$A$773,L5,$G$1:$G$773)+SUMIF($C$1:$C$773,L5,$J$1:$J$773) -> 1 | O5: =SUMIF($A$1:$A$773,L5,$H$1:$H$773)+SUMIF($C$1:$C$773,L5,$K$1:$K$773) -> 4 | P5: =SUMIF('Tab Primeira Fase'!$N$8:$N$831,L5,'Tab Primeira Fase'!$O$8:$O$831)+SUMIF('Tab Primeira Fase'!$R$8:$R$831,L5,'Tab Primeira Fase'!$Q$8:$Q$831) -> 3 | Q5: =SUMIF('Tab Primeira Fase'!$N$8:$N$831,L5,'Tab Primeira Fase'!$Q$8:$Q$831)+SUMIF('Tab Primeira Fase'!$R$8:$R$831,L5,'Tab Primeira Fase'!$O$8:$O$831) -> 10 | R5: =(1000000*((3*M5)+N5))+(10000*M5)+(100*(P5-Q5))+P5+(0.001*(7-T5)) -> 4009303 | S5: =RANK(R5,$R$2:$R$8) -> 6 | T5: 4 | U5: =IF($S$2=T5,2,0)+IF($S$3=T5,3,0)+IF($S$4=T5,4,0)+IF($S$5=T5,5,0)+IF($S$6=T5,6,0)+IF($S$7=T5,7,0)+IF($S$8=T5,8,0) -> 6 | W5: =CONCATENATE("'Auxiliar'!",W$1,$U5) -> 'Auxiliar'!L6 | X5: =CONCATENATE("'Auxiliar'!",X$1,$U5) -> 'Auxiliar'!M6 | Y5: =CONCATENATE("'Auxiliar'!",Y$1,$U5) -> 'Auxiliar'!N6 | Z5: =CONCATENATE("'Auxiliar'!",Z$1,$U5) -> 'Auxiliar'!O6 | AA5: =CONCATENATE("'Auxiliar'!",AA$1,$U5) -> 'Auxiliar'!P6 | AB5: =CONCATENATE("'Auxiliar'!",AB$1,$U5) -> 'Auxiliar'!Q6
A6: ='Tab Primeira Fase'!N13 -> FRANCISCO | B6: =IF('Tab Primeira Fase'!O13<'Tab Primeira Fase'!Q13,0,IF('Tab Primeira Fase'!O13='Tab Primeira Fase'!Q13,1,IF('Tab Primeira Fase'!O13>'Tab Primeira Fase'!Q13,2))) -> 0 | C6: ='Tab Primeira Fase'!R13 -> ANDRÉ | D6: =IF('Tab Primeira Fase'!O13>'Tab Primeira Fase'!Q13,0,IF('Tab Primeira Fase'!O13='Tab Primeira Fase'!Q13,1,IF('Tab Primeira Fase'!O13<'Tab Primeira Fase'!Q13,2))) -> 2 | E6: =IF(ISNUMBER('Tab Primeira Fase'!O13),1,0) -> 1 | F6: =IF(B6*E6=2,1,0) -> 0 | G6: =IF(B6*E6=1,1,0) -> 0 | H6: =IF(B6=0,IF(E6=1,1,0),0) -> 1 | I6: =IF(E6*D6=2,1,0) -> 1 | J6: =IF(E6*D6=1,1,0) -> 0 | K6: =IF(D6=0,IF(E6=1,1,0),0) -> 0 | L6: RAFAEL PENA | M6: =SUMIF($A$1:$A$773,L6,$F$1:$F$773)+SUMIF($C$1:$C$773,L6,$I$1:$I$773) -> 2 | N6: =SUMIF($A$1:$A$773,L6,$G$1:$G$773)+SUMIF($C$1:$C$773,L6,$J$1:$J$773) -> 2 | O6: =SUMIF($A$1:$A$773,L6,$H$1:$H$773)+SUMIF($C$1:$C$773,L6,$K$1:$K$773) -> 2 | P6: =SUMIF('Tab Primeira Fase'!$N$8:$N$831,L6,'Tab Primeira Fase'!$O$8:$O$831)+SUMIF('Tab Primeira Fase'!$R$8:$R$831,L6,'Tab Primeira Fase'!$Q$8:$Q$831) -> 6 | Q6: =SUMIF('Tab Primeira Fase'!$N$8:$N$831,L6,'Tab Primeira Fase'!$Q$8:$Q$831)+SUMIF('Tab Primeira Fase'!$R$8:$R$831,L6,'Tab Primeira Fase'!$O$8:$O$831) -> 10 | R6: =(1000000*((3*M6)+N6))+(10000*M6)+(100*(P6-Q6))+P6+(0.001*(7-T6)) -> 8019606 | S6: =RANK(R6,$R$2:$R$8) -> 4 | T6: 5 | U6: =IF($S$2=T6,2,0)+IF($S$3=T6,3,0)+IF($S$4=T6,4,0)+IF($S$5=T6,5,0)+IF($S$6=T6,6,0)+IF($S$7=T6,7,0)+IF($S$8=T6,8,0) -> 4 | W6: =CONCATENATE("'Auxiliar'!",W$1,$U6) -> 'Auxiliar'!L4 | X6: =CONCATENATE("'Auxiliar'!",X$1,$U6) -> 'Auxiliar'!M4 | Y6: =CONCATENATE("'Auxiliar'!",Y$1,$U6) -> 'Auxiliar'!N4 | Z6: =CONCATENATE("'Auxiliar'!",Z$1,$U6) -> 'Auxiliar'!O4 | AA6: =CONCATENATE("'Auxiliar'!",AA$1,$U6) -> 'Auxiliar'!P4 | AB6: =CONCATENATE("'Auxiliar'!",AB$1,$U6) -> 'Auxiliar'!Q4
A7: ='Tab Primeira Fase'!N14 -> LUIZ GOMES | B7: =IF('Tab Primeira Fase'!O14<'Tab Primeira Fase'!Q14,0,IF('Tab Primeira Fase'!O14='Tab Primeira Fase'!Q14,1,IF('Tab Primeira Fase'!O14>'Tab Primeira Fase'!Q14,2))) -> 0 | C7: ='Tab Primeira Fase'!R14 -> ZÉ RICARDO | D7: =IF('Tab Primeira Fase'!O14>'Tab Primeira Fase'!Q14,0,IF('Tab Primeira Fase'!O14='Tab Primeira Fase'!Q14,1,IF('Tab Primeira Fase'!O14<'Tab Primeira Fase'!Q14,2))) -> 2 | E7: =IF(ISNUMBER('Tab Primeira Fase'!O14),1,0) -> 1 | F7: =IF(B7*E7=2,1,0) -> 0 | G7: =IF(B7*E7=1,1,0) -> 0 | H7: =IF(B7=0,IF(E7=1,1,0),0) -> 1 | I7: =IF(E7*D7=2,1,0) -> 1 | J7: =IF(E7*D7=1,1,0) -> 0 | K7: =IF(D7=0,IF(E7=1,1,0),0) -> 0 | L7: M. PORTO | M7: =SUMIF($A$1:$A$773,L7,$F$1:$F$773)+SUMIF($C$1:$C$773,L7,$I$1:$I$773) -> 3 | N7: =SUMIF($A$1:$A$773,L7,$G$1:$G$773)+SUMIF($C$1:$C$773,L7,$J$1:$J$773) -> 2 | O7: =SUMIF($A$1:$A$773,L7,$H$1:$H$773)+SUMIF($C$1:$C$773,L7,$K$1:$K$773) -> 1 | P7: =SUMIF('Tab Primeira Fase'!$N$8:$N$831,L7,'Tab Primeira Fase'!$O$8:$O$831)+SUMIF('Tab Primeira Fase'!$R$8:$R$831,L7,'Tab Primeira Fase'!$Q$8:$Q$831) -> 11 | Q7: =SUMIF('Tab Primeira Fase'!$N$8:$N$831,L7,'Tab Primeira Fase'!$Q$8:$Q$831)+SUMIF('Tab Primeira Fase'!$R$8:$R$831,L7,'Tab Primeira Fase'!$O$8:$O$831) -> 5 | R7: =(1000000*((3*M7)+N7))+(10000*M7)+(100*(P7-Q7))+P7+(0.001*(7-T7)) -> 11030611 | S7: =RANK(R7,$R$2:$R$8) -> 2 | T7: 6 | U7: =IF($S$2=T7,2,0)+IF($S$3=T7,3,0)+IF($S$4=T7,4,0)+IF($S$5=T7,5,0)+IF($S$6=T7,6,0)+IF($S$7=T7,7,0)+IF($S$8=T7,8,0) -> 5 | W7: =CONCATENATE("'Auxiliar'!",W$1,$U7) -> 'Auxiliar'!L5 | X7: =CONCATENATE("'Auxiliar'!",X$1,$U7) -> 'Auxiliar'!M5 | Y7: =CONCATENATE("'Auxiliar'!",Y$1,$U7) -> 'Auxiliar'!N5 | Z7: =CONCATENATE("'Auxiliar'!",Z$1,$U7) -> 'Auxiliar'!O5 | AA7: =CONCATENATE("'Auxiliar'!",AA$1,$U7) -> 'Auxiliar'!P5 | AB7: =CONCATENATE("'Auxiliar'!",AB$1,$U7) -> 'Auxiliar'!Q5
A8: ='Tab Primeira Fase'!N15 -> M. SILVA | B8: =IF('Tab Primeira Fase'!O15<'Tab Primeira Fase'!Q15,0,IF('Tab Primeira Fase'!O15='Tab Primeira Fase'!Q15,1,IF('Tab Primeira Fase'!O15>'Tab Primeira Fase'!Q15,2))) -> 2 | C8: ='Tab Primeira Fase'!R15 -> FARNEZE | D8: =IF('Tab Primeira Fase'!O15>'Tab Primeira Fase'!Q15,0,IF('Tab Primeira Fase'!O15='Tab Primeira Fase'!Q15,1,IF('Tab Primeira Fase'!O15<'Tab Primeira Fase'!Q15,2))) -> 0 | E8: =IF(ISNUMBER('Tab Primeira Fase'!O15),1,0) -> 1 | F8: =IF(B8*E8=2,1,0) -> 1 | G8: =IF(B8*E8=1,1,0) -> 0 | H8: =IF(B8=0,IF(E8=1,1,0),0) -> 0 | I8: =IF(E8*D8=2,1,0) -> 0 | J8: =IF(E8*D8=1,1,0) -> 0 | K8: =IF(D8=0,IF(E8=1,1,0),0) -> 1 | L8: ORNELAS | M8: =SUMIF($A$1:$A$773,L8,$F$1:$F$773)+SUMIF($C$1:$C$773,L8,$I$1:$I$773) -> 1 | N8: =SUMIF($A$1:$A$773,L8,$G$1:$G$773)+SUMIF($C$1:$C$773,L8,$J$1:$J$773) -> 1 | O8: =SUMIF($A$1:$A$773,L8,$H$1:$H$773)+SUMIF($C$1:$C$773,L8,$K$1:$K$773) -> 4 | P8: =SUMIF('Tab Primeira Fase'!$N$8:$N$831,L8,'Tab Primeira Fase'!$O$8:$O$831)+SUMIF('Tab Primeira Fase'!$R$8:$R$831,L8,'Tab Primeira Fase'!$Q$8:$Q$831) -> 4 | Q8: =SUMIF('Tab Primeira Fase'!$N$8:$N$831,L8,'Tab Primeira Fase'!$Q$8:$Q$831)+SUMIF('Tab Primeira Fase'!$R$8:$R$831,L8,'Tab Primeira Fase'!$O$8:$O$831) -> 12 | R8: =(1000000*((3*M8)+N8))+(10000*M8)+(100*(P8-Q8))+P8+(0.001*(7-T8)) -> 4009204 | S8: =RANK(R8,$R$2:$R$8) -> 7 | T8: 7 | U8: =IF($S$2=T8,2,0)+IF($S$3=T8,3,0)+IF($S$4=T8,4,0)+IF($S$5=T8,5,0)+IF($S$6=T8,6,0)+IF($S$7=T8,7,0)+IF($S$8=T8,8,0) -> 8 | W8: =CONCATENATE("'Auxiliar'!",W$1,$U8) -> 'Auxiliar'!L8 | X8: =CONCATENATE("'Auxiliar'!",X$1,$U8) -> 'Auxiliar'!M8 | Y8: =CONCATENATE("'Auxiliar'!",Y$1,$U8) -> 'Auxiliar'!N8 | Z8: =CONCATENATE("'Auxiliar'!",Z$1,$U8) -> 'Auxiliar'!O8 | AA8: =CONCATENATE("'Auxiliar'!",AA$1,$U8) -> 'Auxiliar'!P8 | AB8: =CONCATENATE("'Auxiliar'!",AB$1,$U8) -> 'Auxiliar'!Q8
A9: ='Tab Primeira Fase'!N16 -> M. VASQUES | B9: =IF('Tab Primeira Fase'!O16<'Tab Primeira Fase'!Q16,0,IF('Tab Primeira Fase'!O16='Tab Primeira Fase'!Q16,1,IF('Tab Primeira Fase'!O16>'Tab Primeira Fase'!Q16,2))) -> 0 | C9: ='Tab Primeira Fase'!R16 -> MAGNO | D9: =IF('Tab Primeira Fase'!O16>'Tab Primeira Fase'!Q16,0,IF('Tab Primeira Fase'!O16='Tab Primeira Fase'!Q16,1,IF('Tab Primeira Fase'!O16<'Tab Primeira Fase'!Q16,2))) -> 2 | E9: =IF(ISNUMBER('Tab Primeira Fase'!O16),1,0) -> 1 | F9: =IF(B9*E9=2,1,0) -> 0 | G9: =IF(B9*E9=1,1,0) -> 0 | H9: =IF(B9=0,IF(E9=1,1,0),0) -> 1 | I9: =IF(E9*D9=2,1,0) -> 1 | J9: =IF(E9*D9=1,1,0) -> 0 | K9: =IF(D9=0,IF(E9=1,1,0),0) -> 0
A10: ='Tab Primeira Fase'!N17 -> MARCUS | B10: =IF('Tab Primeira Fase'!O17<'Tab Primeira Fase'!Q17,0,IF('Tab Primeira Fase'!O17='Tab Primeira Fase'!Q17,1,IF('Tab Primeira Fase'!O17>'Tab Primeira Fase'!Q17,2))) -> 2 | C10: ='Tab Primeira Fase'!R17 -> ROBERTO | D10: =IF('Tab Primeira Fase'!O17>'Tab Primeira Fase'!Q17,0,IF('Tab Primeira Fase'!O17='Tab Primeira Fase'!Q17,1,IF('Tab Primeira Fase'!O17<'Tab Primeira Fase'!Q17,2))) -> 0 | E10: =IF(ISNUMBER('Tab Primeira Fase'!O17),1,0) -> 1 | F10: =IF(B10*E10=2,1,0) -> 1 | G10: =IF(B10*E10=1,1,0) -> 0 | H10: =IF(B10=0,IF(E10=1,1,0),0) -> 0 | I10: =IF(E10*D10=2,1,0) -> 0 | J10: =IF(E10*D10=1,1,0) -> 0 | K10: =IF(D10=0,IF(E10=1,1,0),0) -> 1 | L10: TONINHO | M10: =SUMIF($A$1:$A$773,L10,$F$1:$F$773)+SUMIF($C$1:$C$773,L10,$I$1:$I$773) -> 1 | N10: =SUMIF($A$1:$A$773,L10,$G$1:$G$773)+SUMIF($C$1:$C$773,L10,$J$1:$J$773) -> 1 | O10: =SUMIF($A$1:$A$773,L10,$H$1:$H$773)+SUMIF($C$1:$C$773,L10,$K$1:$K$773) -> 3 | P10: =SUMIF('Tab Primeira Fase'!$N$8:$N$831,L10,'Tab Primeira Fase'!$O$8:$O$831)+SUMIF('Tab Primeira Fase'!$R$8:$R$831,L10,'Tab Primeira Fase'!$Q$8:$Q$831) -> 6 | Q10: =SUMIF('Tab Primeira Fase'!$N$8:$N$831,L10,'Tab Primeira Fase'!$Q$8:$Q$831)+SUMIF('Tab Primeira Fase'!$R$8:$R$831,L10,'Tab Primeira Fase'!$O$8:$O$831) -> 7 | R10: =(1000000*((3*M10)+N10))+(10000*M10)+(100*(P10-Q10))+P10+(0.001*(6-T10)) -> 4009906 | S10: =RANK(R10,$R$10:$R$15) -> 4 | T10: 1 | U10: =IF($S$10=T10,10,0)+IF($S$11=T10,11,0)+IF($S$12=T10,12,0)+IF($S$13=T10,13,0)+IF($S$14=T10,14,0)+IF($S$15=T10,15,0) -> 15 | W10: =CONCATENATE("'Auxiliar'!",W$1,$U10) -> 'Auxiliar'!L15 | X10: =CONCATENATE("'Auxiliar'!",X$1,$U10) -> 'Auxiliar'!M15 | Y10: =CONCATENATE("'Auxiliar'!",Y$1,$U10) -> 'Auxiliar'!N15 | Z10: =CONCATENATE("'Auxiliar'!",Z$1,$U10) -> 'Auxiliar'!O15 | AA10: =CONCATENATE("'Auxiliar'!",AA$1,$U10) -> 'Auxiliar'!P15 | AB10: =CONCATENATE("'Auxiliar'!",AB$1,$U10) -> 'Auxiliar'!Q15
A11: ='Tab Primeira Fase'!N18 -> JEAN | B11: =IF('Tab Primeira Fase'!O18<'Tab Primeira Fase'!Q18,0,IF('Tab Primeira Fase'!O18='Tab Primeira Fase'!Q18,1,IF('Tab Primeira Fase'!O18>'Tab Primeira Fase'!Q18,2))) -> 0 | C11: ='Tab Primeira Fase'!R18 -> M. FERREIRA | D11: =IF('Tab Primeira Fase'!O18>'Tab Primeira Fase'!Q18,0,IF('Tab Primeira Fase'!O18='Tab Primeira Fase'!Q18,1,IF('Tab Primeira Fase'!O18<'Tab Primeira Fase'!Q18,2))) -> 2 | E11: =IF(ISNUMBER('Tab Primeira Fase'!O18),1,0) -> 1 | F11: =IF(B11*E11=2,1,0) -> 0 | G11: =IF(B11*E11=1,1,0) -> 0 | H11: =IF(B11=0,IF(E11=1,1,0),0) -> 1 | I11: =IF(E11*D11=2,1,0) -> 1 | J11: =IF(E11*D11=1,1,0) -> 0 | K11: =IF(D11=0,IF(E11=1,1,0),0) -> 0 | L11: BETO | M11: =SUMIF($A$1:$A$773,L11,$F$1:$F$773)+SUMIF($C$1:$C$773,L11,$I$1:$I$773) -> 3 | N11: =SUMIF($A$1:$A$773,L11,$G$1:$G$773)+SUMIF($C$1:$C$773,L11,$J$1:$J$773) -> 0 | O11: =SUMIF($A$1:$A$773,L11,$H$1:$H$773)+SUMIF($C$1:$C$773,L11,$K$1:$K$773) -> 2 | P11: =SUMIF('Tab Primeira Fase'!$N$8:$N$831,L11,'Tab Primeira Fase'!$O$8:$O$831)+SUMIF('Tab Primeira Fase'!$R$8:$R$831,L11,'Tab Primeira Fase'!$Q$8:$Q$831) -> 8 | Q11: =SUMIF('Tab Primeira Fase'!$N$8:$N$831,L11,'Tab Primeira Fase'!$Q$8:$Q$831)+SUMIF('Tab Primeira Fase'!$R$8:$R$831,L11,'Tab Primeira Fase'!$O$8:$O$831) -> 6 | R11: =(1000000*((3*M11)+N11))+(10000*M11)+(100*(P11-Q11))+P11+(0.001*(6-T11)) -> 9030208 | S11: =RANK(R11,$R$10:$R$15) -> 3 | T11: 2 | U11: =IF($S$10=T11,10,0)+IF($S$11=T11,11,0)+IF($S$12=T11,12,0)+IF($S$13=T11,13,0)+IF($S$14=T11,14,0)+IF($S$15=T11,15,0) -> 14 | W11: =CONCATENATE("'Auxiliar'!",W$1,$U11) -> 'Auxiliar'!L14 | X11: =CONCATENATE("'Auxiliar'!",X$1,$U11) -> 'Auxiliar'!M14 | Y11: =CONCATENATE("'Auxiliar'!",Y$1,$U11) -> 'Auxiliar'!N14 | Z11: =CONCATENATE("'Auxiliar'!",Z$1,$U11) -> 'Auxiliar'!O14 | AA11: =CONCATENATE("'Auxiliar'!",AA$1,$U11) -> 'Auxiliar'!P14 | AB11: =CONCATENATE("'Auxiliar'!",AB$1,$U11) -> 'Auxiliar'!Q14
A12: ='Tab Primeira Fase'!N19 -> MARQUINHO | B12: =IF('Tab Primeira Fase'!O19<'Tab Primeira Fase'!Q19,0,IF('Tab Primeira Fase'!O19='Tab Primeira Fase'!Q19,1,IF('Tab Primeira Fase'!O19>'Tab Primeira Fase'!Q19,2))) -> 2 | C12: ='Tab Primeira Fase'!R19 -> ALBERTO | D12: =IF('Tab Primeira Fase'!O19>'Tab Primeira Fase'!Q19,0,IF('Tab Primeira Fase'!O19='Tab Primeira Fase'!Q19,1,IF('Tab Primeira Fase'!O19<'Tab Primeira Fase'!Q19,2))) -> 0 | E12: =IF(ISNUMBER('Tab Primeira Fase'!O19),1,0) -> 1 | F12: =IF(B12*E12=2,1,0) -> 1 | G12: =IF(B12*E12=1,1,0) -> 0 | H12: =IF(B12=0,IF(E12=1,1,0),0) -> 0 | I12: =IF(E12*D12=2,1,0) -> 0 | J12: =IF(E12*D12=1,1,0) -> 0 | K12: =IF(D12=0,IF(E12=1,1,0),0) -> 1 | L12: MOTTA | M12: =SUMIF($A$1:$A$773,L12,$F$1:$F$773)+SUMIF($C$1:$C$773,L12,$I$1:$I$773) -> 1 | N12: =SUMIF($A$1:$A$773,L12,$G$1:$G$773)+SUMIF($C$1:$C$773,L12,$J$1:$J$773) -> 0 | O12: =SUMIF($A$1:$A$773,L12,$H$1:$H$773)+SUMIF($C$1:$C$773,L12,$K$1:$K$773) -> 4 | P12: =SUMIF('Tab Primeira Fase'!$N$8:$N$831,L12,'Tab Primeira Fase'!$O$8:$O$831)+SUMIF('Tab Primeira Fase'!$R$8:$R$831,L12,'Tab Primeira Fase'!$Q$8:$Q$831) -> 3 | Q12: =SUMIF('Tab Primeira Fase'!$N$8:$N$831,L12,'Tab Primeira Fase'!$Q$8:$Q$831)+SUMIF('Tab Primeira Fase'!$R$8:$R$831,L12,'Tab Primeira Fase'!$O$8:$O$831) -> 10 | R12: =(1000000*((3*M12)+N12))+(10000*M12)+(100*(P12-Q12))+P12+(0.001*(6-T12)) -> 3009303 | S12: =RANK(R12,$R$10:$R$15) -> 6 | T12: 3 | U12: =IF($S$10=T12,10,0)+IF($S$11=T12,11,0)+IF($S$12=T12,12,0)+IF($S$13=T12,13,0)+IF($S$14=T12,14,0)+IF($S$15=T12,15,0) -> 11 | W12: =CONCATENATE("'Auxiliar'!",W$1,$U12) -> 'Auxiliar'!L11 | X12: =CONCATENATE("'Auxiliar'!",X$1,$U12) -> 'Auxiliar'!M11 | Y12: =CONCATENATE("'Auxiliar'!",Y$1,$U12) -> 'Auxiliar'!N11 | Z12: =CONCATENATE("'Auxiliar'!",Z$1,$U12) -> 'Auxiliar'!O11 | AA12: =CONCATENATE("'Auxiliar'!",AA$1,$U12) -> 'Auxiliar'!P11 | AB12: =CONCATENATE("'Auxiliar'!",AB$1,$U12) -> 'Auxiliar'!Q11
A13: ='Tab Primeira Fase'!N20 -> TARCÍZIO | B13: =IF('Tab Primeira Fase'!O20<'Tab Primeira Fase'!Q20,0,IF('Tab Primeira Fase'!O20='Tab Primeira Fase'!Q20,1,IF('Tab Primeira Fase'!O20>'Tab Primeira Fase'!Q20,2))) -> 0 | C13: ='Tab Primeira Fase'!R20 -> WENDEL | D13: =IF('Tab Primeira Fase'!O20>'Tab Primeira Fase'!Q20,0,IF('Tab Primeira Fase'!O20='Tab Primeira Fase'!Q20,1,IF('Tab Primeira Fase'!O20<'Tab Primeira Fase'!Q20,2))) -> 2 | E13: =IF(ISNUMBER('Tab Primeira Fase'!O20),1,0) -> 1 | F13: =IF(B13*E13=2,1,0) -> 0 | G13: =IF(B13*E13=1,1,0) -> 0 | H13: =IF(B13=0,IF(E13=1,1,0),0) -> 1 | I13: =IF(E13*D13=2,1,0) -> 1 | J13: =IF(E13*D13=1,1,0) -> 0 | K13: =IF(D13=0,IF(E13=1,1,0),0) -> 0 | L13: PIMENTEL | M13: =SUMIF($A$1:$A$773,L13,$F$1:$F$773)+SUMIF($C$1:$C$773,L13,$I$1:$I$773) -> 1 | N13: =SUMIF($A$1:$A$773,L13,$G$1:$G$773)+SUMIF($C$1:$C$773,L13,$J$1:$J$773) -> 0 | O13: =SUMIF($A$1:$A$773,L13,$H$1:$H$773)+SUMIF($C$1:$C$773,L13,$K$1:$K$773) -> 4 | P13: =SUMIF('Tab Primeira Fase'!$N$8:$N$831,L13,'Tab Primeira Fase'!$O$8:$O$831)+SUMIF('Tab Primeira Fase'!$R$8:$R$831,L13,'Tab Primeira Fase'!$Q$8:$Q$831) -> 4 | Q13: =SUMIF('Tab Primeira Fase'!$N$8:$N$831,L13,'Tab Primeira Fase'!$Q$8:$Q$831)+SUMIF('Tab Primeira Fase'!$R$8:$R$831,L13,'Tab Primeira Fase'!$O$8:$O$831) -> 9 | R13: =(1000000*((3*M13)+N13))+(10000*M13)+(100*(P13-Q13))+P13+(0.001*(6-T13)) -> 3009504 | S13: =RANK(R13,$R$10:$R$15) -> 5 | T13: 4 | U13: =IF($S$10=T13,10,0)+IF($S$11=T13,11,0)+IF($S$12=T13,12,0)+IF($S$13=T13,13,0)+IF($S$14=T13,14,0)+IF($S$15=T13,15,0) -> 10 | W13: =CONCATENATE("'Auxiliar'!",W$1,$U13) -> 'Auxiliar'!L10 | X13: =CONCATENATE("'Auxiliar'!",X$1,$U13) -> 'Auxiliar'!M10 | Y13: =CONCATENATE("'Auxiliar'!",Y$1,$U13) -> 'Auxiliar'!N10 | Z13: =CONCATENATE("'Auxiliar'!",Z$1,$U13) -> 'Auxiliar'!O10 | AA13: =CONCATENATE("'Auxiliar'!",AA$1,$U13) -> 'Auxiliar'!P10 | AB13: =CONCATENATE("'Auxiliar'!",AB$1,$U13) -> 'Auxiliar'!Q10
A14: ='Tab Primeira Fase'!N21 -> PAULO CÉSAR | B14: =IF('Tab Primeira Fase'!O21<'Tab Primeira Fase'!Q21,0,IF('Tab Primeira Fase'!O21='Tab Primeira Fase'!Q21,1,IF('Tab Primeira Fase'!O21>'Tab Primeira Fase'!Q21,2))) -> 0 | C14: ='Tab Primeira Fase'!R21 -> ALCIDES | D14: =IF('Tab Primeira Fase'!O21>'Tab Primeira Fase'!Q21,0,IF('Tab Primeira Fase'!O21='Tab Primeira Fase'!Q21,1,IF('Tab Primeira Fase'!O21<'Tab Primeira Fase'!Q21,2))) -> 2 | E14: =IF(ISNUMBER('Tab Primeira Fase'!O21),1,0) -> 1 | F14: =IF(B14*E14=2,1,0) -> 0 | G14: =IF(B14*E14=1,1,0) -> 0 | H14: =IF(B14=0,IF(E14=1,1,0),0) -> 1 | I14: =IF(E14*D14=2,1,0) -> 1 | J14: =IF(E14*D14=1,1,0) -> 0 | K14: =IF(D14=0,IF(E14=1,1,0),0) -> 0 | L14: LUIZ CLÁUDIO | M14: =SUMIF($A$1:$A$773,L14,$F$1:$F$773)+SUMIF($C$1:$C$773,L14,$I$1:$I$773) -> 3 | N14: =SUMIF($A$1:$A$773,L14,$G$1:$G$773)+SUMIF($C$1:$C$773,L14,$J$1:$J$773) -> 1 | O14: =SUMIF($A$1:$A$773,L14,$H$1:$H$773)+SUMIF($C$1:$C$773,L14,$K$1:$K$773) -> 1 | P14: =SUMIF('Tab Primeira Fase'!$N$8:$N$831,L14,'Tab Primeira Fase'!$O$8:$O$831)+SUMIF('Tab Primeira Fase'!$R$8:$R$831,L14,'Tab Primeira Fase'!$Q$8:$Q$831) -> 6 | Q14: =SUMIF('Tab Primeira Fase'!$N$8:$N$831,L14,'Tab Primeira Fase'!$Q$8:$Q$831)+SUMIF('Tab Primeira Fase'!$R$8:$R$831,L14,'Tab Primeira Fase'!$O$8:$O$831) -> 4 | R14: =(1000000*((3*M14)+N14))+(10000*M14)+(100*(P14-Q14))+P14+(0.001*(6-T14)) -> 10030206 | S14: =RANK(R14,$R$10:$R$15) -> 2 | T14: 5 | U14: =IF($S$10=T14,10,0)+IF($S$11=T14,11,0)+IF($S$12=T14,12,0)+IF($S$13=T14,13,0)+IF($S$14=T14,14,0)+IF($S$15=T14,15,0) -> 13 | W14: =CONCATENATE("'Auxiliar'!",W$1,$U14) -> 'Auxiliar'!L13 | X14: =CONCATENATE("'Auxiliar'!",X$1,$U14) -> 'Auxiliar'!M13 | Y14: =CONCATENATE("'Auxiliar'!",Y$1,$U14) -> 'Auxiliar'!N13 | Z14: =CONCATENATE("'Auxiliar'!",Z$1,$U14) -> 'Auxiliar'!O13 | AA14: =CONCATENATE("'Auxiliar'!",AA$1,$U14) -> 'Auxiliar'!P13 | AB14: =CONCATENATE("'Auxiliar'!",AB$1,$U14) -> 'Auxiliar'!Q13
A15: ='Tab Primeira Fase'!N22 -> JUNIOR | B15: =IF('Tab Primeira Fase'!O22<'Tab Primeira Fase'!Q22,0,IF('Tab Primeira Fase'!O22='Tab Primeira Fase'!Q22,1,IF('Tab Primeira Fase'!O22>'Tab Primeira Fase'!Q22,2))) -> 1 | C15: ='Tab Primeira Fase'!R22 -> ALAN | D15: =IF('Tab Primeira Fase'!O22>'Tab Primeira Fase'!Q22,0,IF('Tab Primeira Fase'!O22='Tab Primeira Fase'!Q22,1,IF('Tab Primeira Fase'!O22<'Tab Primeira Fase'!Q22,2))) -> 1 | E15: =IF(ISNUMBER('Tab Primeira Fase'!O22),1,0) -> 1 | F15: =IF(B15*E15=2,1,0) -> 0 | G15: =IF(B15*E15=1,1,0) -> 1 | H15: =IF(B15=0,IF(E15=1,1,0),0) -> 0 | I15: =IF(E15*D15=2,1,0) -> 0 | J15: =IF(E15*D15=1,1,0) -> 1 | K15: =IF(D15=0,IF(E15=1,1,0),0) -> 0 | L15: LORIVAL | M15: =SUMIF($A$1:$A$773,L15,$F$1:$F$773)+SUMIF($C$1:$C$773,L15,$I$1:$I$773) -> 5 | N15: =SUMIF($A$1:$A$773,L15,$G$1:$G$773)+SUMIF($C$1:$C$773,L15,$J$1:$J$773) -> 0 | O15: =SUMIF($A$1:$A$773,L15,$H$1:$H$773)+SUMIF($C$1:$C$773,L15,$K$1:$K$773) -> 0 | P15: =SUMIF('Tab Primeira Fase'!$N$8:$N$831,L15,'Tab Primeira Fase'!$O$8:$O$831)+SUMIF('Tab Primeira Fase'!$R$8:$R$831,L15,'Tab Primeira Fase'!$Q$8:$Q$831) -> 12 | Q15: =SUMIF('Tab Primeira Fase'!$N$8:$N$831,L15,'Tab Primeira Fase'!$Q$8:$Q$831)+SUMIF('Tab Primeira Fase'!$R$8:$R$831,L15,'Tab Primeira Fase'!$O$8:$O$831) -> 3 | R15: =(1000000*((3*M15)+N15))+(10000*M15)+(100*(P15-Q15))+P15+(0.001*(6-T15)) -> 15050912 | S15: =RANK(R15,$R$10:$R$15) -> 1 | T15: 6 | U15: =IF($S$10=T15,10,0)+IF($S$11=T15,11,0)+IF($S$12=T15,12,0)+IF($S$13=T15,13,0)+IF($S$14=T15,14,0)+IF($S$15=T15,15,0) -> 12 | W15: =CONCATENATE("'Auxiliar'!",W$1,$U15) -> 'Auxiliar'!L12 | X15: =CONCATENATE("'Auxiliar'!",X$1,$U15) -> 'Auxiliar'!M12 | Y15: =CONCATENATE("'Auxiliar'!",Y$1,$U15) -> 'Auxiliar'!N12 | Z15: =CONCATENATE("'Auxiliar'!",Z$1,$U15) -> 'Auxiliar'!O12 | AA15: =CONCATENATE("'Auxiliar'!",AA$1,$U15) -> 'Auxiliar'!P12 | AB15: =CONCATENATE("'Auxiliar'!",AB$1,$U15) -> 'Auxiliar'!Q12
A16: ='Tab Primeira Fase'!N23 -> ADOLPHO | B16: =IF('Tab Primeira Fase'!O23<'Tab Primeira Fase'!Q23,0,IF('Tab Primeira Fase'!O23='Tab Primeira Fase'!Q23,1,IF('Tab Primeira Fase'!O23>'Tab Primeira Fase'!Q23,2))) -> 2 | C16: ='Tab Primeira Fase'!R23 -> ORNELAS | D16: =IF('Tab Primeira Fase'!O23>'Tab Primeira Fase'!Q23,0,IF('Tab Primeira Fase'!O23='Tab Primeira Fase'!Q23,1,IF('Tab Primeira Fase'!O23<'Tab Primeira Fase'!Q23,2))) -> 0 | E16: =IF(ISNUMBER('Tab Primeira Fase'!O23),1,0) -> 1 | F16: =IF(B16*E16=2,1,0) -> 1 | G16: =IF(B16*E16=1,1,0) -> 0 | H16: =IF(B16=0,IF(E16=1,1,0),0) -> 0 | I16: =IF(E16*D16=2,1,0) -> 0 | J16: =IF(E16*D16=1,1,0) -> 0 | K16: =IF(D16=0,IF(E16=1,1,0),0) -> 1
A17: ='Tab Primeira Fase'!N24 -> THIAGO | B17: =IF('Tab Primeira Fase'!O24<'Tab Primeira Fase'!Q24,0,IF('Tab Primeira Fase'!O24='Tab Primeira Fase'!Q24,1,IF('Tab Primeira Fase'!O24>'Tab Primeira Fase'!Q24,2))) -> 1 | C17: ='Tab Primeira Fase'!R24 -> M. PORTO | D17: =IF('Tab Primeira Fase'!O24>'Tab Primeira Fase'!Q24,0,IF('Tab Primeira Fase'!O24='Tab Primeira Fase'!Q24,1,IF('Tab Primeira Fase'!O24<'Tab Primeira Fase'!Q24,2))) -> 1 | E17: =IF(ISNUMBER('Tab Primeira Fase'!O24),1,0) -> 1 | F17: =IF(B17*E17=2,1,0) -> 0 | G17: =IF(B17*E17=1,1,0) -> 1 | H17: =IF(B17=0,IF(E17=1,1,0),0) -> 0 | I17: =IF(E17*D17=2,1,0) -> 0 | J17: =IF(E17*D17=1,1,0) -> 1 | K17: =IF(D17=0,IF(E17=1,1,0),0) -> 0 | L17: ANDRÉ | M17: =SUMIF($A$1:$A$773,L17,$F$1:$F$773)+SUMIF($C$1:$C$773,L17,$I$1:$I$773) -> 2 | N17: =SUMIF($A$1:$A$773,L17,$G$1:$G$773)+SUMIF($C$1:$C$773,L17,$J$1:$J$773) -> 2 | O17: =SUMIF($A$1:$A$773,L17,$H$1:$H$773)+SUMIF($C$1:$C$773,L17,$K$1:$K$773) -> 1 | P17: =SUMIF('Tab Primeira Fase'!$N$8:$N$831,L17,'Tab Primeira Fase'!$O$8:$O$831)+SUMIF('Tab Primeira Fase'!$R$8:$R$831,L17,'Tab Primeira Fase'!$Q$8:$Q$831) -> 12 | Q17: =SUMIF('Tab Primeira Fase'!$N$8:$N$831,L17,'Tab Primeira Fase'!$Q$8:$Q$831)+SUMIF('Tab Primeira Fase'!$R$8:$R$831,L17,'Tab Primeira Fase'!$O$8:$O$831) -> 5 | R17: =(1000000*((3*M17)+N17))+(10000*M17)+(100*(P17-Q17))+P17+(0.001*(6-T17)) -> 8020712 | S17: =RANK(R17,$R$17:$R$22) -> 3 | T17: 1 | U17: =IF($S$17=T17,17,0)+IF($S$18=T17,18,0)+IF($S$19=T17,19,0)+IF($S$20=T17,20,0)+IF($S$21=T17,21,0)+IF($S$22=T17,22,0) -> 18 | W17: =CONCATENATE("'Auxiliar'!",W$1,$U17) -> 'Auxiliar'!L18 | X17: =CONCATENATE("'Auxiliar'!",X$1,$U17) -> 'Auxiliar'!M18 | Y17: =CONCATENATE("'Auxiliar'!",Y$1,$U17) -> 'Auxiliar'!N18 | Z17: =CONCATENATE("'Auxiliar'!",Z$1,$U17) -> 'Auxiliar'!O18 | AA17: =CONCATENATE("'Auxiliar'!",AA$1,$U17) -> 'Auxiliar'!P18 | AB17: =CONCATENATE("'Auxiliar'!",AB$1,$U17) -> 'Auxiliar'!Q18
A18: ='Tab Primeira Fase'!N25 -> PAULÃO | B18: =IF('Tab Primeira Fase'!O25<'Tab Primeira Fase'!Q25,0,IF('Tab Primeira Fase'!O25='Tab Primeira Fase'!Q25,1,IF('Tab Primeira Fase'!O25>'Tab Primeira Fase'!Q25,2))) -> 0 | C18: ='Tab Primeira Fase'!R25 -> RAFAEL PENA | D18: =IF('Tab Primeira Fase'!O25>'Tab Primeira Fase'!Q25,0,IF('Tab Primeira Fase'!O25='Tab Primeira Fase'!Q25,1,IF('Tab Primeira Fase'!O25<'Tab Primeira Fase'!Q25,2))) -> 2 | E18: =IF(ISNUMBER('Tab Primeira Fase'!O25),1,0) -> 1 | F18: =IF(B18*E18=2,1,0) -> 0 | G18: =IF(B18*E18=1,1,0) -> 0 | H18: =IF(B18=0,IF(E18=1,1,0),0) -> 1 | I18: =IF(E18*D18=2,1,0) -> 1 | J18: =IF(E18*D18=1,1,0) -> 0 | K18: =IF(D18=0,IF(E18=1,1,0),0) -> 0 | L18: ELINTO | M18: =SUMIF($A$1:$A$773,L18,$F$1:$F$773)+SUMIF($C$1:$C$773,L18,$I$1:$I$773) -> 4 | N18: =SUMIF($A$1:$A$773,L18,$G$1:$G$773)+SUMIF($C$1:$C$773,L18,$J$1:$J$773) -> 0 | O18: =SUMIF($A$1:$A$773,L18,$H$1:$H$773)+SUMIF($C$1:$C$773,L18,$K$1:$K$773) -> 1 | P18: =SUMIF('Tab Primeira Fase'!$N$8:$N$831,L18,'Tab Primeira Fase'!$O$8:$O$831)+SUMIF('Tab Primeira Fase'!$R$8:$R$831,L18,'Tab Primeira Fase'!$Q$8:$Q$831) -> 13 | Q18: =SUMIF('Tab Primeira Fase'!$N$8:$N$831,L18,'Tab Primeira Fase'!$Q$8:$Q$831)+SUMIF('Tab Primeira Fase'!$R$8:$R$831,L18,'Tab Primeira Fase'!$O$8:$O$831) -> 5 | R18: =(1000000*((3*M18)+N18))+(10000*M18)+(100*(P18-Q18))+P18+(0.001*(6-T18)) -> 12040813 | S18: =RANK(R18,$R$17:$R$22) -> 1 | T18: 2 | U18: =IF($S$17=T18,17,0)+IF($S$18=T18,18,0)+IF($S$19=T18,19,0)+IF($S$20=T18,20,0)+IF($S$21=T18,21,0)+IF($S$22=T18,22,0) -> 22 | W18: =CONCATENATE("'Auxiliar'!",W$1,$U18) -> 'Auxiliar'!L22 | X18: =CONCATENATE("'Auxiliar'!",X$1,$U18) -> 'Auxiliar'!M22 | Y18: =CONCATENATE("'Auxiliar'!",Y$1,$U18) -> 'Auxiliar'!N22 | Z18: =CONCATENATE("'Auxiliar'!",Z$1,$U18) -> 'Auxiliar'!O22 | AA18: =CONCATENATE("'Auxiliar'!",AA$1,$U18) -> 'Auxiliar'!P22 | AB18: =CONCATENATE("'Auxiliar'!",AB$1,$U18) -> 'Auxiliar'!Q22
A19: ='Tab Primeira Fase'!N26 -> LORIVAL | B19: =IF('Tab Primeira Fase'!O26<'Tab Primeira Fase'!Q26,0,IF('Tab Primeira Fase'!O26='Tab Primeira Fase'!Q26,1,IF('Tab Primeira Fase'!O26>'Tab Primeira Fase'!Q26,2))) -> 2 | C19: ='Tab Primeira Fase'!R26 -> PIMENTEL | D19: =IF('Tab Primeira Fase'!O26>'Tab Primeira Fase'!Q26,0,IF('Tab Primeira Fase'!O26='Tab Primeira Fase'!Q26,1,IF('Tab Primeira Fase'!O26<'Tab Primeira Fase'!Q26,2))) -> 0 | E19: =IF(ISNUMBER('Tab Primeira Fase'!O26),1,0) -> 1 | F19: =IF(B19*E19=2,1,0) -> 1 | G19: =IF(B19*E19=1,1,0) -> 0 | H19: =IF(B19=0,IF(E19=1,1,0),0) -> 0 | I19: =IF(E19*D19=2,1,0) -> 0 | J19: =IF(E19*D19=1,1,0) -> 0 | K19: =IF(D19=0,IF(E19=1,1,0),0) -> 1 | L19: FRANCISCO | M19: =SUMIF($A$1:$A$773,L19,$F$1:$F$773)+SUMIF($C$1:$C$773,L19,$I$1:$I$773) -> 0 | N19: =SUMIF($A$1:$A$773,L19,$G$1:$G$773)+SUMIF($C$1:$C$773,L19,$J$1:$J$773) -> 1 | O19: =SUMIF($A$1:$A$773,L19,$H$1:$H$773)+SUMIF($C$1:$C$773,L19,$K$1:$K$773) -> 4 | P19: =SUMIF('Tab Primeira Fase'!$N$8:$N$831,L19,'Tab Primeira Fase'!$O$8:$O$831)+SUMIF('Tab Primeira Fase'!$R$8:$R$831,L19,'Tab Primeira Fase'!$Q$8:$Q$831) -> 2 | Q19: =SUMIF('Tab Primeira Fase'!$N$8:$N$831,L19,'Tab Primeira Fase'!$Q$8:$Q$831)+SUMIF('Tab Primeira Fase'!$R$8:$R$831,L19,'Tab Primeira Fase'!$O$8:$O$831) -> 16 | R19: =(1000000*((3*M19)+N19))+(10000*M19)+(100*(P19-Q19))+P19+(0.001*(6-T19)) -> 998602 | S19: =RANK(R19,$R$17:$R$22) -> 6 | T19: 3 | U19: =IF($S$17=T19,17,0)+IF($S$18=T19,18,0)+IF($S$19=T19,19,0)+IF($S$20=T19,20,0)+IF($S$21=T19,21,0)+IF($S$22=T19,22,0) -> 17 | W19: =CONCATENATE("'Auxiliar'!",W$1,$U19) -> 'Auxiliar'!L17 | X19: =CONCATENATE("'Auxiliar'!",X$1,$U19) -> 'Auxiliar'!M17 | Y19: =CONCATENATE("'Auxiliar'!",Y$1,$U19) -> 'Auxiliar'!N17 | Z19: =CONCATENATE("'Auxiliar'!",Z$1,$U19) -> 'Auxiliar'!O17 | AA19: =CONCATENATE("'Auxiliar'!",AA$1,$U19) -> 'Auxiliar'!P17 | AB19: =CONCATENATE("'Auxiliar'!",AB$1,$U19) -> 'Auxiliar'!Q17
A20: ='Tab Primeira Fase'!N27 -> LUIZ CLÁUDIO | B20: =IF('Tab Primeira Fase'!O27<'Tab Primeira Fase'!Q27,0,IF('Tab Primeira Fase'!O27='Tab Primeira Fase'!Q27,1,IF('Tab Primeira Fase'!O27>'Tab Primeira Fase'!Q27,2))) -> 2 | C20: ='Tab Primeira Fase'!R27 -> MOTTA | D20: =IF('Tab Primeira Fase'!O27>'Tab Primeira Fase'!Q27,0,IF('Tab Primeira Fase'!O27='Tab Primeira Fase'!Q27,1,IF('Tab Primeira Fase'!O27<'Tab Primeira Fase'!Q27,2))) -> 0 | E20: =IF(ISNUMBER('Tab Primeira Fase'!O27),1,0) -> 1 | F20: =IF(B20*E20=2,1,0) -> 1 | G20: =IF(B20*E20=1,1,0) -> 0 | H20: =IF(B20=0,IF(E20=1,1,0),0) -> 0 | I20: =IF(E20*D20=2,1,0) -> 0 | J20: =IF(E20*D20=1,1,0) -> 0 | K20: =IF(D20=0,IF(E20=1,1,0),0) -> 1 | L20: LUIZ GOMES | M20: =SUMIF($A$1:$A$773,L20,$F$1:$F$773)+SUMIF($C$1:$C$773,L20,$I$1:$I$773) -> 0 | N20: =SUMIF($A$1:$A$773,L20,$G$1:$G$773)+SUMIF($C$1:$C$773,L20,$J$1:$J$773) -> 1 | O20: =SUMIF($A$1:$A$773,L20,$H$1:$H$773)+SUMIF($C$1:$C$773,L20,$K$1:$K$773) -> 4 | P20: =SUMIF('Tab Primeira Fase'!$N$8:$N$831,L20,'Tab Primeira Fase'!$O$8:$O$831)+SUMIF('Tab Primeira Fase'!$R$8:$R$831,L20,'Tab Primeira Fase'!$Q$8:$Q$831) -> 4 | Q20: =SUMIF('Tab Primeira Fase'!$N$8:$N$831,L20,'Tab Primeira Fase'!$Q$8:$Q$831)+SUMIF('Tab Primeira Fase'!$R$8:$R$831,L20,'Tab Primeira Fase'!$O$8:$O$831) -> 15 | R20: =(1000000*((3*M20)+N20))+(10000*M20)+(100*(P20-Q20))+P20+(0.001*(6-T20)) -> 998904 | S20: =RANK(R20,$R$17:$R$22) -> 5 | T20: 4 | U20: =IF($S$17=T20,17,0)+IF($S$18=T20,18,0)+IF($S$19=T20,19,0)+IF($S$20=T20,20,0)+IF($S$21=T20,21,0)+IF($S$22=T20,22,0) -> 21 | W20: =CONCATENATE("'Auxiliar'!",W$1,$U20) -> 'Auxiliar'!L21 | X20: =CONCATENATE("'Auxiliar'!",X$1,$U20) -> 'Auxiliar'!M21 | Y20: =CONCATENATE("'Auxiliar'!",Y$1,$U20) -> 'Auxiliar'!N21 | Z20: =CONCATENATE("'Auxiliar'!",Z$1,$U20) -> 'Auxiliar'!O21 | AA20: =CONCATENATE("'Auxiliar'!",AA$1,$U20) -> 'Auxiliar'!P21 | AB20: =CONCATENATE("'Auxiliar'!",AB$1,$U20) -> 'Auxiliar'!Q21
A21: ='Tab Primeira Fase'!N28 -> TONINHO | B21: =IF('Tab Primeira Fase'!O28<'Tab Primeira Fase'!Q28,0,IF('Tab Primeira Fase'!O28='Tab Primeira Fase'!Q28,1,IF('Tab Primeira Fase'!O28>'Tab Primeira Fase'!Q28,2))) -> 0 | C21: ='Tab Primeira Fase'!R28 -> BETO | D21: =IF('Tab Primeira Fase'!O28>'Tab Primeira Fase'!Q28,0,IF('Tab Primeira Fase'!O28='Tab Primeira Fase'!Q28,1,IF('Tab Primeira Fase'!O28<'Tab Primeira Fase'!Q28,2))) -> 2 | E21: =IF(ISNUMBER('Tab Primeira Fase'!O28),1,0) -> 1 | F21: =IF(B21*E21=2,1,0) -> 0 | G21: =IF(B21*E21=1,1,0) -> 0 | H21: =IF(B21=0,IF(E21=1,1,0),0) -> 1 | I21: =IF(E21*D21=2,1,0) -> 1 | J21: =IF(E21*D21=1,1,0) -> 0 | K21: =IF(D21=0,IF(E21=1,1,0),0) -> 0 | L21: ZÉ RICARDO | M21: =SUMIF($A$1:$A$773,L21,$F$1:$F$773)+SUMIF($C$1:$C$773,L21,$I$1:$I$773) -> 2 | N21: =SUMIF($A$1:$A$773,L21,$G$1:$G$773)+SUMIF($C$1:$C$773,L21,$J$1:$J$773) -> 2 | O21: =SUMIF($A$1:$A$773,L21,$H$1:$H$773)+SUMIF($C$1:$C$773,L21,$K$1:$K$773) -> 1 | P21: =SUMIF('Tab Primeira Fase'!$N$8:$N$831,L21,'Tab Primeira Fase'!$O$8:$O$831)+SUMIF('Tab Primeira Fase'!$R$8:$R$831,L21,'Tab Primeira Fase'!$Q$8:$Q$831) -> 8 | Q21: =SUMIF('Tab Primeira Fase'!$N$8:$N$831,L21,'Tab Primeira Fase'!$Q$8:$Q$831)+SUMIF('Tab Primeira Fase'!$R$8:$R$831,L21,'Tab Primeira Fase'!$O$8:$O$831) -> 4 | R21: =(1000000*((3*M21)+N21))+(10000*M21)+(100*(P21-Q21))+P21+(0.001*(6-T21)) -> 8020408 | S21: =RANK(R21,$R$17:$R$22) -> 4 | T21: 5 | U21: =IF($S$17=T21,17,0)+IF($S$18=T21,18,0)+IF($S$19=T21,19,0)+IF($S$20=T21,20,0)+IF($S$21=T21,21,0)+IF($S$22=T21,22,0) -> 20 | W21: =CONCATENATE("'Auxiliar'!",W$1,$U21) -> 'Auxiliar'!L20 | X21: =CONCATENATE("'Auxiliar'!",X$1,$U21) -> 'Auxiliar'!M20 | Y21: =CONCATENATE("'Auxiliar'!",Y$1,$U21) -> 'Auxiliar'!N20 | Z21: =CONCATENATE("'Auxiliar'!",Z$1,$U21) -> 'Auxiliar'!O20 | AA21: =CONCATENATE("'Auxiliar'!",AA$1,$U21) -> 'Auxiliar'!P20 | AB21: =CONCATENATE("'Auxiliar'!",AB$1,$U21) -> 'Auxiliar'!Q20
A22: ='Tab Primeira Fase'!N29 -> DUGUET | B22: =IF('Tab Primeira Fase'!O29<'Tab Primeira Fase'!Q29,0,IF('Tab Primeira Fase'!O29='Tab Primeira Fase'!Q29,1,IF('Tab Primeira Fase'!O29>'Tab Primeira Fase'!Q29,2))) -> 1 | C22: ='Tab Primeira Fase'!R29 -> ZÉ RICARDO | D22: =IF('Tab Primeira Fase'!O29>'Tab Primeira Fase'!Q29,0,IF('Tab Primeira Fase'!O29='Tab Primeira Fase'!Q29,1,IF('Tab Primeira Fase'!O29<'Tab Primeira Fase'!Q29,2))) -> 1 | E22: =IF(ISNUMBER('Tab Primeira Fase'!O29),1,0) -> 1 | F22: =IF(B22*E22=2,1,0) -> 0 | G22: =IF(B22*E22=1,1,0) -> 1 | H22: =IF(B22=0,IF(E22=1,1,0),0) -> 0 | I22: =IF(E22*D22=2,1,0) -> 0 | J22: =IF(E22*D22=1,1,0) -> 1 | K22: =IF(D22=0,IF(E22=1,1,0),0) -> 0 | L22: DUGUET | M22: =SUMIF($A$1:$A$773,L22,$F$1:$F$773)+SUMIF($C$1:$C$773,L22,$I$1:$I$773) -> 3 | N22: =SUMIF($A$1:$A$773,L22,$G$1:$G$773)+SUMIF($C$1:$C$773,L22,$J$1:$J$773) -> 2 | O22: =SUMIF($A$1:$A$773,L22,$H$1:$H$773)+SUMIF($C$1:$C$773,L22,$K$1:$K$773) -> 0 | P22: =SUMIF('Tab Primeira Fase'!$N$8:$N$831,L22,'Tab Primeira Fase'!$O$8:$O$831)+SUMIF('Tab Primeira Fase'!$R$8:$R$831,L22,'Tab Primeira Fase'!$Q$8:$Q$831) -> 10 | Q22: =SUMIF('Tab Primeira Fase'!$N$8:$N$831,L22,'Tab Primeira Fase'!$Q$8:$Q$831)+SUMIF('Tab Primeira Fase'!$R$8:$R$831,L22,'Tab Primeira Fase'!$O$8:$O$831) -> 4 | R22: =(1000000*((3*M22)+N22))+(10000*M22)+(100*(P22-Q22))+P22+(0.001*(6-T22)) -> 11030610 | S22: =RANK(R22,$R$17:$R$22) -> 2 | T22: 6 | U22: =IF($S$17=T22,17,0)+IF($S$18=T22,18,0)+IF($S$19=T22,19,0)+IF($S$20=T22,20,0)+IF($S$21=T22,21,0)+IF($S$22=T22,22,0) -> 19 | W22: =CONCATENATE("'Auxiliar'!",W$1,$U22) -> 'Auxiliar'!L19 | X22: =CONCATENATE("'Auxiliar'!",X$1,$U22) -> 'Auxiliar'!M19 | Y22: =CONCATENATE("'Auxiliar'!",Y$1,$U22) -> 'Auxiliar'!N19 | Z22: =CONCATENATE("'Auxiliar'!",Z$1,$U22) -> 'Auxiliar'!O19 | AA22: =CONCATENATE("'Auxiliar'!",AA$1,$U22) -> 'Auxiliar'!P19 | AB22: =CONCATENATE("'Auxiliar'!",AB$1,$U22) -> 'Auxiliar'!Q19
A23: ='Tab Primeira Fase'!N30 -> ANDRÉ | B23: =IF('Tab Primeira Fase'!O30<'Tab Primeira Fase'!Q30,0,IF('Tab Primeira Fase'!O30='Tab Primeira Fase'!Q30,1,IF('Tab Primeira Fase'!O30>'Tab Primeira Fase'!Q30,2))) -> 2 | C23: ='Tab Primeira Fase'!R30 -> LUIZ GOMES | D23: =IF('Tab Primeira Fase'!O30>'Tab Primeira Fase'!Q30,0,IF('Tab Primeira Fase'!O30='Tab Primeira Fase'!Q30,1,IF('Tab Primeira Fase'!O30<'Tab Primeira Fase'!Q30,2))) -> 0 | E23: =IF(ISNUMBER('Tab Primeira Fase'!O30),1,0) -> 1 | F23: =IF(B23*E23=2,1,0) -> 1 | G23: =IF(B23*E23=1,1,0) -> 0 | H23: =IF(B23=0,IF(E23=1,1,0),0) -> 0 | I23: =IF(E23*D23=2,1,0) -> 0 | J23: =IF(E23*D23=1,1,0) -> 0 | K23: =IF(D23=0,IF(E23=1,1,0),0) -> 1
A24: ='Tab Primeira Fase'!N31 -> ELINTO | B24: =IF('Tab Primeira Fase'!O31<'Tab Primeira Fase'!Q31,0,IF('Tab Primeira Fase'!O31='Tab Primeira Fase'!Q31,1,IF('Tab Primeira Fase'!O31>'Tab Primeira Fase'!Q31,2))) -> 2 | C24: ='Tab Primeira Fase'!R31 -> FRANCISCO | D24: =IF('Tab Primeira Fase'!O31>'Tab Primeira Fase'!Q31,0,IF('Tab Primeira Fase'!O31='Tab Primeira Fase'!Q31,1,IF('Tab Primeira Fase'!O31<'Tab Primeira Fase'!Q31,2))) -> 0 | E24: =IF(ISNUMBER('Tab Primeira Fase'!O31),1,0) -> 1 | F24: =IF(B24*E24=2,1,0) -> 1 | G24: =IF(B24*E24=1,1,0) -> 0 | H24: =IF(B24=0,IF(E24=1,1,0),0) -> 0 | I24: =IF(E24*D24=2,1,0) -> 0 | J24: =IF(E24*D24=1,1,0) -> 0 | K24: =IF(D24=0,IF(E24=1,1,0),0) -> 1 | L24: M. FERREIRA | M24: =SUMIF($A$1:$A$773,L24,$F$1:$F$773)+SUMIF($C$1:$C$773,L24,$I$1:$I$773) -> 3 | N24: =SUMIF($A$1:$A$773,L24,$G$1:$G$773)+SUMIF($C$1:$C$773,L24,$J$1:$J$773) -> 1 | O24: =SUMIF($A$1:$A$773,L24,$H$1:$H$773)+SUMIF($C$1:$C$773,L24,$K$1:$K$773) -> 1 | P24: =SUMIF('Tab Primeira Fase'!$N$8:$N$831,L24,'Tab Primeira Fase'!$O$8:$O$831)+SUMIF('Tab Primeira Fase'!$R$8:$R$831,L24,'Tab Primeira Fase'!$Q$8:$Q$831) -> 11 | Q24: =SUMIF('Tab Primeira Fase'!$N$8:$N$831,L24,'Tab Primeira Fase'!$Q$8:$Q$831)+SUMIF('Tab Primeira Fase'!$R$8:$R$831,L24,'Tab Primeira Fase'!$O$8:$O$831) -> 5 | R24: =(1000000*((3*M24)+N24))+(10000*M24)+(100*(P24-Q24))+P24+(0.001*(6-T24)) -> 10030611 | S24: =RANK(R24,$R$24:$R$29) -> 2 | T24: 1 | U24: =IF($S$24=T24,24,0)+IF($S$25=T24,25,0)+IF($S$26=T24,26,0)+IF($S$27=T24,27,0)+IF($S$28=T24,28,0)+IF($S$29=T24,29,0) -> 25 | W24: =CONCATENATE("'Auxiliar'!",W$1,$U24) -> 'Auxiliar'!L25 | X24: =CONCATENATE("'Auxiliar'!",X$1,$U24) -> 'Auxiliar'!M25 | Y24: =CONCATENATE("'Auxiliar'!",Y$1,$U24) -> 'Auxiliar'!N25 | Z24: =CONCATENATE("'Auxiliar'!",Z$1,$U24) -> 'Auxiliar'!O25 | AA24: =CONCATENATE("'Auxiliar'!",AA$1,$U24) -> 'Auxiliar'!P25 | AB24: =CONCATENATE("'Auxiliar'!",AB$1,$U24) -> 'Auxiliar'!Q25
A25: ='Tab Primeira Fase'!N32 -> ROBERTO | B25: =IF('Tab Primeira Fase'!O32<'Tab Primeira Fase'!Q32,0,IF('Tab Primeira Fase'!O32='Tab Primeira Fase'!Q32,1,IF('Tab Primeira Fase'!O32>'Tab Primeira Fase'!Q32,2))) -> 0 | C25: ='Tab Primeira Fase'!R32 -> MARQUINHO | D25: =IF('Tab Primeira Fase'!O32>'Tab Primeira Fase'!Q32,0,IF('Tab Primeira Fase'!O32='Tab Primeira Fase'!Q32,1,IF('Tab Primeira Fase'!O32<'Tab Primeira Fase'!Q32,2))) -> 2 | E25: =IF(ISNUMBER('Tab Primeira Fase'!O32),1,0) -> 1 | F25: =IF(B25*E25=2,1,0) -> 0 | G25: =IF(B25*E25=1,1,0) -> 0 | H25: =IF(B25=0,IF(E25=1,1,0),0) -> 1 | I25: =IF(E25*D25=2,1,0) -> 1 | J25: =IF(E25*D25=1,1,0) -> 0 | K25: =IF(D25=0,IF(E25=1,1,0),0) -> 0 | L25: MARCUS | M25: =SUMIF($A$1:$A$773,L25,$F$1:$F$773)+SUMIF($C$1:$C$773,L25,$I$1:$I$773) -> 5 | N25: =SUMIF($A$1:$A$773,L25,$G$1:$G$773)+SUMIF($C$1:$C$773,L25,$J$1:$J$773) -> 0 | O25: =SUMIF($A$1:$A$773,L25,$H$1:$H$773)+SUMIF($C$1:$C$773,L25,$K$1:$K$773) -> 0 | P25: =SUMIF('Tab Primeira Fase'!$N$8:$N$831,L25,'Tab Primeira Fase'!$O$8:$O$831)+SUMIF('Tab Primeira Fase'!$R$8:$R$831,L25,'Tab Primeira Fase'!$Q$8:$Q$831) -> 15 | Q25: =SUMIF('Tab Primeira Fase'!$N$8:$N$831,L25,'Tab Primeira Fase'!$Q$8:$Q$831)+SUMIF('Tab Primeira Fase'!$R$8:$R$831,L25,'Tab Primeira Fase'!$O$8:$O$831) -> 3 | R25: =(1000000*((3*M25)+N25))+(10000*M25)+(100*(P25-Q25))+P25+(0.001*(6-T25)) -> 15051215 | S25: =RANK(R25,$R$24:$R$29) -> 1 | T25: 2 | U25: =IF($S$24=T25,24,0)+IF($S$25=T25,25,0)+IF($S$26=T25,26,0)+IF($S$27=T25,27,0)+IF($S$28=T25,28,0)+IF($S$29=T25,29,0) -> 24 | W25: =CONCATENATE("'Auxiliar'!",W$1,$U25) -> 'Auxiliar'!L24 | X25: =CONCATENATE("'Auxiliar'!",X$1,$U25) -> 'Auxiliar'!M24 | Y25: =CONCATENATE("'Auxiliar'!",Y$1,$U25) -> 'Auxiliar'!N24 | Z25: =CONCATENATE("'Auxiliar'!",Z$1,$U25) -> 'Auxiliar'!O24 | AA25: =CONCATENATE("'Auxiliar'!",AA$1,$U25) -> 'Auxiliar'!P24 | AB25: =CONCATENATE("'Auxiliar'!",AB$1,$U25) -> 'Auxiliar'!Q24
A26: ='Tab Primeira Fase'!N33 -> ALBERTO | B26: =IF('Tab Primeira Fase'!O33<'Tab Primeira Fase'!Q33,0,IF('Tab Primeira Fase'!O33='Tab Primeira Fase'!Q33,1,IF('Tab Primeira Fase'!O33>'Tab Primeira Fase'!Q33,2))) -> 2 | C26: ='Tab Primeira Fase'!R33 -> JEAN | D26: =IF('Tab Primeira Fase'!O33>'Tab Primeira Fase'!Q33,0,IF('Tab Primeira Fase'!O33='Tab Primeira Fase'!Q33,1,IF('Tab Primeira Fase'!O33<'Tab Primeira Fase'!Q33,2))) -> 0 | E26: =IF(ISNUMBER('Tab Primeira Fase'!O33),1,0) -> 1 | F26: =IF(B26*E26=2,1,0) -> 1 | G26: =IF(B26*E26=1,1,0) -> 0 | H26: =IF(B26=0,IF(E26=1,1,0),0) -> 0 | I26: =IF(E26*D26=2,1,0) -> 0 | J26: =IF(E26*D26=1,1,0) -> 0 | K26: =IF(D26=0,IF(E26=1,1,0),0) -> 1 | L26: JEAN | M26: =SUMIF($A$1:$A$773,L26,$F$1:$F$773)+SUMIF($C$1:$C$773,L26,$I$1:$I$773) -> 1 | N26: =SUMIF($A$1:$A$773,L26,$G$1:$G$773)+SUMIF($C$1:$C$773,L26,$J$1:$J$773) -> 1 | O26: =SUMIF($A$1:$A$773,L26,$H$1:$H$773)+SUMIF($C$1:$C$773,L26,$K$1:$K$773) -> 3 | P26: =SUMIF('Tab Primeira Fase'!$N$8:$N$831,L26,'Tab Primeira Fase'!$O$8:$O$831)+SUMIF('Tab Primeira Fase'!$R$8:$R$831,L26,'Tab Primeira Fase'!$Q$8:$Q$831) -> 9 | Q26: =SUMIF('Tab Primeira Fase'!$N$8:$N$831,L26,'Tab Primeira Fase'!$Q$8:$Q$831)+SUMIF('Tab Primeira Fase'!$R$8:$R$831,L26,'Tab Primeira Fase'!$O$8:$O$831) -> 9 | R26: =(1000000*((3*M26)+N26))+(10000*M26)+(100*(P26-Q26))+P26+(0.001*(6-T26)) -> 4010009 | S26: =RANK(R26,$R$24:$R$29) -> 5 | T26: 3 | U26: =IF($S$24=T26,24,0)+IF($S$25=T26,25,0)+IF($S$26=T26,26,0)+IF($S$27=T26,27,0)+IF($S$28=T26,28,0)+IF($S$29=T26,29,0) -> 27 | W26: =CONCATENATE("'Auxiliar'!",W$1,$U26) -> 'Auxiliar'!L27 | X26: =CONCATENATE("'Auxiliar'!",X$1,$U26) -> 'Auxiliar'!M27 | Y26: =CONCATENATE("'Auxiliar'!",Y$1,$U26) -> 'Auxiliar'!N27 | Z26: =CONCATENATE("'Auxiliar'!",Z$1,$U26) -> 'Auxiliar'!O27 | AA26: =CONCATENATE("'Auxiliar'!",AA$1,$U26) -> 'Auxiliar'!P27 | AB26: =CONCATENATE("'Auxiliar'!",AB$1,$U26) -> 'Auxiliar'!Q27
A27: ='Tab Primeira Fase'!N34 -> M. FERREIRA | B27: =IF('Tab Primeira Fase'!O34<'Tab Primeira Fase'!Q34,0,IF('Tab Primeira Fase'!O34='Tab Primeira Fase'!Q34,1,IF('Tab Primeira Fase'!O34>'Tab Primeira Fase'!Q34,2))) -> 0 | C27: ='Tab Primeira Fase'!R34 -> MARCUS | D27: =IF('Tab Primeira Fase'!O34>'Tab Primeira Fase'!Q34,0,IF('Tab Primeira Fase'!O34='Tab Primeira Fase'!Q34,1,IF('Tab Primeira Fase'!O34<'Tab Primeira Fase'!Q34,2))) -> 2 | E27: =IF(ISNUMBER('Tab Primeira Fase'!O34),1,0) -> 1 | F27: =IF(B27*E27=2,1,0) -> 0 | G27: =IF(B27*E27=1,1,0) -> 0 | H27: =IF(B27=0,IF(E27=1,1,0),0) -> 1 | I27: =IF(E27*D27=2,1,0) -> 1 | J27: =IF(E27*D27=1,1,0) -> 0 | K27: =IF(D27=0,IF(E27=1,1,0),0) -> 0 | L27: MARQUINHO | M27: =SUMIF($A$1:$A$773,L27,$F$1:$F$773)+SUMIF($C$1:$C$773,L27,$I$1:$I$773) -> 2 | N27: =SUMIF($A$1:$A$773,L27,$G$1:$G$773)+SUMIF($C$1:$C$773,L27,$J$1:$J$773) -> 1 | O27: =SUMIF($A$1:$A$773,L27,$H$1:$H$773)+SUMIF($C$1:$C$773,L27,$K$1:$K$773) -> 2 | P27: =SUMIF('Tab Primeira Fase'!$N$8:$N$831,L27,'Tab Primeira Fase'!$O$8:$O$831)+SUMIF('Tab Primeira Fase'!$R$8:$R$831,L27,'Tab Primeira Fase'!$Q$8:$Q$831) -> 7 | Q27: =SUMIF('Tab Primeira Fase'!$N$8:$N$831,L27,'Tab Primeira Fase'!$Q$8:$Q$831)+SUMIF('Tab Primeira Fase'!$R$8:$R$831,L27,'Tab Primeira Fase'!$O$8:$O$831) -> 6 | R27: =(1000000*((3*M27)+N27))+(10000*M27)+(100*(P27-Q27))+P27+(0.001*(6-T27)) -> 7020107 | S27: =RANK(R27,$R$24:$R$29) -> 3 | T27: 4 | U27: =IF($S$24=T27,24,0)+IF($S$25=T27,25,0)+IF($S$26=T27,26,0)+IF($S$27=T27,27,0)+IF($S$28=T27,28,0)+IF($S$29=T27,29,0) -> 28 | W27: =CONCATENATE("'Auxiliar'!",W$1,$U27) -> 'Auxiliar'!L28 | X27: =CONCATENATE("'Auxiliar'!",X$1,$U27) -> 'Auxiliar'!M28 | Y27: =CONCATENATE("'Auxiliar'!",Y$1,$U27) -> 'Auxiliar'!N28 | Z27: =CONCATENATE("'Auxiliar'!",Z$1,$U27) -> 'Auxiliar'!O28 | AA27: =CONCATENATE("'Auxiliar'!",AA$1,$U27) -> 'Auxiliar'!P28 | AB27: =CONCATENATE("'Auxiliar'!",AB$1,$U27) -> 'Auxiliar'!Q28
A28: ='Tab Primeira Fase'!N35 -> M. VASQUES | B28: =IF('Tab Primeira Fase'!O35<'Tab Primeira Fase'!Q35,0,IF('Tab Primeira Fase'!O35='Tab Primeira Fase'!Q35,1,IF('Tab Primeira Fase'!O35>'Tab Primeira Fase'!Q35,2))) -> 1 | C28: ='Tab Primeira Fase'!R35 -> M. SILVA | D28: =IF('Tab Primeira Fase'!O35>'Tab Primeira Fase'!Q35,0,IF('Tab Primeira Fase'!O35='Tab Primeira Fase'!Q35,1,IF('Tab Primeira Fase'!O35<'Tab Primeira Fase'!Q35,2))) -> 1 | E28: =IF(ISNUMBER('Tab Primeira Fase'!O35),1,0) -> 1 | F28: =IF(B28*E28=2,1,0) -> 0 | G28: =IF(B28*E28=1,1,0) -> 1 | H28: =IF(B28=0,IF(E28=1,1,0),0) -> 0 | I28: =IF(E28*D28=2,1,0) -> 0 | J28: =IF(E28*D28=1,1,0) -> 1 | K28: =IF(D28=0,IF(E28=1,1,0),0) -> 0 | L28: ALBERTO | M28: =SUMIF($A$1:$A$773,L28,$F$1:$F$773)+SUMIF($C$1:$C$773,L28,$I$1:$I$773) -> 1 | N28: =SUMIF($A$1:$A$773,L28,$G$1:$G$773)+SUMIF($C$1:$C$773,L28,$J$1:$J$773) -> 2 | O28: =SUMIF($A$1:$A$773,L28,$H$1:$H$773)+SUMIF($C$1:$C$773,L28,$K$1:$K$773) -> 2 | P28: =SUMIF('Tab Primeira Fase'!$N$8:$N$831,L28,'Tab Primeira Fase'!$O$8:$O$831)+SUMIF('Tab Primeira Fase'!$R$8:$R$831,L28,'Tab Primeira Fase'!$Q$8:$Q$831) -> 7 | Q28: =SUMIF('Tab Primeira Fase'!$N$8:$N$831,L28,'Tab Primeira Fase'!$Q$8:$Q$831)+SUMIF('Tab Primeira Fase'!$R$8:$R$831,L28,'Tab Primeira Fase'!$O$8:$O$831) -> 9 | R28: =(1000000*((3*M28)+N28))+(10000*M28)+(100*(P28-Q28))+P28+(0.001*(6-T28)) -> 5009807 | S28: =RANK(R28,$R$24:$R$29) -> 4 | T28: 5 | U28: =IF($S$24=T28,24,0)+IF($S$25=T28,25,0)+IF($S$26=T28,26,0)+IF($S$27=T28,27,0)+IF($S$28=T28,28,0)+IF($S$29=T28,29,0) -> 26 | W28: =CONCATENATE("'Auxiliar'!",W$1,$U28) -> 'Auxiliar'!L26 | X28: =CONCATENATE("'Auxiliar'!",X$1,$U28) -> 'Auxiliar'!M26 | Y28: =CONCATENATE("'Auxiliar'!",Y$1,$U28) -> 'Auxiliar'!N26 | Z28: =CONCATENATE("'Auxiliar'!",Z$1,$U28) -> 'Auxiliar'!O26 | AA28: =CONCATENATE("'Auxiliar'!",AA$1,$U28) -> 'Auxiliar'!P26 | AB28: =CONCATENATE("'Auxiliar'!",AB$1,$U28) -> 'Auxiliar'!Q26
A29: ='Tab Primeira Fase'!N36 -> MAGNO | B29: =IF('Tab Primeira Fase'!O36<'Tab Primeira Fase'!Q36,0,IF('Tab Primeira Fase'!O36='Tab Primeira Fase'!Q36,1,IF('Tab Primeira Fase'!O36>'Tab Primeira Fase'!Q36,2))) -> 0 | C29: ='Tab Primeira Fase'!R36 -> JULIANO | D29: =IF('Tab Primeira Fase'!O36>'Tab Primeira Fase'!Q36,0,IF('Tab Primeira Fase'!O36='Tab Primeira Fase'!Q36,1,IF('Tab Primeira Fase'!O36<'Tab Primeira Fase'!Q36,2))) -> 2 | E29: =IF(ISNUMBER('Tab Primeira Fase'!O36),1,0) -> 1 | F29: =IF(B29*E29=2,1,0) -> 0 | G29: =IF(B29*E29=1,1,0) -> 0 | H29: =IF(B29=0,IF(E29=1,1,0),0) -> 1 | I29: =IF(E29*D29=2,1,0) -> 1 | J29: =IF(E29*D29=1,1,0) -> 0 | K29: =IF(D29=0,IF(E29=1,1,0),0) -> 0 | L29: ROBERTO | M29: =SUMIF($A$1:$A$773,L29,$F$1:$F$773)+SUMIF($C$1:$C$773,L29,$I$1:$I$773) -> 0 | N29: =SUMIF($A$1:$A$773,L29,$G$1:$G$773)+SUMIF($C$1:$C$773,L29,$J$1:$J$773) -> 1 | O29: =SUMIF($A$1:$A$773,L29,$H$1:$H$773)+SUMIF($C$1:$C$773,L29,$K$1:$K$773) -> 4 | P29: =SUMIF('Tab Primeira Fase'!$N$8:$N$831,L29,'Tab Primeira Fase'!$O$8:$O$831)+SUMIF('Tab Primeira Fase'!$R$8:$R$831,L29,'Tab Primeira Fase'!$Q$8:$Q$831) -> 3 | Q29: =SUMIF('Tab Primeira Fase'!$N$8:$N$831,L29,'Tab Primeira Fase'!$Q$8:$Q$831)+SUMIF('Tab Primeira Fase'!$R$8:$R$831,L29,'Tab Primeira Fase'!$O$8:$O$831) -> 20 | R29: =(1000000*((3*M29)+N29))+(10000*M29)+(100*(P29-Q29))+P29+(0.001*(6-T29)) -> 998303 | S29: =RANK(R29,$R$24:$R$29) -> 6 | T29: 6 | U29: =IF($S$24=T29,24,0)+IF($S$25=T29,25,0)+IF($S$26=T29,26,0)+IF($S$27=T29,27,0)+IF($S$28=T29,28,0)+IF($S$29=T29,29,0) -> 29 | W29: =CONCATENATE("'Auxiliar'!",W$1,$U29) -> 'Auxiliar'!L29 | X29: =CONCATENATE("'Auxiliar'!",X$1,$U29) -> 'Auxiliar'!M29 | Y29: =CONCATENATE("'Auxiliar'!",Y$1,$U29) -> 'Auxiliar'!N29 | Z29: =CONCATENATE("'Auxiliar'!",Z$1,$U29) -> 'Auxiliar'!O29 | AA29: =CONCATENATE("'Auxiliar'!",AA$1,$U29) -> 'Auxiliar'!P29 | AB29: =CONCATENATE("'Auxiliar'!",AB$1,$U29) -> 'Auxiliar'!Q29
A30: ='Tab Primeira Fase'!N37 -> FARNEZE | B30: =IF('Tab Primeira Fase'!O37<'Tab Primeira Fase'!Q37,0,IF('Tab Primeira Fase'!O37='Tab Primeira Fase'!Q37,1,IF('Tab Primeira Fase'!O37>'Tab Primeira Fase'!Q37,2))) -> 0 | C30: ='Tab Primeira Fase'!R37 -> C. HENRIQUE | D30: =IF('Tab Primeira Fase'!O37>'Tab Primeira Fase'!Q37,0,IF('Tab Primeira Fase'!O37='Tab Primeira Fase'!Q37,1,IF('Tab Primeira Fase'!O37<'Tab Primeira Fase'!Q37,2))) -> 2 | E30: =IF(ISNUMBER('Tab Primeira Fase'!O37),1,0) -> 1 | F30: =IF(B30*E30=2,1,0) -> 0 | G30: =IF(B30*E30=1,1,0) -> 0 | H30: =IF(B30=0,IF(E30=1,1,0),0) -> 1 | I30: =IF(E30*D30=2,1,0) -> 1 | J30: =IF(E30*D30=1,1,0) -> 0 | K30: =IF(D30=0,IF(E30=1,1,0),0) -> 0
A31: ='Tab Primeira Fase'!N38 -> PAULO CÉSAR | B31: =IF('Tab Primeira Fase'!O38<'Tab Primeira Fase'!Q38,0,IF('Tab Primeira Fase'!O38='Tab Primeira Fase'!Q38,1,IF('Tab Primeira Fase'!O38>'Tab Primeira Fase'!Q38,2))) -> 0 | C31: ='Tab Primeira Fase'!R38 -> WENDEL | D31: =IF('Tab Primeira Fase'!O38>'Tab Primeira Fase'!Q38,0,IF('Tab Primeira Fase'!O38='Tab Primeira Fase'!Q38,1,IF('Tab Primeira Fase'!O38<'Tab Primeira Fase'!Q38,2))) -> 2 | E31: =IF(ISNUMBER('Tab Primeira Fase'!O38),1,0) -> 1 | F31: =IF(B31*E31=2,1,0) -> 0 | G31: =IF(B31*E31=1,1,0) -> 0 | H31: =IF(B31=0,IF(E31=1,1,0),0) -> 1 | I31: =IF(E31*D31=2,1,0) -> 1 | J31: =IF(E31*D31=1,1,0) -> 0 | K31: =IF(D31=0,IF(E31=1,1,0),0) -> 0 | L31: JULIANO | M31: =SUMIF($A$1:$A$773,L31,$F$1:$F$773)+SUMIF($C$1:$C$773,L31,$I$1:$I$773) -> 5 | N31: =SUMIF($A$1:$A$773,L31,$G$1:$G$773)+SUMIF($C$1:$C$773,L31,$J$1:$J$773) -> 0 | O31: =SUMIF($A$1:$A$773,L31,$H$1:$H$773)+SUMIF($C$1:$C$773,L31,$K$1:$K$773) -> 0 | P31: =SUMIF('Tab Primeira Fase'!$N$8:$N$831,L31,'Tab Primeira Fase'!$O$8:$O$831)+SUMIF('Tab Primeira Fase'!$R$8:$R$831,L31,'Tab Primeira Fase'!$Q$8:$Q$831) -> 14 | Q31: =SUMIF('Tab Primeira Fase'!$N$8:$N$831,L31,'Tab Primeira Fase'!$Q$8:$Q$831)+SUMIF('Tab Primeira Fase'!$R$8:$R$831,L31,'Tab Primeira Fase'!$O$8:$O$831) -> 4 | R31: =(1000000*((3*M31)+N31))+(10000*M31)+(100*(P31-Q31))+P31+(0.001*(6-T31)) -> 15051014 | S31: =RANK(R31,$R$31:$R$36) -> 1 | T31: 1 | U31: =IF($S$31=T31,31,0)+IF($S$32=T31,32,0)+IF($S$33=T31,33,0)+IF($S$34=T31,34,0)+IF($S$35=T31,35,0)+IF($S$36=T31,36,0) -> 31 | W31: =CONCATENATE("'Auxiliar'!",W$1,$U31) -> 'Auxiliar'!L31 | X31: =CONCATENATE("'Auxiliar'!",X$1,$U31) -> 'Auxiliar'!M31 | Y31: =CONCATENATE("'Auxiliar'!",Y$1,$U31) -> 'Auxiliar'!N31 | Z31: =CONCATENATE("'Auxiliar'!",Z$1,$U31) -> 'Auxiliar'!O31 | AA31: =CONCATENATE("'Auxiliar'!",AA$1,$U31) -> 'Auxiliar'!P31 | AB31: =CONCATENATE("'Auxiliar'!",AB$1,$U31) -> 'Auxiliar'!Q31
A32: ='Tab Primeira Fase'!N39 -> JUNIOR | B32: =IF('Tab Primeira Fase'!O39<'Tab Primeira Fase'!Q39,0,IF('Tab Primeira Fase'!O39='Tab Primeira Fase'!Q39,1,IF('Tab Primeira Fase'!O39>'Tab Primeira Fase'!Q39,2))) -> 0 | C32: ='Tab Primeira Fase'!R39 -> TARCÍZIO | D32: =IF('Tab Primeira Fase'!O39>'Tab Primeira Fase'!Q39,0,IF('Tab Primeira Fase'!O39='Tab Primeira Fase'!Q39,1,IF('Tab Primeira Fase'!O39<'Tab Primeira Fase'!Q39,2))) -> 2 | E32: =IF(ISNUMBER('Tab Primeira Fase'!O39),1,0) -> 1 | F32: =IF(B32*E32=2,1,0) -> 0 | G32: =IF(B32*E32=1,1,0) -> 0 | H32: =IF(B32=0,IF(E32=1,1,0),0) -> 1 | I32: =IF(E32*D32=2,1,0) -> 1 | J32: =IF(E32*D32=1,1,0) -> 0 | K32: =IF(D32=0,IF(E32=1,1,0),0) -> 0 | L32: M. VASQUES | M32: =SUMIF($A$1:$A$773,L32,$F$1:$F$773)+SUMIF($C$1:$C$773,L32,$I$1:$I$773) -> 0 | N32: =SUMIF($A$1:$A$773,L32,$G$1:$G$773)+SUMIF($C$1:$C$773,L32,$J$1:$J$773) -> 1 | O32: =SUMIF($A$1:$A$773,L32,$H$1:$H$773)+SUMIF($C$1:$C$773,L32,$K$1:$K$773) -> 4 | P32: =SUMIF('Tab Primeira Fase'!$N$8:$N$831,L32,'Tab Primeira Fase'!$O$8:$O$831)+SUMIF('Tab Primeira Fase'!$R$8:$R$831,L32,'Tab Primeira Fase'!$Q$8:$Q$831) -> 2 | Q32: =SUMIF('Tab Primeira Fase'!$N$8:$N$831,L32,'Tab Primeira Fase'!$Q$8:$Q$831)+SUMIF('Tab Primeira Fase'!$R$8:$R$831,L32,'Tab Primeira Fase'!$O$8:$O$831) -> 10 | R32: =(1000000*((3*M32)+N32))+(10000*M32)+(100*(P32-Q32))+P32+(0.001*(6-T32)) -> 999202 | S32: =RANK(R32,$R$31:$R$36) -> 6 | T32: 2 | U32: =IF($S$31=T32,31,0)+IF($S$32=T32,32,0)+IF($S$33=T32,33,0)+IF($S$34=T32,34,0)+IF($S$35=T32,35,0)+IF($S$36=T32,36,0) -> 35 | W32: =CONCATENATE("'Auxiliar'!",W$1,$U32) -> 'Auxiliar'!L35 | X32: =CONCATENATE("'Auxiliar'!",X$1,$U32) -> 'Auxiliar'!M35 | Y32: =CONCATENATE("'Auxiliar'!",Y$1,$U32) -> 'Auxiliar'!N35 | Z32: =CONCATENATE("'Auxiliar'!",Z$1,$U32) -> 'Auxiliar'!O35 | AA32: =CONCATENATE("'Auxiliar'!",AA$1,$U32) -> 'Auxiliar'!P35 | AB32: =CONCATENATE("'Auxiliar'!",AB$1,$U32) -> 'Auxiliar'!Q35
A33: ='Tab Primeira Fase'!N40 -> ALAN | B33: =IF('Tab Primeira Fase'!O40<'Tab Primeira Fase'!Q40,0,IF('Tab Primeira Fase'!O40='Tab Primeira Fase'!Q40,1,IF('Tab Primeira Fase'!O40>'Tab Primeira Fase'!Q40,2))) -> 2 | C33: ='Tab Primeira Fase'!R40 -> ALCIDES | D33: =IF('Tab Primeira Fase'!O40>'Tab Primeira Fase'!Q40,0,IF('Tab Primeira Fase'!O40='Tab Primeira Fase'!Q40,1,IF('Tab Primeira Fase'!O40<'Tab Primeira Fase'!Q40,2))) -> 0 | E33: =IF(ISNUMBER('Tab Primeira Fase'!O40),1,0) -> 1 | F33: =IF(B33*E33=2,1,0) -> 1 | G33: =IF(B33*E33=1,1,0) -> 0 | H33: =IF(B33=0,IF(E33=1,1,0),0) -> 0 | I33: =IF(E33*D33=2,1,0) -> 0 | J33: =IF(E33*D33=1,1,0) -> 0 | K33: =IF(D33=0,IF(E33=1,1,0),0) -> 1 | L33: MAGNO | M33: =SUMIF($A$1:$A$773,L33,$F$1:$F$773)+SUMIF($C$1:$C$773,L33,$I$1:$I$773) -> 2 | N33: =SUMIF($A$1:$A$773,L33,$G$1:$G$773)+SUMIF($C$1:$C$773,L33,$J$1:$J$773) -> 0 | O33: =SUMIF($A$1:$A$773,L33,$H$1:$H$773)+SUMIF($C$1:$C$773,L33,$K$1:$K$773) -> 3 | P33: =SUMIF('Tab Primeira Fase'!$N$8:$N$831,L33,'Tab Primeira Fase'!$O$8:$O$831)+SUMIF('Tab Primeira Fase'!$R$8:$R$831,L33,'Tab Primeira Fase'!$Q$8:$Q$831) -> 10 | Q33: =SUMIF('Tab Primeira Fase'!$N$8:$N$831,L33,'Tab Primeira Fase'!$Q$8:$Q$831)+SUMIF('Tab Primeira Fase'!$R$8:$R$831,L33,'Tab Primeira Fase'!$O$8:$O$831) -> 10 | R33: =(1000000*((3*M33)+N33))+(10000*M33)+(100*(P33-Q33))+P33+(0.001*(6-T33)) -> 6020010 | S33: =RANK(R33,$R$31:$R$36) -> 4 | T33: 3 | U33: =IF($S$31=T33,31,0)+IF($S$32=T33,32,0)+IF($S$33=T33,33,0)+IF($S$34=T33,34,0)+IF($S$35=T33,35,0)+IF($S$36=T33,36,0) -> 36 | W33: =CONCATENATE("'Auxiliar'!",W$1,$U33) -> 'Auxiliar'!L36 | X33: =CONCATENATE("'Auxiliar'!",X$1,$U33) -> 'Auxiliar'!M36 | Y33: =CONCATENATE("'Auxiliar'!",Y$1,$U33) -> 'Auxiliar'!N36 | Z33: =CONCATENATE("'Auxiliar'!",Z$1,$U33) -> 'Auxiliar'!O36 | AA33: =CONCATENATE("'Auxiliar'!",AA$1,$U33) -> 'Auxiliar'!P36 | AB33: =CONCATENATE("'Auxiliar'!",AB$1,$U33) -> 'Auxiliar'!Q36
A34: ='Tab Primeira Fase'!N41 -> THIAGO | B34: =IF('Tab Primeira Fase'!O41<'Tab Primeira Fase'!Q41,0,IF('Tab Primeira Fase'!O41='Tab Primeira Fase'!Q41,1,IF('Tab Primeira Fase'!O41>'Tab Primeira Fase'!Q41,2))) -> 2 | C34: ='Tab Primeira Fase'!R41 -> CARUSO | D34: =IF('Tab Primeira Fase'!O41>'Tab Primeira Fase'!Q41,0,IF('Tab Primeira Fase'!O41='Tab Primeira Fase'!Q41,1,IF('Tab Primeira Fase'!O41<'Tab Primeira Fase'!Q41,2))) -> 0 | E34: =IF(ISNUMBER('Tab Primeira Fase'!O41),1,0) -> 1 | F34: =IF(B34*E34=2,1,0) -> 1 | G34: =IF(B34*E34=1,1,0) -> 0 | H34: =IF(B34=0,IF(E34=1,1,0),0) -> 0 | I34: =IF(E34*D34=2,1,0) -> 0 | J34: =IF(E34*D34=1,1,0) -> 0 | K34: =IF(D34=0,IF(E34=1,1,0),0) -> 1 | L34: FARNEZE | M34: =SUMIF($A$1:$A$773,L34,$F$1:$F$773)+SUMIF($C$1:$C$773,L34,$I$1:$I$773) -> 1 | N34: =SUMIF($A$1:$A$773,L34,$G$1:$G$773)+SUMIF($C$1:$C$773,L34,$J$1:$J$773) -> 0 | O34: =SUMIF($A$1:$A$773,L34,$H$1:$H$773)+SUMIF($C$1:$C$773,L34,$K$1:$K$773) -> 4 | P34: =SUMIF('Tab Primeira Fase'!$N$8:$N$831,L34,'Tab Primeira Fase'!$O$8:$O$831)+SUMIF('Tab Primeira Fase'!$R$8:$R$831,L34,'Tab Primeira Fase'!$Q$8:$Q$831) -> 3 | Q34: =SUMIF('Tab Primeira Fase'!$N$8:$N$831,L34,'Tab Primeira Fase'!$Q$8:$Q$831)+SUMIF('Tab Primeira Fase'!$R$8:$R$831,L34,'Tab Primeira Fase'!$O$8:$O$831) -> 10 | R34: =(1000000*((3*M34)+N34))+(10000*M34)+(100*(P34-Q34))+P34+(0.001*(6-T34)) -> 3009303 | S34: =RANK(R34,$R$31:$R$36) -> 5 | T34: 4 | U34: =IF($S$31=T34,31,0)+IF($S$32=T34,32,0)+IF($S$33=T34,33,0)+IF($S$34=T34,34,0)+IF($S$35=T34,35,0)+IF($S$36=T34,36,0) -> 33 | W34: =CONCATENATE("'Auxiliar'!",W$1,$U34) -> 'Auxiliar'!L33 | X34: =CONCATENATE("'Auxiliar'!",X$1,$U34) -> 'Auxiliar'!M33 | Y34: =CONCATENATE("'Auxiliar'!",Y$1,$U34) -> 'Auxiliar'!N33 | Z34: =CONCATENATE("'Auxiliar'!",Z$1,$U34) -> 'Auxiliar'!O33 | AA34: =CONCATENATE("'Auxiliar'!",AA$1,$U34) -> 'Auxiliar'!P33 | AB34: =CONCATENATE("'Auxiliar'!",AB$1,$U34) -> 'Auxiliar'!Q33
