Workbook

Sheet Auxiliar
A1: ='Tabela da Primeira Fase'!M7 -> MAGNETO | B1: =IF('Tabela da Primeira Fase'!N7<'Tabela da Primeira Fase'!P7,0,IF('Tabela da Primeira Fase'!N7='Tabela da Primeira Fase'!P7,1,IF('Tabela da Primeira Fase'!N7>'Tabela da Primeira Fase'!P7,2))) -> 2 | C1: ='Tabela da Primeira Fase'!Q7 -> BLACK POWER | D1: =IF('Tabela da Primeira Fase'!N7>'Tabela da Primeira Fase'!P7,0,IF('Tabela da Primeira Fase'!N7='Tabela da Primeira Fase'!P7,1,IF('Tabela da Primeira Fase'!N7<'Tabela da Primeira Fase'!P7,2))) -> 0 | E1: =IF(ISNUMBER('Tabela da Primeira Fase'!N7),1,0) -> 1 | F1: =IF(B1*E1=2,1,0) -> 1 | G1: =IF(B1*E1=1,1,0) -> 0 | H1: =IF(B1=0,IF(E1=1,1,0),0) -> 0 | I1: =IF(E1*D1=2,1,0) -> 0 | J1: =IF(E1*D1=1,1,0) -> 0 | K1: =IF(D1=0,IF(E1=1,1,0),0) -> 1 | L1: TIMES | M1: V | N1: E | O1: D | P1: GP | Q1: GC | W1: L | X1: M | Y1: N | Z1: O | AA1: P | AB1: Q
A2: ='Tabela da Primeira Fase'!M8 -> AZTECA | B2: =IF('Tabela da Primeira Fase'!N8<'Tabela da Primeira Fase'!P8,0,IF('Tabela da Primeira Fase'!N8='Tabela da Primeira Fase'!P8,1,IF('Tabela da Primeira Fase'!N8>'Tabela da Primeira Fase'!P8,2))) -> 1 | C2: ='Tabela da Primeira Fase'!Q8 -> MANCHESTER | D2: =IF('Tabela da Primeira Fase'!N8>'Tabela da Primeira Fase'!P8,0,IF('Tabela da Primeira Fase'!N8='Tabela da Primeira Fase'!P8,1,IF('Tabela da Primeira Fase'!N8<'Tabela da Primeira Fase'!P8,2))) -> 1 | E2: =IF(ISNUMBER('Tabela da Primeira Fase'!N8),1,0) -> 1 | F2: =IF(B2*E2=2,1,0) -> 0 | G2: =IF(B2*E2=1,1,0) -> 1 | H2: =IF(B2=0,IF(E2=1,1,0),0) -> 0 | I2: =IF(E2*D2=2,1,0) -> 0 | J2: =IF(E2*D2=1,1,0) -> 1 | K2: =IF(D2=0,IF(E2=1,1,0),0) -> 0 | L2: MAGNETO | M2: =SUMIF($A$1:$A$771,L2,$F$1:$F$771)+SUMIF($C$1:$C$771,L2,$I$1:$I$771) -> 2 | N2: =SUMIF($A$1:$A$771,L2,$G$1:$G$771)+SUMIF($C$1:$C$771,L2,$J$1:$J$771) -> 0 | O2: =SUMIF($A$1:$A$771,L2,$H$1:$H$771)+SUMIF($C$1:$C$771,L2,$K$1:$K$771) -> 0 | P2: =SUMIF('Tabela da Primeira Fase'!$M$7:$M$749,L2,'Tabela da Primeira Fase'!$N$7:$N$749)+SUMIF('Tabela da Primeira Fase'!$Q$7:$Q$749,L2,'Tabela da Primeira Fase'!$P$7:$P$749) -> 7 | Q2: =SUMIF('Tabela da Primeira Fase'!$M$7:$M$749,L2,'Tabela da Primeira Fase'!$P$7:$P$749)+SUMIF('Tabela da Primeira Fase'!$Q$7:$Q$749,L2,'Tabela da Primeira Fase'!$N$7:$N$749) -> 0 | R2: =(1000000*((3*M2)+N2))+(10000*M2)+(100*(P2-Q2))+P2+(0.001*(30-T2)) -> 6020707 | S2: =RANK(R2,$R$2:$R$5) -> 1 | T2: 1 | U2: =IF($S$2=T2,2,0)+IF($S$3=T2,3,0)+IF($S$4=T2,4,0)+IF($S$5=T2,5,0) -> 2 | W2: =CONCATENATE("'Auxiliar'!",W$1,$U2) -> 'Auxiliar'!L2 | X2: =CONCATENATE("'Auxiliar'!",X$1,$U2) -> 'Auxiliar'!M2 | Y2: =CONCATENATE("'Auxiliar'!",Y$1,$U2) -> 'Auxiliar'!N2 | Z2: =CONCATENATE("'Auxiliar'!",Z$1,$U2) -> 'Auxiliar'!O2 | AA2: =CONCATENATE("'Auxiliar'!",AA$1,$U2) -> 'Auxiliar'!P2 | AB2: =CONCATENATE("'Auxiliar'!",AB$1,$U2) -> 'Auxiliar'!Q2
A3: ='Tabela da Primeira Fase'!M9 -> AMIGOS | B3: =IF('Tabela da Primeira Fase'!N9<'Tabela da Primeira Fase'!P9,0,IF('Tabela da Primeira Fase'!N9='Tabela da Primeira Fase'!P9,1,IF('Tabela da Primeira Fase'!N9>'Tabela da Primeira Fase'!P9,2))) -> 2 | C3: ='Tabela da Primeira Fase'!Q9 -> GERAÇÃO ELEITA | D3: =IF('Tabela da Primeira Fase'!N9>'Tabela da Primeira Fase'!P9,0,IF('Tabela da Primeira Fase'!N9='Tabela da Primeira Fase'!P9,1,IF('Tabela da Primeira Fase'!N9<'Tabela da Primeira Fase'!P9,2))) -> 0 | E3: =IF(ISNUMBER('Tabela da Primeira Fase'!N9),1,0) -> 1 | F3: =IF(B3*E3=2,1,0) -> 1 | G3: =IF(B3*E3=1,1,0) -> 0 | H3: =IF(B3=0,IF(E3=1,1,0),0) -> 0 | I3: =IF(E3*D3=2,1,0) -> 0 | J3: =IF(E3*D3=1,1,0) -> 0 | K3: =IF(D3=0,IF(E3=1,1,0),0) -> 1 | L3: LARA GALÃO | M3: =SUMIF($A$1:$A$771,L3,$F$1:$F$771)+SUMIF($C$1:$C$771,L3,$I$1:$I$771) -> 1 | N3: =SUMIF($A$1:$A$771,L3,$G$1:$G$771)+SUMIF($C$1:$C$771,L3,$J$1:$J$771) -> 0 | O3: =SUMIF($A$1:$A$771,L3,$H$1:$H$771)+SUMIF($C$1:$C$771,L3,$K$1:$K$771) -> 1 | P3: =SUMIF('Tabela da Primeira Fase'!$M$7:$M$749,L3,'Tabela da Primeira Fase'!$N$7:$N$749)+SUMIF('Tabela da Primeira Fase'!$Q$7:$Q$749,L3,'Tabela da Primeira Fase'!$P$7:$P$749) -> 2 | Q3: =SUMIF('Tabela da Primeira Fase'!$M$7:$M$749,L3,'Tabela da Primeira Fase'!$P$7:$P$749)+SUMIF('Tabela da Primeira Fase'!$Q$7:$Q$749,L3,'Tabela da Primeira Fase'!$N$7:$N$749) -> 2 | R3: =(1000000*((3*M3)+N3))+(10000*M3)+(100*(P3-Q3))+P3+(0.001*(30-T3)) -> 3010002 | S3: =RANK(R3,$R$2:$R$5) -> 2 | T3: 2 | U3: =IF($S$2=T3,2,0)+IF($S$3=T3,3,0)+IF($S$4=T3,4,0)+IF($S$5=T3,5,0) -> 3 | W3: =CONCATENATE("'Auxiliar'!",W$1,$U3) -> 'Auxiliar'!L3 | X3: =CONCATENATE("'Auxiliar'!",X$1,$U3) -> 'Auxiliar'!M3 | Y3: =CONCATENATE("'Auxiliar'!",Y$1,$U3) -> 'Auxiliar'!N3 | Z3: =CONCATENATE("'Auxiliar'!",Z$1,$U3) -> 'Auxiliar'!O3 | AA3: =CONCATENATE("'Auxiliar'!",AA$1,$U3) -> 'Auxiliar'!P3 | AB3: =CONCATENATE("'Auxiliar'!",AB$1,$U3) -> 'Auxiliar'!Q3
A4: ='Tabela da Primeira Fase'!M10 -> IZALCI | B4: =IF('Tabela da Primeira Fase'!N10<'Tabela da Primeira Fase'!P10,0,IF('Tabela da Primeira Fase'!N10='Tabela da Primeira Fase'!P10,1,IF('Tabela da Primeira Fase'!N10>'Tabela da Primeira Fase'!P10,2))) -> 2 | C4: ='Tabela da Primeira Fase'!Q10 -> ARMAÇÃO | D4: =IF('Tabela da Primeira Fase'!N10>'Tabela da Primeira Fase'!P10,0,IF('Tabela da Primeira Fase'!N10='Tabela da Primeira Fase'!P10,1,IF('Tabela da Primeira Fase'!N10<'Tabela da Primeira Fase'!P10,2))) -> 0 | E4: =IF(ISNUMBER('Tabela da Primeira Fase'!N10),1,0) -> 1 | F4: =IF(B4*E4=2,1,0) -> 1 | G4: =IF(B4*E4=1,1,0) -> 0 | H4: =IF(B4=0,IF(E4=1,1,0),0) -> 0 | I4: =IF(E4*D4=2,1,0) -> 0 | J4: =IF(E4*D4=1,1,0) -> 0 | K4: =IF(D4=0,IF(E4=1,1,0),0) -> 1 | L4: BLACK POWER | M4: =SUMIF($A$1:$A$771,L4,$F$1:$F$771)+SUMIF($C$1:$C$771,L4,$I$1:$I$771) -> 0 | N4: =SUMIF($A$1:$A$771,L4,$G$1:$G$771)+SUMIF($C$1:$C$771,L4,$J$1:$J$771) -> 0 | O4: =SUMIF($A$1:$A$771,L4,$H$1:$H$771)+SUMIF($C$1:$C$771,L4,$K$1:$K$771) -> 2 | P4: =SUMIF('Tabela da Primeira Fase'!$M$7:$M$749,L4,'Tabela da Primeira Fase'!$N$7:$N$749)+SUMIF('Tabela da Primeira Fase'!$Q$7:$Q$749,L4,'Tabela da Primeira Fase'!$P$7:$P$749) -> 0 | Q4: =SUMIF('Tabela da Primeira Fase'!$M$7:$M$749,L4,'Tabela da Primeira Fase'!$P$7:$P$749)+SUMIF('Tabela da Primeira Fase'!$Q$7:$Q$749,L4,'Tabela da Primeira Fase'!$N$7:$N$749) -> 7 | R4: =(1000000*((3*M4)+N4))+(10000*M4)+(100*(P4-Q4))+P4+(0.001*(30-T4)) -> -699.973 | S4: =RANK(R4,$R$2:$R$5) -> 3 | T4: 3 | U4: =IF($S$2=T4,2,0)+IF($S$3=T4,3,0)+IF($S$4=T4,4,0)+IF($S$5=T4,5,0) -> 4 | W4: =CONCATENATE("'Auxiliar'!",W$1,$U4) -> 'Auxiliar'!L4 | X4: =CONCATENATE("'Auxiliar'!",X$1,$U4) -> 'Auxiliar'!M4 | Y4: =CONCATENATE("'Auxiliar'!",Y$1,$U4) -> 'Auxiliar'!N4 | Z4: =CONCATENATE("'Auxiliar'!",Z$1,$U4) -> 'Auxiliar'!O4 | AA4: =CONCATENATE("'Auxiliar'!",AA$1,$U4) -> 'Auxiliar'!P4 | AB4: =CONCATENATE("'Auxiliar'!",AB$1,$U4) -> 'Auxiliar'!Q4
A5: ='Tabela da Primeira Fase'!M11 -> DÍNAMO | B5: =IF('Tabela da Primeira Fase'!N11<'Tabela da Primeira Fase'!P11,0,IF('Tabela da Primeira Fase'!N11='Tabela da Primeira Fase'!P11,1,IF('Tabela da Primeira Fase'!N11>'Tabela da Primeira Fase'!P11,2))) -> 2 | C5: ='Tabela da Primeira Fase'!Q11 -> WILLIAM SPORT | D5: =IF('Tabela da Primeira Fase'!N11>'Tabela da Primeira Fase'!P11,0,IF('Tabela da Primeira Fase'!N11='Tabela da Primeira Fase'!P11,1,IF('Tabela da Primeira Fase'!N11<'Tabela da Primeira Fase'!P11,2))) -> 0 | E5: =IF(ISNUMBER('Tabela da Primeira Fase'!N11),1,0) -> 1 | F5: =IF(B5*E5=2,1,0) -> 1 | G5: =IF(B5*E5=1,1,0) -> 0 | H5: =IF(B5=0,IF(E5=1,1,0),0) -> 0 | I5: =IF(E5*D5=2,1,0) -> 0 | J5: =IF(E5*D5=1,1,0) -> 0 | K5: =IF(D5=0,IF(E5=1,1,0),0) -> 1
A6: ='Tabela da Primeira Fase'!M12 -> WILLIAM SPORT | B6: =IF('Tabela da Primeira Fase'!N12<'Tabela da Primeira Fase'!P12,0,IF('Tabela da Primeira Fase'!N12='Tabela da Primeira Fase'!P12,1,IF('Tabela da Primeira Fase'!N12>'Tabela da Primeira Fase'!P12,2))) -> 0 | C6: ='Tabela da Primeira Fase'!Q12 -> FANTASMA | D6: =IF('Tabela da Primeira Fase'!N12>'Tabela da Primeira Fase'!P12,0,IF('Tabela da Primeira Fase'!N12='Tabela da Primeira Fase'!P12,1,IF('Tabela da Primeira Fase'!N12<'Tabela da Primeira Fase'!P12,2))) -> 2 | E6: =IF(ISNUMBER('Tabela da Primeira Fase'!N12),1,0) -> 1 | F6: =IF(B6*E6=2,1,0) -> 0 | G6: =IF(B6*E6=1,1,0) -> 0 | H6: =IF(B6=0,IF(E6=1,1,0),0) -> 1 | I6: =IF(E6*D6=2,1,0) -> 1 | J6: =IF(E6*D6=1,1,0) -> 0 | K6: =IF(D6=0,IF(E6=1,1,0),0) -> 0
A7: ='Tabela da Primeira Fase'!M13 -> BLACK POWER | B7: =IF('Tabela da Primeira Fase'!N13<'Tabela da Primeira Fase'!P13,0,IF('Tabela da Primeira Fase'!N13='Tabela da Primeira Fase'!P13,1,IF('Tabela da Primeira Fase'!N13>'Tabela da Primeira Fase'!P13,2))) -> 0 | C7: ='Tabela da Primeira Fase'!Q13 -> LARA GALÃO | D7: =IF('Tabela da Primeira Fase'!N13>'Tabela da Primeira Fase'!P13,0,IF('Tabela da Primeira Fase'!N13='Tabela da Primeira Fase'!P13,1,IF('Tabela da Primeira Fase'!N13<'Tabela da Primeira Fase'!P13,2))) -> 2 | E7: =IF(ISNUMBER('Tabela da Primeira Fase'!N13),1,0) -> 1 | F7: =IF(B7*E7=2,1,0) -> 0 | G7: =IF(B7*E7=1,1,0) -> 0 | H7: =IF(B7=0,IF(E7=1,1,0),0) -> 1 | I7: =IF(E7*D7=2,1,0) -> 1 | J7: =IF(E7*D7=1,1,0) -> 0 | K7: =IF(D7=0,IF(E7=1,1,0),0) -> 0 | L7: AZTECA | M7: =SUMIF($A$1:$A$771,L7,$F$1:$F$771)+SUMIF($C$1:$C$771,L7,$I$1:$I$771) -> 1 | N7: =SUMIF($A$1:$A$771,L7,$G$1:$G$771)+SUMIF($C$1:$C$771,L7,$J$1:$J$771) -> 1 | O7: =SUMIF($A$1:$A$771,L7,$H$1:$H$771)+SUMIF($C$1:$C$771,L7,$K$1:$K$771) -> 0 | P7: =SUMIF('Tabela da Primeira Fase'!$M$7:$M$749,L7,'Tabela da Primeira Fase'!$N$7:$N$749)+SUMIF('Tabela da Primeira Fase'!$Q$7:$Q$749,L7,'Tabela da Primeira Fase'!$P$7:$P$749) -> 2 | Q7: =SUMIF('Tabela da Primeira Fase'!$M$7:$M$749,L7,'Tabela da Primeira Fase'!$P$7:$P$749)+SUMIF('Tabela da Primeira Fase'!$Q$7:$Q$749,L7,'Tabela da Primeira Fase'!$N$7:$N$749) -> 1 | R7: =(1000000*((3*M7)+N7))+(10000*M7)+(100*(P7-Q7))+P7+(0.001*(30-T7)) -> 4010102 | S7: =RANK(R7,$R$7:$R$10) -> 1 | T7: 1 | U7: =IF($S$7=T7,7,0)+IF($S$8=T7,8,0)+IF($S$9=T7,9,0)+IF($S$10=T7,10,0) -> 7 | W7: =CONCATENATE("'Auxiliar'!",W$1,$U7) -> 'Auxiliar'!L7 | X7: =CONCATENATE("'Auxiliar'!",X$1,$U7) -> 'Auxiliar'!M7 | Y7: =CONCATENATE("'Auxiliar'!",Y$1,$U7) -> 'Auxiliar'!N7 | Z7: =CONCATENATE("'Auxiliar'!",Z$1,$U7) -> 'Auxiliar'!O7 | AA7: =CONCATENATE("'Auxiliar'!",AA$1,$U7) -> 'Auxiliar'!P7 | AB7: =CONCATENATE("'Auxiliar'!",AB$1,$U7) -> 'Auxiliar'!Q7
A8: ='Tabela da Primeira Fase'!M14 -> MANCHESTER | B8: =IF('Tabela da Primeira Fase'!N14<'Tabela da Primeira Fase'!P14,0,IF('Tabela da Primeira Fase'!N14='Tabela da Primeira Fase'!P14,1,IF('Tabela da Primeira Fase'!N14>'Tabela da Primeira Fase'!P14,2))) -> 1 | C8: ='Tabela da Primeira Fase'!Q14 -> GALO DOIDO | D8: =IF('Tabela da Primeira Fase'!N14>'Tabela da Primeira Fase'!P14,0,IF('Tabela da Primeira Fase'!N14='Tabela da Primeira Fase'!P14,1,IF('Tabela da Primeira Fase'!N14<'Tabela da Primeira Fase'!P14,2))) -> 1 | E8: =IF(ISNUMBER('Tabela da Primeira Fase'!N14),1,0) -> 1 | F8: =IF(B8*E8=2,1,0) -> 0 | G8: =IF(B8*E8=1,1,0) -> 1 | H8: =IF(B8=0,IF(E8=1,1,0),0) -> 0 | I8: =IF(E8*D8=2,1,0) -> 0 | J8: =IF(E8*D8=1,1,0) -> 1 | K8: =IF(D8=0,IF(E8=1,1,0),0) -> 0 | L8: GALO DOIDO | M8: =SUMIF($A$1:$A$771,L8,$F$1:$F$771)+SUMIF($C$1:$C$771,L8,$I$1:$I$771) -> 0 | N8: =SUMIF($A$1:$A$771,L8,$G$1:$G$771)+SUMIF($C$1:$C$771,L8,$J$1:$J$771) -> 1 | O8: =SUMIF($A$1:$A$771,L8,$H$1:$H$771)+SUMIF($C$1:$C$771,L8,$K$1:$K$771) -> 1 | P8: =SUMIF('Tabela da Primeira Fase'!$M$7:$M$749,L8,'Tabela da Primeira Fase'!$N$7:$N$749)+SUMIF('Tabela da Primeira Fase'!$Q$7:$Q$749,L8,'Tabela da Primeira Fase'!$P$7:$P$749) -> 0 | Q8: =SUMIF('Tabela da Primeira Fase'!$M$7:$M$749,L8,'Tabela da Primeira Fase'!$P$7:$P$749)+SUMIF('Tabela da Primeira Fase'!$Q$7:$Q$749,L8,'Tabela da Primeira Fase'!$N$7:$N$749) -> 1 | R8: =(1000000*((3*M8)+N8))+(10000*M8)+(100*(P8-Q8))+P8+(0.001*(30-T8)) -> 999900.03 | S8: =RANK(R8,$R$7:$R$10) -> 3 | T8: 2 | U8: =IF($S$7=T8,7,0)+IF($S$8=T8,8,0)+IF($S$9=T8,9,0)+IF($S$10=T8,10,0) -> 9 | W8: =CONCATENATE("'Auxiliar'!",W$1,$U8) -> 'Auxiliar'!L9 | X8: =CONCATENATE("'Auxiliar'!",X$1,$U8) -> 'Auxiliar'!M9 | Y8: =CONCATENATE("'Auxiliar'!",Y$1,$U8) -> 'Auxiliar'!N9 | Z8: =CONCATENATE("'Auxiliar'!",Z$1,$U8) -> 'Auxiliar'!O9 | AA8: =CONCATENATE("'Auxiliar'!",AA$1,$U8) -> 'Auxiliar'!P9 | AB8: =CONCATENATE("'Auxiliar'!",AB$1,$U8) -> 'Auxiliar'!Q9
A9: ='Tabela da Primeira Fase'!M15 -> GERAÇÃO ELEITA | B9: =IF('Tabela da Primeira Fase'!N15<'Tabela da Primeira Fase'!P15,0,IF('Tabela da Primeira Fase'!N15='Tabela da Primeira Fase'!P15,1,IF('Tabela da Primeira Fase'!N15>'Tabela da Primeira Fase'!P15,2))) -> 2 | C9: ='Tabela da Primeira Fase'!Q15 -> BOTA JUNIOR | D9: =IF('Tabela da Primeira Fase'!N15>'Tabela da Primeira Fase'!P15,0,IF('Tabela da Primeira Fase'!N15='Tabela da Primeira Fase'!P15,1,IF('Tabela da Primeira Fase'!N15<'Tabela da Primeira Fase'!P15,2))) -> 0 | E9: =IF(ISNUMBER('Tabela da Primeira Fase'!N15),1,0) -> 1 | F9: =IF(B9*E9=2,1,0) -> 1 | G9: =IF(B9*E9=1,1,0) -> 0 | H9: =IF(B9=0,IF(E9=1,1,0),0) -> 0 | I9: =IF(E9*D9=2,1,0) -> 0 | J9: =IF(E9*D9=1,1,0) -> 0 | K9: =IF(D9=0,IF(E9=1,1,0),0) -> 1 | L9: MANCHESTER | M9: =SUMIF($A$1:$A$771,L9,$F$1:$F$771)+SUMIF($C$1:$C$771,L9,$I$1:$I$771) -> 0 | N9: =SUMIF($A$1:$A$771,L9,$G$1:$G$771)+SUMIF($C$1:$C$771,L9,$J$1:$J$771) -> 2 | O9: =SUMIF($A$1:$A$771,L9,$H$1:$H$771)+SUMIF($C$1:$C$771,L9,$K$1:$K$771) -> 0 | P9: =SUMIF('Tabela da Primeira Fase'!$M$7:$M$749,L9,'Tabela da Primeira Fase'!$N$7:$N$749)+SUMIF('Tabela da Primeira Fase'!$Q$7:$Q$749,L9,'Tabela da Primeira Fase'!$P$7:$P$749) -> 1 | Q9: =SUMIF('Tabela da Primeira Fase'!$M$7:$M$749,L9,'Tabela da Primeira Fase'!$P$7:$P$749)+SUMIF('Tabela da Primeira Fase'!$Q$7:$Q$749,L9,'Tabela da Primeira Fase'!$N$7:$N$749) -> 1 | R9: =(1000000*((3*M9)+N9))+(10000*M9)+(100*(P9-Q9))+P9+(0.001*(30-T9)) -> 2000001 | S9: =RANK(R9,$R$7:$R$10) -> 2 | T9: 3 | U9: =IF($S$7=T9,7,0)+IF($S$8=T9,8,0)+IF($S$9=T9,9,0)+IF($S$10=T9,10,0) -> 8 | W9: =CONCATENATE("'Auxiliar'!",W$1,$U9) -> 'Auxiliar'!L8 | X9: =CONCATENATE("'Auxiliar'!",X$1,$U9) -> 'Auxiliar'!M8 | Y9: =CONCATENATE("'Auxiliar'!",Y$1,$U9) -> 'Auxiliar'!N8 | Z9: =CONCATENATE("'Auxiliar'!",Z$1,$U9) -> 'Auxiliar'!O8 | AA9: =CONCATENATE("'Auxiliar'!",AA$1,$U9) -> 'Auxiliar'!P8 | AB9: =CONCATENATE("'Auxiliar'!",AB$1,$U9) -> 'Auxiliar'!Q8
A10: ='Tabela da Primeira Fase'!M16 -> ARMAÇÃO | B10: =IF('Tabela da Primeira Fase'!N16<'Tabela da Primeira Fase'!P16,0,IF('Tabela da Primeira Fase'!N16='Tabela da Primeira Fase'!P16,1,IF('Tabela da Primeira Fase'!N16>'Tabela da Primeira Fase'!P16,2))) -> 1 | C10: ='Tabela da Primeira Fase'!Q16 -> ELDORADO | D10: =IF('Tabela da Primeira Fase'!N16>'Tabela da Primeira Fase'!P16,0,IF('Tabela da Primeira Fase'!N16='Tabela da Primeira Fase'!P16,1,IF('Tabela da Primeira Fase'!N16<'Tabela da Primeira Fase'!P16,2))) -> 1 | E10: =IF(ISNUMBER('Tabela da Primeira Fase'!N16),1,0) -> 1 | F10: =IF(B10*E10=2,1,0) -> 0 | G10: =IF(B10*E10=1,1,0) -> 1 | H10: =IF(B10=0,IF(E10=1,1,0),0) -> 0 | I10: =IF(E10*D10=2,1,0) -> 0 | J10: =IF(E10*D10=1,1,0) -> 1 | K10: =IF(D10=0,IF(E10=1,1,0),0) -> 0
A11: ='Tabela da Primeira Fase'!M17 -> ELDORADO | B11: =IF('Tabela da Primeira Fase'!N17<'Tabela da Primeira Fase'!P17,0,IF('Tabela da Primeira Fase'!N17='Tabela da Primeira Fase'!P17,1,IF('Tabela da Primeira Fase'!N17>'Tabela da Primeira Fase'!P17,2))) -> 0 | C11: ='Tabela da Primeira Fase'!Q17 -> IZALCI | D11: =IF('Tabela da Primeira Fase'!N17>'Tabela da Primeira Fase'!P17,0,IF('Tabela da Primeira Fase'!N17='Tabela da Primeira Fase'!P17,1,IF('Tabela da Primeira Fase'!N17<'Tabela da Primeira Fase'!P17,2))) -> 2 | E11: =IF(ISNUMBER('Tabela da Primeira Fase'!N17),1,0) -> 1 | F11: =IF(B11*E11=2,1,0) -> 0 | G11: =IF(B11*E11=1,1,0) -> 0 | H11: =IF(B11=0,IF(E11=1,1,0),0) -> 1 | I11: =IF(E11*D11=2,1,0) -> 1 | J11: =IF(E11*D11=1,1,0) -> 0 | K11: =IF(D11=0,IF(E11=1,1,0),0) -> 0
A12: ='Tabela da Primeira Fase'!M18 -> FANTASMA | B12: =IF('Tabela da Primeira Fase'!N18<'Tabela da Primeira Fase'!P18,0,IF('Tabela da Primeira Fase'!N18='Tabela da Primeira Fase'!P18,1,IF('Tabela da Primeira Fase'!N18>'Tabela da Primeira Fase'!P18,2))) -> 1 | C12: ='Tabela da Primeira Fase'!Q18 -> DÍNAMO | D12: =IF('Tabela da Primeira Fase'!N18>'Tabela da Primeira Fase'!P18,0,IF('Tabela da Primeira Fase'!N18='Tabela da Primeira Fase'!P18,1,IF('Tabela da Primeira Fase'!N18<'Tabela da Primeira Fase'!P18,2))) -> 1 | E12: =IF(ISNUMBER('Tabela da Primeira Fase'!N18),1,0) -> 1 | F12: =IF(B12*E12=2,1,0) -> 0 | G12: =IF(B12*E12=1,1,0) -> 1 | H12: =IF(B12=0,IF(E12=1,1,0),0) -> 0 | I12: =IF(E12*D12=2,1,0) -> 0 | J12: =IF(E12*D12=1,1,0) -> 1 | K12: =IF(D12=0,IF(E12=1,1,0),0) -> 0 | L12: AMIGOS | M12: =SUMIF($A$1:$A$771,L12,$F$1:$F$771)+SUMIF($C$1:$C$771,L12,$I$1:$I$771) -> 1 | N12: =SUMIF($A$1:$A$771,L12,$G$1:$G$771)+SUMIF($C$1:$C$771,L12,$J$1:$J$771) -> 0 | O12: =SUMIF($A$1:$A$771,L12,$H$1:$H$771)+SUMIF($C$1:$C$771,L12,$K$1:$K$771) -> 1 | P12: =SUMIF('Tabela da Primeira Fase'!$M$7:$M$749,L12,'Tabela da Primeira Fase'!$N$7:$N$749)+SUMIF('Tabela da Primeira Fase'!$Q$7:$Q$749,L12,'Tabela da Primeira Fase'!$P$7:$P$749) -> 2 | Q12: =SUMIF('Tabela da Primeira Fase'!$M$7:$M$749,L12,'Tabela da Primeira Fase'!$P$7:$P$749)+SUMIF('Tabela da Primeira Fase'!$Q$7:$Q$749,L12,'Tabela da Primeira Fase'!$N$7:$N$749) -> 1 | R12: =(1000000*((3*M12)+N12))+(10000*M12)+(100*(P12-Q12))+P12+(0.001*(30-T12)) -> 3010102 | S12: =RANK(R12,$R$12:$R$15) -> 1 | T12: 1 | U12: =IF($S$12=T12,12,0)+IF($S$13=T12,13,0)+IF($S$14=T12,14,0)+IF($S$15=T12,15,0) -> 12 | W12: =CONCATENATE("'Auxiliar'!",W$1,$U12) -> 'Auxiliar'!L12 | X12: =CONCATENATE("'Auxiliar'!",X$1,$U12) -> 'Auxiliar'!M12 | Y12: =CONCATENATE("'Auxiliar'!",Y$1,$U12) -> 'Auxiliar'!N12 | Z12: =CONCATENATE("'Auxiliar'!",Z$1,$U12) -> 'Auxiliar'!O12 | AA12: =CONCATENATE("'Auxiliar'!",AA$1,$U12) -> 'Auxiliar'!P12 | AB12: =CONCATENATE("'Auxiliar'!",AB$1,$U12) -> 'Auxiliar'!Q12
A13: ='Tabela da Primeira Fase'!M19 -> LARA GALÃO | B13: =IF('Tabela da Primeira Fase'!N19<'Tabela da Primeira Fase'!P19,0,IF('Tabela da Primeira Fase'!N19='Tabela da Primeira Fase'!P19,1,IF('Tabela da Primeira Fase'!N19>'Tabela da Primeira Fase'!P19,2))) -> 0 | C13: ='Tabela da Primeira Fase'!Q19 -> MAGNETO | D13: =IF('Tabela da Primeira Fase'!N19>'Tabela da Primeira Fase'!P19,0,IF('Tabela da Primeira Fase'!N19='Tabela da Primeira Fase'!P19,1,IF('Tabela da Primeira Fase'!N19<'Tabela da Primeira Fase'!P19,2))) -> 2 | E13: =IF(ISNUMBER('Tabela da Primeira Fase'!N19),1,0) -> 1 | F13: =IF(B13*E13=2,1,0) -> 0 | G13: =IF(B13*E13=1,1,0) -> 0 | H13: =IF(B13=0,IF(E13=1,1,0),0) -> 1 | I13: =IF(E13*D13=2,1,0) -> 1 | J13: =IF(E13*D13=1,1,0) -> 0 | K13: =IF(D13=0,IF(E13=1,1,0),0) -> 0 | L13: BOTA JUNIOR | M13: =SUMIF($A$1:$A$771,L13,$F$1:$F$771)+SUMIF($C$1:$C$771,L13,$I$1:$I$771) -> 1 | N13: =SUMIF($A$1:$A$771,L13,$G$1:$G$771)+SUMIF($C$1:$C$771,L13,$J$1:$J$771) -> 0 | O13: =SUMIF($A$1:$A$771,L13,$H$1:$H$771)+SUMIF($C$1:$C$771,L13,$K$1:$K$771) -> 1 | P13: =SUMIF('Tabela da Primeira Fase'!$M$7:$M$749,L13,'Tabela da Primeira Fase'!$N$7:$N$749)+SUMIF('Tabela da Primeira Fase'!$Q$7:$Q$749,L13,'Tabela da Primeira Fase'!$P$7:$P$749) -> 1 | Q13: =SUMIF('Tabela da Primeira Fase'!$M$7:$M$749,L13,'Tabela da Primeira Fase'!$P$7:$P$749)+SUMIF('Tabela da Primeira Fase'!$Q$7:$Q$749,L13,'Tabela da Primeira Fase'!$N$7:$N$749) -> 2 | R13: =(1000000*((3*M13)+N13))+(10000*M13)+(100*(P13-Q13))+P13+(0.001*(30-T13)) -> 3009901 | S13: =RANK(R13,$R$12:$R$15) -> 3 | T13: 2 | U13: =IF($S$12=T13,12,0)+IF($S$13=T13,13,0)+IF($S$14=T13,14,0)+IF($S$15=T13,15,0) -> 14 | W13: =CONCATENATE("'Auxiliar'!",W$1,$U13) -> 'Auxiliar'!L14 | X13: =CONCATENATE("'Auxiliar'!",X$1,$U13) -> 'Auxiliar'!M14 | Y13: =CONCATENATE("'Auxiliar'!",Y$1,$U13) -> 'Auxiliar'!N14 | Z13: =CONCATENATE("'Auxiliar'!",Z$1,$U13) -> 'Auxiliar'!O14 | AA13: =CONCATENATE("'Auxiliar'!",AA$1,$U13) -> 'Auxiliar'!P14 | AB13: =CONCATENATE("'Auxiliar'!",AB$1,$U13) -> 'Auxiliar'!Q14
A14: ='Tabela da Primeira Fase'!M20 -> GALO DOIDO | B14: =IF('Tabela da Primeira Fase'!N20<'Tabela da Primeira Fase'!P20,0,IF('Tabela da Primeira Fase'!N20='Tabela da Primeira Fase'!P20,1,IF('Tabela da Primeira Fase'!N20>'Tabela da Primeira Fase'!P20,2))) -> 0 | C14: ='Tabela da Primeira Fase'!Q20 -> AZTECA | D14: =IF('Tabela da Primeira Fase'!N20>'Tabela da Primeira Fase'!P20,0,IF('Tabela da Primeira Fase'!N20='Tabela da Primeira Fase'!P20,1,IF('Tabela da Primeira Fase'!N20<'Tabela da Primeira Fase'!P20,2))) -> 2 | E14: =IF(ISNUMBER('Tabela da Primeira Fase'!N20),1,0) -> 1 | F14: =IF(B14*E14=2,1,0) -> 0 | G14: =IF(B14*E14=1,1,0) -> 0 | H14: =IF(B14=0,IF(E14=1,1,0),0) -> 1 | I14: =IF(E14*D14=2,1,0) -> 1 | J14: =IF(E14*D14=1,1,0) -> 0 | K14: =IF(D14=0,IF(E14=1,1,0),0) -> 0 | L14: GERAÇÃO ELEITA | M14: =SUMIF($A$1:$A$771,L14,$F$1:$F$771)+SUMIF($C$1:$C$771,L14,$I$1:$I$771) -> 1 | N14: =SUMIF($A$1:$A$771,L14,$G$1:$G$771)+SUMIF($C$1:$C$771,L14,$J$1:$J$771) -> 0 | O14: =SUMIF($A$1:$A$771,L14,$H$1:$H$771)+SUMIF($C$1:$C$771,L14,$K$1:$K$771) -> 1 | P14: =SUMIF('Tabela da Primeira Fase'!$M$7:$M$749,L14,'Tabela da Primeira Fase'!$N$7:$N$749)+SUMIF('Tabela da Primeira Fase'!$Q$7:$Q$749,L14,'Tabela da Primeira Fase'!$P$7:$P$749) -> 2 | Q14: =SUMIF('Tabela da Primeira Fase'!$M$7:$M$749,L14,'Tabela da Primeira Fase'!$P$7:$P$749)+SUMIF('Tabela da Primeira Fase'!$Q$7:$Q$749,L14,'Tabela da Primeira Fase'!$N$7:$N$749) -> 2 | R14: =(1000000*((3*M14)+N14))+(10000*M14)+(100*(P14-Q14))+P14+(0.001*(30-T14)) -> 3010002 | S14: =RANK(R14,$R$12:$R$15) -> 2 | T14: 3 | U14: =IF($S$12=T14,12,0)+IF($S$13=T14,13,0)+IF($S$14=T14,14,0)+IF($S$15=T14,15,0) -> 13 | W14: =CONCATENATE("'Auxiliar'!",W$1,$U14) -> 'Auxiliar'!L13 | X14: =CONCATENATE("'Auxiliar'!",X$1,$U14) -> 'Auxiliar'!M13 | Y14: =CONCATENATE("'Auxiliar'!",Y$1,$U14) -> 'Auxiliar'!N13 | Z14: =CONCATENATE("'Auxiliar'!",Z$1,$U14) -> 'Auxiliar'!O13 | AA14: =CONCATENATE("'Auxiliar'!",AA$1,$U14) -> 'Auxiliar'!P13 | AB14: =CONCATENATE("'Auxiliar'!",AB$1,$U14) -> 'Auxiliar'!Q13
A15: ='Tabela da Primeira Fase'!M21 -> BOTA JUNIOR | B15: =IF('Tabela da Primeira Fase'!N21<'Tabela da Primeira Fase'!P21,0,IF('Tabela da Primeira Fase'!N21='Tabela da Primeira Fase'!P21,1,IF('Tabela da Primeira Fase'!N21>'Tabela da Primeira Fase'!P21,2))) -> 2 | C15: ='Tabela da Primeira Fase'!Q21 -> AMIGOS | D15: =IF('Tabela da Primeira Fase'!N21>'Tabela da Primeira Fase'!P21,0,IF('Tabela da Primeira Fase'!N21='Tabela da Primeira Fase'!P21,1,IF('Tabela da Primeira Fase'!N21<'Tabela da Primeira Fase'!P21,2))) -> 0 | E15: =IF(ISNUMBER('Tabela da Primeira Fase'!N21),1,0) -> 1 | F15: =IF(B15*E15=2,1,0) -> 1 | G15: =IF(B15*E15=1,1,0) -> 0 | H15: =IF(B15=0,IF(E15=1,1,0),0) -> 0 | I15: =IF(E15*D15=2,1,0) -> 0 | J15: =IF(E15*D15=1,1,0) -> 0 | K15: =IF(D15=0,IF(E15=1,1,0),0) -> 1
L17: IZALCI | M17: =SUMIF($A$1:$A$771,L17,$F$1:$F$771)+SUMIF($C$1:$C$771,L17,$I$1:$I$771) -> 2 | N17: =SUMIF($A$1:$A$771,L17,$G$1:$G$771)+SUMIF($C$1:$C$771,L17,$J$1:$J$771) -> 0 | O17: =SUMIF($A$1:$A$771,L17,$H$1:$H$771)+SUMIF($C$1:$C$771,L17,$K$1:$K$771) -> 0 | P17: =SUMIF('Tabela da Primeira Fase'!$M$7:$M$749,L17,'Tabela da Primeira Fase'!$N$7:$N$749)+SUMIF('Tabela da Primeira Fase'!$Q$7:$Q$749,L17,'Tabela da Primeira Fase'!$P$7:$P$749) -> 4 | Q17: =SUMIF('Tabela da Primeira Fase'!$M$7:$M$749,L17,'Tabela da Primeira Fase'!$P$7:$P$749)+SUMIF('Tabela da Primeira Fase'!$Q$7:$Q$749,L17,'Tabela da Primeira Fase'!$N$7:$N$749) -> 0 | R17: =(1000000*((3*M17)+N17))+(10000*M17)+(100*(P17-Q17))+P17+(0.001*(30-T17)) -> 6020404 | S17: =RANK(R17,$R$17:$R$20) -> 1 | T17: 1 | U17: =IF($S$17=T17,17,0)+IF($S$18=T17,18,0)+IF($S$19=T17,19,0)+IF($S$20=T17,20,0) -> 17 | W17: =CONCATENATE("'Auxiliar'!",W$1,$U17) -> 'Auxiliar'!L17 | X17: =CONCATENATE("'Auxiliar'!",X$1,$U17) -> 'Auxiliar'!M17 | Y17: =CONCATENATE("'Auxiliar'!",Y$1,$U17) -> 'Auxiliar'!N17 | Z17: =CONCATENATE("'Auxiliar'!",Z$1,$U17) -> 'Auxiliar'!O17 | AA17: =CONCATENATE("'Auxiliar'!",AA$1,$U17) -> 'Auxiliar'!P17 | AB17: =CONCATENATE("'Auxiliar'!",AB$1,$U17) -> 'Auxiliar'!Q17
L18: ELDORADO | M18: =SUMIF($A$1:$A$771,L18,$F$1:$F$771)+SUMIF($C$1:$C$771,L18,$I$1:$I$771) -> 0 | N18: =SUMIF($A$1:$A$771,L18,$G$1:$G$771)+SUMIF($C$1:$C$771,L18,$J$1:$J$771) -> 1 | O18: =SUMIF($A$1:$A$771,L18,$H$1:$H$771)+SUMIF($C$1:$C$771,L18,$K$1:$K$771) -> 1 | P18: =SUMIF('Tabela da Primeira Fase'!$M$7:$M$749,L18,'Tabela da Primeira Fase'!$N$7:$N$749)+SUMIF('Tabela da Primeira Fase'!$Q$7:$Q$749,L18,'Tabela da Primeira Fase'!$P$7:$P$749) -> 1 | Q18: =SUMIF('Tabela da Primeira Fase'!$M$7:$M$749,L18,'Tabela da Primeira Fase'!$P$7:$P$749)+SUMIF('Tabela da Primeira Fase'!$Q$7:$Q$749,L18,'Tabela da Primeira Fase'!$N$7:$N$749) -> 3 | R18: =(1000000*((3*M18)+N18))+(10000*M18)+(100*(P18-Q18))+P18+(0.001*(30-T18)) -> 999801.03 | S18: =RANK(R18,$R$17:$R$20) -> 2 | T18: 2 | U18: =IF($S$17=T18,17,0)+IF($S$18=T18,18,0)+IF($S$19=T18,19,0)+IF($S$20=T18,20,0) -> 18 | W18: =CONCATENATE("'Auxiliar'!",W$1,$U18) -> 'Auxiliar'!L18 | X18: =CONCATENATE("'Auxiliar'!",X$1,$U18) -> 'Auxiliar'!M18 | Y18: =CONCATENATE("'Auxiliar'!",Y$1,$U18) -> 'Auxiliar'!N18 | Z18: =CONCATENATE("'Auxiliar'!",Z$1,$U18) -> 'Auxiliar'!O18 | AA18: =CONCATENATE("'Auxiliar'!",AA$1,$U18) -> 'Auxiliar'!P18 | AB18: =CONCATENATE("'Auxiliar'!",AB$1,$U18) -> 'Auxiliar'!Q18
L19: ARMAÇÃO | M19: =SUMIF($A$1:$A$771,L19,$F$1:$F$771)+SUMIF($C$1:$C$771,L19,$I$1:$I$771) -> 0 | N19: =SUMIF($A$1:$A$771,L19,$G$1:$G$771)+SUMIF($C$1:$C$771,L19,$J$1:$J$771) -> 1 | O19: =SUMIF($A$1:$A$771,L19,$H$1:$H$771)+SUMIF($C$1:$C$771,L19,$K$1:$K$771) -> 1 | P19: =SUMIF('Tabela da Primeira Fase'!$M$7:$M$749,L19,'Tabela da Primeira Fase'!$N$7:$N$749)+SUMIF('Tabela da Primeira Fase'!$Q$7:$Q$749,L19,'Tabela da Primeira Fase'!$P$7:$P$749) -> 1 | Q19: =SUMIF('Tabela da Primeira Fase'!$M$7:$M$749,L19,'Tabela da Primeira Fase'!$P$7:$P$749)+SUMIF('Tabela da Primeira Fase'!$Q$7:$Q$749,L19,'Tabela da Primeira Fase'!$N$7:$N$749) -> 3 | R19: =(1000000*((3*M19)+N19))+(10000*M19)+(100*(P19-Q19))+P19+(0.001*(30-T19)) -> 999801.03 | S19: =RANK(R19,$R$17:$R$20) -> 3 | T19: 3 | U19: =IF($S$17=T19,17,0)+IF($S$18=T19,18,0)+IF($S$19=T19,19,0)+IF($S$20=T19,20,0) -> 19 | W19: =CONCATENATE("'Auxiliar'!",W$1,$U19) -> 'Auxiliar'!L19 | X19: =CONCATENATE("'Auxiliar'!",X$1,$U19) -> 'Auxiliar'!M19 | Y19: =CONCATENATE("'Auxiliar'!",Y$1,$U19) -> 'Auxiliar'!N19 | Z19: =CONCATENATE("'Auxiliar'!",Z$1,$U19) -> 'Auxiliar'!O19 | AA19: =CONCATENATE("'Auxiliar'!",AA$1,$U19) -> 'Auxiliar'!P19 | AB19: =CONCATENATE("'Auxiliar'!",AB$1,$U19) -> 'Auxiliar'!Q19
L22: DÍNAMO | M22: =SUMIF($A$1:$A$771,L22,$F$1:$F$771)+SUMIF($C$1:$C$771,L22,$I$1:$I$771) -> 1 | N22: =SUMIF($A$1:$A$771,L22,$G$1:$G$771)+SUMIF($C$1:$C$771,L22,$J$1:$J$771) -> 1 | O22: =SUMIF($A$1:$A$771,L22,$H$1:$H$771)+SUMIF($C$1:$C$771,L22,$K$1:$K$771) -> 0 | P22: =SUMIF('Tabela da Primeira Fase'!$M$7:$M$749,L22,'Tabela da Primeira Fase'!$N$7:$N$749)+SUMIF('Tabela da Primeira Fase'!$Q$7:$Q$749,L22,'Tabela da Primeira Fase'!$P$7:$P$749) -> 3 | Q22: =SUMIF('Tabela da Primeira Fase'!$M$7:$M$749,L22,'Tabela da Primeira Fase'!$P$7:$P$749)+SUMIF('Tabela da Primeira Fase'!$Q$7:$Q$749,L22,'Tabela da Primeira Fase'!$N$7:$N$749) -> 2 | R22: =(1000000*((3*M22)+N22))+(10000*M22)+(100*(P22-Q22))+P22+(0.001*(30-T22)) -> 4010103 | S22: =RANK(R22,$R$22:$R$25) -> 2 | T22: 1 | U22: =IF($S$22=T22,22,0)+IF($S$23=T22,23,0)+IF($S$24=T22,24,0)+IF($S$25=T22,25,0) -> 23 | W22: =CONCATENATE("'Auxiliar'!",W$1,$U22) -> 'Auxiliar'!L23 | X22: =CONCATENATE("'Auxiliar'!",X$1,$U22) -> 'Auxiliar'!M23 | Y22: =CONCATENATE("'Auxiliar'!",Y$1,$U22) -> 'Auxiliar'!N23 | Z22: =CONCATENATE("'Auxiliar'!",Z$1,$U22) -> 'Auxiliar'!O23 | AA22: =CONCATENATE("'Auxiliar'!",AA$1,$U22) -> 'Auxiliar'!P23 | AB22: =CONCATENATE("'Auxiliar'!",AB$1,$U22) -> 'Auxiliar'!Q23
L23: FANTASMA | M23: =SUMIF($A$1:$A$771,L23,$F$1:$F$771)+SUMIF($C$1:$C$771,L23,$I$1:$I$771) -> 1 | N23: =SUMIF($A$1:$A$771,L23,$G$1:$G$771)+SUMIF($C$1:$C$771,L23,$J$1:$J$771) -> 1 | O23: =SUMIF($A$1:$A$771,L23,$H$1:$H$771)+SUMIF($C$1:$C$771,L23,$K$1:$K$771) -> 0 | P23: =SUMIF('Tabela da Primeira Fase'!$M$7:$M$749,L23,'Tabela da Primeira Fase'!$N$7:$N$749)+SUMIF('Tabela da Primeira Fase'!$Q$7:$Q$749,L23,'Tabela da Primeira Fase'!$P$7:$P$749) -> 4 | Q23: =SUMIF('Tabela da Primeira Fase'!$M$7:$M$749,L23,'Tabela da Primeira Fase'!$P$7:$P$749)+SUMIF('Tabela da Primeira Fase'!$Q$7:$Q$749,L23,'Tabela da Primeira Fase'!$N$7:$N$749) -> 2 | R23: =(1000000*((3*M23)+N23))+(10000*M23)+(100*(P23-Q23))+P23+(0.001*(30-T23)) -> 4010204 | S23: =RANK(R23,$R$22:$R$25) -> 1 | T23: 2 | U23: =IF($S$22=T23,22,0)+IF($S$23=T23,23,0)+IF($S$24=T23,24,0)+IF($S$25=T23,25,0) -> 22 | W23: =CONCATENATE("'Auxiliar'!",W$1,$U23) -> 'Auxiliar'!L22 | X23: =CONCATENATE("'Auxiliar'!",X$1,$U23) -> 'Auxiliar'!M22 | Y23: =CONCATENATE("'Auxiliar'!",Y$1,$U23) -> 'Auxiliar'!N22 | Z23: =CONCATENATE("'Auxiliar'!",Z$1,$U23) -> 'Auxiliar'!O22 | AA23: =CONCATENATE("'Auxiliar'!",AA$1,$U23) -> 'Auxiliar'!P22 | AB23: =CONCATENATE("'Auxiliar'!",AB$1,$U23) -> 'Auxiliar'!Q22
L24: WILLIAM SPORT | M24: =SUMIF($A$1:$A$771,L24,$F$1:$F$771)+SUMIF($C$1:$C$771,L24,$I$1:$I$771) -> 0 | N24: =SUMIF($A$1:$A$771,L24,$G$1:$G$771)+SUMIF($C$1:$C$771,L24,$J$1:$J$771) -> 0 | O24: =SUMIF($A$1:$A$771,L24,$H$1:$H$771)+SUMIF($C$1:$C$771,L24,$K$1:$K$771) -> 2 | P24: =SUMIF('Tabela da Primeira Fase'!$M$7:$M$749,L24,'Tabela da Primeira Fase'!$N$7:$N$749)+SUMIF('Tabela da Primeira Fase'!$Q$7:$Q$749,L24,'Tabela da Primeira Fase'!$P$7:$P$749) -> 2 | Q24: =SUMIF('Tabela da Primeira Fase'!$M$7:$M$749,L24,'Tabela da Primeira Fase'!$P$7:$P$749)+SUMIF('Tabela da Primeira Fase'!$Q$7:$Q$749,L24,'Tabela da Primeira Fase'!$N$7:$N$749) -> 5 | R24: =(1000000*((3*M24)+N24))+(10000*M24)+(100*(P24-Q24))+P24+(0.001*(30-T24)) -> -297.973 | S24: =RANK(R24,$R$22:$R$25) -> 3 | T24: 3 | U24: =IF($S$22=T24,22,0)+IF($S$23=T24,23,0)+IF($S$24=T24,24,0)+IF($S$25=T24,25,0) -> 24 | W24: =CONCATENATE("'Auxiliar'!",W$1,$U24) -> 'Auxiliar'!L24 | X24: =CONCATENATE("'Auxiliar'!",X$1,$U24) -> 'Auxiliar'!M24 | Y24: =CONCATENATE("'Auxiliar'!",Y$1,$U24) -> 'Auxiliar'!N24 | Z24: =CONCATENATE("'Auxiliar'!",Z$1,$U24) -> 'Auxiliar'!O24 | AA24: =CONCATENATE("'Auxiliar'!",AA$1,$U24) -> 'Auxiliar'!P24 | AB24: =CONCATENATE("'Auxiliar'!",AB$1,$U24) -> 'Auxiliar'!Q24
L29: ÁRBITROS
K30: 1 | L30: MAGNO | AD30: 1
K31: 6 | L31: AMAURY | AD31: 2
K32: 11 | L32: ANDRÉ MALCHER | AD32: 3
K33: 2 | L33: VASQUES | AD33: 4
K34: 7 | L34: RODRIGO | AD34: 5
K35: 12 | L35: RÉGIS | AD35: 6
K36: 3 | L36: PAULO CÉSAR | AD36: 9
K37: 8 | L37: JUNIOR | AD37: 10
K38: 13 | L38: WILLIAM MOREIRA | AD38: 11
K39: 4 | L39: MARCELO FERREIRA | AD39: 14
K40: 9 | L40: JEAN | AD40: 15
K41: 14 | L41: AÉCIO | AD41: 16
K42: 5 | L42: ANDRÉ BRANDÃO
K43: 10 | L43: SIMPLÍCIO
K44: 15 | L44: WILLIAM DIAS

Sheet Tabela da Primeira Fase
A1: FEDERAÇÃO DE FUTEBOL DE MESA DE BRASÍLIA
A2: COPA PLANALTO - 2022
A4: DATA: | B4: 01.10.2022
A6: ROD | B6: M | C6: ARTILHEIROS | N6: JOGOS | R6: ARTILHEIROS | AB6: ÁRBITROS
A7: 1ª - 09:00 | B7: 5 | C7: 2 | D7: 11 | E7: 9 | F7: 7 | G7: 8 | M7: =Auxiliar!$L$2 -> MAGNETO | N7: =IF(C7="","",IF(C7=0,0,COUNT(C7:L7))) -> 5 | O7: x | P7: =IF(R7="","",IF(R7=0,0,COUNT(R7:AA7))) -> 0 | Q7: =Auxiliar!$L$4 -> BLACK POWER | R7: 0 | AB7: =Auxiliar!$L$43 -> SIMPLÍCIO
B8: 6 | C8: 4 | M8: =Auxiliar!$L$7 -> AZTECA | N8: =IF(C8="","",IF(C8=0,0,COUNT(C8:L8))) -> 1 | O8: x | P8: =IF(R8="","",IF(R8=0,0,COUNT(R8:AA8))) -> 1 | Q8: =Auxiliar!$L$9 -> MANCHESTER | R8: 8 | AB8: =Auxiliar!$L$40 -> JEAN
B9: 8 | C9: 18 | D9: 9 | M9: =Auxiliar!$L$12 -> AMIGOS | N9: =IF(C9="","",IF(C9=0,0,COUNT(C9:L9))) -> 2 | O9: x | P9: =IF(R9="","",IF(R9=0,0,COUNT(R9:AA9))) -> 0 | Q9: =Auxiliar!$L$14 -> GERAÇÃO ELEITA | R9: 0 | AB9: =Auxiliar!$L$34 -> RODRIGO
B10: 11 | C10: 2 | D10: 11 | M10: =Auxiliar!$L$17 -> IZALCI | N10: =IF(C10="","",IF(C10=0,0,COUNT(C10:L10))) -> 2 | O10: x | P10: =IF(R10="","",IF(R10=0,0,COUNT(R10:AA10))) -> 0 | Q10: =Auxiliar!$L$19 -> ARMAÇÃO | R10: 0 | AB10: =Auxiliar!$L$37 -> JUNIOR
B11: 12 | C11: 2 | D11: 99 | M11: =Auxiliar!$L$22 -> DÍNAMO | N11: =IF(C11="","",IF(C11=0,0,COUNT(C11:L11))) -> 2 | O11: x | P11: =IF(R11="","",IF(R11=0,0,COUNT(R11:AA11))) -> 1 | Q11: =Auxiliar!$L$24 -> WILLIAM SPORT | R11: 9 | AB11: =Auxiliar!$L$31 -> AMAURY
A12: 2ª - 10:00 | B12: 5 | C12: 2 | M12: =Auxiliar!$L$24 -> WILLIAM SPORT | N12: =IF(C12="","",IF(C12=0,0,COUNT(C12:L12))) -> 1 | O12: x | P12: =IF(R12="","",IF(R12=0,0,COUNT(R12:AA12))) -> 3 | Q12: =Auxiliar!$L$23 -> FANTASMA | R12: 2 | S12: 10 | T12: 10 | AB12: =Auxiliar!$L$30 -> MAGNO
B13: 6 | C13: 0 | M13: =Auxiliar!$L$4 -> BLACK POWER | N13: =IF(C13="","",IF(C13=0,0,COUNT(C13:L13))) -> 0 | O13: x | P13: =IF(R13="","",IF(R13=0,0,COUNT(R13:AA13))) -> 2 | Q13: =Auxiliar!$L$3 -> LARA GALÃO | R13: 9 | S13: 10 | AB13: =Auxiliar!$L$42 -> ANDRÉ BRANDÃO
B14: 8 | C14: 0 | M14: =Auxiliar!$L$9 -> MANCHESTER | N14: =IF(C14="","",IF(C14=0,0,COUNT(C14:L14))) -> 0 | O14: x | P14: =IF(R14="","",IF(R14=0,0,COUNT(R14:AA14))) -> 0 | Q14: =Auxiliar!$L$8 -> GALO DOIDO | R14: 0 | AB14: =Auxiliar!$L$39 -> MARCELO FERREIRA
B15: 11 | C15: 7 | D15: 7 | M15: =Auxiliar!$L$14 -> GERAÇÃO ELEITA | N15: =IF(C15="","",IF(C15=0,0,COUNT(C15:L15))) -> 2 | O15: x | P15: =IF(R15="","",IF(R15=0,0,COUNT(R15:AA15))) -> 0 | Q15: =Auxiliar!$L$13 -> BOTA JUNIOR | R15: 0 | AB15: =Auxiliar!$L$33 -> VASQUES
B16: 12 | C16: 9 | M16: =Auxiliar!$L$19 -> ARMAÇÃO | N16: =IF(C16="","",IF(C16=0,0,COUNT(C16:L16))) -> 1 | O16: x | P16: =IF(R16="","",IF(R16=0,0,COUNT(R16:AA16))) -> 1 | Q16: =Auxiliar!$L$18 -> ELDORADO | R16: 7 | AB16: =Auxiliar!$L$36 -> PAULO CÉSAR
A17: 3ª - 11:00 | B17: 5 | C17: 0 | M17: =Auxiliar!$L$18 -> ELDORADO | N17: =IF(C17="","",IF(C17=0,0,COUNT(C17:L17))) -> 0 | O17: x | P17: =IF(R17="","",IF(R17=0,0,COUNT(R17:AA17))) -> 2 | Q17: =Auxiliar!$L$17 -> IZALCI | R17: 8 | S17: 11 | AB17: =Auxiliar!$L$38 -> WILLIAM MOREIRA
B18: 6 | C18: 7 | M18: =Auxiliar!$L$23 -> FANTASMA | N18: =IF(C18="","",IF(C18=0,0,COUNT(C18:L18))) -> 1 | O18: x | P18: =IF(R18="","",IF(R18=0,0,COUNT(R18:AA18))) -> 1 | Q18: =Auxiliar!$L$22 -> DÍNAMO | R18: 3 | AB18: =Auxiliar!$L$32 -> ANDRÉ MALCHER
B19: 8 | C19: 0 | M19: =Auxiliar!$L$3 -> LARA GALÃO | N19: =IF(C19="","",IF(C19=0,0,COUNT(C19:L19))) -> 0 | O19: x | P19: =IF(R19="","",IF(R19=0,0,COUNT(R19:AA19))) -> 2 | Q19: =Auxiliar!$L$2 -> MAGNETO | R19: 9 | S19: 7 | AB19: =Auxiliar!$L$44 -> WILLIAM DIAS
B20: 11 | C20: 0 | M20: =Auxiliar!$L$8 -> GALO DOIDO | N20: =IF(C20="","",IF(C20=0,0,COUNT(C20:L20))) -> 0 | O20: x | P20: =IF(R20="","",IF(R20=0,0,COUNT(R20:AA20))) -> 1 | Q20: =Auxiliar!$L$7 -> AZTECA | R20: 5 | AB20: =Auxiliar!$L$41 -> AÉCIO
B21: 12 | C21: 9 | M21: =Auxiliar!$L$13 -> BOTA JUNIOR | N21: =IF(C21="","",IF(C21=0,0,COUNT(C21:L21))) -> 1 | O21: x | P21: =IF(R21="","",IF(R21=0,0,COUNT(R21:AA21))) -> 0 | Q21: =Auxiliar!$L$12 -> AMIGOS | R21: 0 | AB21: =Auxiliar!$L$35 -> RÉGIS
P22: =IF(R22="","",IF(R22=0,0,COUNT(R22:AA22)))

Sheet Classif Prim Fase
A1: FEDERAÇÃO DE FUTEBOL DE MESA DE BRASÍLIA
A2: COPA PLANALTO - 2022
A3: CLASSIFICAÇÃO FINAL DA PRIMEIRA FASE
A5: GRUPO | B5: CF | C5: CLUBES | D5: J | E5: V | F5: E | G5: D | H5: GF | I5: GC | J5: SG | K5: PG | L5: Aprov.
A6: A | B6: 1º | C6: =INDIRECT(Auxiliar!W2) -> MAGNETO | D6: =E6+F6+G6 -> 2 | E6: =INDIRECT(Auxiliar!X2) -> 2 | F6: =INDIRECT(Auxiliar!Y2) -> 0 | G6: =INDIRECT(Auxiliar!Z2) -> 0 | H6: =INDIRECT(Auxiliar!AA2) -> 7 | I6: =INDIRECT(Auxiliar!AB2) -> 0 | J6: =H6-I6 -> 7 | K6: =(3*E6)+F6 -> 6 | L6: =IF(ISERR((K6/(D6*3))),0,((K6/(D6*3)))) -> 1
B7: 2º | C7: =INDIRECT(Auxiliar!W3) -> LARA GALÃO | D7: =E7+F7+G7 -> 2 | E7: =INDIRECT(Auxiliar!X3) -> 1 | F7: =INDIRECT(Auxiliar!Y3) -> 0 | G7: =INDIRECT(Auxiliar!Z3) -> 1 | H7: =INDIRECT(Auxiliar!AA3) -> 2 | I7: =INDIRECT(Auxiliar!AB3) -> 2 | J7: =H7-I7 -> 0 | K7: =(3*E7)+F7 -> 3 | L7: =IF(ISERR((K7/(D7*3))),0,((K7/(D7*3)))) -> 0.5
B8: 3º | C8: =INDIRECT(Auxiliar!W4) -> BLACK POWER | D8: =E8+F8+G8 -> 2 | E8: =INDIRECT(Auxiliar!X4) -> 0 | F8: =INDIRECT(Auxiliar!Y4) -> 0 | G8: =INDIRECT(Auxiliar!Z4) -> 2 | H8: =INDIRECT(Auxiliar!AA4) -> 0 | I8: =INDIRECT(Auxiliar!AB4) -> 7 | J8: =H8-I8 -> -7 | K8: =(3*E8)+F8 -> 0 | L8: =IF(ISERR((K8/(D8*3))),0,((K8/(D8*3)))) -> 0
A10: GRUPO | B10: CF | C10: CLUBES | D10: J | E10: V | F10: E | G10: D | H10: GF | I10: GC | J10: SG | K10: PG | L10: Aprov.
A11: B | B11: 1º | C11: =INDIRECT(Auxiliar!W7) -> AZTECA | D11: =E11+F11+G11 -> 2 | E11: =INDIRECT(Auxiliar!X7) -> 1 | F11: =INDIRECT(Auxiliar!Y7) -> 1 | G11: =INDIRECT(Auxiliar!Z7) -> 0 | H11: =INDIRECT(Auxiliar!AA7) -> 2 | I11: =INDIRECT(Auxiliar!AB7) -> 1 | J11: =H11-I11 -> 1 | K11: =(3*E11)+F11 -> 4 | L11: =IF(ISERR((K11/(D11*3))),0,((K11/(D11*3)))) -> 0.66666667
B12: 2º | C12: =INDIRECT(Auxiliar!W8) -> MANCHESTER | D12: =E12+F12+G12 -> 2 | E12: =INDIRECT(Auxiliar!X8) -> 0 | F12: =INDIRECT(Auxiliar!Y8) -> 2 | G12: =INDIRECT(Auxiliar!Z8) -> 0 | H12: =INDIRECT(Auxiliar!AA8) -> 1 | I12: =INDIRECT(Auxiliar!AB8) -> 1 | J12: =H12-I12 -> 0 | K12: =(3*E12)+F12 -> 2 | L12: =IF(ISERR((K12/(D12*3))),0,((K12/(D12*3)))) -> 0.33333333
B13: 3º | C13: =INDIRECT(Auxiliar!W9) -> GALO DOIDO | D13: =E13+F13+G13 -> 2 | E13: =INDIRECT(Auxiliar!X9) -> 0 | F13: =INDIRECT(Auxiliar!Y9) -> 1 | G13: =INDIRECT(Auxiliar!Z9) -> 1 | H13: =INDIRECT(Auxiliar!AA9) -> 0 | I13: =INDIRECT(Auxiliar!AB9) -> 1 | J13: =H13-I13 -> -1 | K13: =(3*E13)+F13 -> 1 | L13: =IF(ISERR((K13/(D13*3))),0,((K13/(D13*3)))) -> 0.16666667
A15: GRUPO | B15: CF | C15: CLUBES | D15: J | E15: V | F15: E | G15: D | H15: GF | I15: GC | J15: SG | K15: PG | L15: Aprov.
A16: C | B16: 1º | C16: =INDIRECT(Auxiliar!W12) -> AMIGOS | D16: =E16+F16+G16 -> 2 | E16: =INDIRECT(Auxiliar!X12) -> 1 | F16: =INDIRECT(Auxiliar!Y12) -> 0 | G16: =INDIRECT(Auxiliar!Z12) -> 1 | H16: =INDIRECT(Auxiliar!AA12) -> 2 | I16: =INDIRECT(Auxiliar!AB12) -> 1 | J16: =H16-I16 -> 1 | K16: =(3*E16)+F16 -> 3 | L16: =IF(ISERR((K16/(D16*3))),0,((K16/(D16*3)))) -> 0.5
B17: 2º | C17: =INDIRECT(Auxiliar!W13) -> GERAÇÃO ELEITA | D17: =E17+F17+G17 -> 2 | E17: =INDIRECT(Auxiliar!X13) -> 1 | F17: =INDIRECT(Auxiliar!Y13) -> 0 | G17: =INDIRECT(Auxiliar!Z13) -> 1 | H17: =INDIRECT(Auxiliar!AA13) -> 2 | I17: =INDIRECT(Auxiliar!AB13) -> 2 | J17: =H17-I17 -> 0 | K17: =(3*E17)+F17 -> 3 | L17: =IF(ISERR((K17/(D17*3))),0,((K17/(D17*3)))) -> 0.5
B18: 3º | C18: =INDIRECT(Auxiliar!W14) -> BOTA JUNIOR | D18: =E18+F18+G18 -> 2 | E18: =INDIRECT(Auxiliar!X14) -> 1 | F18: =INDIRECT(Auxiliar!Y14) -> 0 | G18: =INDIRECT(Auxiliar!Z14) -> 1 | H18: =INDIRECT(Auxiliar!AA14) -> 1 | I18: =INDIRECT(Auxiliar!AB14) -> 2 | J18: =H18-I18 -> -1 | K18: =(3*E18)+F18 -> 3 | L18: =IF(ISERR((K18/(D18*3))),0,((K18/(D18*3)))) -> 0.5
A20: GRUPO | B20: CF | C20: CLUBES | D20: J | E20: V | F20: E | G20: D | H20: GF | I20: GC | J20: SG | K20: PG | L20: Aprov.
A21: D | B21: 1º | C21: =INDIRECT(Auxiliar!W17) -> IZALCI | D21: =E21+F21+G21 -> 2 | E21: =INDIRECT(Auxiliar!X17) -> 2 | F21: =INDIRECT(Auxiliar!Y17) -> 0 | G21: =INDIRECT(Auxiliar!Z17) -> 0 | H21: =INDIRECT(Auxiliar!AA17) -> 4 | I21: =INDIRECT(Auxiliar!AB17) -> 0 | J21: =H21-I21 -> 4 | K21: =(3*E21)+F21 -> 6 | L21: =IF(ISERR((K21/(D21*3))),0,((K21/(D21*3)))) -> 1
B22: 2º | C22: =INDIRECT(Auxiliar!W18) -> ELDORADO | D22: =E22+F22+G22 -> 2 | E22: =INDIRECT(Auxiliar!X18) -> 0 | F22: =INDIRECT(Auxiliar!Y18) -> 1 | G22: =INDIRECT(Auxiliar!Z18) -> 1 | H22: =INDIRECT(Auxiliar!AA18) -> 1 | I22: =INDIRECT(Auxiliar!AB18) -> 3 | J22: =H22-I22 -> -2 | K22: =(3*E22)+F22 -> 1 | L22: =IF(ISERR((K22/(D22*3))),0,((K22/(D22*3)))) -> 0.16666667
B23: 3º | C23: =INDIRECT(Auxiliar!W19) -> ARMAÇÃO | D23: =E23+F23+G23 -> 2 | E23: =INDIRECT(Auxiliar!X19) -> 0 | F23: =INDIRECT(Auxiliar!Y19) -> 1 | G23: =INDIRECT(Auxiliar!Z19) -> 1 | H23: =INDIRECT(Auxiliar!AA19) -> 1 | I23: =INDIRECT(Auxiliar!AB19) -> 3 | J23: =H23-I23 -> -2 | K23: =(3*E23)+F23 -> 1 | L23: =IF(ISERR((K23/(D23*3))),0,((K23/(D23*3)))) -> 0.16666667
A25: GRUPO | B25: CF | C25: CLUBES | D25: J | E25: V | F25: E | G25: D | H25: GF | I25: GC | J25: SG | K25: PG | L25: Aprov.
A26: E | B26: 1º | C26: =INDIRECT(Auxiliar!W22) -> FANTASMA | D26: =E26+F26+G26 -> 2 | E26: =INDIRECT(Auxiliar!X22) -> 1 | F26: =INDIRECT(Auxiliar!Y22) -> 1 | G26: =INDIRECT(Auxiliar!Z22) -> 0 | H26: =INDIRECT(Auxiliar!AA22) -> 4 | I26: =INDIRECT(Auxiliar!AB22) -> 2 | J26: =H26-I26 -> 2 | K26: =(3*E26)+F26 -> 4 | L26: =IF(ISERR((K26/(D26*3))),0,((K26/(D26*3)))) -> 0.66666667
B27: 2º | C27: =INDIRECT(Auxiliar!W23) -> DÍNAMO | D27: =E27+F27+G27 -> 2 | E27: =INDIRECT(Auxiliar!X23) -> 1 | F27: =INDIRECT(Auxiliar!Y23) -> 1 | G27: =INDIRECT(Auxiliar!Z23) -> 0 | H27: =INDIRECT(Auxiliar!AA23) -> 3 | I27: =INDIRECT(Auxiliar!AB23) -> 2 | J27: =H27-I27 -> 1 | K27: =(3*E27)+F27 -> 4 | L27: =IF(ISERR((K27/(D27*3))),0,((K27/(D27*3)))) -> 0.66666667
B28: 3º | C28: =INDIRECT(Auxiliar!W24) -> WILLIAM SPORT | D28: =E28+F28+G28 -> 2 | E28: =INDIRECT(Auxiliar!X24) -> 0 | F28: =INDIRECT(Auxiliar!Y24) -> 0 | G28: =INDIRECT(Auxiliar!Z24) -> 2 | H28: =INDIRECT(Auxiliar!AA24) -> 2 | I28: =INDIRECT(Auxiliar!AB24) -> 5 | J28: =H28-I28 -> -3 | K28: =(3*E28)+F28 -> 0 | L28: =IF(ISERR((K28/(D28*3))),0,((K28/(D28*3)))) -> 0

Sheet Tabela da Segunda Fase
A1: FEDERAÇÃO DE FUTEBOL DE MESA DE BRASÍLIA
A2: COPA PLANALTO 2022 - Segunda Fase
A4: DATA: | B4: 01.10.2022
A6: ROD | B6: M | C6: ARTILHEIROS | N6: JOGOS | R6: ARTILHEIROS | AB6: ÁRBITROS
A7: 1 | B7: 5 | C7: 10 | D7: 7 | E7: 8 | M7: MAGNETO | N7: =IF(C7="","",IF(C7=0,0,COUNT(C7:L7))) -> 3 | O7: x | P7: =IF(R7="","",IF(R7=0,0,COUNT(R7:AA7))) -> 0 | Q7: GERAÇÃO ELEITA | R7: 0 | AB7: RODRIGO
B8: 6 | C8: 8 | D8: 6 | E8: 11 | M8: IZALCI | N8: =IF(C8="","",IF(C8=0,0,COUNT(C8:L8))) -> 3 | O8: x | P8: =IF(R8="","",IF(R8=0,0,COUNT(R8:AA8))) -> 0 | Q8: LARA GALÃO | R8: 0 | AB8: JUNIOR
B9: 11 | C9: 10 | D9: 15 | E9: 15 | M9: FANTASMA | N9: =IF(C9="","",IF(C9=0,0,COUNT(C9:L9))) -> 3 | O9: x | P9: =IF(R9="","",IF(R9=0,0,COUNT(R9:AA9))) -> 2 | Q9: AMIGOS | R9: 7 | S9: 5 | AB9: AÉCIO
B10: 12 | C10: 4 | M10: DÍNAMO | N10: =IF(C10="","",IF(C10=0,0,COUNT(C10:L10))) -> 1 | O10: x | P10: =IF(R10="","",IF(R10=0,0,COUNT(R10:AA10))) -> 1 | Q10: AZTECA | R10: 24 | AB10: RÉGIS
A11: 2 | B11: 5 | C11: 0 | M11: BOTA JUNIOR | N11: =IF(C11="","",IF(C11=0,0,COUNT(C11:L11))) -> 0 | O11: x | P11: =IF(R11="","",IF(R11=0,0,COUNT(R11:AA11))) -> 0 | Q11: ARMAÇÃO | R11: 0 | AB11: Ouro
B12: 6 | C12: 0 | M12: MANCHESTER | N12: 1 | O12: x | P12: =IF(R12="","",IF(R12=0,0,COUNT(R12:AA12))) -> 1 | Q12: GALO DOIDO | R12: 9 | AB12: Ouro
B13: 11 | C13: 8 | D13: 10 | E13: 8 | F13: 9 | M13: ELDORADO | N13: =IF(C13="","",IF(C13=0,0,COUNT(C13:L13))) -> 4 | O13: x | P13: =IF(R13="","",IF(R13=0,0,COUNT(R13:AA13))) -> 0 | Q13: BLACK POWER | R13: 0 | AB13: Ouro
A14: 3 | B14: 11 | C14: 0 | M14: MAGNETO | N14: =IF(C14="","",IF(C14=0,0,COUNT(C14:L14))) -> 0 | O14: x | P14: =IF(R14="","",IF(R14=0,0,COUNT(R14:AA14))) -> 2 | Q14: DÍNAMO | R14: 9 | S14: 4 | AB14: Paulo César
B15: 12 | C15: 10 | M15: IZALCI | N15: =IF(C15="","",IF(C15=0,0,COUNT(C15:L15))) -> 1 | O15: x | P15: =IF(R15="","",IF(R15=0,0,COUNT(R15:AA15))) -> 2 | Q15: FANTASMA | R15: 10 | S15: 2 | AB15: Vasques
B16: 5 | C16: 11 | M16: BOTA JUNIOR | N16: =IF(C16="","",IF(C16=0,0,COUNT(C16:L16))) -> 1 | O16: x | P16: =IF(R16="","",IF(R16=0,0,COUNT(R16:AA16))) -> 1 | Q16: MANCHESTER | R16: 11 | AB16: Jean
B17: 6 | C17: 0 | M17: BLACK POWER | N17: =IF(C17="","",IF(C17=0,0,COUNT(C17:L17))) -> 0 | O17: x | P17: =IF(R17="","",IF(R17=0,0,COUNT(R17:AA17))) -> 0 | Q17: WILLIAM SPORT | R17: 0 | AB17: Aécio
A18: 4 | B18: 8 | C18: 8 | D18: 8 | E18: 10 | F18: 15 | G18: 2 | M18: FANTASMA | N18: =IF(C18="","",IF(C18=0,0,COUNT(C18:L18))) -> 5 | O18: x | P18: =IF(R18="","",IF(R18=0,0,COUNT(R18:AA18))) -> 2 | Q18: DÍNAMO | R18: 8 | S18: 10 | AB18: Izalci
B19: 5 | C19: 10 | M19: WILLIAM SPORT | N19: =IF(C19="","",IF(C19=0,0,COUNT(C19:L19))) -> 1 | O19: x | P19: =IF(R19="","",IF(R19=0,0,COUNT(R19:AA19))) -> 0 | Q19: ELDORADO | R19: 0 | AB19: J. Ricardo

Sheet Plan3
A1: Rótulos de Linha | B1: Soma de J | C1: Soma de V | D1: Soma de E | E1: Soma de D | F1: Soma de GF | G1: Soma de GC | H1: Soma de SG | I1: Soma de PG | J1: CF
A2: MAGNETO | B2: 2 | C2: 2 | D2: 0 | E2: 0 | F2: 7 | G2: 0 | H2: 7 | I2: 6 | J2: 1
A3: IZALCI | B3: 2 | C3: 2 | D3: 0 | E3: 0 | F3: 4 | G3: 0 | H3: 4 | I3: 6 | J3: 2
A4: FANTASMA | B4: 2 | C4: 1 | D4: 1 | E4: 0 | F4: 4 | G4: 2 | H4: 2 | I4: 4 | J4: 3 | K4: 3 | L4: 3
A5: DÍNAMO | B5: 2 | C5: 1 | D5: 1 | E5: 0 | F5: 3 | G5: 2 | H5: 1 | I5: 4 | J5: 4 | K5: 1 | L5: 3
A6: AZTECA | B6: 2 | C6: 1 | D6: 1 | E6: 0 | F6: 2 | G6: 1 | H6: 1 | I6: 4 | J6: 5
A7: AMIGOS | B7: 2 | C7: 1 | D7: 0 | E7: 1 | F7: 2 | G7: 1 | H7: 1 | I7: 3 | J7: 6
A8: LARA GALÃO | B8: 2 | C8: 1 | D8: 0 | E8: 1 | F8: 2 | G8: 2 | H8: 0 | I8: 3 | J8: 7
A9: GERAÇÃO ELEITA | B9: 2 | C9: 1 | D9: 0 | E9: 1 | F9: 2 | G9: 2 | H9: 0 | I9: 3 | J9: 8
A10: BOTA JUNIOR | B10: 2 | C10: 1 | D10: 0 | E10: 1 | F10: 1 | G10: 2 | H10: -1 | I10: 3 | J10: 9
A11: MANCHESTER | B11: 2 | C11: 0 | D11: 2 | E11: 0 | F11: 1 | G11: 1 | H11: 0 | I11: 2 | J11: 10
A12: GALO DOIDO | B12: 2 | C12: 0 | D12: 1 | E12: 1 | F12: 0 | G12: 1 | H12: -1 | I12: 1 | J12: 11
A13: ARMAÇÃO | B13: 2 | C13: 0 | D13: 1 | E13: 1 | F13: 1 | G13: 3 | H13: -2 | I13: 1 | J13: 12
A14: ELDORADO | B14: 2 | C14: 0 | D14: 1 | E14: 1 | F14: 1 | G14: 3 | H14: -2 | I14: 1 | J14: 13
A15: WILLIAM SPORT | B15: 2 | C15: 0 | D15: 0 | E15: 2 | F15: 2 | G15: 5 | H15: -3 | I15: 0 | J15: 14
A16: BLACK POWER | B16: 2 | C16: 0 | D16: 0 | E16: 2 | F16: 0 | G16: 7 | H16: -7 | I16: 0 | J16: 15
B17: =SUM(B2:B16) -> 30 | C17: =SUM(C2:C16) -> 11 | D17: =SUM(D2:D16) -> 8 | E17: =SUM(E2:E16) -> 11 | F17: =SUM(F2:F16) -> 32 | G17: =SUM(G2:G16) -> 32 | H17: =SUM(H2:H16) -> 0 | I17: =SUM(I2:I16) -> 41

Sheet Classif da Seg Fase
A1: FEDERAÇÃO DE FUTEBOL DE MESA DE BRASÍLIA
A2: COPA PLANALTO - 2022
A3: CLASSIFICAÇÃO FINAL DA TAÇA DE BRONZE
A5: F | B5: CLUBES | C5: J | D5: V | E5: E | F5: D | G5: GF | H5: GC | I5: SG | J5: PG | K5: Aprov.
A7: 1º | B7: =INDIRECT('Auxiliar (2)'!W2) -> Bronze-1 | C7: =D7+E7+F7 -> 0 | D7: =INDIRECT('Auxiliar (2)'!X2) -> 0 | E7: =INDIRECT('Auxiliar (2)'!Y2) -> 0 | F7: =INDIRECT('Auxiliar (2)'!Z2) -> 0 | G7: =INDIRECT('Auxiliar (2)'!AA2) -> 0 | H7: =INDIRECT('Auxiliar (2)'!AB2) -> 0 | I7: =G7-H7 -> 0 | J7: =(3*D7)+E7 -> 0 | K7: =IF(ISERR((J7/(C7*3))),0,((J7/(C7*3)))) -> 0
A8: 2º | B8: =INDIRECT('Auxiliar (2)'!W3) -> Bronze-2 | C8: =D8+E8+F8 -> 0 | D8: =INDIRECT('Auxiliar (2)'!X3) -> 0 | E8: =INDIRECT('Auxiliar (2)'!Y3) -> 0 | F8: =INDIRECT('Auxiliar (2)'!Z3) -> 0 | G8: =INDIRECT('Auxiliar (2)'!AA3) -> 0 | H8: =INDIRECT('Auxiliar (2)'!AB3) -> 0 | I8: =G8-H8 -> 0 | J8: =(3*D8)+E8 -> 0 | K8: =IF(ISERR((J8/(C8*3))),0,((J8/(C8*3)))) -> 0
A9: 3º | B9: =INDIRECT('Auxiliar (2)'!W4) -> Bronze-3 | C9: =D9+E9+F9 -> 0 | D9: =INDIRECT('Auxiliar (2)'!X4) -> 0 | E9: =INDIRECT('Auxiliar (2)'!Y4) -> 0 | F9: =INDIRECT('Auxiliar (2)'!Z4) -> 0 | G9: =INDIRECT('Auxiliar (2)'!AA4) -> 0 | H9: =INDIRECT('Auxiliar (2)'!AB4) -> 0 | I9: =G9-H9 -> 0 | J9: =(3*D9)+E9 -> 0 | K9: =IF(ISERR((J9/(C9*3))),0,((J9/(C9*3)))) -> 0

Sheet Auxiliar (2)
A1: ='Tabela da Segunda Fase'!M7 -> MAGNETO | B1: =IF('Tabela da Segunda Fase'!N7<'Tabela da Segunda Fase'!P7,0,IF('Tabela da Segunda Fase'!N7='Tabela da Segunda Fase'!P7,1,IF('Tabela da Segunda Fase'!N7>'Tabela da Segunda Fase'!P7,2))) -> 2 | C1: ='Tabela da Segunda Fase'!Q7 -> GERAÇÃO ELEITA | D1: =IF('Tabela da Segunda Fase'!N7>'Tabela da Segunda Fase'!P7,0,IF('Tabela da Segunda Fase'!N7='Tabela da Segunda Fase'!P7,1,IF('Tabela da Segunda Fase'!N7<'Tabela da Segunda Fase'!P7,2))) -> 0 | E1: =IF(ISNUMBER('Tabela da Segunda Fase'!N7),1,0) -> 1 | F1: =IF(B1*E1=2,1,0) -> 1 | G1: =IF(B1*E1=1,1,0) -> 0 | H1: =IF(B1=0,IF(E1=1,1,0),0) -> 0 | I1: =IF(E1*D1=2,1,0) -> 0 | J1: =IF(E1*D1=1,1,0) -> 0 | K1: =IF(D1=0,IF(E1=1,1,0),0) -> 1 | L1: Times | M1: V | N1: E | O1: D | P1: GP | Q1: GC | W1: L | X1: M | Y1: N | Z1: O | AA1: P | AB1: Q | AX1: GRUPOS DA SEGUNDA FASE
A2: ='Tabela da Segunda Fase'!M8 -> IZALCI | B2: =IF('Tabela da Segunda Fase'!N8<'Tabela da Segunda Fase'!P8,0,IF('Tabela da Segunda Fase'!N8='Tabela da Segunda Fase'!P8,1,IF('Tabela da Segunda Fase'!N8>'Tabela da Segunda Fase'!P8,2))) -> 2 | C2: ='Tabela da Segunda Fase'!Q8 -> LARA GALÃO | D2: =IF('Tabela da Segunda Fase'!N8>'Tabela da Segunda Fase'!P8,0,IF('Tabela da Segunda Fase'!N8='Tabela da Segunda Fase'!P8,1,IF('Tabela da Segunda Fase'!N8<'Tabela da Segunda Fase'!P8,2))) -> 0 | E2: =IF(ISNUMBER('Tabela da Segunda Fase'!N8),1,0) -> 1 | F2: =IF(B2*E2=2,1,0) -> 1 | G2: =IF(B2*E2=1,1,0) -> 0 | H2: =IF(B2=0,IF(E2=1,1,0),0) -> 0 | I2: =IF(E2*D2=2,1,0) -> 0 | J2: =IF(E2*D2=1,1,0) -> 0 | K2: =IF(D2=0,IF(E2=1,1,0),0) -> 1 | L2: Bronze-1 | M2: =SUMIF($A$1:$A$18,L2,$F$1:$F$18)+SUMIF($C$1:$C$18,L2,$I$1:$I$18) -> 0 | N2: =SUMIF($A$1:$A$18,L2,$G$1:$G$18)+SUMIF($C$1:$C$18,L2,$J$1:$J$18) -> 0 | O2: =SUMIF($A$1:$A$18,L2,$H$1:$H$18)+SUMIF($C$1:$C$18,L2,$K$1:$K$18) -> 0 | P2: =SUMIF('Tabela da Segunda Fase'!$M$7:$M$17,L2,'Tabela da Segunda Fase'!$N$7:$N$17)+SUMIF('Tabela da Segunda Fase'!$Q$7:$Q$17,L2,'Tabela da Segunda Fase'!$P$7:$P$17) -> 0 | Q2: =SUMIF('Tabela da Segunda Fase'!$M$7:$M$17,L2,'Tabela da Segunda Fase'!$P$7:$P$17)+SUMIF('Tabela da Segunda Fase'!$Q$7:$Q$17,L2,'Tabela da Segunda Fase'!$N$7:$N$17) -> 0 | R2: =(1000000*((3*M2)+N2))+(10000*M2)+(100*(P2-Q2))+P2+(0.001*(30-T2)) -> 0.029 | S2: =RANK(R2,$R$2:$R$4) -> 1 | T2: 1 | U2: =IF($S$2=T2,2,0)+IF($S$3=T2,3,0)+IF($S$4=T2,4,0) -> 2 | W2: =CONCATENATE("'Auxiliar (2)'!",W$1,$U2) -> 'Auxiliar (2)'!L2 | X2: =CONCATENATE("'Auxiliar (2)'!",X$1,$U2) -> 'Auxiliar (2)'!M2 | Y2: =CONCATENATE("'Auxiliar (2)'!",Y$1,$U2) -> 'Auxiliar (2)'!N2 | Z2: =CONCATENATE("'Auxiliar (2)'!",Z$1,$U2) -> 'Auxiliar (2)'!O2 | AA2: =CONCATENATE("'Auxiliar (2)'!",AA$1,$U2) -> 'Auxiliar (2)'!P2 | AB2: =CONCATENATE("'Auxiliar (2)'!",AB$1,$U2) -> 'Auxiliar (2)'!Q2 | AX2: H | AY2: I | AZ2: J | BA2: K
A3: ='Tabela da Segunda Fase'!M9 -> FANTASMA | B3: =IF('Tabela da Segunda Fase'!N9<'Tabela da Segunda Fase'!P9,0,IF('Tabela da Segunda Fase'!N9='Tabela da Segunda Fase'!P9,1,IF('Tabela da Segunda Fase'!N9>'Tabela da Segunda Fase'!P9,2))) -> 2 | C3: ='Tabela da Segunda Fase'!Q9 -> AMIGOS | D3: =IF('Tabela da Segunda Fase'!N9>'Tabela da Segunda Fase'!P9,0,IF('Tabela da Segunda Fase'!N9='Tabela da Segunda Fase'!P9,1,IF('Tabela da Segunda Fase'!N9<'Tabela da Segunda Fase'!P9,2))) -> 0 | E3: =IF(ISNUMBER('Tabela da Segunda Fase'!N9),1,0) -> 1 | F3: =IF(B3*E3=2,1,0) -> 1 | G3: =IF(B3*E3=1,1,0) -> 0 | H3: =IF(B3=0,IF(E3=1,1,0),0) -> 0 | I3: =IF(E3*D3=2,1,0) -> 0 | J3: =IF(E3*D3=1,1,0) -> 0 | K3: =IF(D3=0,IF(E3=1,1,0),0) -> 1 | L3: Bronze-2 | M3: =SUMIF($A$1:$A$18,L3,$F$1:$F$18)+SUMIF($C$1:$C$18,L3,$I$1:$I$18) -> 0 | N3: =SUMIF($A$1:$A$18,L3,$G$1:$G$18)+SUMIF($C$1:$C$18,L3,$J$1:$J$18) -> 0 | O3: =SUMIF($A$1:$A$18,L3,$H$1:$H$18)+SUMIF($C$1:$C$18,L3,$K$1:$K$18) -> 0 | P3: =SUMIF('Tabela da Segunda Fase'!$M$7:$M$17,L3,'Tabela da Segunda Fase'!$N$7:$N$17)+SUMIF('Tabela da Segunda Fase'!$Q$7:$Q$17,L3,'Tabela da Segunda Fase'!$P$7:$P$17) -> 0 | Q3: =SUMIF('Tabela da Segunda Fase'!$M$7:$M$17,L3,'Tabela da Segunda Fase'!$P$7:$P$17)+SUMIF('Tabela da Segunda Fase'!$Q$7:$Q$17,L3,'Tabela da Segunda Fase'!$N$7:$N$17) -> 0 | R3: =(1000000*((3*M3)+N3))+(10000*M3)+(100*(P3-Q3))+P3+(0.001*(30-T3)) -> 0.028 | S3: =RANK(R3,$R$2:$R$4) -> 2 | T3: 2 | U3: =IF($S$2=T3,2,0)+IF($S$3=T3,3,0)+IF($S$4=T3,4,0) -> 3 | W3: =CONCATENATE("'Auxiliar (2)'!",W$1,$U3) -> 'Auxiliar (2)'!L3 | X3: =CONCATENATE("'Auxiliar (2)'!",X$1,$U3) -> 'Auxiliar (2)'!M3 | Y3: =CONCATENATE("'Auxiliar (2)'!",Y$1,$U3) -> 'Auxiliar (2)'!N3 | Z3: =CONCATENATE("'Auxiliar (2)'!",Z$1,$U3) -> 'Auxiliar (2)'!O3 | AA3: =CONCATENATE("'Auxiliar (2)'!",AA$1,$U3) -> 'Auxiliar (2)'!P3 | AB3: =CONCATENATE("'Auxiliar (2)'!",AB$1,$U3) -> 'Auxiliar (2)'!Q3 | AX3: 1º A | AY3: 1º B | AZ3: 1º C | BA3: 1º D
A4: ='Tabela da Segunda Fase'!M10 -> DÍNAMO | B4: =IF('Tabela da Segunda Fase'!N10<'Tabela da Segunda Fase'!P10,0,IF('Tabela da Segunda Fase'!N10='Tabela da Segunda Fase'!P10,1,IF('Tabela da Segunda Fase'!N10>'Tabela da Segunda Fase'!P10,2))) -> 1 | C4: ='Tabela da Segunda Fase'!Q10 -> AZTECA | D4: =IF('Tabela da Segunda Fase'!N10>'Tabela da Segunda Fase'!P10,0,IF('Tabela da Segunda Fase'!N10='Tabela da Segunda Fase'!P10,1,IF('Tabela da Segunda Fase'!N10<'Tabela da Segunda Fase'!P10,2))) -> 1 | E4: =IF(ISNUMBER('Tabela da Segunda Fase'!N10),1,0) -> 1 | F4: =IF(B4*E4=2,1,0) -> 0 | G4: =IF(B4*E4=1,1,0) -> 1 | H4: =IF(B4=0,IF(E4=1,1,0),0) -> 0 | I4: =IF(E4*D4=2,1,0) -> 0 | J4: =IF(E4*D4=1,1,0) -> 1 | K4: =IF(D4=0,IF(E4=1,1,0),0) -> 0 | L4: Bronze-3 | M4: =SUMIF($A$1:$A$18,L4,$F$1:$F$18)+SUMIF($C$1:$C$18,L4,$I$1:$I$18) -> 0 | N4: =SUMIF($A$1:$A$18,L4,$G$1:$G$18)+SUMIF($C$1:$C$18,L4,$J$1:$J$18) -> 0 | O4: =SUMIF($A$1:$A$18,L4,$H$1:$H$18)+SUMIF($C$1:$C$18,L4,$K$1:$K$18) -> 0 | P4: =SUMIF('Tabela da Segunda Fase'!$M$7:$M$17,L4,'Tabela da Segunda Fase'!$N$7:$N$17)+SUMIF('Tabela da Segunda Fase'!$Q$7:$Q$17,L4,'Tabela da Segunda Fase'!$P$7:$P$17) -> 0 | Q4: =SUMIF('Tabela da Segunda Fase'!$M$7:$M$17,L4,'Tabela da Segunda Fase'!$P$7:$P$17)+SUMIF('Tabela da Segunda Fase'!$Q$7:$Q$17,L4,'Tabela da Segunda Fase'!$N$7:$N$17) -> 0 | R4: =(1000000*((3*M4)+N4))+(10000*M4)+(100*(P4-Q4))+P4+(0.001*(30-T4)) -> 0.027 | S4: =RANK(R4,$R$2:$R$4) -> 3 | T4: 3 | U4: =IF($S$2=T4,2,0)+IF($S$3=T4,3,0)+IF($S$4=T4,4,0) -> 4 | W4: =CONCATENATE("'Auxiliar (2)'!",W$1,$U4) -> 'Auxiliar (2)'!L4 | X4: =CONCATENATE("'Auxiliar (2)'!",X$1,$U4) -> 'Auxiliar (2)'!M4 | Y4: =CONCATENATE("'Auxiliar (2)'!",Y$1,$U4) -> 'Auxiliar (2)'!N4 | Z4: =CONCATENATE("'Auxiliar (2)'!",Z$1,$U4) -> 'Auxiliar (2)'!O4 | AA4: =CONCATENATE("'Auxiliar (2)'!",AA$1,$U4) -> 'Auxiliar (2)'!P4 | AB4: =CONCATENATE("'Auxiliar (2)'!",AB$1,$U4) -> 'Auxiliar (2)'!Q4 | AX4: 1º mel. 2º | AY4: 1º G | AZ4: 1º F | BA4: 1º E
A5: ='Tabela da Segunda Fase'!M11 -> BOTA JUNIOR | B5: =IF('Tabela da Segunda Fase'!N11<'Tabela da Segunda Fase'!P11,0,IF('Tabela da Segunda Fase'!N11='Tabela da Segunda Fase'!P11,1,IF('Tabela da Segunda Fase'!N11>'Tabela da Segunda Fase'!P11,2))) -> 1 | C5: ='Tabela da Segunda Fase'!Q11 -> ARMAÇÃO | D5: =IF('Tabela da Segunda Fase'!N11>'Tabela da Segunda Fase'!P11,0,IF('Tabela da Segunda Fase'!N11='Tabela da Segunda Fase'!P11,1,IF('Tabela da Segunda Fase'!N11<'Tabela da Segunda Fase'!P11,2))) -> 1 | E5: =IF(ISNUMBER('Tabela da Segunda Fase'!N11),1,0) -> 1 | F5: =IF(B5*E5=2,1,0) -> 0 | G5: =IF(B5*E5=1,1,0) -> 1 | H5: =IF(B5=0,IF(E5=1,1,0),0) -> 0 | I5: =IF(E5*D5=2,1,0) -> 0 | J5: =IF(E5*D5=1,1,0) -> 1 | K5: =IF(D5=0,IF(E5=1,1,0),0) -> 0 | AX5: 2º mel. 2º | AY5: 3º mel. 2º | AZ5: 4º mel. 2º | BA5: 5º mel. 2º
A6: ='Tabela da Segunda Fase'!M12 -> MANCHESTER | B6: =IF('Tabela da Segunda Fase'!N12<'Tabela da Segunda Fase'!P12,0,IF('Tabela da Segunda Fase'!N12='Tabela da Segunda Fase'!P12,1,IF('Tabela da Segunda Fase'!N12>'Tabela da Segunda Fase'!P12,2))) -> 1 | C6: ='Tabela da Segunda Fase'!Q12 -> GALO DOIDO | D6: =IF('Tabela da Segunda Fase'!N12>'Tabela da Segunda Fase'!P12,0,IF('Tabela da Segunda Fase'!N12='Tabela da Segunda Fase'!P12,1,IF('Tabela da Segunda Fase'!N12<'Tabela da Segunda Fase'!P12,2))) -> 1 | E6: =IF(ISNUMBER('Tabela da Segunda Fase'!N12),1,0) -> 1 | F6: =IF(B6*E6=2,1,0) -> 0 | G6: =IF(B6*E6=1,1,0) -> 1 | H6: =IF(B6=0,IF(E6=1,1,0),0) -> 0 | I6: =IF(E6*D6=2,1,0) -> 0 | J6: =IF(E6*D6=1,1,0) -> 1 | K6: =IF(D6=0,IF(E6=1,1,0),0) -> 0
A7: ='Tabela da Segunda Fase'!M13 -> ELDORADO | B7: =IF('Tabela da Segunda Fase'!N13<'Tabela da Segunda Fase'!P13,0,IF('Tabela da Segunda Fase'!N13='Tabela da Segunda Fase'!P13,1,IF('Tabela da Segunda Fase'!N13>'Tabela da Segunda Fase'!P13,2))) -> 2 | C7: ='Tabela da Segunda Fase'!Q13 -> BLACK POWER | D7: =IF('Tabela da Segunda Fase'!N13>'Tabela da Segunda Fase'!P13,0,IF('Tabela da Segunda Fase'!N13='Tabela da Segunda Fase'!P13,1,IF('Tabela da Segunda Fase'!N13<'Tabela da Segunda Fase'!P13,2))) -> 0 | E7: =IF(ISNUMBER('Tabela da Segunda Fase'!N13),1,0) -> 1 | F7: =IF(B7*E7=2,1,0) -> 1 | G7: =IF(B7*E7=1,1,0) -> 0 | H7: =IF(B7=0,IF(E7=1,1,0),0) -> 0 | I7: =IF(E7*D7=2,1,0) -> 0 | J7: =IF(E7*D7=1,1,0) -> 0 | K7: =IF(D7=0,IF(E7=1,1,0),0) -> 1
A8: ='Tabela da Segunda Fase'!M14 -> MAGNETO | B8: =IF('Tabela da Segunda Fase'!N14<'Tabela da Segunda Fase'!P14,0,IF('Tabela da Segunda Fase'!N14='Tabela da Segunda Fase'!P14,1,IF('Tabela da Segunda Fase'!N14>'Tabela da Segunda Fase'!P14,2))) -> 0 | C8: ='Tabela da Segunda Fase'!Q14 -> DÍNAMO | D8: =IF('Tabela da Segunda Fase'!N14>'Tabela da Segunda Fase'!P14,0,IF('Tabela da Segunda Fase'!N14='Tabela da Segunda Fase'!P14,1,IF('Tabela da Segunda Fase'!N14<'Tabela da Segunda Fase'!P14,2))) -> 2 | E8: =IF(ISNUMBER('Tabela da Segunda Fase'!N14),1,0) -> 1 | F8: =IF(B8*E8=2,1,0) -> 0 | G8: =IF(B8*E8=1,1,0) -> 0 | H8: =IF(B8=0,IF(E8=1,1,0),0) -> 1 | I8: =IF(E8*D8=2,1,0) -> 1 | J8: =IF(E8*D8=1,1,0) -> 0 | K8: =IF(D8=0,IF(E8=1,1,0),0) -> 0
A9: ='Tabela da Segunda Fase'!M15 -> IZALCI | B9: =IF('Tabela da Segunda Fase'!N15<'Tabela da Segunda Fase'!P15,0,IF('Tabela da Segunda Fase'!N15='Tabela da Segunda Fase'!P15,1,IF('Tabela da Segunda Fase'!N15>'Tabela da Segunda Fase'!P15,2))) -> 0 | C9: ='Tabela da Segunda Fase'!Q15 -> FANTASMA | D9: =IF('Tabela da Segunda Fase'!N15>'Tabela da Segunda Fase'!P15,0,IF('Tabela da Segunda Fase'!N15='Tabela da Segunda Fase'!P15,1,IF('Tabela da Segunda Fase'!N15<'Tabela da Segunda Fase'!P15,2))) -> 2 | E9: =IF(ISNUMBER('Tabela da Segunda Fase'!N15),1,0) -> 1 | F9: =IF(B9*E9=2,1,0) -> 0 | G9: =IF(B9*E9=1,1,0) -> 0 | H9: =IF(B9=0,IF(E9=1,1,0),0) -> 1 | I9: =IF(E9*D9=2,1,0) -> 1 | J9: =IF(E9*D9=1,1,0) -> 0 | K9: =IF(D9=0,IF(E9=1,1,0),0) -> 0
A10: ='Tabela da Segunda Fase'!M16 -> BOTA JUNIOR | B10: =IF('Tabela da Segunda Fase'!N16<'Tabela da Segunda Fase'!P16,0,IF('Tabela da Segunda Fase'!N16='Tabela da Segunda Fase'!P16,1,IF('Tabela da Segunda Fase'!N16>'Tabela da Segunda Fase'!P16,2))) -> 1 | C10: ='Tabela da Segunda Fase'!Q16 -> MANCHESTER | D10: =IF('Tabela da Segunda Fase'!N16>'Tabela da Segunda Fase'!P16,0,IF('Tabela da Segunda Fase'!N16='Tabela da Segunda Fase'!P16,1,IF('Tabela da Segunda Fase'!N16<'Tabela da Segunda Fase'!P16,2))) -> 1 | E10: =IF(ISNUMBER('Tabela da Segunda Fase'!N16),1,0) -> 1 | F10: =IF(B10*E10=2,1,0) -> 0 | G10: =IF(B10*E10=1,1,0) -> 1 | H10: =IF(B10=0,IF(E10=1,1,0),0) -> 0 | I10: =IF(E10*D10=2,1,0) -> 0 | J10: =IF(E10*D10=1,1,0) -> 1 | K10: =IF(D10=0,IF(E10=1,1,0),0) -> 0
A11: ='Tabela da Segunda Fase'!M17 -> BLACK POWER | B11: =IF('Tabela da Segunda Fase'!N17<'Tabela da Segunda Fase'!P17,0,IF('Tabela da Segunda Fase'!N17='Tabela da Segunda Fase'!P17,1,IF('Tabela da Segunda Fase'!N17>'Tabela da Segunda Fase'!P17,2))) -> 1 | C11: ='Tabela da Segunda Fase'!Q17 -> WILLIAM SPORT | D11: =IF('Tabela da Segunda Fase'!N17>'Tabela da Segunda Fase'!P17,0,IF('Tabela da Segunda Fase'!N17='Tabela da Segunda Fase'!P17,1,IF('Tabela da Segunda Fase'!N17<'Tabela da Segunda Fase'!P17,2))) -> 1 | E11: =IF(ISNUMBER('Tabela da Segunda Fase'!N17),1,0) -> 1 | F11: =IF(B11*E11=2,1,0) -> 0 | G11: =IF(B11*E11=1,1,0) -> 1 | H11: =IF(B11=0,IF(E11=1,1,0),0) -> 0 | I11: =IF(E11*D11=2,1,0) -> 0 | J11: =IF(E11*D11=1,1,0) -> 1 | K11: =IF(D11=0,IF(E11=1,1,0),0) -> 0
A12: ='Tabela da Segunda Fase'!M18 -> FANTASMA | B12: =IF('Tabela da Segunda Fase'!N18<'Tabela da Segunda Fase'!P18,0,IF('Tabela da Segunda Fase'!N18='Tabela da Segunda Fase'!P18,1,IF('Tabela da Segunda Fase'!N18>'Tabela da Segunda Fase'!P18,2))) -> 2 | C12: ='Tabela da Segunda Fase'!Q18 -> DÍNAMO | D12: =IF('Tabela da Segunda Fase'!N18>'Tabela da Segunda Fase'!P18,0,IF('Tabela da Segunda Fase'!N18='Tabela da Segunda Fase'!P18,1,IF('Tabela da Segunda Fase'!N18<'Tabela da Segunda Fase'!P18,2))) -> 0 | E12: =IF(ISNUMBER('Tabela da Segunda Fase'!N18),1,0) -> 1 | F12: =IF(B12*E12=2,1,0) -> 1 | G12: =IF(B12*E12=1,1,0) -> 0 | H12: =IF(B12=0,IF(E12=1,1,0),0) -> 0 | I12: =IF(E12*D12=2,1,0) -> 0 | J12: =IF(E12*D12=1,1,0) -> 0 | K12: =IF(D12=0,IF(E12=1,1,0),0) -> 1
