Workbook

Sheet Auxiliar
A1: ='Tab Prim Fase'!M24 -> ATLÉTICO-PR | B1: =IF('Tab Prim Fase'!N24<'Tab Prim Fase'!P24,0,IF('Tab Prim Fase'!N24='Tab Prim Fase'!P24,1,IF('Tab Prim Fase'!N24>'Tab Prim Fase'!P24,2))) -> 1 | C1: ='Tab Prim Fase'!Q24 -> FLAMENGO | D1: =IF('Tab Prim Fase'!N24>'Tab Prim Fase'!P24,0,IF('Tab Prim Fase'!N24='Tab Prim Fase'!P24,1,IF('Tab Prim Fase'!N24<'Tab Prim Fase'!P24,2))) -> 1 | E1: =IF(ISNUMBER('Tab Prim Fase'!N24),1,0) -> 1 | F1: =IF(B1*E1=2,1,0) -> 0 | G1: =IF(B1*E1=1,1,0) -> 1 | H1: =IF(B1=0,IF(E1=1,1,0),0) -> 0 | I1: =IF(E1*D1=2,1,0) -> 0 | J1: =IF(E1*D1=1,1,0) -> 1 | K1: =IF(D1=0,IF(E1=1,1,0),0) -> 0 | L1: CLUBES | M1: V | N1: E | O1: D | P1: GP | Q1: GC | W1: L | X1: M | Y1: N | Z1: O | AA1: P | AB1: Q
A2: ='Tab Prim Fase'!M25 -> FLUMINENSE | B2: =IF('Tab Prim Fase'!N25<'Tab Prim Fase'!P25,0,IF('Tab Prim Fase'!N25='Tab Prim Fase'!P25,1,IF('Tab Prim Fase'!N25>'Tab Prim Fase'!P25,2))) -> 0 | C2: ='Tab Prim Fase'!Q25 -> ATLÉTICO-MG | D2: =IF('Tab Prim Fase'!N25>'Tab Prim Fase'!P25,0,IF('Tab Prim Fase'!N25='Tab Prim Fase'!P25,1,IF('Tab Prim Fase'!N25<'Tab Prim Fase'!P25,2))) -> 2 | E2: =IF(ISNUMBER('Tab Prim Fase'!N25),1,0) -> 1 | F2: =IF(B2*E2=2,1,0) -> 0 | G2: =IF(B2*E2=1,1,0) -> 0 | H2: =IF(B2=0,IF(E2=1,1,0),0) -> 1 | I2: =IF(E2*D2=2,1,0) -> 1 | J2: =IF(E2*D2=1,1,0) -> 0 | K2: =IF(D2=0,IF(E2=1,1,0),0) -> 0 | L2: CRUZEIRO | M2: =SUMIF($A$1:$A$24,L2,$F$1:$F$24)+SUMIF($C$1:$C$24,L2,$I$1:$I$24) -> 2 | N2: =SUMIF($A$1:$A$24,L2,$G$1:$G$24)+SUMIF($C$1:$C$24,L2,$J$1:$J$24) -> 0 | O2: =SUMIF($A$1:$A$24,L2,$H$1:$H$24)+SUMIF($C$1:$C$24,L2,$K$1:$K$24) -> 0 | P2: =SUMIF('Tab Prim Fase'!$M$1:$M$31,L2,'Tab Prim Fase'!$N$1:$N$31)+SUMIF('Tab Prim Fase'!$Q$1:$Q$31,L2,'Tab Prim Fase'!$P$1:$P$31) -> 5 | Q2: =SUMIF('Tab Prim Fase'!$M$1:$M$31,L2,'Tab Prim Fase'!$P$1:$P$31)+SUMIF('Tab Prim Fase'!$Q$1:$Q$31,L2,'Tab Prim Fase'!$N$1:$N$31) -> 1 | R2: =(1000000*((3*M2)+N2))+(10000*M2)+(100*(P2-Q2))+P2+(0.001*(30-T2)) -> 6020405 | S2: =RANK(R2,$R$2:$R$5) -> 1 | T2: 1 | U2: =IF($S$2=T2,2,0)+IF($S$3=T2,3,0)+IF($S$4=T2,4,0)+IF($S$5=T2,5,0) -> 2 | W2: =CONCATENATE("'Auxiliar'!",W$1,$U2) -> 'Auxiliar'!L2 | X2: =CONCATENATE("'Auxiliar'!",X$1,$U2) -> 'Auxiliar'!M2 | Y2: =CONCATENATE("'Auxiliar'!",Y$1,$U2) -> 'Auxiliar'!N2 | Z2: =CONCATENATE("'Auxiliar'!",Z$1,$U2) -> 'Auxiliar'!O2 | AA2: =CONCATENATE("'Auxiliar'!",AA$1,$U2) -> 'Auxiliar'!P2 | AB2: =CONCATENATE("'Auxiliar'!",AB$1,$U2) -> 'Auxiliar'!Q2
A3: ='Tab Prim Fase'!M26 -> CRUZEIRO | B3: =IF('Tab Prim Fase'!N26<'Tab Prim Fase'!P26,0,IF('Tab Prim Fase'!N26='Tab Prim Fase'!P26,1,IF('Tab Prim Fase'!N26>'Tab Prim Fase'!P26,2))) -> 2 | C3: ='Tab Prim Fase'!Q26 -> INTERNACIONAL | D3: =IF('Tab Prim Fase'!N26>'Tab Prim Fase'!P26,0,IF('Tab Prim Fase'!N26='Tab Prim Fase'!P26,1,IF('Tab Prim Fase'!N26<'Tab Prim Fase'!P26,2))) -> 0 | E3: =IF(ISNUMBER('Tab Prim Fase'!N26),1,0) -> 1 | F3: =IF(B3*E3=2,1,0) -> 1 | G3: =IF(B3*E3=1,1,0) -> 0 | H3: =IF(B3=0,IF(E3=1,1,0),0) -> 0 | I3: =IF(E3*D3=2,1,0) -> 0 | J3: =IF(E3*D3=1,1,0) -> 0 | K3: =IF(D3=0,IF(E3=1,1,0),0) -> 1 | L3: INTERNACIONAL | M3: =SUMIF($A$1:$A$24,L3,$F$1:$F$24)+SUMIF($C$1:$C$24,L3,$I$1:$I$24) -> 0 | N3: =SUMIF($A$1:$A$24,L3,$G$1:$G$24)+SUMIF($C$1:$C$24,L3,$J$1:$J$24) -> 0 | O3: =SUMIF($A$1:$A$24,L3,$H$1:$H$24)+SUMIF($C$1:$C$24,L3,$K$1:$K$24) -> 2 | P3: =SUMIF('Tab Prim Fase'!$M$1:$M$31,L3,'Tab Prim Fase'!$N$1:$N$31)+SUMIF('Tab Prim Fase'!$Q$1:$Q$31,L3,'Tab Prim Fase'!$P$1:$P$31) -> 0 | Q3: =SUMIF('Tab Prim Fase'!$M$1:$M$31,L3,'Tab Prim Fase'!$P$1:$P$31)+SUMIF('Tab Prim Fase'!$Q$1:$Q$31,L3,'Tab Prim Fase'!$N$1:$N$31) -> 7 | R3: =(1000000*((3*M3)+N3))+(10000*M3)+(100*(P3-Q3))+P3+(0.001*(30-T3)) -> -699.972 | S3: =RANK(R3,$R$2:$R$5) -> 3 | T3: 2 | U3: =IF($S$2=T3,2,0)+IF($S$3=T3,3,0)+IF($S$4=T3,4,0)+IF($S$5=T3,5,0) -> 4 | W3: =CONCATENATE("'Auxiliar'!",W$1,$U3) -> 'Auxiliar'!L4 | X3: =CONCATENATE("'Auxiliar'!",X$1,$U3) -> 'Auxiliar'!M4 | Y3: =CONCATENATE("'Auxiliar'!",Y$1,$U3) -> 'Auxiliar'!N4 | Z3: =CONCATENATE("'Auxiliar'!",Z$1,$U3) -> 'Auxiliar'!O4 | AA3: =CONCATENATE("'Auxiliar'!",AA$1,$U3) -> 'Auxiliar'!P4 | AB3: =CONCATENATE("'Auxiliar'!",AB$1,$U3) -> 'Auxiliar'!Q4
A4: ='Tab Prim Fase'!M27 -> R. B. BRAGANTINO | B4: =IF('Tab Prim Fase'!N27<'Tab Prim Fase'!P27,0,IF('Tab Prim Fase'!N27='Tab Prim Fase'!P27,1,IF('Tab Prim Fase'!N27>'Tab Prim Fase'!P27,2))) -> 1 | C4: ='Tab Prim Fase'!Q27 -> PONTE PRETA | D4: =IF('Tab Prim Fase'!N27>'Tab Prim Fase'!P27,0,IF('Tab Prim Fase'!N27='Tab Prim Fase'!P27,1,IF('Tab Prim Fase'!N27<'Tab Prim Fase'!P27,2))) -> 1 | E4: =IF(ISNUMBER('Tab Prim Fase'!N27),1,0) -> 1 | F4: =IF(B4*E4=2,1,0) -> 0 | G4: =IF(B4*E4=1,1,0) -> 1 | H4: =IF(B4=0,IF(E4=1,1,0),0) -> 0 | I4: =IF(E4*D4=2,1,0) -> 0 | J4: =IF(E4*D4=1,1,0) -> 1 | K4: =IF(D4=0,IF(E4=1,1,0),0) -> 0 | L4: SÃO PAULO | M4: =SUMIF($A$1:$A$24,L4,$F$1:$F$24)+SUMIF($C$1:$C$24,L4,$I$1:$I$24) -> 1 | N4: =SUMIF($A$1:$A$24,L4,$G$1:$G$24)+SUMIF($C$1:$C$24,L4,$J$1:$J$24) -> 0 | O4: =SUMIF($A$1:$A$24,L4,$H$1:$H$24)+SUMIF($C$1:$C$24,L4,$K$1:$K$24) -> 1 | P4: =SUMIF('Tab Prim Fase'!$M$1:$M$31,L4,'Tab Prim Fase'!$N$1:$N$31)+SUMIF('Tab Prim Fase'!$Q$1:$Q$31,L4,'Tab Prim Fase'!$P$1:$P$31) -> 5 | Q4: =SUMIF('Tab Prim Fase'!$M$1:$M$31,L4,'Tab Prim Fase'!$P$1:$P$31)+SUMIF('Tab Prim Fase'!$Q$1:$Q$31,L4,'Tab Prim Fase'!$N$1:$N$31) -> 2 | R4: =(1000000*((3*M4)+N4))+(10000*M4)+(100*(P4-Q4))+P4+(0.001*(30-T4)) -> 3010305 | S4: =RANK(R4,$R$2:$R$5) -> 2 | T4: 3 | U4: =IF($S$2=T4,2,0)+IF($S$3=T4,3,0)+IF($S$4=T4,4,0)+IF($S$5=T4,5,0) -> 3 | W4: =CONCATENATE("'Auxiliar'!",W$1,$U4) -> 'Auxiliar'!L3 | X4: =CONCATENATE("'Auxiliar'!",X$1,$U4) -> 'Auxiliar'!M3 | Y4: =CONCATENATE("'Auxiliar'!",Y$1,$U4) -> 'Auxiliar'!N3 | Z4: =CONCATENATE("'Auxiliar'!",Z$1,$U4) -> 'Auxiliar'!O3 | AA4: =CONCATENATE("'Auxiliar'!",AA$1,$U4) -> 'Auxiliar'!P3 | AB4: =CONCATENATE("'Auxiliar'!",AB$1,$U4) -> 'Auxiliar'!Q3
A5: ='Tab Prim Fase'!M28 -> MIRASSOL | B5: =IF('Tab Prim Fase'!N28<'Tab Prim Fase'!P28,0,IF('Tab Prim Fase'!N28='Tab Prim Fase'!P28,1,IF('Tab Prim Fase'!N28>'Tab Prim Fase'!P28,2))) -> 2 | C5: ='Tab Prim Fase'!Q28 -> AMÉRICA-MG | D5: =IF('Tab Prim Fase'!N28>'Tab Prim Fase'!P28,0,IF('Tab Prim Fase'!N28='Tab Prim Fase'!P28,1,IF('Tab Prim Fase'!N28<'Tab Prim Fase'!P28,2))) -> 0 | E5: =IF(ISNUMBER('Tab Prim Fase'!N28),1,0) -> 1 | F5: =IF(B5*E5=2,1,0) -> 1 | G5: =IF(B5*E5=1,1,0) -> 0 | H5: =IF(B5=0,IF(E5=1,1,0),0) -> 0 | I5: =IF(E5*D5=2,1,0) -> 0 | J5: =IF(E5*D5=1,1,0) -> 0 | K5: =IF(D5=0,IF(E5=1,1,0),0) -> 1
A6: ='Tab Prim Fase'!M29 -> SANTOS | B6: =IF('Tab Prim Fase'!N29<'Tab Prim Fase'!P29,0,IF('Tab Prim Fase'!N29='Tab Prim Fase'!P29,1,IF('Tab Prim Fase'!N29>'Tab Prim Fase'!P29,2))) -> 2 | C6: ='Tab Prim Fase'!Q29 -> SPORT RECIFE | D6: =IF('Tab Prim Fase'!N29>'Tab Prim Fase'!P29,0,IF('Tab Prim Fase'!N29='Tab Prim Fase'!P29,1,IF('Tab Prim Fase'!N29<'Tab Prim Fase'!P29,2))) -> 0 | E6: =IF(ISNUMBER('Tab Prim Fase'!N29),1,0) -> 1 | F6: =IF(B6*E6=2,1,0) -> 1 | G6: =IF(B6*E6=1,1,0) -> 0 | H6: =IF(B6=0,IF(E6=1,1,0),0) -> 0 | I6: =IF(E6*D6=2,1,0) -> 0 | J6: =IF(E6*D6=1,1,0) -> 0 | K6: =IF(D6=0,IF(E6=1,1,0),0) -> 1
A7: ='Tab Prim Fase'!M30 -> JUVENTUS | B7: =IF('Tab Prim Fase'!N30<'Tab Prim Fase'!P30,0,IF('Tab Prim Fase'!N30='Tab Prim Fase'!P30,1,IF('Tab Prim Fase'!N30>'Tab Prim Fase'!P30,2))) -> 1 | C7: ='Tab Prim Fase'!Q30 -> NÁUTICO | D7: =IF('Tab Prim Fase'!N30>'Tab Prim Fase'!P30,0,IF('Tab Prim Fase'!N30='Tab Prim Fase'!P30,1,IF('Tab Prim Fase'!N30<'Tab Prim Fase'!P30,2))) -> 1 | E7: =IF(ISNUMBER('Tab Prim Fase'!N30),1,0) -> 1 | F7: =IF(B7*E7=2,1,0) -> 0 | G7: =IF(B7*E7=1,1,0) -> 1 | H7: =IF(B7=0,IF(E7=1,1,0),0) -> 0 | I7: =IF(E7*D7=2,1,0) -> 0 | J7: =IF(E7*D7=1,1,0) -> 1 | K7: =IF(D7=0,IF(E7=1,1,0),0) -> 0 | L7: R. B. BRAGANTINO | M7: =SUMIF($A$1:$A$24,L7,$F$1:$F$24)+SUMIF($C$1:$C$24,L7,$I$1:$I$24) -> 1 | N7: =SUMIF($A$1:$A$24,L7,$G$1:$G$24)+SUMIF($C$1:$C$24,L7,$J$1:$J$24) -> 1 | O7: =SUMIF($A$1:$A$24,L7,$H$1:$H$24)+SUMIF($C$1:$C$24,L7,$K$1:$K$24) -> 0 | P7: =SUMIF('Tab Prim Fase'!$M$1:$M$31,L7,'Tab Prim Fase'!$N$1:$N$31)+SUMIF('Tab Prim Fase'!$Q$1:$Q$31,L7,'Tab Prim Fase'!$P$1:$P$31) -> 2 | Q7: =SUMIF('Tab Prim Fase'!$M$1:$M$31,L7,'Tab Prim Fase'!$P$1:$P$31)+SUMIF('Tab Prim Fase'!$Q$1:$Q$31,L7,'Tab Prim Fase'!$N$1:$N$31) -> 1 | R7: =(1000000*((3*M7)+N7))+(10000*M7)+(100*(P7-Q7))+P7+(0.001*(30-T7)) -> 4010102 | S7: =RANK(R7,$R$7:$R$9) -> 2 | T7: 1 | U7: =IF($S$7=T7,7,0)+IF($S$8=T7,8,0)+IF($S$9=T7,9,0)+IF($S$10=T7,10,0) -> 8 | W7: =CONCATENATE("'Auxiliar'!",W$1,$U7) -> 'Auxiliar'!L8 | X7: =CONCATENATE("'Auxiliar'!",X$1,$U7) -> 'Auxiliar'!M8 | Y7: =CONCATENATE("'Auxiliar'!",Y$1,$U7) -> 'Auxiliar'!N8 | Z7: =CONCATENATE("'Auxiliar'!",Z$1,$U7) -> 'Auxiliar'!O8 | AA7: =CONCATENATE("'Auxiliar'!",AA$1,$U7) -> 'Auxiliar'!P8 | AB7: =CONCATENATE("'Auxiliar'!",AB$1,$U7) -> 'Auxiliar'!Q8
A8: ='Tab Prim Fase'!M31 -> PALMEIRAS | B8: =IF('Tab Prim Fase'!N31<'Tab Prim Fase'!P31,0,IF('Tab Prim Fase'!N31='Tab Prim Fase'!P31,1,IF('Tab Prim Fase'!N31>'Tab Prim Fase'!P31,2))) -> 2 | C8: ='Tab Prim Fase'!Q31 -> BAHIA | D8: =IF('Tab Prim Fase'!N31>'Tab Prim Fase'!P31,0,IF('Tab Prim Fase'!N31='Tab Prim Fase'!P31,1,IF('Tab Prim Fase'!N31<'Tab Prim Fase'!P31,2))) -> 0 | E8: =IF(ISNUMBER('Tab Prim Fase'!N31),1,0) -> 1 | F8: =IF(B8*E8=2,1,0) -> 1 | G8: =IF(B8*E8=1,1,0) -> 0 | H8: =IF(B8=0,IF(E8=1,1,0),0) -> 0 | I8: =IF(E8*D8=2,1,0) -> 0 | J8: =IF(E8*D8=1,1,0) -> 0 | K8: =IF(D8=0,IF(E8=1,1,0),0) -> 1 | L8: PONTE PRETA | M8: =SUMIF($A$1:$A$24,L8,$F$1:$F$24)+SUMIF($C$1:$C$24,L8,$I$1:$I$24) -> 1 | N8: =SUMIF($A$1:$A$24,L8,$G$1:$G$24)+SUMIF($C$1:$C$24,L8,$J$1:$J$24) -> 1 | O8: =SUMIF($A$1:$A$24,L8,$H$1:$H$24)+SUMIF($C$1:$C$24,L8,$K$1:$K$24) -> 0 | P8: =SUMIF('Tab Prim Fase'!$M$1:$M$31,L8,'Tab Prim Fase'!$N$1:$N$31)+SUMIF('Tab Prim Fase'!$Q$1:$Q$31,L8,'Tab Prim Fase'!$P$1:$P$31) -> 3 | Q8: =SUMIF('Tab Prim Fase'!$M$1:$M$31,L8,'Tab Prim Fase'!$P$1:$P$31)+SUMIF('Tab Prim Fase'!$Q$1:$Q$31,L8,'Tab Prim Fase'!$N$1:$N$31) -> 1 | R8: =(1000000*((3*M8)+N8))+(10000*M8)+(100*(P8-Q8))+P8+(0.001*(30-T8)) -> 4010203 | S8: =RANK(R8,$R$7:$R$9) -> 1 | T8: 2 | U8: =IF($S$7=T8,7,0)+IF($S$8=T8,8,0)+IF($S$9=T8,9,0)+IF($S$10=T8,10,0) -> 7 | W8: =CONCATENATE("'Auxiliar'!",W$1,$U8) -> 'Auxiliar'!L7 | X8: =CONCATENATE("'Auxiliar'!",X$1,$U8) -> 'Auxiliar'!M7 | Y8: =CONCATENATE("'Auxiliar'!",Y$1,$U8) -> 'Auxiliar'!N7 | Z8: =CONCATENATE("'Auxiliar'!",Z$1,$U8) -> 'Auxiliar'!O7 | AA8: =CONCATENATE("'Auxiliar'!",AA$1,$U8) -> 'Auxiliar'!P7 | AB8: =CONCATENATE("'Auxiliar'!",AB$1,$U8) -> 'Auxiliar'!Q7
A9: ='Tab Prim Fase'!M8 -> SÃO PAULO | B9: =IF('Tab Prim Fase'!N8<'Tab Prim Fase'!P8,0,IF('Tab Prim Fase'!N8='Tab Prim Fase'!P8,1,IF('Tab Prim Fase'!N8>'Tab Prim Fase'!P8,2))) -> 0 | C9: ='Tab Prim Fase'!Q8 -> CRUZEIRO | D9: =IF('Tab Prim Fase'!N8>'Tab Prim Fase'!P8,0,IF('Tab Prim Fase'!N8='Tab Prim Fase'!P8,1,IF('Tab Prim Fase'!N8<'Tab Prim Fase'!P8,2))) -> 2 | E9: =IF(ISNUMBER('Tab Prim Fase'!N8),1,0) -> 1 | F9: =IF(B9*E9=2,1,0) -> 0 | G9: =IF(B9*E9=1,1,0) -> 0 | H9: =IF(B9=0,IF(E9=1,1,0),0) -> 1 | I9: =IF(E9*D9=2,1,0) -> 1 | J9: =IF(E9*D9=1,1,0) -> 0 | K9: =IF(D9=0,IF(E9=1,1,0),0) -> 0 | L9: GRÊMIO | M9: =SUMIF($A$1:$A$24,L9,$F$1:$F$24)+SUMIF($C$1:$C$24,L9,$I$1:$I$24) -> 0 | N9: =SUMIF($A$1:$A$24,L9,$G$1:$G$24)+SUMIF($C$1:$C$24,L9,$J$1:$J$24) -> 0 | O9: =SUMIF($A$1:$A$24,L9,$H$1:$H$24)+SUMIF($C$1:$C$24,L9,$K$1:$K$24) -> 2 | P9: =SUMIF('Tab Prim Fase'!$M$1:$M$31,L9,'Tab Prim Fase'!$N$1:$N$31)+SUMIF('Tab Prim Fase'!$Q$1:$Q$31,L9,'Tab Prim Fase'!$P$1:$P$31) -> 0 | Q9: =SUMIF('Tab Prim Fase'!$M$1:$M$31,L9,'Tab Prim Fase'!$P$1:$P$31)+SUMIF('Tab Prim Fase'!$Q$1:$Q$31,L9,'Tab Prim Fase'!$N$1:$N$31) -> 3 | R9: =(1000000*((3*M9)+N9))+(10000*M9)+(100*(P9-Q9))+P9+(0.001*(30-T9)) -> -299.973 | S9: =RANK(R9,$R$7:$R$9) -> 3 | T9: 3 | U9: =IF($S$7=T9,7,0)+IF($S$8=T9,8,0)+IF($S$9=T9,9,0)+IF($S$10=T9,10,0) -> 9 | W9: =CONCATENATE("'Auxiliar'!",W$1,$U9) -> 'Auxiliar'!L9 | X9: =CONCATENATE("'Auxiliar'!",X$1,$U9) -> 'Auxiliar'!M9 | Y9: =CONCATENATE("'Auxiliar'!",Y$1,$U9) -> 'Auxiliar'!N9 | Z9: =CONCATENATE("'Auxiliar'!",Z$1,$U9) -> 'Auxiliar'!O9 | AA9: =CONCATENATE("'Auxiliar'!",AA$1,$U9) -> 'Auxiliar'!P9 | AB9: =CONCATENATE("'Auxiliar'!",AB$1,$U9) -> 'Auxiliar'!Q9
A10: ='Tab Prim Fase'!M9 -> GRÊMIO | B10: =IF('Tab Prim Fase'!N9<'Tab Prim Fase'!P9,0,IF('Tab Prim Fase'!N9='Tab Prim Fase'!P9,1,IF('Tab Prim Fase'!N9>'Tab Prim Fase'!P9,2))) -> 0 | C10: ='Tab Prim Fase'!Q9 -> R. B. BRAGANTINO | D10: =IF('Tab Prim Fase'!N9>'Tab Prim Fase'!P9,0,IF('Tab Prim Fase'!N9='Tab Prim Fase'!P9,1,IF('Tab Prim Fase'!N9<'Tab Prim Fase'!P9,2))) -> 2 | E10: =IF(ISNUMBER('Tab Prim Fase'!N9),1,0) -> 1 | F10: =IF(B10*E10=2,1,0) -> 0 | G10: =IF(B10*E10=1,1,0) -> 0 | H10: =IF(B10=0,IF(E10=1,1,0),0) -> 1 | I10: =IF(E10*D10=2,1,0) -> 1 | J10: =IF(E10*D10=1,1,0) -> 0 | K10: =IF(D10=0,IF(E10=1,1,0),0) -> 0
A11: ='Tab Prim Fase'!M10 -> VASCO DA GAMA | B11: =IF('Tab Prim Fase'!N10<'Tab Prim Fase'!P10,0,IF('Tab Prim Fase'!N10='Tab Prim Fase'!P10,1,IF('Tab Prim Fase'!N10>'Tab Prim Fase'!P10,2))) -> 0 | C11: ='Tab Prim Fase'!Q10 -> MIRASSOL | D11: =IF('Tab Prim Fase'!N10>'Tab Prim Fase'!P10,0,IF('Tab Prim Fase'!N10='Tab Prim Fase'!P10,1,IF('Tab Prim Fase'!N10<'Tab Prim Fase'!P10,2))) -> 2 | E11: =IF(ISNUMBER('Tab Prim Fase'!N10),1,0) -> 1 | F11: =IF(B11*E11=2,1,0) -> 0 | G11: =IF(B11*E11=1,1,0) -> 0 | H11: =IF(B11=0,IF(E11=1,1,0),0) -> 1 | I11: =IF(E11*D11=2,1,0) -> 1 | J11: =IF(E11*D11=1,1,0) -> 0 | K11: =IF(D11=0,IF(E11=1,1,0),0) -> 0
A12: ='Tab Prim Fase'!M11 -> AVAÍ | B12: =IF('Tab Prim Fase'!N11<'Tab Prim Fase'!P11,0,IF('Tab Prim Fase'!N11='Tab Prim Fase'!P11,1,IF('Tab Prim Fase'!N11>'Tab Prim Fase'!P11,2))) -> 0 | C12: ='Tab Prim Fase'!Q11 -> SANTOS | D12: =IF('Tab Prim Fase'!N11>'Tab Prim Fase'!P11,0,IF('Tab Prim Fase'!N11='Tab Prim Fase'!P11,1,IF('Tab Prim Fase'!N11<'Tab Prim Fase'!P11,2))) -> 2 | E12: =IF(ISNUMBER('Tab Prim Fase'!N11),1,0) -> 1 | F12: =IF(B12*E12=2,1,0) -> 0 | G12: =IF(B12*E12=1,1,0) -> 0 | H12: =IF(B12=0,IF(E12=1,1,0),0) -> 1 | I12: =IF(E12*D12=2,1,0) -> 1 | J12: =IF(E12*D12=1,1,0) -> 0 | K12: =IF(D12=0,IF(E12=1,1,0),0) -> 0 | L12: MIRASSOL | M12: =SUMIF($A$1:$A$24,L12,$F$1:$F$24)+SUMIF($C$1:$C$24,L12,$I$1:$I$24) -> 2 | N12: =SUMIF($A$1:$A$24,L12,$G$1:$G$24)+SUMIF($C$1:$C$24,L12,$J$1:$J$24) -> 0 | O12: =SUMIF($A$1:$A$24,L12,$H$1:$H$24)+SUMIF($C$1:$C$24,L12,$K$1:$K$24) -> 0 | P12: =SUMIF('Tab Prim Fase'!$M$1:$M$31,L12,'Tab Prim Fase'!$N$1:$N$31)+SUMIF('Tab Prim Fase'!$Q$1:$Q$31,L12,'Tab Prim Fase'!$P$1:$P$31) -> 5 | Q12: =SUMIF('Tab Prim Fase'!$M$1:$M$31,L12,'Tab Prim Fase'!$P$1:$P$31)+SUMIF('Tab Prim Fase'!$Q$1:$Q$31,L12,'Tab Prim Fase'!$N$1:$N$31) -> 0 | R12: =(1000000*((3*M12)+N12))+(10000*M12)+(100*(P12-Q12))+P12+(0.001*(30-T12)) -> 6020505 | S12: =RANK(R12,$R$12:$R$14) -> 1 | T12: 1 | U12: =IF($S$12=T12,12,0)+IF($S$13=T12,13,0)+IF($S$14=T12,14,0)+IF($S$15=T12,15,0) -> 12 | W12: =CONCATENATE("'Auxiliar'!",W$1,$U12) -> 'Auxiliar'!L12 | X12: =CONCATENATE("'Auxiliar'!",X$1,$U12) -> 'Auxiliar'!M12 | Y12: =CONCATENATE("'Auxiliar'!",Y$1,$U12) -> 'Auxiliar'!N12 | Z12: =CONCATENATE("'Auxiliar'!",Z$1,$U12) -> 'Auxiliar'!O12 | AA12: =CONCATENATE("'Auxiliar'!",AA$1,$U12) -> 'Auxiliar'!P12 | AB12: =CONCATENATE("'Auxiliar'!",AB$1,$U12) -> 'Auxiliar'!Q12
A13: ='Tab Prim Fase'!M12 -> PAYSANDU | B13: =IF('Tab Prim Fase'!N12<'Tab Prim Fase'!P12,0,IF('Tab Prim Fase'!N12='Tab Prim Fase'!P12,1,IF('Tab Prim Fase'!N12>'Tab Prim Fase'!P12,2))) -> 0 | C13: ='Tab Prim Fase'!Q12 -> JUVENTUS | D13: =IF('Tab Prim Fase'!N12>'Tab Prim Fase'!P12,0,IF('Tab Prim Fase'!N12='Tab Prim Fase'!P12,1,IF('Tab Prim Fase'!N12<'Tab Prim Fase'!P12,2))) -> 2 | E13: =IF(ISNUMBER('Tab Prim Fase'!N12),1,0) -> 1 | F13: =IF(B13*E13=2,1,0) -> 0 | G13: =IF(B13*E13=1,1,0) -> 0 | H13: =IF(B13=0,IF(E13=1,1,0),0) -> 1 | I13: =IF(E13*D13=2,1,0) -> 1 | J13: =IF(E13*D13=1,1,0) -> 0 | K13: =IF(D13=0,IF(E13=1,1,0),0) -> 0 | L13: AMÉRICA-MG | M13: =SUMIF($A$1:$A$24,L13,$F$1:$F$24)+SUMIF($C$1:$C$24,L13,$I$1:$I$24) -> 0 | N13: =SUMIF($A$1:$A$24,L13,$G$1:$G$24)+SUMIF($C$1:$C$24,L13,$J$1:$J$24) -> 0 | O13: =SUMIF($A$1:$A$24,L13,$H$1:$H$24)+SUMIF($C$1:$C$24,L13,$K$1:$K$24) -> 2 | P13: =SUMIF('Tab Prim Fase'!$M$1:$M$31,L13,'Tab Prim Fase'!$N$1:$N$31)+SUMIF('Tab Prim Fase'!$Q$1:$Q$31,L13,'Tab Prim Fase'!$P$1:$P$31) -> 0 | Q13: =SUMIF('Tab Prim Fase'!$M$1:$M$31,L13,'Tab Prim Fase'!$P$1:$P$31)+SUMIF('Tab Prim Fase'!$Q$1:$Q$31,L13,'Tab Prim Fase'!$N$1:$N$31) -> 5 | R13: =(1000000*((3*M13)+N13))+(10000*M13)+(100*(P13-Q13))+P13+(0.001*(30-T13)) -> -499.972 | S13: =RANK(R13,$R$12:$R$14) -> 3 | T13: 2 | U13: =IF($S$12=T13,12,0)+IF($S$13=T13,13,0)+IF($S$14=T13,14,0)+IF($S$15=T13,15,0) -> 14 | W13: =CONCATENATE("'Auxiliar'!",W$1,$U13) -> 'Auxiliar'!L14 | X13: =CONCATENATE("'Auxiliar'!",X$1,$U13) -> 'Auxiliar'!M14 | Y13: =CONCATENATE("'Auxiliar'!",Y$1,$U13) -> 'Auxiliar'!N14 | Z13: =CONCATENATE("'Auxiliar'!",Z$1,$U13) -> 'Auxiliar'!O14 | AA13: =CONCATENATE("'Auxiliar'!",AA$1,$U13) -> 'Auxiliar'!P14 | AB13: =CONCATENATE("'Auxiliar'!",AB$1,$U13) -> 'Auxiliar'!Q14
A14: ='Tab Prim Fase'!M13 -> PORTUGUESA | B14: =IF('Tab Prim Fase'!N13<'Tab Prim Fase'!P13,0,IF('Tab Prim Fase'!N13='Tab Prim Fase'!P13,1,IF('Tab Prim Fase'!N13>'Tab Prim Fase'!P13,2))) -> 0 | C14: ='Tab Prim Fase'!Q13 -> PALMEIRAS | D14: =IF('Tab Prim Fase'!N13>'Tab Prim Fase'!P13,0,IF('Tab Prim Fase'!N13='Tab Prim Fase'!P13,1,IF('Tab Prim Fase'!N13<'Tab Prim Fase'!P13,2))) -> 2 | E14: =IF(ISNUMBER('Tab Prim Fase'!N13),1,0) -> 1 | F14: =IF(B14*E14=2,1,0) -> 0 | G14: =IF(B14*E14=1,1,0) -> 0 | H14: =IF(B14=0,IF(E14=1,1,0),0) -> 1 | I14: =IF(E14*D14=2,1,0) -> 1 | J14: =IF(E14*D14=1,1,0) -> 0 | K14: =IF(D14=0,IF(E14=1,1,0),0) -> 0 | L14: VASCO DA GAMA | M14: =SUMIF($A$1:$A$24,L14,$F$1:$F$24)+SUMIF($C$1:$C$24,L14,$I$1:$I$24) -> 1 | N14: =SUMIF($A$1:$A$24,L14,$G$1:$G$24)+SUMIF($C$1:$C$24,L14,$J$1:$J$24) -> 0 | O14: =SUMIF($A$1:$A$24,L14,$H$1:$H$24)+SUMIF($C$1:$C$24,L14,$K$1:$K$24) -> 1 | P14: =SUMIF('Tab Prim Fase'!$M$1:$M$31,L14,'Tab Prim Fase'!$N$1:$N$31)+SUMIF('Tab Prim Fase'!$Q$1:$Q$31,L14,'Tab Prim Fase'!$P$1:$P$31) -> 1 | Q14: =SUMIF('Tab Prim Fase'!$M$1:$M$31,L14,'Tab Prim Fase'!$P$1:$P$31)+SUMIF('Tab Prim Fase'!$Q$1:$Q$31,L14,'Tab Prim Fase'!$N$1:$N$31) -> 1 | R14: =(1000000*((3*M14)+N14))+(10000*M14)+(100*(P14-Q14))+P14+(0.001*(30-T14)) -> 3010001 | S14: =RANK(R14,$R$12:$R$14) -> 2 | T14: 3 | U14: =IF($S$12=T14,12,0)+IF($S$13=T14,13,0)+IF($S$14=T14,14,0)+IF($S$15=T14,15,0) -> 13 | W14: =CONCATENATE("'Auxiliar'!",W$1,$U14) -> 'Auxiliar'!L13 | X14: =CONCATENATE("'Auxiliar'!",X$1,$U14) -> 'Auxiliar'!M13 | Y14: =CONCATENATE("'Auxiliar'!",Y$1,$U14) -> 'Auxiliar'!N13 | Z14: =CONCATENATE("'Auxiliar'!",Z$1,$U14) -> 'Auxiliar'!O13 | AA14: =CONCATENATE("'Auxiliar'!",AA$1,$U14) -> 'Auxiliar'!P13 | AB14: =CONCATENATE("'Auxiliar'!",AB$1,$U14) -> 'Auxiliar'!Q13
A15: ='Tab Prim Fase'!M14 -> SAMPAIO CORRÊA | B15: =IF('Tab Prim Fase'!N14<'Tab Prim Fase'!P14,0,IF('Tab Prim Fase'!N14='Tab Prim Fase'!P14,1,IF('Tab Prim Fase'!N14>'Tab Prim Fase'!P14,2))) -> 0 | C15: ='Tab Prim Fase'!Q14 -> ATLÉTICO-PR | D15: =IF('Tab Prim Fase'!N14>'Tab Prim Fase'!P14,0,IF('Tab Prim Fase'!N14='Tab Prim Fase'!P14,1,IF('Tab Prim Fase'!N14<'Tab Prim Fase'!P14,2))) -> 2 | E15: =IF(ISNUMBER('Tab Prim Fase'!N14),1,0) -> 1 | F15: =IF(B15*E15=2,1,0) -> 0 | G15: =IF(B15*E15=1,1,0) -> 0 | H15: =IF(B15=0,IF(E15=1,1,0),0) -> 1 | I15: =IF(E15*D15=2,1,0) -> 1 | J15: =IF(E15*D15=1,1,0) -> 0 | K15: =IF(D15=0,IF(E15=1,1,0),0) -> 0
A16: ='Tab Prim Fase'!M15 -> BOTAFOGO | B16: =IF('Tab Prim Fase'!N15<'Tab Prim Fase'!P15,0,IF('Tab Prim Fase'!N15='Tab Prim Fase'!P15,1,IF('Tab Prim Fase'!N15>'Tab Prim Fase'!P15,2))) -> 2 | C16: ='Tab Prim Fase'!Q15 -> FLUMINENSE | D16: =IF('Tab Prim Fase'!N15>'Tab Prim Fase'!P15,0,IF('Tab Prim Fase'!N15='Tab Prim Fase'!P15,1,IF('Tab Prim Fase'!N15<'Tab Prim Fase'!P15,2))) -> 0 | E16: =IF(ISNUMBER('Tab Prim Fase'!N15),1,0) -> 1 | F16: =IF(B16*E16=2,1,0) -> 1 | G16: =IF(B16*E16=1,1,0) -> 0 | H16: =IF(B16=0,IF(E16=1,1,0),0) -> 0 | I16: =IF(E16*D16=2,1,0) -> 0 | J16: =IF(E16*D16=1,1,0) -> 0 | K16: =IF(D16=0,IF(E16=1,1,0),0) -> 1
A17: ='Tab Prim Fase'!M16 -> ATLÉTICO-MG | B17: =IF('Tab Prim Fase'!N16<'Tab Prim Fase'!P16,0,IF('Tab Prim Fase'!N16='Tab Prim Fase'!P16,1,IF('Tab Prim Fase'!N16>'Tab Prim Fase'!P16,2))) -> 0 | C17: ='Tab Prim Fase'!Q16 -> BOTAFOGO | D17: =IF('Tab Prim Fase'!N16>'Tab Prim Fase'!P16,0,IF('Tab Prim Fase'!N16='Tab Prim Fase'!P16,1,IF('Tab Prim Fase'!N16<'Tab Prim Fase'!P16,2))) -> 2 | E17: =IF(ISNUMBER('Tab Prim Fase'!N16),1,0) -> 1 | F17: =IF(B17*E17=2,1,0) -> 0 | G17: =IF(B17*E17=1,1,0) -> 0 | H17: =IF(B17=0,IF(E17=1,1,0),0) -> 1 | I17: =IF(E17*D17=2,1,0) -> 1 | J17: =IF(E17*D17=1,1,0) -> 0 | K17: =IF(D17=0,IF(E17=1,1,0),0) -> 0 | L17: SANTOS | M17: =SUMIF($A$1:$A$24,L17,$F$1:$F$24)+SUMIF($C$1:$C$24,L17,$I$1:$I$24) -> 2 | N17: =SUMIF($A$1:$A$24,L17,$G$1:$G$24)+SUMIF($C$1:$C$24,L17,$J$1:$J$24) -> 0 | O17: =SUMIF($A$1:$A$24,L17,$H$1:$H$24)+SUMIF($C$1:$C$24,L17,$K$1:$K$24) -> 0 | P17: =SUMIF('Tab Prim Fase'!$M$1:$M$31,L17,'Tab Prim Fase'!$N$1:$N$31)+SUMIF('Tab Prim Fase'!$Q$1:$Q$31,L17,'Tab Prim Fase'!$P$1:$P$31) -> 3 | Q17: =SUMIF('Tab Prim Fase'!$M$1:$M$31,L17,'Tab Prim Fase'!$P$1:$P$31)+SUMIF('Tab Prim Fase'!$Q$1:$Q$31,L17,'Tab Prim Fase'!$N$1:$N$31) -> 0 | R17: =(1000000*((3*M17)+N17))+(10000*M17)+(100*(P17-Q17))+P17+(0.001*(30-T17)) -> 6020303 | S17: =RANK(R17,$R$17:$R$19) -> 1 | T17: 1 | U17: =IF($S$17=T17,17,0)+IF($S$18=T17,18,0)+IF($S$19=T17,19,0)+IF($S$20=T17,20,0) -> 17 | W17: =CONCATENATE("'Auxiliar'!",W$1,$U17) -> 'Auxiliar'!L17 | X17: =CONCATENATE("'Auxiliar'!",X$1,$U17) -> 'Auxiliar'!M17 | Y17: =CONCATENATE("'Auxiliar'!",Y$1,$U17) -> 'Auxiliar'!N17 | Z17: =CONCATENATE("'Auxiliar'!",Z$1,$U17) -> 'Auxiliar'!O17 | AA17: =CONCATENATE("'Auxiliar'!",AA$1,$U17) -> 'Auxiliar'!P17 | AB17: =CONCATENATE("'Auxiliar'!",AB$1,$U17) -> 'Auxiliar'!Q17
A18: ='Tab Prim Fase'!M17 -> INTERNACIONAL | B18: =IF('Tab Prim Fase'!N17<'Tab Prim Fase'!P17,0,IF('Tab Prim Fase'!N17='Tab Prim Fase'!P17,1,IF('Tab Prim Fase'!N17>'Tab Prim Fase'!P17,2))) -> 0 | C18: ='Tab Prim Fase'!Q17 -> SÃO PAULO | D18: =IF('Tab Prim Fase'!N17>'Tab Prim Fase'!P17,0,IF('Tab Prim Fase'!N17='Tab Prim Fase'!P17,1,IF('Tab Prim Fase'!N17<'Tab Prim Fase'!P17,2))) -> 2 | E18: =IF(ISNUMBER('Tab Prim Fase'!N17),1,0) -> 1 | F18: =IF(B18*E18=2,1,0) -> 0 | G18: =IF(B18*E18=1,1,0) -> 0 | H18: =IF(B18=0,IF(E18=1,1,0),0) -> 1 | I18: =IF(E18*D18=2,1,0) -> 1 | J18: =IF(E18*D18=1,1,0) -> 0 | K18: =IF(D18=0,IF(E18=1,1,0),0) -> 0 | L18: SPORT RECIFE | M18: =SUMIF($A$1:$A$24,L18,$F$1:$F$24)+SUMIF($C$1:$C$24,L18,$I$1:$I$24) -> 1 | N18: =SUMIF($A$1:$A$24,L18,$G$1:$G$24)+SUMIF($C$1:$C$24,L18,$J$1:$J$24) -> 0 | O18: =SUMIF($A$1:$A$24,L18,$H$1:$H$24)+SUMIF($C$1:$C$24,L18,$K$1:$K$24) -> 1 | P18: =SUMIF('Tab Prim Fase'!$M$1:$M$31,L18,'Tab Prim Fase'!$N$1:$N$31)+SUMIF('Tab Prim Fase'!$Q$1:$Q$31,L18,'Tab Prim Fase'!$P$1:$P$31) -> 1 | Q18: =SUMIF('Tab Prim Fase'!$M$1:$M$31,L18,'Tab Prim Fase'!$P$1:$P$31)+SUMIF('Tab Prim Fase'!$Q$1:$Q$31,L18,'Tab Prim Fase'!$N$1:$N$31) -> 2 | R18: =(1000000*((3*M18)+N18))+(10000*M18)+(100*(P18-Q18))+P18+(0.001*(30-T18)) -> 3009901 | S18: =RANK(R18,$R$17:$R$19) -> 2 | T18: 2 | U18: =IF($S$17=T18,17,0)+IF($S$18=T18,18,0)+IF($S$19=T18,19,0)+IF($S$20=T18,20,0) -> 18 | W18: =CONCATENATE("'Auxiliar'!",W$1,$U18) -> 'Auxiliar'!L18 | X18: =CONCATENATE("'Auxiliar'!",X$1,$U18) -> 'Auxiliar'!M18 | Y18: =CONCATENATE("'Auxiliar'!",Y$1,$U18) -> 'Auxiliar'!N18 | Z18: =CONCATENATE("'Auxiliar'!",Z$1,$U18) -> 'Auxiliar'!O18 | AA18: =CONCATENATE("'Auxiliar'!",AA$1,$U18) -> 'Auxiliar'!P18 | AB18: =CONCATENATE("'Auxiliar'!",AB$1,$U18) -> 'Auxiliar'!Q18
A19: ='Tab Prim Fase'!M18 -> PONTE PRETA | B19: =IF('Tab Prim Fase'!N18<'Tab Prim Fase'!P18,0,IF('Tab Prim Fase'!N18='Tab Prim Fase'!P18,1,IF('Tab Prim Fase'!N18>'Tab Prim Fase'!P18,2))) -> 2 | C19: ='Tab Prim Fase'!Q18 -> GRÊMIO | D19: =IF('Tab Prim Fase'!N18>'Tab Prim Fase'!P18,0,IF('Tab Prim Fase'!N18='Tab Prim Fase'!P18,1,IF('Tab Prim Fase'!N18<'Tab Prim Fase'!P18,2))) -> 0 | E19: =IF(ISNUMBER('Tab Prim Fase'!N18),1,0) -> 1 | F19: =IF(B19*E19=2,1,0) -> 1 | G19: =IF(B19*E19=1,1,0) -> 0 | H19: =IF(B19=0,IF(E19=1,1,0),0) -> 0 | I19: =IF(E19*D19=2,1,0) -> 0 | J19: =IF(E19*D19=1,1,0) -> 0 | K19: =IF(D19=0,IF(E19=1,1,0),0) -> 1 | L19: AVAÍ | M19: =SUMIF($A$1:$A$24,L19,$F$1:$F$24)+SUMIF($C$1:$C$24,L19,$I$1:$I$24) -> 0 | N19: =SUMIF($A$1:$A$24,L19,$G$1:$G$24)+SUMIF($C$1:$C$24,L19,$J$1:$J$24) -> 0 | O19: =SUMIF($A$1:$A$24,L19,$H$1:$H$24)+SUMIF($C$1:$C$24,L19,$K$1:$K$24) -> 2 | P19: =SUMIF('Tab Prim Fase'!$M$1:$M$31,L19,'Tab Prim Fase'!$N$1:$N$31)+SUMIF('Tab Prim Fase'!$Q$1:$Q$31,L19,'Tab Prim Fase'!$P$1:$P$31) -> 0 | Q19: =SUMIF('Tab Prim Fase'!$M$1:$M$31,L19,'Tab Prim Fase'!$P$1:$P$31)+SUMIF('Tab Prim Fase'!$Q$1:$Q$31,L19,'Tab Prim Fase'!$N$1:$N$31) -> 2 | R19: =(1000000*((3*M19)+N19))+(10000*M19)+(100*(P19-Q19))+P19+(0.001*(30-T19)) -> -199.973 | S19: =RANK(R19,$R$17:$R$19) -> 3 | T19: 3 | U19: =IF($S$17=T19,17,0)+IF($S$18=T19,18,0)+IF($S$19=T19,19,0)+IF($S$20=T19,20,0) -> 19 | W19: =CONCATENATE("'Auxiliar'!",W$1,$U19) -> 'Auxiliar'!L19 | X19: =CONCATENATE("'Auxiliar'!",X$1,$U19) -> 'Auxiliar'!M19 | Y19: =CONCATENATE("'Auxiliar'!",Y$1,$U19) -> 'Auxiliar'!N19 | Z19: =CONCATENATE("'Auxiliar'!",Z$1,$U19) -> 'Auxiliar'!O19 | AA19: =CONCATENATE("'Auxiliar'!",AA$1,$U19) -> 'Auxiliar'!P19 | AB19: =CONCATENATE("'Auxiliar'!",AB$1,$U19) -> 'Auxiliar'!Q19
A20: ='Tab Prim Fase'!M19 -> AMÉRICA-MG | B20: =IF('Tab Prim Fase'!N19<'Tab Prim Fase'!P19,0,IF('Tab Prim Fase'!N19='Tab Prim Fase'!P19,1,IF('Tab Prim Fase'!N19>'Tab Prim Fase'!P19,2))) -> 0 | C20: ='Tab Prim Fase'!Q19 -> VASCO DA GAMA | D20: =IF('Tab Prim Fase'!N19>'Tab Prim Fase'!P19,0,IF('Tab Prim Fase'!N19='Tab Prim Fase'!P19,1,IF('Tab Prim Fase'!N19<'Tab Prim Fase'!P19,2))) -> 2 | E20: =IF(ISNUMBER('Tab Prim Fase'!N19),1,0) -> 1 | F20: =IF(B20*E20=2,1,0) -> 0 | G20: =IF(B20*E20=1,1,0) -> 0 | H20: =IF(B20=0,IF(E20=1,1,0),0) -> 1 | I20: =IF(E20*D20=2,1,0) -> 1 | J20: =IF(E20*D20=1,1,0) -> 0 | K20: =IF(D20=0,IF(E20=1,1,0),0) -> 0
A21: ='Tab Prim Fase'!M20 -> SPORT RECIFE | B21: =IF('Tab Prim Fase'!N20<'Tab Prim Fase'!P20,0,IF('Tab Prim Fase'!N20='Tab Prim Fase'!P20,1,IF('Tab Prim Fase'!N20>'Tab Prim Fase'!P20,2))) -> 2 | C21: ='Tab Prim Fase'!Q20 -> AVAÍ | D21: =IF('Tab Prim Fase'!N20>'Tab Prim Fase'!P20,0,IF('Tab Prim Fase'!N20='Tab Prim Fase'!P20,1,IF('Tab Prim Fase'!N20<'Tab Prim Fase'!P20,2))) -> 0 | E21: =IF(ISNUMBER('Tab Prim Fase'!N20),1,0) -> 1 | F21: =IF(B21*E21=2,1,0) -> 1 | G21: =IF(B21*E21=1,1,0) -> 0 | H21: =IF(B21=0,IF(E21=1,1,0),0) -> 0 | I21: =IF(E21*D21=2,1,0) -> 0 | J21: =IF(E21*D21=1,1,0) -> 0 | K21: =IF(D21=0,IF(E21=1,1,0),0) -> 1
A22: ='Tab Prim Fase'!M21 -> NÁUTICO | B22: =IF('Tab Prim Fase'!N21<'Tab Prim Fase'!P21,0,IF('Tab Prim Fase'!N21='Tab Prim Fase'!P21,1,IF('Tab Prim Fase'!N21>'Tab Prim Fase'!P21,2))) -> 0 | C22: ='Tab Prim Fase'!Q21 -> PAYSANDU | D22: =IF('Tab Prim Fase'!N21>'Tab Prim Fase'!P21,0,IF('Tab Prim Fase'!N21='Tab Prim Fase'!P21,1,IF('Tab Prim Fase'!N21<'Tab Prim Fase'!P21,2))) -> 2 | E22: =IF(ISNUMBER('Tab Prim Fase'!N21),1,0) -> 1 | F22: =IF(B22*E22=2,1,0) -> 0 | G22: =IF(B22*E22=1,1,0) -> 0 | H22: =IF(B22=0,IF(E22=1,1,0),0) -> 1 | I22: =IF(E22*D22=2,1,0) -> 1 | J22: =IF(E22*D22=1,1,0) -> 0 | K22: =IF(D22=0,IF(E22=1,1,0),0) -> 0 | L22: JUVENTUS | M22: =SUMIF($A$1:$A$24,L22,$F$1:$F$24)+SUMIF($C$1:$C$24,L22,$I$1:$I$24) -> 1 | N22: =SUMIF($A$1:$A$24,L22,$G$1:$G$24)+SUMIF($C$1:$C$24,L22,$J$1:$J$24) -> 1 | O22: =SUMIF($A$1:$A$24,L22,$H$1:$H$24)+SUMIF($C$1:$C$24,L22,$K$1:$K$24) -> 0 | P22: =SUMIF('Tab Prim Fase'!$M$1:$M$31,L22,'Tab Prim Fase'!$N$1:$N$31)+SUMIF('Tab Prim Fase'!$Q$1:$Q$31,L22,'Tab Prim Fase'!$P$1:$P$31) -> 1 | Q22: =SUMIF('Tab Prim Fase'!$M$1:$M$31,L22,'Tab Prim Fase'!$P$1:$P$31)+SUMIF('Tab Prim Fase'!$Q$1:$Q$31,L22,'Tab Prim Fase'!$N$1:$N$31) -> 0 | R22: =(1000000*((3*M22)+N22))+(10000*M22)+(100*(P22-Q22))+P22+(0.001*(30-T22)) -> 4010101 | S22: =RANK(R22,$R$22:$R$24) -> 1 | T22: 1 | U22: =IF($S$22=T22,22,0)+IF($S$23=T22,23,0)+IF($S$24=T22,24,0)+IF($S$25=T22,25,0) -> 22 | W22: =CONCATENATE("'Auxiliar'!",W$1,$U22) -> 'Auxiliar'!L22 | X22: =CONCATENATE("'Auxiliar'!",X$1,$U22) -> 'Auxiliar'!M22 | Y22: =CONCATENATE("'Auxiliar'!",Y$1,$U22) -> 'Auxiliar'!N22 | Z22: =CONCATENATE("'Auxiliar'!",Z$1,$U22) -> 'Auxiliar'!O22 | AA22: =CONCATENATE("'Auxiliar'!",AA$1,$U22) -> 'Auxiliar'!P22 | AB22: =CONCATENATE("'Auxiliar'!",AB$1,$U22) -> 'Auxiliar'!Q22
A23: ='Tab Prim Fase'!M22 -> BAHIA | B23: =IF('Tab Prim Fase'!N22<'Tab Prim Fase'!P22,0,IF('Tab Prim Fase'!N22='Tab Prim Fase'!P22,1,IF('Tab Prim Fase'!N22>'Tab Prim Fase'!P22,2))) -> 2 | C23: ='Tab Prim Fase'!Q22 -> PORTUGUESA | D23: =IF('Tab Prim Fase'!N22>'Tab Prim Fase'!P22,0,IF('Tab Prim Fase'!N22='Tab Prim Fase'!P22,1,IF('Tab Prim Fase'!N22<'Tab Prim Fase'!P22,2))) -> 0 | E23: =IF(ISNUMBER('Tab Prim Fase'!N22),1,0) -> 1 | F23: =IF(B23*E23=2,1,0) -> 1 | G23: =IF(B23*E23=1,1,0) -> 0 | H23: =IF(B23=0,IF(E23=1,1,0),0) -> 0 | I23: =IF(E23*D23=2,1,0) -> 0 | J23: =IF(E23*D23=1,1,0) -> 0 | K23: =IF(D23=0,IF(E23=1,1,0),0) -> 1 | L23: NÁUTICO | M23: =SUMIF($A$1:$A$24,L23,$F$1:$F$24)+SUMIF($C$1:$C$24,L23,$I$1:$I$24) -> 0 | N23: =SUMIF($A$1:$A$24,L23,$G$1:$G$24)+SUMIF($C$1:$C$24,L23,$J$1:$J$24) -> 1 | O23: =SUMIF($A$1:$A$24,L23,$H$1:$H$24)+SUMIF($C$1:$C$24,L23,$K$1:$K$24) -> 1 | P23: =SUMIF('Tab Prim Fase'!$M$1:$M$31,L23,'Tab Prim Fase'!$N$1:$N$31)+SUMIF('Tab Prim Fase'!$Q$1:$Q$31,L23,'Tab Prim Fase'!$P$1:$P$31) -> 0 | Q23: =SUMIF('Tab Prim Fase'!$M$1:$M$31,L23,'Tab Prim Fase'!$P$1:$P$31)+SUMIF('Tab Prim Fase'!$Q$1:$Q$31,L23,'Tab Prim Fase'!$N$1:$N$31) -> 1 | R23: =(1000000*((3*M23)+N23))+(10000*M23)+(100*(P23-Q23))+P23+(0.001*(30-T23)) -> 999900.03 | S23: =RANK(R23,$R$22:$R$24) -> 3 | T23: 2 | U23: =IF($S$22=T23,22,0)+IF($S$23=T23,23,0)+IF($S$24=T23,24,0)+IF($S$25=T23,25,0) -> 24 | W23: =CONCATENATE("'Auxiliar'!",W$1,$U23) -> 'Auxiliar'!L24 | X23: =CONCATENATE("'Auxiliar'!",X$1,$U23) -> 'Auxiliar'!M24 | Y23: =CONCATENATE("'Auxiliar'!",Y$1,$U23) -> 'Auxiliar'!N24 | Z23: =CONCATENATE("'Auxiliar'!",Z$1,$U23) -> 'Auxiliar'!O24 | AA23: =CONCATENATE("'Auxiliar'!",AA$1,$U23) -> 'Auxiliar'!P24 | AB23: =CONCATENATE("'Auxiliar'!",AB$1,$U23) -> 'Auxiliar'!Q24
A24: ='Tab Prim Fase'!M23 -> FLAMENGO | B24: =IF('Tab Prim Fase'!N23<'Tab Prim Fase'!P23,0,IF('Tab Prim Fase'!N23='Tab Prim Fase'!P23,1,IF('Tab Prim Fase'!N23>'Tab Prim Fase'!P23,2))) -> 1 | C24: ='Tab Prim Fase'!Q23 -> SAMPAIO CORRÊA | D24: =IF('Tab Prim Fase'!N23>'Tab Prim Fase'!P23,0,IF('Tab Prim Fase'!N23='Tab Prim Fase'!P23,1,IF('Tab Prim Fase'!N23<'Tab Prim Fase'!P23,2))) -> 1 | E24: =IF(ISNUMBER('Tab Prim Fase'!N23),1,0) -> 1 | F24: =IF(B24*E24=2,1,0) -> 0 | G24: =IF(B24*E24=1,1,0) -> 1 | H24: =IF(B24=0,IF(E24=1,1,0),0) -> 0 | I24: =IF(E24*D24=2,1,0) -> 0 | J24: =IF(E24*D24=1,1,0) -> 1 | K24: =IF(D24=0,IF(E24=1,1,0),0) -> 0 | L24: PAYSANDU | M24: =SUMIF($A$1:$A$24,L24,$F$1:$F$24)+SUMIF($C$1:$C$24,L24,$I$1:$I$24) -> 1 | N24: =SUMIF($A$1:$A$24,L24,$G$1:$G$24)+SUMIF($C$1:$C$24,L24,$J$1:$J$24) -> 0 | O24: =SUMIF($A$1:$A$24,L24,$H$1:$H$24)+SUMIF($C$1:$C$24,L24,$K$1:$K$24) -> 1 | P24: =SUMIF('Tab Prim Fase'!$M$1:$M$31,L24,'Tab Prim Fase'!$N$1:$N$31)+SUMIF('Tab Prim Fase'!$Q$1:$Q$31,L24,'Tab Prim Fase'!$P$1:$P$31) -> 1 | Q24: =SUMIF('Tab Prim Fase'!$M$1:$M$31,L24,'Tab Prim Fase'!$P$1:$P$31)+SUMIF('Tab Prim Fase'!$Q$1:$Q$31,L24,'Tab Prim Fase'!$N$1:$N$31) -> 1 | R24: =(1000000*((3*M24)+N24))+(10000*M24)+(100*(P24-Q24))+P24+(0.001*(30-T24)) -> 3010001 | S24: =RANK(R24,$R$22:$R$24) -> 2 | T24: 3 | U24: =IF($S$22=T24,22,0)+IF($S$23=T24,23,0)+IF($S$24=T24,24,0)+IF($S$25=T24,25,0) -> 23 | W24: =CONCATENATE("'Auxiliar'!",W$1,$U24) -> 'Auxiliar'!L23 | X24: =CONCATENATE("'Auxiliar'!",X$1,$U24) -> 'Auxiliar'!M23 | Y24: =CONCATENATE("'Auxiliar'!",Y$1,$U24) -> 'Auxiliar'!N23 | Z24: =CONCATENATE("'Auxiliar'!",Z$1,$U24) -> 'Auxiliar'!O23 | AA24: =CONCATENATE("'Auxiliar'!",AA$1,$U24) -> 'Auxiliar'!P23 | AB24: =CONCATENATE("'Auxiliar'!",AB$1,$U24) -> 'Auxiliar'!Q23
L27: PALMEIRAS | M27: =SUMIF($A$1:$A$24,L27,$F$1:$F$24)+SUMIF($C$1:$C$24,L27,$I$1:$I$24) -> 2 | N27: =SUMIF($A$1:$A$24,L27,$G$1:$G$24)+SUMIF($C$1:$C$24,L27,$J$1:$J$24) -> 0 | O27: =SUMIF($A$1:$A$24,L27,$H$1:$H$24)+SUMIF($C$1:$C$24,L27,$K$1:$K$24) -> 0 | P27: =SUMIF('Tab Prim Fase'!$M$1:$M$31,L27,'Tab Prim Fase'!$N$1:$N$31)+SUMIF('Tab Prim Fase'!$Q$1:$Q$31,L27,'Tab Prim Fase'!$P$1:$P$31) -> 4 | Q27: =SUMIF('Tab Prim Fase'!$M$1:$M$31,L27,'Tab Prim Fase'!$P$1:$P$31)+SUMIF('Tab Prim Fase'!$Q$1:$Q$31,L27,'Tab Prim Fase'!$N$1:$N$31) -> 0 | R27: =(1000000*((3*M27)+N27))+(10000*M27)+(100*(P27-Q27))+P27+(0.001*(30-T27)) -> 6020404 | S27: =RANK(R27,$R$27:$R$29) -> 1 | T27: 1 | U27: =IF($S$27=T27,27,0)+IF($S$28=T27,28,0)+IF($S$29=T27,29,0)+IF($S$30=T27,30,0) -> 27 | W27: =CONCATENATE("'Auxiliar'!",W$1,$U27) -> 'Auxiliar'!L27 | X27: =CONCATENATE("'Auxiliar'!",X$1,$U27) -> 'Auxiliar'!M27 | Y27: =CONCATENATE("'Auxiliar'!",Y$1,$U27) -> 'Auxiliar'!N27 | Z27: =CONCATENATE("'Auxiliar'!",Z$1,$U27) -> 'Auxiliar'!O27 | AA27: =CONCATENATE("'Auxiliar'!",AA$1,$U27) -> 'Auxiliar'!P27 | AB27: =CONCATENATE("'Auxiliar'!",AB$1,$U27) -> 'Auxiliar'!Q27
L28: BAHIA | M28: =SUMIF($A$1:$A$24,L28,$F$1:$F$24)+SUMIF($C$1:$C$24,L28,$I$1:$I$24) -> 1 | N28: =SUMIF($A$1:$A$24,L28,$G$1:$G$24)+SUMIF($C$1:$C$24,L28,$J$1:$J$24) -> 0 | O28: =SUMIF($A$1:$A$24,L28,$H$1:$H$24)+SUMIF($C$1:$C$24,L28,$K$1:$K$24) -> 1 | P28: =SUMIF('Tab Prim Fase'!$M$1:$M$31,L28,'Tab Prim Fase'!$N$1:$N$31)+SUMIF('Tab Prim Fase'!$Q$1:$Q$31,L28,'Tab Prim Fase'!$P$1:$P$31) -> 3 | Q28: =SUMIF('Tab Prim Fase'!$M$1:$M$31,L28,'Tab Prim Fase'!$P$1:$P$31)+SUMIF('Tab Prim Fase'!$Q$1:$Q$31,L28,'Tab Prim Fase'!$N$1:$N$31) -> 1 | R28: =(1000000*((3*M28)+N28))+(10000*M28)+(100*(P28-Q28))+P28+(0.001*(30-T28)) -> 3010203 | S28: =RANK(R28,$R$27:$R$29) -> 2 | T28: 2 | U28: =IF($S$27=T28,27,0)+IF($S$28=T28,28,0)+IF($S$29=T28,29,0)+IF($S$30=T28,30,0) -> 28 | W28: =CONCATENATE("'Auxiliar'!",W$1,$U28) -> 'Auxiliar'!L28 | X28: =CONCATENATE("'Auxiliar'!",X$1,$U28) -> 'Auxiliar'!M28 | Y28: =CONCATENATE("'Auxiliar'!",Y$1,$U28) -> 'Auxiliar'!N28 | Z28: =CONCATENATE("'Auxiliar'!",Z$1,$U28) -> 'Auxiliar'!O28 | AA28: =CONCATENATE("'Auxiliar'!",AA$1,$U28) -> 'Auxiliar'!P28 | AB28: =CONCATENATE("'Auxiliar'!",AB$1,$U28) -> 'Auxiliar'!Q28
L29: PORTUGUESA | M29: =SUMIF($A$1:$A$24,L29,$F$1:$F$24)+SUMIF($C$1:$C$24,L29,$I$1:$I$24) -> 0 | N29: =SUMIF($A$1:$A$24,L29,$G$1:$G$24)+SUMIF($C$1:$C$24,L29,$J$1:$J$24) -> 0 | O29: =SUMIF($A$1:$A$24,L29,$H$1:$H$24)+SUMIF($C$1:$C$24,L29,$K$1:$K$24) -> 2 | P29: =SUMIF('Tab Prim Fase'!$M$1:$M$31,L29,'Tab Prim Fase'!$N$1:$N$31)+SUMIF('Tab Prim Fase'!$Q$1:$Q$31,L29,'Tab Prim Fase'!$P$1:$P$31) -> 0 | Q29: =SUMIF('Tab Prim Fase'!$M$1:$M$31,L29,'Tab Prim Fase'!$P$1:$P$31)+SUMIF('Tab Prim Fase'!$Q$1:$Q$31,L29,'Tab Prim Fase'!$N$1:$N$31) -> 6 | R29: =(1000000*((3*M29)+N29))+(10000*M29)+(100*(P29-Q29))+P29+(0.001*(30-T29)) -> -599.973 | S29: =RANK(R29,$R$27:$R$29) -> 3 | T29: 3 | U29: =IF($S$27=T29,27,0)+IF($S$28=T29,28,0)+IF($S$29=T29,29,0)+IF($S$30=T29,30,0) -> 29 | W29: =CONCATENATE("'Auxiliar'!",W$1,$U29) -> 'Auxiliar'!L29 | X29: =CONCATENATE("'Auxiliar'!",X$1,$U29) -> 'Auxiliar'!M29 | Y29: =CONCATENATE("'Auxiliar'!",Y$1,$U29) -> 'Auxiliar'!N29 | Z29: =CONCATENATE("'Auxiliar'!",Z$1,$U29) -> 'Auxiliar'!O29 | AA29: =CONCATENATE("'Auxiliar'!",AA$1,$U29) -> 'Auxiliar'!P29 | AB29: =CONCATENATE("'Auxiliar'!",AB$1,$U29) -> 'Auxiliar'!Q29
L32: ATLÉTICO-PR | M32: =SUMIF($A$1:$A$24,L32,$F$1:$F$24)+SUMIF($C$1:$C$24,L32,$I$1:$I$24) -> 1 | N32: =SUMIF($A$1:$A$24,L32,$G$1:$G$24)+SUMIF($C$1:$C$24,L32,$J$1:$J$24) -> 1 | O32: =SUMIF($A$1:$A$24,L32,$H$1:$H$24)+SUMIF($C$1:$C$24,L32,$K$1:$K$24) -> 0 | P32: =SUMIF('Tab Prim Fase'!$M$1:$M$31,L32,'Tab Prim Fase'!$N$1:$N$31)+SUMIF('Tab Prim Fase'!$Q$1:$Q$31,L32,'Tab Prim Fase'!$P$1:$P$31) -> 1 | Q32: =SUMIF('Tab Prim Fase'!$M$1:$M$31,L32,'Tab Prim Fase'!$P$1:$P$31)+SUMIF('Tab Prim Fase'!$Q$1:$Q$31,L32,'Tab Prim Fase'!$N$1:$N$31) -> 0 | R32: =(1000000*((3*M32)+N32))+(10000*M32)+(100*(P32-Q32))+P32+(0.001*(30-T32)) -> 4010101 | S32: =RANK(R32,$R$32:$R$34) -> 1 | T32: 1 | U32: =IF($S$32=T32,32,0)+IF($S$33=T32,33,0)+IF($S$34=T32,34,0)+IF($S$35=T32,35,0) -> 32 | W32: =CONCATENATE("'Auxiliar'!",W$1,$U32) -> 'Auxiliar'!L32 | X32: =CONCATENATE("'Auxiliar'!",X$1,$U32) -> 'Auxiliar'!M32 | Y32: =CONCATENATE("'Auxiliar'!",Y$1,$U32) -> 'Auxiliar'!N32 | Z32: =CONCATENATE("'Auxiliar'!",Z$1,$U32) -> 'Auxiliar'!O32 | AA32: =CONCATENATE("'Auxiliar'!",AA$1,$U32) -> 'Auxiliar'!P32 | AB32: =CONCATENATE("'Auxiliar'!",AB$1,$U32) -> 'Auxiliar'!Q32
L33: FLAMENGO | M33: =SUMIF($A$1:$A$24,L33,$F$1:$F$24)+SUMIF($C$1:$C$24,L33,$I$1:$I$24) -> 0 | N33: =SUMIF($A$1:$A$24,L33,$G$1:$G$24)+SUMIF($C$1:$C$24,L33,$J$1:$J$24) -> 2 | O33: =SUMIF($A$1:$A$24,L33,$H$1:$H$24)+SUMIF($C$1:$C$24,L33,$K$1:$K$24) -> 0 | P33: =SUMIF('Tab Prim Fase'!$M$1:$M$31,L33,'Tab Prim Fase'!$N$1:$N$31)+SUMIF('Tab Prim Fase'!$Q$1:$Q$31,L33,'Tab Prim Fase'!$P$1:$P$31) -> 0 | Q33: =SUMIF('Tab Prim Fase'!$M$1:$M$31,L33,'Tab Prim Fase'!$P$1:$P$31)+SUMIF('Tab Prim Fase'!$Q$1:$Q$31,L33,'Tab Prim Fase'!$N$1:$N$31) -> 0 | R33: =(1000000*((3*M33)+N33))+(10000*M33)+(100*(P33-Q33))+P33+(0.001*(30-T33)) -> 2000000 | S33: =RANK(R33,$R$32:$R$34) -> 2 | T33: 2 | U33: =IF($S$32=T33,32,0)+IF($S$33=T33,33,0)+IF($S$34=T33,34,0)+IF($S$35=T33,35,0) -> 33 | W33: =CONCATENATE("'Auxiliar'!",W$1,$U33) -> 'Auxiliar'!L33 | X33: =CONCATENATE("'Auxiliar'!",X$1,$U33) -> 'Auxiliar'!M33 | Y33: =CONCATENATE("'Auxiliar'!",Y$1,$U33) -> 'Auxiliar'!N33 | Z33: =CONCATENATE("'Auxiliar'!",Z$1,$U33) -> 'Auxiliar'!O33 | AA33: =CONCATENATE("'Auxiliar'!",AA$1,$U33) -> 'Auxiliar'!P33 | AB33: =CONCATENATE("'Auxiliar'!",AB$1,$U33) -> 'Auxiliar'!Q33
L34: SAMPAIO CORRÊA | M34: =SUMIF($A$1:$A$24,L34,$F$1:$F$24)+SUMIF($C$1:$C$24,L34,$I$1:$I$24) -> 0 | N34: =SUMIF($A$1:$A$24,L34,$G$1:$G$24)+SUMIF($C$1:$C$24,L34,$J$1:$J$24) -> 1 | O34: =SUMIF($A$1:$A$24,L34,$H$1:$H$24)+SUMIF($C$1:$C$24,L34,$K$1:$K$24) -> 1 | P34: =SUMIF('Tab Prim Fase'!$M$1:$M$31,L34,'Tab Prim Fase'!$N$1:$N$31)+SUMIF('Tab Prim Fase'!$Q$1:$Q$31,L34,'Tab Prim Fase'!$P$1:$P$31) -> 0 | Q34: =SUMIF('Tab Prim Fase'!$M$1:$M$31,L34,'Tab Prim Fase'!$P$1:$P$31)+SUMIF('Tab Prim Fase'!$Q$1:$Q$31,L34,'Tab Prim Fase'!$N$1:$N$31) -> 1 | R34: =(1000000*((3*M34)+N34))+(10000*M34)+(100*(P34-Q34))+P34+(0.001*(30-T34)) -> 999900.03 | S34: =RANK(R34,$R$32:$R$34) -> 3 | T34: 3 | U34: =IF($S$32=T34,32,0)+IF($S$33=T34,33,0)+IF($S$34=T34,34,0)+IF($S$35=T34,35,0) -> 34 | W34: =CONCATENATE("'Auxiliar'!",W$1,$U34) -> 'Auxiliar'!L34 | X34: =CONCATENATE("'Auxiliar'!",X$1,$U34) -> 'Auxiliar'!M34 | Y34: =CONCATENATE("'Auxiliar'!",Y$1,$U34) -> 'Auxiliar'!N34 | Z34: =CONCATENATE("'Auxiliar'!",Z$1,$U34) -> 'Auxiliar'!O34 | AA34: =CONCATENATE("'Auxiliar'!",AA$1,$U34) -> 'Auxiliar'!P34 | AB34: =CONCATENATE("'Auxiliar'!",AB$1,$U34) -> 'Auxiliar'!Q34
C36: Preencher com os
C37: nomes dos times | L37: FLUMINENSE | M37: =SUMIF($A$1:$A$24,L37,$F$1:$F$24)+SUMIF($C$1:$C$24,L37,$I$1:$I$24) -> 0 | N37: =SUMIF($A$1:$A$24,L37,$G$1:$G$24)+SUMIF($C$1:$C$24,L37,$J$1:$J$24) -> 0 | O37: =SUMIF($A$1:$A$24,L37,$H$1:$H$24)+SUMIF($C$1:$C$24,L37,$K$1:$K$24) -> 2 | P37: =SUMIF('Tab Prim Fase'!$M$1:$M$31,L37,'Tab Prim Fase'!$N$1:$N$31)+SUMIF('Tab Prim Fase'!$Q$1:$Q$31,L37,'Tab Prim Fase'!$P$1:$P$31) -> 1 | Q37: =SUMIF('Tab Prim Fase'!$M$1:$M$31,L37,'Tab Prim Fase'!$P$1:$P$31)+SUMIF('Tab Prim Fase'!$Q$1:$Q$31,L37,'Tab Prim Fase'!$N$1:$N$31) -> 5 | R37: =(1000000*((3*M37)+N37))+(10000*M37)+(100*(P37-Q37))+P37+(0.001*(30-T37)) -> -398.971 | S37: =RANK(R37,$R$37:$R$39) -> 3 | T37: 1 | U37: =IF($S$37=T37,37,0)+IF($S$38=T37,38,0)+IF($S$39=T37,39,0)+IF($S$40=T37,40,0) -> 39 | W37: =CONCATENATE("'Auxiliar'!",W$1,$U37) -> 'Auxiliar'!L39 | X37: =CONCATENATE("'Auxiliar'!",X$1,$U37) -> 'Auxiliar'!M39 | Y37: =CONCATENATE("'Auxiliar'!",Y$1,$U37) -> 'Auxiliar'!N39 | Z37: =CONCATENATE("'Auxiliar'!",Z$1,$U37) -> 'Auxiliar'!O39 | AA37: =CONCATENATE("'Auxiliar'!",AA$1,$U37) -> 'Auxiliar'!P39 | AB37: =CONCATENATE("'Auxiliar'!",AB$1,$U37) -> 'Auxiliar'!Q39
C38: conforme técnicos coluna A | L38: ATLÉTICO-MG | M38: =SUMIF($A$1:$A$24,L38,$F$1:$F$24)+SUMIF($C$1:$C$24,L38,$I$1:$I$24) -> 1 | N38: =SUMIF($A$1:$A$24,L38,$G$1:$G$24)+SUMIF($C$1:$C$24,L38,$J$1:$J$24) -> 0 | O38: =SUMIF($A$1:$A$24,L38,$H$1:$H$24)+SUMIF($C$1:$C$24,L38,$K$1:$K$24) -> 1 | P38: =SUMIF('Tab Prim Fase'!$M$1:$M$31,L38,'Tab Prim Fase'!$N$1:$N$31)+SUMIF('Tab Prim Fase'!$Q$1:$Q$31,L38,'Tab Prim Fase'!$P$1:$P$31) -> 4 | Q38: =SUMIF('Tab Prim Fase'!$M$1:$M$31,L38,'Tab Prim Fase'!$P$1:$P$31)+SUMIF('Tab Prim Fase'!$Q$1:$Q$31,L38,'Tab Prim Fase'!$N$1:$N$31) -> 2 | R38: =(1000000*((3*M38)+N38))+(10000*M38)+(100*(P38-Q38))+P38+(0.001*(30-T38)) -> 3010204 | S38: =RANK(R38,$R$37:$R$39) -> 2 | T38: 2 | U38: =IF($S$37=T38,37,0)+IF($S$38=T38,38,0)+IF($S$39=T38,39,0)+IF($S$40=T38,40,0) -> 38 | W38: =CONCATENATE("'Auxiliar'!",W$1,$U38) -> 'Auxiliar'!L38 | X38: =CONCATENATE("'Auxiliar'!",X$1,$U38) -> 'Auxiliar'!M38 | Y38: =CONCATENATE("'Auxiliar'!",Y$1,$U38) -> 'Auxiliar'!N38 | Z38: =CONCATENATE("'Auxiliar'!",Z$1,$U38) -> 'Auxiliar'!O38 | AA38: =CONCATENATE("'Auxiliar'!",AA$1,$U38) -> 'Auxiliar'!P38 | AB38: =CONCATENATE("'Auxiliar'!",AB$1,$U38) -> 'Auxiliar'!Q38
C39: ↓↓↓ | L39: BOTAFOGO | M39: =SUMIF($A$1:$A$24,L39,$F$1:$F$24)+SUMIF($C$1:$C$24,L39,$I$1:$I$24) -> 2 | N39: =SUMIF($A$1:$A$24,L39,$G$1:$G$24)+SUMIF($C$1:$C$24,L39,$J$1:$J$24) -> 0 | O39: =SUMIF($A$1:$A$24,L39,$H$1:$H$24)+SUMIF($C$1:$C$24,L39,$K$1:$K$24) -> 0 | P39: =SUMIF('Tab Prim Fase'!$M$1:$M$31,L39,'Tab Prim Fase'!$N$1:$N$31)+SUMIF('Tab Prim Fase'!$Q$1:$Q$31,L39,'Tab Prim Fase'!$P$1:$P$31) -> 2 | Q39: =SUMIF('Tab Prim Fase'!$M$1:$M$31,L39,'Tab Prim Fase'!$P$1:$P$31)+SUMIF('Tab Prim Fase'!$Q$1:$Q$31,L39,'Tab Prim Fase'!$N$1:$N$31) -> 0 | R39: =(1000000*((3*M39)+N39))+(10000*M39)+(100*(P39-Q39))+P39+(0.001*(30-T39)) -> 6020202 | S39: =RANK(R39,$R$37:$R$39) -> 1 | T39: 3 | U39: =IF($S$37=T39,37,0)+IF($S$38=T39,38,0)+IF($S$39=T39,39,0)+IF($S$40=T39,40,0) -> 37 | W39: =CONCATENATE("'Auxiliar'!",W$1,$U39) -> 'Auxiliar'!L37 | X39: =CONCATENATE("'Auxiliar'!",X$1,$U39) -> 'Auxiliar'!M37 | Y39: =CONCATENATE("'Auxiliar'!",Y$1,$U39) -> 'Auxiliar'!N37 | Z39: =CONCATENATE("'Auxiliar'!",Z$1,$U39) -> 'Auxiliar'!O37 | AA39: =CONCATENATE("'Auxiliar'!",AA$1,$U39) -> 'Auxiliar'!P37 | AB39: =CONCATENATE("'Auxiliar'!",AB$1,$U39) -> 'Auxiliar'!Q37
A41: TÉCNICOS | B41: ↔ | C41: TIMES | L41: Times
A42: PAULO CÉSAR | B42: 1 | C42: 1 | L42: =C42 -> 1
A43: LÉO | B43: 2 | C43: 2 | L43: =C43 -> 2
A44: LUIZ CLAUDIO | B44: 3 | C44: 3 | L44: =C44 -> 3
A45: MAGNO | B45: 4 | C45: 4 | L45: =C45 -> 4
A46: PIMENTEL | B46: 5 | C46: 5 | L46: =C46 -> 5
A47: AMAURI | B47: 6 | C47: 6 | L47: =C47 -> 6
A48: ALCIDES | B48: 7 | C48: 7 | L48: =C48 -> 7
A49: MALCHER | B49: 8 | C49: 8 | L49: =C49 -> 8
A50: MARCELO SILVA | B50: 9 | C50: 9 | L50: =C50 -> 9
A51: CARUSO | B51: 10 | C51: 10 | L51: =C51 -> 10
A52: PAULÃO | B52: 11 | C52: 11 | L52: =C52 -> 11
A53: WILLIAM | B53: 12 | C53: 12 | L53: =C53 -> 12
... A65: JOSÉ RICARDO | B65: 24 | C65: 24 | L65: =C65 -> 24

Sheet Tab Prim Fase
A1: FEDERAÇÃO DE FUTEBOL DE MESA DE BRASÍLIA
A2: BRASILEIRÃO 2023
A3: PRIMEIRA FASE
A5: DATA: | B5: 11.03.2023
A7: R/H | B7: M | C7: ARTILHEIROS | N7: JOGOS | R7: ARTILHEIROS | AB7: ÁRBITROS
A8: 1ª - 09:00 | B8: 3 | C8: 5 | M8: =Auxiliar!$L$4 -> SÃO PAULO | N8: =IF(C8="","",IF(C8=0,0,COUNT(C8:L8))) -> 1 | O8: x | P8: =IF(R8="","",IF(R8=0,0,COUNT(R8:AA8))) -> 2 | Q8: =Auxiliar!$L$2 -> CRUZEIRO | R8: 7 | S8: 4 | AB8: RODRIGO
B9: 4 | C9: 0 | M9: =Auxiliar!$L$9 -> GRÊMIO | N9: =IF(C9="","",IF(C9=0,0,COUNT(C9:L9))) -> 0 | O9: x | P9: =IF(R9="","",IF(R9=0,0,COUNT(R9:AA9))) -> 1 | Q9: =Auxiliar!$L$7 -> R. B. BRAGANTINO | R9: 9 | AB9: M. FERREIRA
B10: 5 | C10: 0 | M10: =Auxiliar!$L$14 -> VASCO DA GAMA | N10: =IF(C10="","",IF(C10=0,0,COUNT(C10:L10))) -> 0 | O10: x | P10: =IF(R10="","",IF(R10=0,0,COUNT(R10:AA10))) -> 1 | Q10: =Auxiliar!$L$12 -> MIRASSOL | R10: 13 | AB10: SIMPLÍCIO
B11: 6 | C11: 0 | M11: =Auxiliar!$L$19 -> AVAÍ | N11: =IF(C11="","",IF(C11=0,0,COUNT(C11:L11))) -> 0 | O11: x | P11: =IF(R11="","",IF(R11=0,0,COUNT(R11:AA11))) -> 1 | Q11: =Auxiliar!$L$17 -> SANTOS | R11: 17 | AB11: MALCHER
B12: 7 | C12: 0 | M12: =Auxiliar!$L$24 -> PAYSANDU | N12: =IF(C12="","",IF(C12=0,0,COUNT(C12:L12))) -> 0 | O12: x | P12: =IF(R12="","",IF(R12=0,0,COUNT(R12:AA12))) -> 1 | Q12: =Auxiliar!$L$22 -> JUVENTUS | R12: 8 | AB12: PAULÃO
B13: 8 | C13: 0 | M13: =Auxiliar!$L$29 -> PORTUGUESA | N13: =IF(C13="","",IF(C13=0,0,COUNT(C13:L13))) -> 0 | O13: x | P13: =IF(R13="","",IF(R13=0,0,COUNT(R13:AA13))) -> 3 | Q13: =Auxiliar!$L$27 -> PALMEIRAS | R13: 9 | S13: 5 | T13: 8 | AB13: LÉO
B14: 11 | C14: 0 | M14: =Auxiliar!$L$34 -> SAMPAIO CORRÊA | N14: =IF(C14="","",IF(C14=0,0,COUNT(C14:L14))) -> 0 | O14: x | P14: =IF(R14="","",IF(R14=0,0,COUNT(R14:AA14))) -> 1 | Q14: =Auxiliar!$L$32 -> ATLÉTICO-PR | R14: 9 | AB14: PIMENTEL
B15: 12 | C15: 11 | M15: =Auxiliar!$L$39 -> BOTAFOGO | N15: =IF(C15="","",IF(C15=0,0,COUNT(C15:L15))) -> 1 | O15: x | P15: =IF(R15="","",IF(R15=0,0,COUNT(R15:AA15))) -> 0 | Q15: =Auxiliar!$L$37 -> FLUMINENSE | R15: 0 | AB15: JEAN
A16: 2ª - 10:00 | B16: 3 | C16: 0 | M16: =Auxiliar!$L$38 -> ATLÉTICO-MG | N16: =IF(C16="","",IF(C16=0,0,COUNT(C16:L16))) -> 0 | O16: x | P16: =IF(R16="","",IF(R16=0,0,COUNT(R16:AA16))) -> 1 | Q16: =Auxiliar!$L$39 -> BOTAFOGO | R16: 9 | AB16: P. CÉSAR
B17: 4 | C17: 0 | M17: =Auxiliar!$L$3 -> INTERNACIONAL | N17: =IF(C17="","",IF(C17=0,0,COUNT(C17:L17))) -> 0 | O17: x | P17: =IF(R17="","",IF(R17=0,0,COUNT(R17:AA17))) -> 4 | Q17: =Auxiliar!$L$4 -> SÃO PAULO | R17: 11 | S17: 9 | T17: 9 | U17: 2 | AB17: MAGNO
B18: 5 | C18: 8 | D18: 2 | M18: =Auxiliar!$L$8 -> PONTE PRETA | N18: =IF(C18="","",IF(C18=0,0,COUNT(C18:L18))) -> 2 | O18: x | P18: =IF(R18="","",IF(R18=0,0,COUNT(R18:AA18))) -> 0 | Q18: =Auxiliar!$L$9 -> GRÊMIO | R18: 0 | AB18: ALCIDES
B19: 6 | C19: 0 | M19: =Auxiliar!$L$13 -> AMÉRICA-MG | N19: =IF(C19="","",IF(C19=0,0,COUNT(C19:L19))) -> 0 | O19: x | P19: =IF(R19="","",IF(R19=0,0,COUNT(R19:AA19))) -> 1 | Q19: =Auxiliar!$L$14 -> VASCO DA GAMA | R19: 8 | AB19: CARUSO
B20: 7 | C20: 11 | M20: =Auxiliar!$L$18 -> SPORT RECIFE | N20: =IF(C20="","",IF(C20=0,0,COUNT(C20:L20))) -> 1 | O20: x | P20: =IF(R20="","",IF(R20=0,0,COUNT(R20:AA20))) -> 0 | Q20: =Auxiliar!$L$19 -> AVAÍ | R20: 0 | AB20: DIGÃO
B21: 8 | C21: 0 | M21: =Auxiliar!$L$23 -> NÁUTICO | N21: =IF(C21="","",IF(C21=0,0,COUNT(C21:L21))) -> 0 | O21: x | P21: =IF(R21="","",IF(R21=0,0,COUNT(R21:AA21))) -> 1 | Q21: =Auxiliar!$L$24 -> PAYSANDU | R21: 9 | AB21: A. CARLOS
B22: 11 | C22: 6 | D22: 5 | E22: 5 | L22: ft | M22: =Auxiliar!$L$28 -> BAHIA | N22: =IF(C22="","",IF(C22=0,0,COUNT(C22:L22))) -> 3 | O22: x | P22: =IF(R22="","",IF(R22=0,0,COUNT(R22:AA22))) -> 0 | Q22: =Auxiliar!$L$29 -> PORTUGUESA | R22: 0 | AB22: ADOLPHO
B23: 12 | C23: 0 | M23: =Auxiliar!$L$33 -> FLAMENGO | N23: =IF(C23="","",IF(C23=0,0,COUNT(C23:L23))) -> 0 | O23: x | P23: =IF(R23="","",IF(R23=0,0,COUNT(R23:AA23))) -> 0 | Q23: =Auxiliar!$L$34 -> SAMPAIO CORRÊA | R23: 0 | AB23: M. PORTO
A24: 3ª - 11:00 | B24: 3 | C24: 0 | M24: =Auxiliar!$L$32 -> ATLÉTICO-PR | N24: =IF(C24="","",IF(C24=0,0,COUNT(C24:L24))) -> 0 | O24: x | P24: =IF(R24="","",IF(R24=0,0,COUNT(R24:AA24))) -> 0 | Q24: =Auxiliar!$L$33 -> FLAMENGO | R24: 0 | AB24: MARCELO SILVA
B25: 4 | C25: 19 | M25: =Auxiliar!$L$37 -> FLUMINENSE | N25: =IF(C25="","",IF(C25=0,0,COUNT(C25:L25))) -> 1 | O25: x | P25: =IF(R25="","",IF(R25=0,0,COUNT(R25:AA25))) -> 4 | Q25: =Auxiliar!$L$38 -> ATLÉTICO-MG | R25: 10 | S25: 11 | T25: 8 | U25: 7 | AB25: LUIZ GOMES
B26: 5 | C26: 11 | D26: 8 | E26: 8 | M26: =Auxiliar!$L$2 -> CRUZEIRO | N26: =IF(C26="","",IF(C26=0,0,COUNT(C26:L26))) -> 3 | O26: x | P26: =IF(R26="","",IF(R26=0,0,COUNT(R26:AA26))) -> 0 | Q26: =Auxiliar!$L$3 -> INTERNACIONAL | R26: 0 | AB26: JOSÉ RICARDO
B27: 6 | C27: 9 | M27: =Auxiliar!$L$7 -> R. B. BRAGANTINO | N27: =IF(C27="","",IF(C27=0,0,COUNT(C27:L27))) -> 1 | O27: x | P27: =IF(R27="","",IF(R27=0,0,COUNT(R27:AA27))) -> 1 | Q27: =Auxiliar!$L$8 -> PONTE PRETA | R27: 6 | AB27: LUIZ CLAUDIO
B28: 7 | C28: 9 | D28: 11 | E28: 9 | F28: 3 | M28: =Auxiliar!$L$12 -> MIRASSOL | N28: =IF(C28="","",IF(C28=0,0,COUNT(C28:L28))) -> 4 | O28: x | P28: =IF(R28="","",IF(R28=0,0,COUNT(R28:AA28))) -> 0 | Q28: =Auxiliar!$L$13 -> AMÉRICA-MG | R28: 0 | AA28: ft | AB28: AMAURI
B29: 8 | C29: 4 | D29: 8 | M29: =Auxiliar!$L$17 -> SANTOS | N29: =IF(C29="","",IF(C29=0,0,COUNT(C29:L29))) -> 2 | O29: x | P29: =IF(R29="","",IF(R29=0,0,COUNT(R29:AA29))) -> 0 | Q29: =Auxiliar!$L$18 -> SPORT RECIFE | R29: 0 | AB29: FARNEZE
B30: 11 | C30: 0 | M30: =Auxiliar!$L$22 -> JUVENTUS | N30: =IF(C30="","",IF(C30=0,0,COUNT(C30:L30))) -> 0 | O30: x | P30: =IF(R30="","",IF(R30=0,0,COUNT(R30:AA30))) -> 0 | Q30: =Auxiliar!$L$23 -> NÁUTICO | R30: 0 | AB30: WILLIAM
B31: 12 | C31: 6 | M31: =Auxiliar!$L$27 -> PALMEIRAS | N31: =IF(C31="","",IF(C31=0,0,COUNT(C31:L31))) -> 1 | O31: x | P31: =IF(R31="","",IF(R31=0,0,COUNT(R31:AA31))) -> 0 | Q31: =Auxiliar!$L$28 -> BAHIA | R31: 0 | AB31: MARQUINHOS

Sheet Classif da Prim Fase
A1: FEDERAÇÃO DE FUTEBOL DE MESA DE BRASÍLIA
A2: ='Tab Prim Fase'!A2:AB2 -> BRASILEIRÃO 2023
A3: CLASSIFICAÇÃO - PRIMEIRA FASE
A5: GRUPO | B5: CF | C5: CLUBES | D5: J | E5: V | F5: E | G5: D | H5: GF | I5: GC | J5: SG | K5: PG | L5: Aprov.
A6: A | B6: 1º | C6: =INDIRECT(Auxiliar!W2) -> CRUZEIRO | D6: =E6+F6+G6 -> 2 | E6: =INDIRECT(Auxiliar!X2) -> 2 | F6: =INDIRECT(Auxiliar!Y2) -> 0 | G6: =INDIRECT(Auxiliar!Z2) -> 0 | H6: =INDIRECT(Auxiliar!AA2) -> 5 | I6: =INDIRECT(Auxiliar!AB2) -> 1 | J6: =H6-I6 -> 4 | K6: =(3*E6)+F6 -> 6 | L6: =IF(ISERR((K6/(D6*3))),0,((K6/(D6*3)))) -> 1
B7: 2º | C7: =INDIRECT(Auxiliar!W3) -> SÃO PAULO | D7: =E7+F7+G7 -> 2 | E7: =INDIRECT(Auxiliar!X3) -> 1 | F7: =INDIRECT(Auxiliar!Y3) -> 0 | G7: =INDIRECT(Auxiliar!Z3) -> 1 | H7: =INDIRECT(Auxiliar!AA3) -> 5 | I7: =INDIRECT(Auxiliar!AB3) -> 2 | J7: =H7-I7 -> 3 | K7: =(3*E7)+F7 -> 3 | L7: =IF(ISERR((K7/(D7*3))),0,((K7/(D7*3)))) -> 0.5
B8: 3º | C8: =INDIRECT(Auxiliar!W4) -> INTERNACIONAL | D8: =E8+F8+G8 -> 2 | E8: =INDIRECT(Auxiliar!X4) -> 0 | F8: =INDIRECT(Auxiliar!Y4) -> 0 | G8: =INDIRECT(Auxiliar!Z4) -> 2 | H8: =INDIRECT(Auxiliar!AA4) -> 0 | I8: =INDIRECT(Auxiliar!AB4) -> 7 | J8: =H8-I8 -> -7 | K8: =(3*E8)+F8 -> 0 | L8: =IF(ISERR((K8/(D8*3))),0,((K8/(D8*3)))) -> 0
A10: GRUPO | B10: CF | C10: CLUBES | D10: J | E10: V | F10: E | G10: D | H10: GF | I10: GC | J10: SG | K10: PG | L10: Aprov.
A11: B | B11: 1º | C11: =INDIRECT(Auxiliar!W7) -> PONTE PRETA | D11: =E11+F11+G11 -> 2 | E11: =INDIRECT(Auxiliar!X7) -> 1 | F11: =INDIRECT(Auxiliar!Y7) -> 1 | G11: =INDIRECT(Auxiliar!Z7) -> 0 | H11: =INDIRECT(Auxiliar!AA7) -> 3 | I11: =INDIRECT(Auxiliar!AB7) -> 1 | J11: =H11-I11 -> 2 | K11: =(3*E11)+F11 -> 4 | L11: =IF(ISERR((K11/(D11*3))),0,((K11/(D11*3)))) -> 0.66666667
B12: 2º | C12: =INDIRECT(Auxiliar!W8) -> R. B. BRAGANTINO | D12: =E12+F12+G12 -> 2 | E12: =INDIRECT(Auxiliar!X8) -> 1 | F12: =INDIRECT(Auxiliar!Y8) -> 1 | G12: =INDIRECT(Auxiliar!Z8) -> 0 | H12: =INDIRECT(Auxiliar!AA8) -> 2 | I12: =INDIRECT(Auxiliar!AB8) -> 1 | J12: =H12-I12 -> 1 | K12: =(3*E12)+F12 -> 4 | L12: =IF(ISERR((K12/(D12*3))),0,((K12/(D12*3)))) -> 0.66666667
B13: 3º | C13: =INDIRECT(Auxiliar!W9) -> GRÊMIO | D13: =E13+F13+G13 -> 2 | E13: =INDIRECT(Auxiliar!X9) -> 0 | F13: =INDIRECT(Auxiliar!Y9) -> 0 | G13: =INDIRECT(Auxiliar!Z9) -> 2 | H13: =INDIRECT(Auxiliar!AA9) -> 0 | I13: =INDIRECT(Auxiliar!AB9) -> 3 | J13: =H13-I13 -> -3 | K13: =(3*E13)+F13 -> 0 | L13: =IF(ISERR((K13/(D13*3))),0,((K13/(D13*3)))) -> 0
A15: GRUPO | B15: CF | C15: CLUBES | D15: J | E15: V | F15: E | G15: D | H15: GF | I15: GC | J15: SG | K15: PG | L15: Aprov.
A16: C | B16: 1º | C16: =INDIRECT(Auxiliar!W12) -> MIRASSOL | D16: =E16+F16+G16 -> 2 | E16: =INDIRECT(Auxiliar!X12) -> 2 | F16: =INDIRECT(Auxiliar!Y12) -> 0 | G16: =INDIRECT(Auxiliar!Z12) -> 0 | H16: =INDIRECT(Auxiliar!AA12) -> 5 | I16: =INDIRECT(Auxiliar!AB12) -> 0 | J16: =H16-I16 -> 5 | K16: =(3*E16)+F16 -> 6 | L16: =IF(ISERR((K16/(D16*3))),0,((K16/(D16*3)))) -> 1
B17: 2º | C17: =INDIRECT(Auxiliar!W13) -> VASCO DA GAMA | D17: =E17+F17+G17 -> 2 | E17: =INDIRECT(Auxiliar!X13) -> 1 | F17: =INDIRECT(Auxiliar!Y13) -> 0 | G17: =INDIRECT(Auxiliar!Z13) -> 1 | H17: =INDIRECT(Auxiliar!AA13) -> 1 | I17: =INDIRECT(Auxiliar!AB13) -> 1 | J17: =H17-I17 -> 0 | K17: =(3*E17)+F17 -> 3 | L17: =IF(ISERR((K17/(D17*3))),0,((K17/(D17*3)))) -> 0.5
B18: 3º | C18: =INDIRECT(Auxiliar!W14) -> AMÉRICA-MG | D18: =E18+F18+G18 -> 2 | E18: =INDIRECT(Auxiliar!X14) -> 0 | F18: =INDIRECT(Auxiliar!Y14) -> 0 | G18: =INDIRECT(Auxiliar!Z14) -> 2 | H18: =INDIRECT(Auxiliar!AA14) -> 0 | I18: =INDIRECT(Auxiliar!AB14) -> 5 | J18: =H18-I18 -> -5 | K18: =(3*E18)+F18 -> 0 | L18: =IF(ISERR((K18/(D18*3))),0,((K18/(D18*3)))) -> 0
A20: GRUPO | B20: CF | C20: CLUBES | D20: J | E20: V | F20: E | G20: D | H20: GF | I20: GC | J20: SG | K20: PG | L20: Aprov.
A21: D | B21: 1º | C21: =INDIRECT(Auxiliar!W17) -> SANTOS | D21: =E21+F21+G21 -> 2 | E21: =INDIRECT(Auxiliar!X17) -> 2 | F21: =INDIRECT(Auxiliar!Y17) -> 0 | G21: =INDIRECT(Auxiliar!Z17) -> 0 | H21: =INDIRECT(Auxiliar!AA17) -> 3 | I21: =INDIRECT(Auxiliar!AB17) -> 0 | J21: =H21-I21 -> 3 | K21: =(3*E21)+F21 -> 6 | L21: =IF(ISERR((K21/(D21*3))),0,((K21/(D21*3)))) -> 1
B22: 2º | C22: =INDIRECT(Auxiliar!W18) -> SPORT RECIFE | D22: =E22+F22+G22 -> 2 | E22: =INDIRECT(Auxiliar!X18) -> 1 | F22: =INDIRECT(Auxiliar!Y18) -> 0 | G22: =INDIRECT(Auxiliar!Z18) -> 1 | H22: =INDIRECT(Auxiliar!AA18) -> 1 | I22: =INDIRECT(Auxiliar!AB18) -> 2 | J22: =H22-I22 -> -1 | K22: =(3*E22)+F22 -> 3 | L22: =IF(ISERR((K22/(D22*3))),0,((K22/(D22*3)))) -> 0.5
B23: 3º | C23: =INDIRECT(Auxiliar!W19) -> AVAÍ | D23: =E23+F23+G23 -> 2 | E23: =INDIRECT(Auxiliar!X19) -> 0 | F23: =INDIRECT(Auxiliar!Y19) -> 0 | G23: =INDIRECT(Auxiliar!Z19) -> 2 | H23: =INDIRECT(Auxiliar!AA19) -> 0 | I23: =INDIRECT(Auxiliar!AB19) -> 2 | J23: =H23-I23 -> -2 | K23: =(3*E23)+F23 -> 0 | L23: =IF(ISERR((K23/(D23*3))),0,((K23/(D23*3)))) -> 0
A25: GRUPO | B25: CF | C25: CLUBES | D25: J | E25: V | F25: E | G25: D | H25: GF | I25: GC | J25: SG | K25: PG | L25: Aprov.
A26: E | B26: 1º | C26: =INDIRECT(Auxiliar!W22) -> JUVENTUS | D26: =E26+F26+G26 -> 2 | E26: =INDIRECT(Auxiliar!X22) -> 1 | F26: =INDIRECT(Auxiliar!Y22) -> 1 | G26: =INDIRECT(Auxiliar!Z22) -> 0 | H26: =INDIRECT(Auxiliar!AA22) -> 1 | I26: =INDIRECT(Auxiliar!AB22) -> 0 | J26: =H26-I26 -> 1 | K26: =(3*E26)+F26 -> 4 | L26: =IF(ISERR((K26/(D26*3))),0,((K26/(D26*3)))) -> 0.66666667
B27: 2º | C27: =INDIRECT(Auxiliar!W23) -> PAYSANDU | D27: =E27+F27+G27 -> 2 | E27: =INDIRECT(Auxiliar!X23) -> 1 | F27: =INDIRECT(Auxiliar!Y23) -> 0 | G27: =INDIRECT(Auxiliar!Z23) -> 1 | H27: =INDIRECT(Auxiliar!AA23) -> 1 | I27: =INDIRECT(Auxiliar!AB23) -> 1 | J27: =H27-I27 -> 0 | K27: =(3*E27)+F27 -> 3 | L27: =IF(ISERR((K27/(D27*3))),0,((K27/(D27*3)))) -> 0.5
B28: 3º | C28: =INDIRECT(Auxiliar!W24) -> NÁUTICO | D28: =E28+F28+G28 -> 2 | E28: =INDIRECT(Auxiliar!X24) -> 0 | F28: =INDIRECT(Auxiliar!Y24) -> 1 | G28: =INDIRECT(Auxiliar!Z24) -> 1 | H28: =INDIRECT(Auxiliar!AA24) -> 0 | I28: =INDIRECT(Auxiliar!AB24) -> 1 | J28: =H28-I28 -> -1 | K28: =(3*E28)+F28 -> 1 | L28: =IF(ISERR((K28/(D28*3))),0,((K28/(D28*3)))) -> 0.16666667
A30: GRUPO | B30: CF | C30: CLUBES | D30: J | E30: V | F30: E | G30: D | H30: GF | I30: GC | J30: SG | K30: PG | L30: Aprov.
A31: F | B31: 1º | C31: =INDIRECT(Auxiliar!W27) -> PALMEIRAS | D31: =E31+F31+G31 -> 2 | E31: =INDIRECT(Auxiliar!X27) -> 2 | F31: =INDIRECT(Auxiliar!Y27) -> 0 | G31: =INDIRECT(Auxiliar!Z27) -> 0 | H31: =INDIRECT(Auxiliar!AA27) -> 4 | I31: =INDIRECT(Auxiliar!AB27) -> 0 | J31: =H31-I31 -> 4 | K31: =(3*E31)+F31 -> 6 | L31: =IF(ISERR((K31/(D31*3))),0,((K31/(D31*3)))) -> 1
B32: 2º | C32: =INDIRECT(Auxiliar!W28) -> BAHIA | D32: =E32+F32+G32 -> 2 | E32: =INDIRECT(Auxiliar!X28) -> 1 | F32: =INDIRECT(Auxiliar!Y28) -> 0 | G32: =INDIRECT(Auxiliar!Z28) -> 1 | H32: =INDIRECT(Auxiliar!AA28) -> 3 | I32: =INDIRECT(Auxiliar!AB28) -> 1 | J32: =H32-I32 -> 2 | K32: =(3*E32)+F32 -> 3 | L32: =IF(ISERR((K32/(D32*3))),0,((K32/(D32*3)))) -> 0.5
B33: 3º | C33: =INDIRECT(Auxiliar!W29) -> PORTUGUESA | D33: =E33+F33+G33 -> 2 | E33: =INDIRECT(Auxiliar!X29) -> 0 | F33: =INDIRECT(Auxiliar!Y29) -> 0 | G33: =INDIRECT(Auxiliar!Z29) -> 2 | H33: =INDIRECT(Auxiliar!AA29) -> 0 | I33: =INDIRECT(Auxiliar!AB29) -> 6 | J33: =H33-I33 -> -6 | K33: =(3*E33)+F33 -> 0 | L33: =IF(ISERR((K33/(D33*3))),0,((K33/(D33*3)))) -> 0
A35: GRUPO | B35: CF | C35: CLUBES | D35: J | E35: V | F35: E | G35: D | H35: GF | I35: GC | J35: SG | K35: PG | L35: Aprov.
A36: G | B36: 1º | C36: =INDIRECT(Auxiliar!W32) -> ATLÉTICO-PR | D36: =E36+F36+G36 -> 2 | E36: =INDIRECT(Auxiliar!X32) -> 1 | F36: =INDIRECT(Auxiliar!Y32) -> 1 | G36: =INDIRECT(Auxiliar!Z32) -> 0 | H36: =INDIRECT(Auxiliar!AA32) -> 1 | I36: =INDIRECT(Auxiliar!AB32) -> 0 | J36: =H36-I36 -> 1 | K36: =(3*E36)+F36 -> 4 | L36: =IF(ISERR((K36/(D36*3))),0,((K36/(D36*3)))) -> 0.66666667
B37: 2º | C37: =INDIRECT(Auxiliar!W33) -> FLAMENGO | D37: =E37+F37+G37 -> 2 | E37: =INDIRECT(Auxiliar!X33) -> 0 | F37: =INDIRECT(Auxiliar!Y33) -> 2 | G37: =INDIRECT(Auxiliar!Z33) -> 0 | H37: =INDIRECT(Auxiliar!AA33) -> 0 | I37: =INDIRECT(Auxiliar!AB33) -> 0 | J37: =H37-I37 -> 0 | K37: =(3*E37)+F37 -> 2 | L37: =IF(ISERR((K37/(D37*3))),0,((K37/(D37*3)))) -> 0.33333333
B38: 3º | C38: =INDIRECT(Auxiliar!W34) -> SAMPAIO CORRÊA | D38: =E38+F38+G38 -> 2 | E38: =INDIRECT(Auxiliar!X34) -> 0 | F38: =INDIRECT(Auxiliar!Y34) -> 1 | G38: =INDIRECT(Auxiliar!Z34) -> 1 | H38: =INDIRECT(Auxiliar!AA34) -> 0 | I38: =INDIRECT(Auxiliar!AB34) -> 1 | J38: =H38-I38 -> -1 | K38: =(3*E38)+F38 -> 1 | L38: =IF(ISERR((K38/(D38*3))),0,((K38/(D38*3)))) -> 0.16666667
A40: GRUPO | B40: CF | C40: CLUBES | D40: J | E40: V | F40: E | G40: D | H40: GF | I40: GC | J40: SG | K40: PG | L40: Aprov.
A41: H | B41: 1º | C41: =INDIRECT(Auxiliar!W37) -> BOTAFOGO | D41: =E41+F41+G41 -> 2 | E41: =INDIRECT(Auxiliar!X37) -> 2 | F41: =INDIRECT(Auxiliar!Y37) -> 0 | G41: =INDIRECT(Auxiliar!Z37) -> 0 | H41: =INDIRECT(Auxiliar!AA37) -> 2 | I41: =INDIRECT(Auxiliar!AB37) -> 0 | J41: =H41-I41 -> 2 | K41: =(3*E41)+F41 -> 6 | L41: =IF(ISERR((K41/(D41*3))),0,((K41/(D41*3)))) -> 1
B42: 2º | C42: =INDIRECT(Auxiliar!W38) -> ATLÉTICO-MG | D42: =E42+F42+G42 -> 2 | E42: =INDIRECT(Auxiliar!X38) -> 1 | F42: =INDIRECT(Auxiliar!Y38) -> 0 | G42: =INDIRECT(Auxiliar!Z38) -> 1 | H42: =INDIRECT(Auxiliar!AA38) -> 4 | I42: =INDIRECT(Auxiliar!AB38) -> 2 | J42: =H42-I42 -> 2 | K42: =(3*E42)+F42 -> 3 | L42: =IF(ISERR((K42/(D42*3))),0,((K42/(D42*3)))) -> 0.5
B43: 3º | C43: =INDIRECT(Auxiliar!W39) -> FLUMINENSE | D43: =E43+F43+G43 -> 2 | E43: =INDIRECT(Auxiliar!X39) -> 0 | F43: =INDIRECT(Auxiliar!Y39) -> 0 | G43: =INDIRECT(Auxiliar!Z39) -> 2 | H43: =INDIRECT(Auxiliar!AA39) -> 1 | I43: =INDIRECT(Auxiliar!AB39) -> 5 | J43: =H43-I43 -> -4 | K43: =(3*E43)+F43 -> 0 | L43: =IF(ISERR((K43/(D43*3))),0,((K43/(D43*3)))) -> 0

Sheet Tabela Seg Fase
A1: FEDERAÇÃO DE FUTEBOL DE MESA DE BRASÍLIA
A2: ='Tab Prim Fase'!A2 -> BRASILEIRÃO 2023
A3: SEGUNDA FASE
A5: DATA: | B5: 11.03.2023
A7: R/H | B7: M | C7: ARTILHEIROS | N7: JOGOS | R7: ARTILHEIROS | AB7: ÁRBITROS | AC7: Grupo
A8: 4 - 13:00 | B8: 3 | C8: 5 | M8: MIRASSOL | N8: =IF(C8="","",IF(C8=0,0,COUNT(C8:L8))) -> 1 | O8: x | P8: =IF(R8="","",IF(R8=0,0,COUNT(R8:AA8))) -> 0 | Q8: FLAMENGO | R8: 0 | AB8: JEAN | AC8: 1
B9: 4 | C9: 3 | D9: 11 | M9: CRUZEIRO | N9: =IF(C9="","",IF(C9=0,0,COUNT(C9:L9))) -> 2 | O9: x | P9: =IF(R9="","",IF(R9=0,0,COUNT(R9:AA9))) -> 0 | Q9: SPORT RECIFE | R9: 0 | AB9: LUIZ GOMES | AC9: 2
B10: 5 | C10: 8 | D10: 11 | E10: 4 | F10: 5 | M10: PALMEIRAS | N10: =IF(C10="","",IF(C10=0,0,COUNT(C10:L10))) -> 4 | O10: x | P10: =IF(R10="","",IF(R10=0,0,COUNT(R10:AA10))) -> 0 | Q10: PAYSANDU | R10: 0 | AB10: WILLIAM | AC10: 3
B11: 6 | C11: 0 | M11: SANTOS | N11: =IF(C11="","",IF(C11=0,0,COUNT(C11:L11))) -> 0 | O11: x | P11: =IF(R11="","",IF(R11=0,0,COUNT(R11:AA11))) -> 0 | Q11: VASCO DA GAMA | R11: 0 | AB11: AMAURI | AC11: 4
B12: 7 | C12: 0 | M12: BOTAFOGO | N12: =IF(C12="","",IF(C12=0,0,COUNT(C12:L12))) -> 0 | O12: x | P12: =IF(R12="","",IF(R12=0,0,COUNT(R12:AA12))) -> 0 | Q12: BAHIA | R12: 0 | AB12: MARCELO PORTO | AC12: 5
B13: 8 | C13: 0 | M13: PONTE PRETA | N13: =IF(C13="","",IF(C13=0,0,COUNT(C13:L13))) -> 0 | O13: x | P13: =IF(R13="","",IF(R13=0,0,COUNT(R13:AA13))) -> 1 | Q13: ATLÉTICO-MG | R13: 10 | AB13: FARNEZE | AC13: 6
B14: 11 | C14: 8 | M14: R. B. BRAGANTINO | N14: =IF(C14="","",IF(C14=0,0,COUNT(C14:L14))) -> 1 | O14: x | P14: =IF(R14="","",IF(R14=0,0,COUNT(R14:AA14))) -> 1 | Q14: SÃO PAULO | R14: 11 | AB14: MALCHER | AC14: 7
B15: 12 | C15: 0 | M15: JUVENTUS | N15: =IF(C15="","",IF(C15=0,0,COUNT(C15:L15))) -> 0 | O15: x | P15: =IF(R15="","",IF(R15=0,0,COUNT(R15:AA15))) -> 1 | Q15: ATLÉTICO-PR | R15: 21 | AB15: LÉO | AC15: 8
A16: 5 - 14:00 | B16: 4 | C16: 7 | M16: MIRASSOL | N16: =IF(C16="","",IF(C16=0,0,COUNT(C16:L16))) -> 1 | O16: x | P16: =IF(R16="","",IF(R16=0,0,COUNT(R16:AA16))) -> 1 | Q16: ATLÉTICO-PR | R16: 2 | AB16: M. FERREIRA | AC16: 9
B17: 3 | C17: 5 | M17: CRUZEIRO | N17: =IF(C17="","",IF(C17=0,0,COUNT(C17:L17))) -> 1 | O17: x | P17: =IF(R17="","",IF(R17=0,0,COUNT(R17:AA17))) -> 1 | Q17: R. B. BRAGANTINO | R17: 6 | AB17: PAULÃO | AC17: 10
B18: 6 | C18: 0 | M18: PALMEIRAS | N18: =IF(C18="","",IF(C18=0,0,COUNT(C18:L18))) -> 0 | O18: x | P18: =IF(R18="","",IF(R18=0,0,COUNT(R18:AA18))) -> 1 | Q18: ATLÉTICO-MG | R18: 9 | AB18: MARQUINHOS | AC18: 11
B19: 5 | C19: 0 | M19: SANTOS | N19: =IF(C19="","",IF(C19=0,0,COUNT(C19:L19))) -> 0 | O19: x | P19: =IF(R19="","",IF(R19=0,0,COUNT(R19:AA19))) -> 2 | Q19: BOTAFOGO | R19: 5 | S19: 11 | AB19: M. SILVA | AC19: 12
B20: 7 | C20: 11 | D20: 8 | M20: NÁUTICO | N20: =IF(C20="","",IF(C20=0,0,COUNT(C20:L20))) -> 2 | O20: x | P20: =IF(R20="","",IF(R20=0,0,COUNT(R20:AA20))) -> 0 | Q20: INTERNACIONAL | R20: 0 | AB20: SIMPLÍCIO | AC20: 13
B21: 8 | C21: 7 | M21: SAMPAIO CORRÊA | N21: =IF(C21="","",IF(C21=0,0,COUNT(C21:L21))) -> 1 | O21: x | P21: =IF(R21="","",IF(R21=0,0,COUNT(R21:AA21))) -> 1 | Q21: PORTUGUESA | R21: 2 | AB21: PIMENTEL | AC21: 14
B22: 11 | C22: 8 | D22: 5 | M22: AVAÍ | N22: =IF(C22="","",IF(C22=0,0,COUNT(C22:L22))) -> 2 | O22: x | P22: =IF(R22="","",IF(R22=0,0,COUNT(R22:AA22))) -> 0 | Q22: AMÉRICA-MG | R22: 0 | AB22: LUIZ CLAUDIO | AC22: 15
B23: 12 | C23: 0 | M23: GRÊMIO | N23: =IF(C23="","",IF(C23=0,0,COUNT(C23:L23))) -> 0 | O23: x | P23: =IF(R23="","",IF(R23=0,0,COUNT(R23:AA23))) -> 1 | Q23: FLUMINENSE | R23: 20 | AB23: DIGÃO | AC23: 16
A24: 6 - 15:00 | B24: 6 | C24: 11 | D24: 13 | E24: 3 | M24: MIRASSOL | N24: =IF(C24="","",IF(C24=0,0,COUNT(C24:L24))) -> 3 | O24: x | P24: =IF(R24="","",IF(R24=0,0,COUNT(R24:AA24))) -> 1 | Q24: BOTAFOGO | R24: 9 | AB24: ADOLPHO | AC24: 17
B25: 5 | C25: 0 | M25: CRUZEIRO | N25: =IF(C25="","",IF(C25=0,0,COUNT(C25:L25))) -> 0 | O25: x | P25: =IF(R25="","",IF(R25=0,0,COUNT(R25:AA25))) -> 2 | Q25: ATLÉTICO-MG | R25: 8 | S25: 7 | AB25: MAGNO | AC25: 18
B26: 7 | C26: 10 | M26: NÁUTICO | N26: =IF(C26="","",IF(C26=0,0,COUNT(C26:L26))) -> 1 | O26: x | P26: =IF(R26="","",IF(R26=0,0,COUNT(R26:AA26))) -> 3 | Q26: FLUMINENSE | R26: 4 | S26: 7 | T26: 20 | AB26: LÉO | AC26: 19
B27: 8 | C27: 0 | M27: SAMPAIO CORRÊA | N27: =IF(C27="","",IF(C27=0,0,COUNT(C27:L27))) -> 0 | O27: x | P27: =IF(R27="","",IF(R27=0,0,COUNT(R27:AA27))) -> 1 | Q27: AVAÍ | R27: 11 | AB27: FARNEZE | AC27: 20
A28: 7 - 16:00 | B28: 7 | C28: 8 | D28: 7 | M28: MIRASSOL | N28: =IF(C28="","",IF(C28=0,0,COUNT(C28:L28))) -> 2 | O28: x | P28: =IF(R28="","",IF(R28=0,0,COUNT(R28:AA28))) -> 2 | Q28: ATLÉTICO-MG | R28: 8 | S28: 13 | AB28: JOSÉ RICARDO | AC28: 21
B29: 12 | C29: 0 | M29: FLUMINENSE | N29: =IF(C29="","",IF(C29=0,0,COUNT(C29:L29))) -> 0 | O29: x | P29: =IF(R29="","",IF(R29=0,0,COUNT(R29:AA29))) -> 0 | Q29: AVAÍ | R29: 0 | AB29: JEAN | AC29: 22

Sheet CF
A1: CF | B1: TIMES | C1: TÉCNICOS | D1: J | E1: V | F1: E | G1: D | H1: GF | I1: GC | J1: SG | K1: PG | L1: Aprov.
A2: 1º | B2: MIRASSOL | C2: Alcides | D2: 6 | E2: 4 | F2: 2 | G2: 0 | H2: 12 | I2: 4 | J2: 8 | K2: 14 | L2: 0.77777778
A3: 2º | B3: ATLÉTICO-MG | C3: Rodrigo | D3: 6 | E3: 4 | F3: 1 | G3: 1 | H3: 10 | I3: 4 | J3: 6 | K3: 13 | L3: 0.72222222
A4: 3º | B4: CRUZEIRO | C4: Paulo César | D4: 5 | E4: 3 | F4: 1 | G4: 1 | H4: 8 | I4: 4 | J4: 4 | K4: 10 | L4: 0.66666667
A5: 4º | B5: BOTAFOGO | C5: José Ricardo | D5: 5 | E5: 3 | F5: 1 | G5: 1 | H5: 5 | I5: 3 | J5: 2 | K5: 10 | L5: 0.66666667
A6: 5º | B6: PALMEIRAS | C6: Antônio Carlos | D6: 4 | E6: 3 | F6: 0 | G6: 1 | H6: 8 | I6: 1 | J6: 7 | K6: 9 | L6: 0.75
A7: 6º | B7: ATLÉTICO-PR | C7: Adolpho | D7: 4 | E7: 2 | F7: 2 | G7: 0 | H7: 3 | I7: 1 | J7: 2 | K7: 8 | L7: 0.66666667
A8: 7º | B8: SANTOS | C8: Caruso | D8: 4 | E8: 2 | F8: 1 | G8: 1 | H8: 3 | I8: 2 | J8: 1 | K8: 7 | L8: 0.58333333
A9: 8º | B9: R. B. BRAGANTINO | C9: Magno | D9: 4 | E9: 1 | F9: 3 | G9: 0 | H9: 4 | I9: 3 | J9: 1 | K9: 6 | L9: 0.5
A10: 9º | B10: SÃO PAULO | C10: Luiz Cláudio | D10: 3 | E10: 1 | F10: 1 | G10: 1 | H10: 6 | I10: 3 | J10: 3 | K10: 4 | L10: 0.44444444
A11: 10º | B11: BAHIA | C11: Simplício | D11: 3 | E11: 1 | F11: 1 | G11: 1 | H11: 3 | I11: 1 | J11: 2 | K11: 4 | L11: 0.44444444
A12: 11º | B12: PONTE PRETA | C12: Pimentel | D12: 3 | E12: 1 | F12: 1 | G12: 1 | H12: 3 | I12: 2 | J12: 1 | K12: 4 | L12: 0.44444444
A13: 12º | B13: JUVENTUS | C13: Digão | D13: 3 | E13: 1 | F13: 1 | G13: 1 | H13: 1 | I13: 1 | J13: 0 | K13: 4 | L13: 0.44444444
... A25: 24º | B25: INTERNACIONAL | C25: Léo | D25: 3 | E25: 0 | F25: 0 | G25: 3 | H25: 0 | I25: 9 | J25: -9 | K25: 0 | L25: 0
