Workbook

Sheet Auxiliar
A1: ='Tab Primeira Fase'!N8 -> ANDRÉ BRANDÃO | B1: =IF('Tab Primeira Fase'!O8<'Tab Primeira Fase'!Q8,0,IF('Tab Primeira Fase'!O8='Tab Primeira Fase'!Q8,1,IF('Tab Primeira Fase'!O8>'Tab Primeira Fase'!Q8,2))) -> 0 | C1: ='Tab Primeira Fase'!R8 -> FRANCISCO | D1: =IF('Tab Primeira Fase'!O8>'Tab Primeira Fase'!Q8,0,IF('Tab Primeira Fase'!O8='Tab Primeira Fase'!Q8,1,IF('Tab Primeira Fase'!O8<'Tab Primeira Fase'!Q8,2))) -> 2 | E1: =IF(ISNUMBER('Tab Primeira Fase'!O8),1,0) -> 1 | F1: =IF(B1*E1=2,1,0) -> 0 | G1: =IF(B1*E1=1,1,0) -> 0 | H1: =IF(B1=0,IF(E1=1,1,0),0) -> 1 | I1: =IF(E1*D1=2,1,0) -> 1 | J1: =IF(E1*D1=1,1,0) -> 0 | K1: =IF(D1=0,IF(E1=1,1,0),0) -> 0 | L1: CLUBES | M1: V | N1: E | O1: D | P1: GP | Q1: GC | W1: L | X1: M | Y1: N | Z1: O | AA1: P | AB1: Q
A2: ='Tab Primeira Fase'!N9 -> MALCHER | B2: =IF('Tab Primeira Fase'!O9<'Tab Primeira Fase'!Q9,0,IF('Tab Primeira Fase'!O9='Tab Primeira Fase'!Q9,1,IF('Tab Primeira Fase'!O9>'Tab Primeira Fase'!Q9,2))) -> 0 | C2: ='Tab Primeira Fase'!R9 -> JORGE DIAS | D2: =IF('Tab Primeira Fase'!O9>'Tab Primeira Fase'!Q9,0,IF('Tab Primeira Fase'!O9='Tab Primeira Fase'!Q9,1,IF('Tab Primeira Fase'!O9<'Tab Primeira Fase'!Q9,2))) -> 2 | E2: =IF(ISNUMBER('Tab Primeira Fase'!O9),1,0) -> 1 | F2: =IF(B2*E2=2,1,0) -> 0 | G2: =IF(B2*E2=1,1,0) -> 0 | H2: =IF(B2=0,IF(E2=1,1,0),0) -> 1 | I2: =IF(E2*D2=2,1,0) -> 1 | J2: =IF(E2*D2=1,1,0) -> 0 | K2: =IF(D2=0,IF(E2=1,1,0),0) -> 0 | L2: JULIANO | M2: =SUMIF($A$1:$A$708,L2,$F$1:$F$708)+SUMIF($C$1:$C$708,L2,$I$1:$I$708) -> 2 | N2: =SUMIF($A$1:$A$708,L2,$G$1:$G$708)+SUMIF($C$1:$C$708,L2,$J$1:$J$708) -> 3 | O2: =SUMIF($A$1:$A$708,L2,$H$1:$H$708)+SUMIF($C$1:$C$708,L2,$K$1:$K$708) -> 1 | P2: =SUMIF('Tab Primeira Fase'!$N$8:$N$815,L2,'Tab Primeira Fase'!$O$8:$O$815)+SUMIF('Tab Primeira Fase'!$R$8:$R$815,L2,'Tab Primeira Fase'!$Q$8:$Q$815) -> 8 | Q2: =SUMIF('Tab Primeira Fase'!$N$8:$N$815,L2,'Tab Primeira Fase'!$Q$8:$Q$815)+SUMIF('Tab Primeira Fase'!$R$8:$R$815,L2,'Tab Primeira Fase'!$O$8:$O$815) -> 6 | R2: =(1000000*((3*M2)+N2))+(10000*M2)+(100*(P2-Q2))+P2+(0.001*(7-T2)) -> 9020208 | S2: =RANK(R2,$R$2:$R$8) -> 3 | T2: 1 | U2: =IF($S$2=T2,2,0)+IF($S$3=T2,3,0)+IF($S$4=T2,4,0)+IF($S$5=T2,5,0)+IF($S$6=T2,6,0)+IF($S$7=T2,7,0)+IF($S$8=T2,8,0) -> 5 | W2: =CONCATENATE("'Auxiliar'!",W$1,$U2) -> 'Auxiliar'!L5 | X2: =CONCATENATE("'Auxiliar'!",X$1,$U2) -> 'Auxiliar'!M5 | Y2: =CONCATENATE("'Auxiliar'!",Y$1,$U2) -> 'Auxiliar'!N5 | Z2: =CONCATENATE("'Auxiliar'!",Z$1,$U2) -> 'Auxiliar'!O5 | AA2: =CONCATENATE("'Auxiliar'!",AA$1,$U2) -> 'Auxiliar'!P5 | AB2: =CONCATENATE("'Auxiliar'!",AB$1,$U2) -> 'Auxiliar'!Q5
A3: ='Tab Primeira Fase'!N10 -> MARCELO PORTO | B3: =IF('Tab Primeira Fase'!O10<'Tab Primeira Fase'!Q10,0,IF('Tab Primeira Fase'!O10='Tab Primeira Fase'!Q10,1,IF('Tab Primeira Fase'!O10>'Tab Primeira Fase'!Q10,2))) -> 2 | C3: ='Tab Primeira Fase'!R10 -> JULIANO | D3: =IF('Tab Primeira Fase'!O10>'Tab Primeira Fase'!Q10,0,IF('Tab Primeira Fase'!O10='Tab Primeira Fase'!Q10,1,IF('Tab Primeira Fase'!O10<'Tab Primeira Fase'!Q10,2))) -> 0 | E3: =IF(ISNUMBER('Tab Primeira Fase'!O10),1,0) -> 1 | F3: =IF(B3*E3=2,1,0) -> 1 | G3: =IF(B3*E3=1,1,0) -> 0 | H3: =IF(B3=0,IF(E3=1,1,0),0) -> 0 | I3: =IF(E3*D3=2,1,0) -> 0 | J3: =IF(E3*D3=1,1,0) -> 0 | K3: =IF(D3=0,IF(E3=1,1,0),0) -> 1 | L3: JORGE DIAS | M3: =SUMIF($A$1:$A$708,L3,$F$1:$F$708)+SUMIF($C$1:$C$708,L3,$I$1:$I$708) -> 2 | N3: =SUMIF($A$1:$A$708,L3,$G$1:$G$708)+SUMIF($C$1:$C$708,L3,$J$1:$J$708) -> 4 | O3: =SUMIF($A$1:$A$708,L3,$H$1:$H$708)+SUMIF($C$1:$C$708,L3,$K$1:$K$708) -> 0 | P3: =SUMIF('Tab Primeira Fase'!$N$8:$N$815,L3,'Tab Primeira Fase'!$O$8:$O$815)+SUMIF('Tab Primeira Fase'!$R$8:$R$815,L3,'Tab Primeira Fase'!$Q$8:$Q$815) -> 9 | Q3: =SUMIF('Tab Primeira Fase'!$N$8:$N$815,L3,'Tab Primeira Fase'!$Q$8:$Q$815)+SUMIF('Tab Primeira Fase'!$R$8:$R$815,L3,'Tab Primeira Fase'!$O$8:$O$815) -> 5 | R3: =(1000000*((3*M3)+N3))+(10000*M3)+(100*(P3-Q3))+P3+(0.001*(7-T3)) -> 10020409 | S3: =RANK(R3,$R$2:$R$8) -> 2 | T3: 2 | U3: =IF($S$2=T3,2,0)+IF($S$3=T3,3,0)+IF($S$4=T3,4,0)+IF($S$5=T3,5,0)+IF($S$6=T3,6,0)+IF($S$7=T3,7,0)+IF($S$8=T3,8,0) -> 3 | W3: =CONCATENATE("'Auxiliar'!",W$1,$U3) -> 'Auxiliar'!L3 | X3: =CONCATENATE("'Auxiliar'!",X$1,$U3) -> 'Auxiliar'!M3 | Y3: =CONCATENATE("'Auxiliar'!",Y$1,$U3) -> 'Auxiliar'!N3 | Z3: =CONCATENATE("'Auxiliar'!",Z$1,$U3) -> 'Auxiliar'!O3 | AA3: =CONCATENATE("'Auxiliar'!",AA$1,$U3) -> 'Auxiliar'!P3 | AB3: =CONCATENATE("'Auxiliar'!",AB$1,$U3) -> 'Auxiliar'!Q3
A4: ='Tab Primeira Fase'!N11 -> RODRIGO BARROS | B4: =IF('Tab Primeira Fase'!O11<'Tab Primeira Fase'!Q11,0,IF('Tab Primeira Fase'!O11='Tab Primeira Fase'!Q11,1,IF('Tab Primeira Fase'!O11>'Tab Primeira Fase'!Q11,2))) -> 1 | C4: ='Tab Primeira Fase'!R11 -> HÉLIO | D4: =IF('Tab Primeira Fase'!O11>'Tab Primeira Fase'!Q11,0,IF('Tab Primeira Fase'!O11='Tab Primeira Fase'!Q11,1,IF('Tab Primeira Fase'!O11<'Tab Primeira Fase'!Q11,2))) -> 1 | E4: =IF(ISNUMBER('Tab Primeira Fase'!O11),1,0) -> 1 | F4: =IF(B4*E4=2,1,0) -> 0 | G4: =IF(B4*E4=1,1,0) -> 1 | H4: =IF(B4=0,IF(E4=1,1,0),0) -> 0 | I4: =IF(E4*D4=2,1,0) -> 0 | J4: =IF(E4*D4=1,1,0) -> 1 | K4: =IF(D4=0,IF(E4=1,1,0),0) -> 0 | L4: FRANCISCO | M4: =SUMIF($A$1:$A$708,L4,$F$1:$F$708)+SUMIF($C$1:$C$708,L4,$I$1:$I$708) -> 1 | N4: =SUMIF($A$1:$A$708,L4,$G$1:$G$708)+SUMIF($C$1:$C$708,L4,$J$1:$J$708) -> 4 | O4: =SUMIF($A$1:$A$708,L4,$H$1:$H$708)+SUMIF($C$1:$C$708,L4,$K$1:$K$708) -> 1 | P4: =SUMIF('Tab Primeira Fase'!$N$8:$N$815,L4,'Tab Primeira Fase'!$O$8:$O$815)+SUMIF('Tab Primeira Fase'!$R$8:$R$815,L4,'Tab Primeira Fase'!$Q$8:$Q$815) -> 4 | Q4: =SUMIF('Tab Primeira Fase'!$N$8:$N$815,L4,'Tab Primeira Fase'!$Q$8:$Q$815)+SUMIF('Tab Primeira Fase'!$R$8:$R$815,L4,'Tab Primeira Fase'!$O$8:$O$815) -> 7 | R4: =(1000000*((3*M4)+N4))+(10000*M4)+(100*(P4-Q4))+P4+(0.001*(7-T4)) -> 7009704 | S4: =RANK(R4,$R$2:$R$8) -> 6 | T4: 3 | U4: =IF($S$2=T4,2,0)+IF($S$3=T4,3,0)+IF($S$4=T4,4,0)+IF($S$5=T4,5,0)+IF($S$6=T4,6,0)+IF($S$7=T4,7,0)+IF($S$8=T4,8,0) -> 2 | W4: =CONCATENATE("'Auxiliar'!",W$1,$U4) -> 'Auxiliar'!L2 | X4: =CONCATENATE("'Auxiliar'!",X$1,$U4) -> 'Auxiliar'!M2 | Y4: =CONCATENATE("'Auxiliar'!",Y$1,$U4) -> 'Auxiliar'!N2 | Z4: =CONCATENATE("'Auxiliar'!",Z$1,$U4) -> 'Auxiliar'!O2 | AA4: =CONCATENATE("'Auxiliar'!",AA$1,$U4) -> 'Auxiliar'!P2 | AB4: =CONCATENATE("'Auxiliar'!",AB$1,$U4) -> 'Auxiliar'!Q2
A5: ='Tab Primeira Fase'!N12 -> AÉCIO | B5: =IF('Tab Primeira Fase'!O12<'Tab Primeira Fase'!Q12,0,IF('Tab Primeira Fase'!O12='Tab Primeira Fase'!Q12,1,IF('Tab Primeira Fase'!O12>'Tab Primeira Fase'!Q12,2))) -> 0 | C5: ='Tab Primeira Fase'!R12 -> VANDER | D5: =IF('Tab Primeira Fase'!O12>'Tab Primeira Fase'!Q12,0,IF('Tab Primeira Fase'!O12='Tab Primeira Fase'!Q12,1,IF('Tab Primeira Fase'!O12<'Tab Primeira Fase'!Q12,2))) -> 2 | E5: =IF(ISNUMBER('Tab Primeira Fase'!O12),1,0) -> 1 | F5: =IF(B5*E5=2,1,0) -> 0 | G5: =IF(B5*E5=1,1,0) -> 0 | H5: =IF(B5=0,IF(E5=1,1,0),0) -> 1 | I5: =IF(E5*D5=2,1,0) -> 1 | J5: =IF(E5*D5=1,1,0) -> 0 | K5: =IF(D5=0,IF(E5=1,1,0),0) -> 0 | L5: MAGNO | M5: =SUMIF($A$1:$A$708,L5,$F$1:$F$708)+SUMIF($C$1:$C$708,L5,$I$1:$I$708) -> 3 | N5: =SUMIF($A$1:$A$708,L5,$G$1:$G$708)+SUMIF($C$1:$C$708,L5,$J$1:$J$708) -> 1 | O5: =SUMIF($A$1:$A$708,L5,$H$1:$H$708)+SUMIF($C$1:$C$708,L5,$K$1:$K$708) -> 2 | P5: =SUMIF('Tab Primeira Fase'!$N$8:$N$815,L5,'Tab Primeira Fase'!$O$8:$O$815)+SUMIF('Tab Primeira Fase'!$R$8:$R$815,L5,'Tab Primeira Fase'!$Q$8:$Q$815) -> 12 | Q5: =SUMIF('Tab Primeira Fase'!$N$8:$N$815,L5,'Tab Primeira Fase'!$Q$8:$Q$815)+SUMIF('Tab Primeira Fase'!$R$8:$R$815,L5,'Tab Primeira Fase'!$O$8:$O$815) -> 5 | R5: =(1000000*((3*M5)+N5))+(10000*M5)+(100*(P5-Q5))+P5+(0.001*(7-T5)) -> 10030712 | S5: =RANK(R5,$R$2:$R$8) -> 1 | T5: 4 | U5: =IF($S$2=T5,2,0)+IF($S$3=T5,3,0)+IF($S$4=T5,4,0)+IF($S$5=T5,5,0)+IF($S$6=T5,6,0)+IF($S$7=T5,7,0)+IF($S$8=T5,8,0) -> 8 | W5: =CONCATENATE("'Auxiliar'!",W$1,$U5) -> 'Auxiliar'!L8 | X5: =CONCATENATE("'Auxiliar'!",X$1,$U5) -> 'Auxiliar'!M8 | Y5: =CONCATENATE("'Auxiliar'!",Y$1,$U5) -> 'Auxiliar'!N8 | Z5: =CONCATENATE("'Auxiliar'!",Z$1,$U5) -> 'Auxiliar'!O8 | AA5: =CONCATENATE("'Auxiliar'!",AA$1,$U5) -> 'Auxiliar'!P8 | AB5: =CONCATENATE("'Auxiliar'!",AB$1,$U5) -> 'Auxiliar'!Q8
A6: ='Tab Primeira Fase'!N13 -> RODRIGO GUIMARÃES | B6: =IF('Tab Primeira Fase'!O13<'Tab Primeira Fase'!Q13,0,IF('Tab Primeira Fase'!O13='Tab Primeira Fase'!Q13,1,IF('Tab Primeira Fase'!O13>'Tab Primeira Fase'!Q13,2))) -> 0 | C6: ='Tab Primeira Fase'!R13 -> JUNIOR | D6: =IF('Tab Primeira Fase'!O13>'Tab Primeira Fase'!Q13,0,IF('Tab Primeira Fase'!O13='Tab Primeira Fase'!Q13,1,IF('Tab Primeira Fase'!O13<'Tab Primeira Fase'!Q13,2))) -> 2 | E6: =IF(ISNUMBER('Tab Primeira Fase'!O13),1,0) -> 1 | F6: =IF(B6*E6=2,1,0) -> 0 | G6: =IF(B6*E6=1,1,0) -> 0 | H6: =IF(B6=0,IF(E6=1,1,0),0) -> 1 | I6: =IF(E6*D6=2,1,0) -> 1 | J6: =IF(E6*D6=1,1,0) -> 0 | K6: =IF(D6=0,IF(E6=1,1,0),0) -> 0 | L6: ANDRÉ BRANDÃO | M6: =SUMIF($A$1:$A$708,L6,$F$1:$F$708)+SUMIF($C$1:$C$708,L6,$I$1:$I$708) -> 2 | N6: =SUMIF($A$1:$A$708,L6,$G$1:$G$708)+SUMIF($C$1:$C$708,L6,$J$1:$J$708) -> 1 | O6: =SUMIF($A$1:$A$708,L6,$H$1:$H$708)+SUMIF($C$1:$C$708,L6,$K$1:$K$708) -> 3 | P6: =SUMIF('Tab Primeira Fase'!$N$8:$N$815,L6,'Tab Primeira Fase'!$O$8:$O$815)+SUMIF('Tab Primeira Fase'!$R$8:$R$815,L6,'Tab Primeira Fase'!$Q$8:$Q$815) -> 8 | Q6: =SUMIF('Tab Primeira Fase'!$N$8:$N$815,L6,'Tab Primeira Fase'!$Q$8:$Q$815)+SUMIF('Tab Primeira Fase'!$R$8:$R$815,L6,'Tab Primeira Fase'!$O$8:$O$815) -> 9 | R6: =(1000000*((3*M6)+N6))+(10000*M6)+(100*(P6-Q6))+P6+(0.001*(7-T6)) -> 7019908 | S6: =RANK(R6,$R$2:$R$8) -> 5 | T6: 5 | U6: =IF($S$2=T6,2,0)+IF($S$3=T6,3,0)+IF($S$4=T6,4,0)+IF($S$5=T6,5,0)+IF($S$6=T6,6,0)+IF($S$7=T6,7,0)+IF($S$8=T6,8,0) -> 6 | W6: =CONCATENATE("'Auxiliar'!",W$1,$U6) -> 'Auxiliar'!L6 | X6: =CONCATENATE("'Auxiliar'!",X$1,$U6) -> 'Auxiliar'!M6 | Y6: =CONCATENATE("'Auxiliar'!",Y$1,$U6) -> 'Auxiliar'!N6 | Z6: =CONCATENATE("'Auxiliar'!",Z$1,$U6) -> 'Auxiliar'!O6 | AA6: =CONCATENATE("'Auxiliar'!",AA$1,$U6) -> 'Auxiliar'!P6 | AB6: =CONCATENATE("'Auxiliar'!",AB$1,$U6) -> 'Auxiliar'!Q6
A7: ='Tab Primeira Fase'!N14 -> IZALCI | B7: =IF('Tab Primeira Fase'!O14<'Tab Primeira Fase'!Q14,0,IF('Tab Primeira Fase'!O14='Tab Primeira Fase'!Q14,1,IF('Tab Primeira Fase'!O14>'Tab Primeira Fase'!Q14,2))) -> 1 | C7: ='Tab Primeira Fase'!R14 -> HEAVY | D7: =IF('Tab Primeira Fase'!O14>'Tab Primeira Fase'!Q14,0,IF('Tab Primeira Fase'!O14='Tab Primeira Fase'!Q14,1,IF('Tab Primeira Fase'!O14<'Tab Primeira Fase'!Q14,2))) -> 1 | E7: =IF(ISNUMBER('Tab Primeira Fase'!O14),1,0) -> 1 | F7: =IF(B7*E7=2,1,0) -> 0 | G7: =IF(B7*E7=1,1,0) -> 1 | H7: =IF(B7=0,IF(E7=1,1,0),0) -> 0 | I7: =IF(E7*D7=2,1,0) -> 0 | J7: =IF(E7*D7=1,1,0) -> 1 | K7: =IF(D7=0,IF(E7=1,1,0),0) -> 0 | L7: MALCHER | M7: =SUMIF($A$1:$A$708,L7,$F$1:$F$708)+SUMIF($C$1:$C$708,L7,$I$1:$I$708) -> 1 | N7: =SUMIF($A$1:$A$708,L7,$G$1:$G$708)+SUMIF($C$1:$C$708,L7,$J$1:$J$708) -> 1 | O7: =SUMIF($A$1:$A$708,L7,$H$1:$H$708)+SUMIF($C$1:$C$708,L7,$K$1:$K$708) -> 4 | P7: =SUMIF('Tab Primeira Fase'!$N$8:$N$815,L7,'Tab Primeira Fase'!$O$8:$O$815)+SUMIF('Tab Primeira Fase'!$R$8:$R$815,L7,'Tab Primeira Fase'!$Q$8:$Q$815) -> 4 | Q7: =SUMIF('Tab Primeira Fase'!$N$8:$N$815,L7,'Tab Primeira Fase'!$Q$8:$Q$815)+SUMIF('Tab Primeira Fase'!$R$8:$R$815,L7,'Tab Primeira Fase'!$O$8:$O$815) -> 11 | R7: =(1000000*((3*M7)+N7))+(10000*M7)+(100*(P7-Q7))+P7+(0.001*(7-T7)) -> 4009304 | S7: =RANK(R7,$R$2:$R$8) -> 7 | T7: 6 | U7: =IF($S$2=T7,2,0)+IF($S$3=T7,3,0)+IF($S$4=T7,4,0)+IF($S$5=T7,5,0)+IF($S$6=T7,6,0)+IF($S$7=T7,7,0)+IF($S$8=T7,8,0) -> 4 | W7: =CONCATENATE("'Auxiliar'!",W$1,$U7) -> 'Auxiliar'!L4 | X7: =CONCATENATE("'Auxiliar'!",X$1,$U7) -> 'Auxiliar'!M4 | Y7: =CONCATENATE("'Auxiliar'!",Y$1,$U7) -> 'Auxiliar'!N4 | Z7: =CONCATENATE("'Auxiliar'!",Z$1,$U7) -> 'Auxiliar'!O4 | AA7: =CONCATENATE("'Auxiliar'!",AA$1,$U7) -> 'Auxiliar'!P4 | AB7: =CONCATENATE("'Auxiliar'!",AB$1,$U7) -> 'Auxiliar'!Q4
A8: ='Tab Primeira Fase'!N15 -> TONINHO | B8: =IF('Tab Primeira Fase'!O15<'Tab Primeira Fase'!Q15,0,IF('Tab Primeira Fase'!O15='Tab Primeira Fase'!Q15,1,IF('Tab Primeira Fase'!O15>'Tab Primeira Fase'!Q15,2))) -> 1 | C8: ='Tab Primeira Fase'!R15 -> BETO | D8: =IF('Tab Primeira Fase'!O15>'Tab Primeira Fase'!Q15,0,IF('Tab Primeira Fase'!O15='Tab Primeira Fase'!Q15,1,IF('Tab Primeira Fase'!O15<'Tab Primeira Fase'!Q15,2))) -> 1 | E8: =IF(ISNUMBER('Tab Primeira Fase'!O15),1,0) -> 1 | F8: =IF(B8*E8=2,1,0) -> 0 | G8: =IF(B8*E8=1,1,0) -> 1 | H8: =IF(B8=0,IF(E8=1,1,0),0) -> 0 | I8: =IF(E8*D8=2,1,0) -> 0 | J8: =IF(E8*D8=1,1,0) -> 1 | K8: =IF(D8=0,IF(E8=1,1,0),0) -> 0 | L8: MARCELO PORTO | M8: =SUMIF($A$1:$A$708,L8,$F$1:$F$708)+SUMIF($C$1:$C$708,L8,$I$1:$I$708) -> 2 | N8: =SUMIF($A$1:$A$708,L8,$G$1:$G$708)+SUMIF($C$1:$C$708,L8,$J$1:$J$708) -> 2 | O8: =SUMIF($A$1:$A$708,L8,$H$1:$H$708)+SUMIF($C$1:$C$708,L8,$K$1:$K$708) -> 2 | P8: =SUMIF('Tab Primeira Fase'!$N$8:$N$815,L8,'Tab Primeira Fase'!$O$8:$O$815)+SUMIF('Tab Primeira Fase'!$R$8:$R$815,L8,'Tab Primeira Fase'!$Q$8:$Q$815) -> 6 | Q8: =SUMIF('Tab Primeira Fase'!$N$8:$N$815,L8,'Tab Primeira Fase'!$Q$8:$Q$815)+SUMIF('Tab Primeira Fase'!$R$8:$R$815,L8,'Tab Primeira Fase'!$O$8:$O$815) -> 8 | R8: =(1000000*((3*M8)+N8))+(10000*M8)+(100*(P8-Q8))+P8+(0.001*(7-T8)) -> 8019806 | S8: =RANK(R8,$R$2:$R$8) -> 4 | T8: 7 | U8: =IF($S$2=T8,2,0)+IF($S$3=T8,3,0)+IF($S$4=T8,4,0)+IF($S$5=T8,5,0)+IF($S$6=T8,6,0)+IF($S$7=T8,7,0)+IF($S$8=T8,8,0) -> 7 | W8: =CONCATENATE("'Auxiliar'!",W$1,$U8) -> 'Auxiliar'!L7 | X8: =CONCATENATE("'Auxiliar'!",X$1,$U8) -> 'Auxiliar'!M7 | Y8: =CONCATENATE("'Auxiliar'!",Y$1,$U8) -> 'Auxiliar'!N7 | Z8: =CONCATENATE("'Auxiliar'!",Z$1,$U8) -> 'Auxiliar'!O7 | AA8: =CONCATENATE("'Auxiliar'!",AA$1,$U8) -> 'Auxiliar'!P7 | AB8: =CONCATENATE("'Auxiliar'!",AB$1,$U8) -> 'Auxiliar'!Q7
A9: ='Tab Primeira Fase'!N16 -> MARQUINHOS | B9: =IF('Tab Primeira Fase'!O16<'Tab Primeira Fase'!Q16,0,IF('Tab Primeira Fase'!O16='Tab Primeira Fase'!Q16,1,IF('Tab Primeira Fase'!O16>'Tab Primeira Fase'!Q16,2))) -> 0 | C9: ='Tab Primeira Fase'!R16 -> ALCIDES | D9: =IF('Tab Primeira Fase'!O16>'Tab Primeira Fase'!Q16,0,IF('Tab Primeira Fase'!O16='Tab Primeira Fase'!Q16,1,IF('Tab Primeira Fase'!O16<'Tab Primeira Fase'!Q16,2))) -> 2 | E9: =IF(ISNUMBER('Tab Primeira Fase'!O16),1,0) -> 1 | F9: =IF(B9*E9=2,1,0) -> 0 | G9: =IF(B9*E9=1,1,0) -> 0 | H9: =IF(B9=0,IF(E9=1,1,0),0) -> 1 | I9: =IF(E9*D9=2,1,0) -> 1 | J9: =IF(E9*D9=1,1,0) -> 0 | K9: =IF(D9=0,IF(E9=1,1,0),0) -> 0
A10: ='Tab Primeira Fase'!N17 -> LUIZ GOMES | B10: =IF('Tab Primeira Fase'!O17<'Tab Primeira Fase'!Q17,0,IF('Tab Primeira Fase'!O17='Tab Primeira Fase'!Q17,1,IF('Tab Primeira Fase'!O17>'Tab Primeira Fase'!Q17,2))) -> 0 | C10: ='Tab Primeira Fase'!R17 -> VASQUES | D10: =IF('Tab Primeira Fase'!O17>'Tab Primeira Fase'!Q17,0,IF('Tab Primeira Fase'!O17='Tab Primeira Fase'!Q17,1,IF('Tab Primeira Fase'!O17<'Tab Primeira Fase'!Q17,2))) -> 2 | E10: =IF(ISNUMBER('Tab Primeira Fase'!O17),1,0) -> 1 | F10: =IF(B10*E10=2,1,0) -> 0 | G10: =IF(B10*E10=1,1,0) -> 0 | H10: =IF(B10=0,IF(E10=1,1,0),0) -> 1 | I10: =IF(E10*D10=2,1,0) -> 1 | J10: =IF(E10*D10=1,1,0) -> 0 | K10: =IF(D10=0,IF(E10=1,1,0),0) -> 0 | L10: JUNIOR | M10: =SUMIF($A$1:$A$708,L10,$F$1:$F$708)+SUMIF($C$1:$C$708,L10,$I$1:$I$708) -> 4 | N10: =SUMIF($A$1:$A$708,L10,$G$1:$G$708)+SUMIF($C$1:$C$708,L10,$J$1:$J$708) -> 1 | O10: =SUMIF($A$1:$A$708,L10,$H$1:$H$708)+SUMIF($C$1:$C$708,L10,$K$1:$K$708) -> 1 | P10: =SUMIF('Tab Primeira Fase'!$N$8:$N$815,L10,'Tab Primeira Fase'!$O$8:$O$815)+SUMIF('Tab Primeira Fase'!$R$8:$R$815,L10,'Tab Primeira Fase'!$Q$8:$Q$815) -> 9 | Q10: =SUMIF('Tab Primeira Fase'!$N$8:$N$815,L10,'Tab Primeira Fase'!$Q$8:$Q$815)+SUMIF('Tab Primeira Fase'!$R$8:$R$815,L10,'Tab Primeira Fase'!$O$8:$O$815) -> 3 | R10: =(1000000*((3*M10)+N10))+(10000*M10)+(100*(P10-Q10))+P10+(0.001*(6-T10)) -> 13040609 | S10: =RANK(R10,$R$10:$R$16) -> 2 | T10: 1 | U10: =IF($S$10=T10,10,0)+IF($S$11=T10,11,0)+IF($S$12=T10,12,0)+IF($S$13=T10,13,0)+IF($S$14=T10,14,0)+IF($S$15=T10,15,0)+IF($S$16=T10,16,0) -> 11 | W10: =CONCATENATE("'Auxiliar'!",W$1,$U10) -> 'Auxiliar'!L11 | X10: =CONCATENATE("'Auxiliar'!",X$1,$U10) -> 'Auxiliar'!M11 | Y10: =CONCATENATE("'Auxiliar'!",Y$1,$U10) -> 'Auxiliar'!N11 | Z10: =CONCATENATE("'Auxiliar'!",Z$1,$U10) -> 'Auxiliar'!O11 | AA10: =CONCATENATE("'Auxiliar'!",AA$1,$U10) -> 'Auxiliar'!P11 | AB10: =CONCATENATE("'Auxiliar'!",AB$1,$U10) -> 'Auxiliar'!Q11
A11: ='Tab Primeira Fase'!N18 -> WILLIAM MOREIRA | B11: =IF('Tab Primeira Fase'!O18<'Tab Primeira Fase'!Q18,0,IF('Tab Primeira Fase'!O18='Tab Primeira Fase'!Q18,1,IF('Tab Primeira Fase'!O18>'Tab Primeira Fase'!Q18,2))) -> 0 | C11: ='Tab Primeira Fase'!R18 -> THIAGO | D11: =IF('Tab Primeira Fase'!O18>'Tab Primeira Fase'!Q18,0,IF('Tab Primeira Fase'!O18='Tab Primeira Fase'!Q18,1,IF('Tab Primeira Fase'!O18<'Tab Primeira Fase'!Q18,2))) -> 2 | E11: =IF(ISNUMBER('Tab Primeira Fase'!O18),1,0) -> 1 | F11: =IF(B11*E11=2,1,0) -> 0 | G11: =IF(B11*E11=1,1,0) -> 0 | H11: =IF(B11=0,IF(E11=1,1,0),0) -> 1 | I11: =IF(E11*D11=2,1,0) -> 1 | J11: =IF(E11*D11=1,1,0) -> 0 | K11: =IF(D11=0,IF(E11=1,1,0),0) -> 0 | L11: VANDER | M11: =SUMIF($A$1:$A$708,L11,$F$1:$F$708)+SUMIF($C$1:$C$708,L11,$I$1:$I$708) -> 4 | N11: =SUMIF($A$1:$A$708,L11,$G$1:$G$708)+SUMIF($C$1:$C$708,L11,$J$1:$J$708) -> 2 | O11: =SUMIF($A$1:$A$708,L11,$H$1:$H$708)+SUMIF($C$1:$C$708,L11,$K$1:$K$708) -> 0 | P11: =SUMIF('Tab Primeira Fase'!$N$8:$N$815,L11,'Tab Primeira Fase'!$O$8:$O$815)+SUMIF('Tab Primeira Fase'!$R$8:$R$815,L11,'Tab Primeira Fase'!$Q$8:$Q$815) -> 9 | Q11: =SUMIF('Tab Primeira Fase'!$N$8:$N$815,L11,'Tab Primeira Fase'!$Q$8:$Q$815)+SUMIF('Tab Primeira Fase'!$R$8:$R$815,L11,'Tab Primeira Fase'!$O$8:$O$815) -> 3 | R11: =(1000000*((3*M11)+N11))+(10000*M11)+(100*(P11-Q11))+P11+(0.001*(6-T11)) -> 14040609 | S11: =RANK(R11,$R$10:$R$16) -> 1 | T11: 2 | U11: =IF($S$10=T11,10,0)+IF($S$11=T11,11,0)+IF($S$12=T11,12,0)+IF($S$13=T11,13,0)+IF($S$14=T11,14,0)+IF($S$15=T11,15,0)+IF($S$16=T11,16,0) -> 10 | W11: =CONCATENATE("'Auxiliar'!",W$1,$U11) -> 'Auxiliar'!L10 | X11: =CONCATENATE("'Auxiliar'!",X$1,$U11) -> 'Auxiliar'!M10 | Y11: =CONCATENATE("'Auxiliar'!",Y$1,$U11) -> 'Auxiliar'!N10 | Z11: =CONCATENATE("'Auxiliar'!",Z$1,$U11) -> 'Auxiliar'!O10 | AA11: =CONCATENATE("'Auxiliar'!",AA$1,$U11) -> 'Auxiliar'!P10 | AB11: =CONCATENATE("'Auxiliar'!",AB$1,$U11) -> 'Auxiliar'!Q10
A12: ='Tab Primeira Fase'!N19 -> JEAN | B12: =IF('Tab Primeira Fase'!O19<'Tab Primeira Fase'!Q19,0,IF('Tab Primeira Fase'!O19='Tab Primeira Fase'!Q19,1,IF('Tab Primeira Fase'!O19>'Tab Primeira Fase'!Q19,2))) -> 0 | C12: ='Tab Primeira Fase'!R19 -> LUIZ CLAUDIO | D12: =IF('Tab Primeira Fase'!O19>'Tab Primeira Fase'!Q19,0,IF('Tab Primeira Fase'!O19='Tab Primeira Fase'!Q19,1,IF('Tab Primeira Fase'!O19<'Tab Primeira Fase'!Q19,2))) -> 2 | E12: =IF(ISNUMBER('Tab Primeira Fase'!O19),1,0) -> 1 | F12: =IF(B12*E12=2,1,0) -> 0 | G12: =IF(B12*E12=1,1,0) -> 0 | H12: =IF(B12=0,IF(E12=1,1,0),0) -> 1 | I12: =IF(E12*D12=2,1,0) -> 1 | J12: =IF(E12*D12=1,1,0) -> 0 | K12: =IF(D12=0,IF(E12=1,1,0),0) -> 0 | L12: HÉLIO | M12: =SUMIF($A$1:$A$708,L12,$F$1:$F$708)+SUMIF($C$1:$C$708,L12,$I$1:$I$708) -> 2 | N12: =SUMIF($A$1:$A$708,L12,$G$1:$G$708)+SUMIF($C$1:$C$708,L12,$J$1:$J$708) -> 1 | O12: =SUMIF($A$1:$A$708,L12,$H$1:$H$708)+SUMIF($C$1:$C$708,L12,$K$1:$K$708) -> 3 | P12: =SUMIF('Tab Primeira Fase'!$N$8:$N$815,L12,'Tab Primeira Fase'!$O$8:$O$815)+SUMIF('Tab Primeira Fase'!$R$8:$R$815,L12,'Tab Primeira Fase'!$Q$8:$Q$815) -> 7 | Q12: =SUMIF('Tab Primeira Fase'!$N$8:$N$815,L12,'Tab Primeira Fase'!$Q$8:$Q$815)+SUMIF('Tab Primeira Fase'!$R$8:$R$815,L12,'Tab Primeira Fase'!$O$8:$O$815) -> 7 | R12: =(1000000*((3*M12)+N12))+(10000*M12)+(100*(P12-Q12))+P12+(0.001*(6-T12)) -> 7020007 | S12: =RANK(R12,$R$10:$R$16) -> 4 | T12: 3 | U12: =IF($S$10=T12,10,0)+IF($S$11=T12,11,0)+IF($S$12=T12,12,0)+IF($S$13=T12,13,0)+IF($S$14=T12,14,0)+IF($S$15=T12,15,0)+IF($S$16=T12,16,0) -> 14 | W12: =CONCATENATE("'Auxiliar'!",W$1,$U12) -> 'Auxiliar'!L14 | X12: =CONCATENATE("'Auxiliar'!",X$1,$U12) -> 'Auxiliar'!M14 | Y12: =CONCATENATE("'Auxiliar'!",Y$1,$U12) -> 'Auxiliar'!N14 | Z12: =CONCATENATE("'Auxiliar'!",Z$1,$U12) -> 'Auxiliar'!O14 | AA12: =CONCATENATE("'Auxiliar'!",AA$1,$U12) -> 'Auxiliar'!P14 | AB12: =CONCATENATE("'Auxiliar'!",AB$1,$U12) -> 'Auxiliar'!Q14
A13: ='Tab Primeira Fase'!N20 -> JULIANO | B13: =IF('Tab Primeira Fase'!O20<'Tab Primeira Fase'!Q20,0,IF('Tab Primeira Fase'!O20='Tab Primeira Fase'!Q20,1,IF('Tab Primeira Fase'!O20>'Tab Primeira Fase'!Q20,2))) -> 2 | C13: ='Tab Primeira Fase'!R20 -> MALCHER | D13: =IF('Tab Primeira Fase'!O20>'Tab Primeira Fase'!Q20,0,IF('Tab Primeira Fase'!O20='Tab Primeira Fase'!Q20,1,IF('Tab Primeira Fase'!O20<'Tab Primeira Fase'!Q20,2))) -> 0 | E13: =IF(ISNUMBER('Tab Primeira Fase'!O20),1,0) -> 1 | F13: =IF(B13*E13=2,1,0) -> 1 | G13: =IF(B13*E13=1,1,0) -> 0 | H13: =IF(B13=0,IF(E13=1,1,0),0) -> 0 | I13: =IF(E13*D13=2,1,0) -> 0 | J13: =IF(E13*D13=1,1,0) -> 0 | K13: =IF(D13=0,IF(E13=1,1,0),0) -> 1 | L13: FELIPE | M13: =SUMIF($A$1:$A$708,L13,$F$1:$F$708)+SUMIF($C$1:$C$708,L13,$I$1:$I$708) -> 1 | N13: =SUMIF($A$1:$A$708,L13,$G$1:$G$708)+SUMIF($C$1:$C$708,L13,$J$1:$J$708) -> 2 | O13: =SUMIF($A$1:$A$708,L13,$H$1:$H$708)+SUMIF($C$1:$C$708,L13,$K$1:$K$708) -> 3 | P13: =SUMIF('Tab Primeira Fase'!$N$8:$N$815,L13,'Tab Primeira Fase'!$O$8:$O$815)+SUMIF('Tab Primeira Fase'!$R$8:$R$815,L13,'Tab Primeira Fase'!$Q$8:$Q$815) -> 6 | Q13: =SUMIF('Tab Primeira Fase'!$N$8:$N$815,L13,'Tab Primeira Fase'!$Q$8:$Q$815)+SUMIF('Tab Primeira Fase'!$R$8:$R$815,L13,'Tab Primeira Fase'!$O$8:$O$815) -> 12 | R13: =(1000000*((3*M13)+N13))+(10000*M13)+(100*(P13-Q13))+P13+(0.001*(6-T13)) -> 5009406 | S13: =RANK(R13,$R$10:$R$16) -> 6 | T13: 4 | U13: =IF($S$10=T13,10,0)+IF($S$11=T13,11,0)+IF($S$12=T13,12,0)+IF($S$13=T13,13,0)+IF($S$14=T13,14,0)+IF($S$15=T13,15,0)+IF($S$16=T13,16,0) -> 12 | W13: =CONCATENATE("'Auxiliar'!",W$1,$U13) -> 'Auxiliar'!L12 | X13: =CONCATENATE("'Auxiliar'!",X$1,$U13) -> 'Auxiliar'!M12 | Y13: =CONCATENATE("'Auxiliar'!",Y$1,$U13) -> 'Auxiliar'!N12 | Z13: =CONCATENATE("'Auxiliar'!",Z$1,$U13) -> 'Auxiliar'!O12 | AA13: =CONCATENATE("'Auxiliar'!",AA$1,$U13) -> 'Auxiliar'!P12 | AB13: =CONCATENATE("'Auxiliar'!",AB$1,$U13) -> 'Auxiliar'!Q12
A14: ='Tab Primeira Fase'!N21 -> JORGE DIAS | B14: =IF('Tab Primeira Fase'!O21<'Tab Primeira Fase'!Q21,0,IF('Tab Primeira Fase'!O21='Tab Primeira Fase'!Q21,1,IF('Tab Primeira Fase'!O21>'Tab Primeira Fase'!Q21,2))) -> 2 | C14: ='Tab Primeira Fase'!R21 -> ANDRÉ BRANDÃO | D14: =IF('Tab Primeira Fase'!O21>'Tab Primeira Fase'!Q21,0,IF('Tab Primeira Fase'!O21='Tab Primeira Fase'!Q21,1,IF('Tab Primeira Fase'!O21<'Tab Primeira Fase'!Q21,2))) -> 0 | E14: =IF(ISNUMBER('Tab Primeira Fase'!O21),1,0) -> 1 | F14: =IF(B14*E14=2,1,0) -> 1 | G14: =IF(B14*E14=1,1,0) -> 0 | H14: =IF(B14=0,IF(E14=1,1,0),0) -> 0 | I14: =IF(E14*D14=2,1,0) -> 0 | J14: =IF(E14*D14=1,1,0) -> 0 | K14: =IF(D14=0,IF(E14=1,1,0),0) -> 1 | L14: RODRIGO BARROS | M14: =SUMIF($A$1:$A$708,L14,$F$1:$F$708)+SUMIF($C$1:$C$708,L14,$I$1:$I$708) -> 3 | N14: =SUMIF($A$1:$A$708,L14,$G$1:$G$708)+SUMIF($C$1:$C$708,L14,$J$1:$J$708) -> 2 | O14: =SUMIF($A$1:$A$708,L14,$H$1:$H$708)+SUMIF($C$1:$C$708,L14,$K$1:$K$708) -> 1 | P14: =SUMIF('Tab Primeira Fase'!$N$8:$N$815,L14,'Tab Primeira Fase'!$O$8:$O$815)+SUMIF('Tab Primeira Fase'!$R$8:$R$815,L14,'Tab Primeira Fase'!$Q$8:$Q$815) -> 11 | Q14: =SUMIF('Tab Primeira Fase'!$N$8:$N$815,L14,'Tab Primeira Fase'!$Q$8:$Q$815)+SUMIF('Tab Primeira Fase'!$R$8:$R$815,L14,'Tab Primeira Fase'!$O$8:$O$815) -> 3 | R14: =(1000000*((3*M14)+N14))+(10000*M14)+(100*(P14-Q14))+P14+(0.001*(6-T14)) -> 11030811 | S14: =RANK(R14,$R$10:$R$16) -> 3 | T14: 5 | U14: =IF($S$10=T14,10,0)+IF($S$11=T14,11,0)+IF($S$12=T14,12,0)+IF($S$13=T14,13,0)+IF($S$14=T14,14,0)+IF($S$15=T14,15,0)+IF($S$16=T14,16,0) -> 15 | W14: =CONCATENATE("'Auxiliar'!",W$1,$U14) -> 'Auxiliar'!L15 | X14: =CONCATENATE("'Auxiliar'!",X$1,$U14) -> 'Auxiliar'!M15 | Y14: =CONCATENATE("'Auxiliar'!",Y$1,$U14) -> 'Auxiliar'!N15 | Z14: =CONCATENATE("'Auxiliar'!",Z$1,$U14) -> 'Auxiliar'!O15 | AA14: =CONCATENATE("'Auxiliar'!",AA$1,$U14) -> 'Auxiliar'!P15 | AB14: =CONCATENATE("'Auxiliar'!",AB$1,$U14) -> 'Auxiliar'!Q15
A15: ='Tab Primeira Fase'!N22 -> FRANCISCO | B15: =IF('Tab Primeira Fase'!O22<'Tab Primeira Fase'!Q22,0,IF('Tab Primeira Fase'!O22='Tab Primeira Fase'!Q22,1,IF('Tab Primeira Fase'!O22>'Tab Primeira Fase'!Q22,2))) -> 0 | C15: ='Tab Primeira Fase'!R22 -> MAGNO | D15: =IF('Tab Primeira Fase'!O22>'Tab Primeira Fase'!Q22,0,IF('Tab Primeira Fase'!O22='Tab Primeira Fase'!Q22,1,IF('Tab Primeira Fase'!O22<'Tab Primeira Fase'!Q22,2))) -> 2 | E15: =IF(ISNUMBER('Tab Primeira Fase'!O22),1,0) -> 1 | F15: =IF(B15*E15=2,1,0) -> 0 | G15: =IF(B15*E15=1,1,0) -> 0 | H15: =IF(B15=0,IF(E15=1,1,0),0) -> 1 | I15: =IF(E15*D15=2,1,0) -> 1 | J15: =IF(E15*D15=1,1,0) -> 0 | K15: =IF(D15=0,IF(E15=1,1,0),0) -> 0 | L15: AÉCIO | M15: =SUMIF($A$1:$A$708,L15,$F$1:$F$708)+SUMIF($C$1:$C$708,L15,$I$1:$I$708) -> 2 | N15: =SUMIF($A$1:$A$708,L15,$G$1:$G$708)+SUMIF($C$1:$C$708,L15,$J$1:$J$708) -> 1 | O15: =SUMIF($A$1:$A$708,L15,$H$1:$H$708)+SUMIF($C$1:$C$708,L15,$K$1:$K$708) -> 3 | P15: =SUMIF('Tab Primeira Fase'!$N$8:$N$815,L15,'Tab Primeira Fase'!$O$8:$O$815)+SUMIF('Tab Primeira Fase'!$R$8:$R$815,L15,'Tab Primeira Fase'!$Q$8:$Q$815) -> 5 | Q15: =SUMIF('Tab Primeira Fase'!$N$8:$N$815,L15,'Tab Primeira Fase'!$Q$8:$Q$815)+SUMIF('Tab Primeira Fase'!$R$8:$R$815,L15,'Tab Primeira Fase'!$O$8:$O$815) -> 7 | R15: =(1000000*((3*M15)+N15))+(10000*M15)+(100*(P15-Q15))+P15+(0.001*(6-T15)) -> 7019805 | S15: =RANK(R15,$R$10:$R$16) -> 5 | T15: 6 | U15: =IF($S$10=T15,10,0)+IF($S$11=T15,11,0)+IF($S$12=T15,12,0)+IF($S$13=T15,13,0)+IF($S$14=T15,14,0)+IF($S$15=T15,15,0)+IF($S$16=T15,16,0) -> 13 | W15: =CONCATENATE("'Auxiliar'!",W$1,$U15) -> 'Auxiliar'!L13 | X15: =CONCATENATE("'Auxiliar'!",X$1,$U15) -> 'Auxiliar'!M13 | Y15: =CONCATENATE("'Auxiliar'!",Y$1,$U15) -> 'Auxiliar'!N13 | Z15: =CONCATENATE("'Auxiliar'!",Z$1,$U15) -> 'Auxiliar'!O13 | AA15: =CONCATENATE("'Auxiliar'!",AA$1,$U15) -> 'Auxiliar'!P13 | AB15: =CONCATENATE("'Auxiliar'!",AB$1,$U15) -> 'Auxiliar'!Q13
A16: ='Tab Primeira Fase'!N23 -> JUNIOR | B16: =IF('Tab Primeira Fase'!O23<'Tab Primeira Fase'!Q23,0,IF('Tab Primeira Fase'!O23='Tab Primeira Fase'!Q23,1,IF('Tab Primeira Fase'!O23>'Tab Primeira Fase'!Q23,2))) -> 2 | C16: ='Tab Primeira Fase'!R23 -> AÉCIO | D16: =IF('Tab Primeira Fase'!O23>'Tab Primeira Fase'!Q23,0,IF('Tab Primeira Fase'!O23='Tab Primeira Fase'!Q23,1,IF('Tab Primeira Fase'!O23<'Tab Primeira Fase'!Q23,2))) -> 0 | E16: =IF(ISNUMBER('Tab Primeira Fase'!O23),1,0) -> 1 | F16: =IF(B16*E16=2,1,0) -> 1 | G16: =IF(B16*E16=1,1,0) -> 0 | H16: =IF(B16=0,IF(E16=1,1,0),0) -> 0 | I16: =IF(E16*D16=2,1,0) -> 0 | J16: =IF(E16*D16=1,1,0) -> 0 | K16: =IF(D16=0,IF(E16=1,1,0),0) -> 1 | L16: RODRIGO GUIMARÃES | M16: =SUMIF($A$1:$A$708,L16,$F$1:$F$708)+SUMIF($C$1:$C$708,L16,$I$1:$I$708) -> 0 | N16: =SUMIF($A$1:$A$708,L16,$G$1:$G$708)+SUMIF($C$1:$C$708,L16,$J$1:$J$708) -> 1 | O16: =SUMIF($A$1:$A$708,L16,$H$1:$H$708)+SUMIF($C$1:$C$708,L16,$K$1:$K$708) -> 5 | P16: =SUMIF('Tab Primeira Fase'!$N$8:$N$815,L16,'Tab Primeira Fase'!$O$8:$O$815)+SUMIF('Tab Primeira Fase'!$R$8:$R$815,L16,'Tab Primeira Fase'!$Q$8:$Q$815) -> 0 | Q16: =SUMIF('Tab Primeira Fase'!$N$8:$N$815,L16,'Tab Primeira Fase'!$Q$8:$Q$815)+SUMIF('Tab Primeira Fase'!$R$8:$R$815,L16,'Tab Primeira Fase'!$O$8:$O$815) -> 12 | R16: =(1000000*((3*M16)+N16))+(10000*M16)+(100*(P16-Q16))+P16+(0.001*(6-T16)) -> 998800 | S16: =RANK(R16,$R$10:$R$16) -> 7 | T16: 7 | U16: =IF($S$10=T16,10,0)+IF($S$11=T16,11,0)+IF($S$12=T16,12,0)+IF($S$13=T16,13,0)+IF($S$14=T16,14,0)+IF($S$15=T16,15,0)+IF($S$16=T16,16,0) -> 16 | W16: =CONCATENATE("'Auxiliar'!",W$1,$U16) -> 'Auxiliar'!L16 | X16: =CONCATENATE("'Auxiliar'!",X$1,$U16) -> 'Auxiliar'!M16 | Y16: =CONCATENATE("'Auxiliar'!",Y$1,$U16) -> 'Auxiliar'!N16 | Z16: =CONCATENATE("'Auxiliar'!",Z$1,$U16) -> 'Auxiliar'!O16 | AA16: =CONCATENATE("'Auxiliar'!",AA$1,$U16) -> 'Auxiliar'!P16 | AB16: =CONCATENATE("'Auxiliar'!",AB$1,$U16) -> 'Auxiliar'!Q16
A17: ='Tab Primeira Fase'!N24 -> VANDER | B17: =IF('Tab Primeira Fase'!O24<'Tab Primeira Fase'!Q24,0,IF('Tab Primeira Fase'!O24='Tab Primeira Fase'!Q24,1,IF('Tab Primeira Fase'!O24>'Tab Primeira Fase'!Q24,2))) -> 1 | C17: ='Tab Primeira Fase'!R24 -> RODRIGO BARROS | D17: =IF('Tab Primeira Fase'!O24>'Tab Primeira Fase'!Q24,0,IF('Tab Primeira Fase'!O24='Tab Primeira Fase'!Q24,1,IF('Tab Primeira Fase'!O24<'Tab Primeira Fase'!Q24,2))) -> 1 | E17: =IF(ISNUMBER('Tab Primeira Fase'!O24),1,0) -> 1 | F17: =IF(B17*E17=2,1,0) -> 0 | G17: =IF(B17*E17=1,1,0) -> 1 | H17: =IF(B17=0,IF(E17=1,1,0),0) -> 0 | I17: =IF(E17*D17=2,1,0) -> 0 | J17: =IF(E17*D17=1,1,0) -> 1 | K17: =IF(D17=0,IF(E17=1,1,0),0) -> 0
A18: ='Tab Primeira Fase'!N25 -> HÉLIO | B18: =IF('Tab Primeira Fase'!O25<'Tab Primeira Fase'!Q25,0,IF('Tab Primeira Fase'!O25='Tab Primeira Fase'!Q25,1,IF('Tab Primeira Fase'!O25>'Tab Primeira Fase'!Q25,2))) -> 2 | C18: ='Tab Primeira Fase'!R25 -> FELIPE | D18: =IF('Tab Primeira Fase'!O25>'Tab Primeira Fase'!Q25,0,IF('Tab Primeira Fase'!O25='Tab Primeira Fase'!Q25,1,IF('Tab Primeira Fase'!O25<'Tab Primeira Fase'!Q25,2))) -> 0 | E18: =IF(ISNUMBER('Tab Primeira Fase'!O25),1,0) -> 1 | F18: =IF(B18*E18=2,1,0) -> 1 | G18: =IF(B18*E18=1,1,0) -> 0 | H18: =IF(B18=0,IF(E18=1,1,0),0) -> 0 | I18: =IF(E18*D18=2,1,0) -> 0 | J18: =IF(E18*D18=1,1,0) -> 0 | K18: =IF(D18=0,IF(E18=1,1,0),0) -> 1 | L18: ALCIDES | M18: =SUMIF($A$1:$A$708,L18,$F$1:$F$708)+SUMIF($C$1:$C$708,L18,$I$1:$I$708) -> 4 | N18: =SUMIF($A$1:$A$708,L18,$G$1:$G$708)+SUMIF($C$1:$C$708,L18,$J$1:$J$708) -> 2 | O18: =SUMIF($A$1:$A$708,L18,$H$1:$H$708)+SUMIF($C$1:$C$708,L18,$K$1:$K$708) -> 0 | P18: =SUMIF('Tab Primeira Fase'!$N$8:$N$815,L18,'Tab Primeira Fase'!$O$8:$O$815)+SUMIF('Tab Primeira Fase'!$R$8:$R$815,L18,'Tab Primeira Fase'!$Q$8:$Q$815) -> 13 | Q18: =SUMIF('Tab Primeira Fase'!$N$8:$N$815,L18,'Tab Primeira Fase'!$Q$8:$Q$815)+SUMIF('Tab Primeira Fase'!$R$8:$R$815,L18,'Tab Primeira Fase'!$O$8:$O$815) -> 4 | R18: =(1000000*((3*M18)+N18))+(10000*M18)+(100*(P18-Q18))+P18+(0.001*(6-T18)) -> 14040913 | S18: =RANK(R18,$R$18:$R$24) -> 1 | T18: 1 | U18: =IF($S$18=T18,18,0)+IF($S$19=T18,19,0)+IF($S$20=T18,20,0)+IF($S$21=T18,21,0)+IF($S$22=T18,22,0)+IF($S$23=T18,23,0)+IF($S$24=T18,24,0) -> 18 | W18: =CONCATENATE("'Auxiliar'!",W$1,$U18) -> 'Auxiliar'!L18 | X18: =CONCATENATE("'Auxiliar'!",X$1,$U18) -> 'Auxiliar'!M18 | Y18: =CONCATENATE("'Auxiliar'!",Y$1,$U18) -> 'Auxiliar'!N18 | Z18: =CONCATENATE("'Auxiliar'!",Z$1,$U18) -> 'Auxiliar'!O18 | AA18: =CONCATENATE("'Auxiliar'!",AA$1,$U18) -> 'Auxiliar'!P18 | AB18: =CONCATENATE("'Auxiliar'!",AB$1,$U18) -> 'Auxiliar'!Q18
A19: ='Tab Primeira Fase'!N26 -> ALCIDES | B19: =IF('Tab Primeira Fase'!O26<'Tab Primeira Fase'!Q26,0,IF('Tab Primeira Fase'!O26='Tab Primeira Fase'!Q26,1,IF('Tab Primeira Fase'!O26>'Tab Primeira Fase'!Q26,2))) -> 1 | C19: ='Tab Primeira Fase'!R26 -> TONINHO | D19: =IF('Tab Primeira Fase'!O26>'Tab Primeira Fase'!Q26,0,IF('Tab Primeira Fase'!O26='Tab Primeira Fase'!Q26,1,IF('Tab Primeira Fase'!O26<'Tab Primeira Fase'!Q26,2))) -> 1 | E19: =IF(ISNUMBER('Tab Primeira Fase'!O26),1,0) -> 1 | F19: =IF(B19*E19=2,1,0) -> 0 | G19: =IF(B19*E19=1,1,0) -> 1 | H19: =IF(B19=0,IF(E19=1,1,0),0) -> 0 | I19: =IF(E19*D19=2,1,0) -> 0 | J19: =IF(E19*D19=1,1,0) -> 1 | K19: =IF(D19=0,IF(E19=1,1,0),0) -> 0 | L19: BETO | M19: =SUMIF($A$1:$A$708,L19,$F$1:$F$708)+SUMIF($C$1:$C$708,L19,$I$1:$I$708) -> 3 | N19: =SUMIF($A$1:$A$708,L19,$G$1:$G$708)+SUMIF($C$1:$C$708,L19,$J$1:$J$708) -> 2 | O19: =SUMIF($A$1:$A$708,L19,$H$1:$H$708)+SUMIF($C$1:$C$708,L19,$K$1:$K$708) -> 1 | P19: =SUMIF('Tab Primeira Fase'!$N$8:$N$815,L19,'Tab Primeira Fase'!$O$8:$O$815)+SUMIF('Tab Primeira Fase'!$R$8:$R$815,L19,'Tab Primeira Fase'!$Q$8:$Q$815) -> 8 | Q19: =SUMIF('Tab Primeira Fase'!$N$8:$N$815,L19,'Tab Primeira Fase'!$Q$8:$Q$815)+SUMIF('Tab Primeira Fase'!$R$8:$R$815,L19,'Tab Primeira Fase'!$O$8:$O$815) -> 5 | R19: =(1000000*((3*M19)+N19))+(10000*M19)+(100*(P19-Q19))+P19+(0.001*(6-T19)) -> 11030308 | S19: =RANK(R19,$R$18:$R$24) -> 3 | T19: 2 | U19: =IF($S$18=T19,18,0)+IF($S$19=T19,19,0)+IF($S$20=T19,20,0)+IF($S$21=T19,21,0)+IF($S$22=T19,22,0)+IF($S$23=T19,23,0)+IF($S$24=T19,24,0) -> 23 | W19: =CONCATENATE("'Auxiliar'!",W$1,$U19) -> 'Auxiliar'!L23 | X19: =CONCATENATE("'Auxiliar'!",X$1,$U19) -> 'Auxiliar'!M23 | Y19: =CONCATENATE("'Auxiliar'!",Y$1,$U19) -> 'Auxiliar'!N23 | Z19: =CONCATENATE("'Auxiliar'!",Z$1,$U19) -> 'Auxiliar'!O23 | AA19: =CONCATENATE("'Auxiliar'!",AA$1,$U19) -> 'Auxiliar'!P23 | AB19: =CONCATENATE("'Auxiliar'!",AB$1,$U19) -> 'Auxiliar'!Q23
A20: ='Tab Primeira Fase'!N27 -> BETO | B20: =IF('Tab Primeira Fase'!O27<'Tab Primeira Fase'!Q27,0,IF('Tab Primeira Fase'!O27='Tab Primeira Fase'!Q27,1,IF('Tab Primeira Fase'!O27>'Tab Primeira Fase'!Q27,2))) -> 2 | C20: ='Tab Primeira Fase'!R27 -> IZALCI | D20: =IF('Tab Primeira Fase'!O27>'Tab Primeira Fase'!Q27,0,IF('Tab Primeira Fase'!O27='Tab Primeira Fase'!Q27,1,IF('Tab Primeira Fase'!O27<'Tab Primeira Fase'!Q27,2))) -> 0 | E20: =IF(ISNUMBER('Tab Primeira Fase'!O27),1,0) -> 1 | F20: =IF(B20*E20=2,1,0) -> 1 | G20: =IF(B20*E20=1,1,0) -> 0 | H20: =IF(B20=0,IF(E20=1,1,0),0) -> 0 | I20: =IF(E20*D20=2,1,0) -> 0 | J20: =IF(E20*D20=1,1,0) -> 0 | K20: =IF(D20=0,IF(E20=1,1,0),0) -> 1 | L20: HEAVY | M20: =SUMIF($A$1:$A$708,L20,$F$1:$F$708)+SUMIF($C$1:$C$708,L20,$I$1:$I$708) -> 1 | N20: =SUMIF($A$1:$A$708,L20,$G$1:$G$708)+SUMIF($C$1:$C$708,L20,$J$1:$J$708) -> 4 | O20: =SUMIF($A$1:$A$708,L20,$H$1:$H$708)+SUMIF($C$1:$C$708,L20,$K$1:$K$708) -> 1 | P20: =SUMIF('Tab Primeira Fase'!$N$8:$N$815,L20,'Tab Primeira Fase'!$O$8:$O$815)+SUMIF('Tab Primeira Fase'!$R$8:$R$815,L20,'Tab Primeira Fase'!$Q$8:$Q$815) -> 6 | Q20: =SUMIF('Tab Primeira Fase'!$N$8:$N$815,L20,'Tab Primeira Fase'!$Q$8:$Q$815)+SUMIF('Tab Primeira Fase'!$R$8:$R$815,L20,'Tab Primeira Fase'!$O$8:$O$815) -> 5 | R20: =(1000000*((3*M20)+N20))+(10000*M20)+(100*(P20-Q20))+P20+(0.001*(6-T20)) -> 7010106 | S20: =RANK(R20,$R$18:$R$24) -> 4 | T20: 3 | U20: =IF($S$18=T20,18,0)+IF($S$19=T20,19,0)+IF($S$20=T20,20,0)+IF($S$21=T20,21,0)+IF($S$22=T20,22,0)+IF($S$23=T20,23,0)+IF($S$24=T20,24,0) -> 19 | W20: =CONCATENATE("'Auxiliar'!",W$1,$U20) -> 'Auxiliar'!L19 | X20: =CONCATENATE("'Auxiliar'!",X$1,$U20) -> 'Auxiliar'!M19 | Y20: =CONCATENATE("'Auxiliar'!",Y$1,$U20) -> 'Auxiliar'!N19 | Z20: =CONCATENATE("'Auxiliar'!",Z$1,$U20) -> 'Auxiliar'!O19 | AA20: =CONCATENATE("'Auxiliar'!",AA$1,$U20) -> 'Auxiliar'!P19 | AB20: =CONCATENATE("'Auxiliar'!",AB$1,$U20) -> 'Auxiliar'!Q19
A21: ='Tab Primeira Fase'!N28 -> HEAVY | B21: =IF('Tab Primeira Fase'!O28<'Tab Primeira Fase'!Q28,0,IF('Tab Primeira Fase'!O28='Tab Primeira Fase'!Q28,1,IF('Tab Primeira Fase'!O28>'Tab Primeira Fase'!Q28,2))) -> 1 | C21: ='Tab Primeira Fase'!R28 -> PAULO CÉSAR | D21: =IF('Tab Primeira Fase'!O28>'Tab Primeira Fase'!Q28,0,IF('Tab Primeira Fase'!O28='Tab Primeira Fase'!Q28,1,IF('Tab Primeira Fase'!O28<'Tab Primeira Fase'!Q28,2))) -> 1 | E21: =IF(ISNUMBER('Tab Primeira Fase'!O28),1,0) -> 1 | F21: =IF(B21*E21=2,1,0) -> 0 | G21: =IF(B21*E21=1,1,0) -> 1 | H21: =IF(B21=0,IF(E21=1,1,0),0) -> 0 | I21: =IF(E21*D21=2,1,0) -> 0 | J21: =IF(E21*D21=1,1,0) -> 1 | K21: =IF(D21=0,IF(E21=1,1,0),0) -> 0 | L21: PAULO CÉSAR | M21: =SUMIF($A$1:$A$708,L21,$F$1:$F$708)+SUMIF($C$1:$C$708,L21,$I$1:$I$708) -> 0 | N21: =SUMIF($A$1:$A$708,L21,$G$1:$G$708)+SUMIF($C$1:$C$708,L21,$J$1:$J$708) -> 2 | O21: =SUMIF($A$1:$A$708,L21,$H$1:$H$708)+SUMIF($C$1:$C$708,L21,$K$1:$K$708) -> 4 | P21: =SUMIF('Tab Primeira Fase'!$N$8:$N$815,L21,'Tab Primeira Fase'!$O$8:$O$815)+SUMIF('Tab Primeira Fase'!$R$8:$R$815,L21,'Tab Primeira Fase'!$Q$8:$Q$815) -> 2 | Q21: =SUMIF('Tab Primeira Fase'!$N$8:$N$815,L21,'Tab Primeira Fase'!$Q$8:$Q$815)+SUMIF('Tab Primeira Fase'!$R$8:$R$815,L21,'Tab Primeira Fase'!$O$8:$O$815) -> 12 | R21: =(1000000*((3*M21)+N21))+(10000*M21)+(100*(P21-Q21))+P21+(0.001*(6-T21)) -> 1999002 | S21: =RANK(R21,$R$18:$R$24) -> 7 | T21: 4 | U21: =IF($S$18=T21,18,0)+IF($S$19=T21,19,0)+IF($S$20=T21,20,0)+IF($S$21=T21,21,0)+IF($S$22=T21,22,0)+IF($S$23=T21,23,0)+IF($S$24=T21,24,0) -> 20 | W21: =CONCATENATE("'Auxiliar'!",W$1,$U21) -> 'Auxiliar'!L20 | X21: =CONCATENATE("'Auxiliar'!",X$1,$U21) -> 'Auxiliar'!M20 | Y21: =CONCATENATE("'Auxiliar'!",Y$1,$U21) -> 'Auxiliar'!N20 | Z21: =CONCATENATE("'Auxiliar'!",Z$1,$U21) -> 'Auxiliar'!O20 | AA21: =CONCATENATE("'Auxiliar'!",AA$1,$U21) -> 'Auxiliar'!P20 | AB21: =CONCATENATE("'Auxiliar'!",AB$1,$U21) -> 'Auxiliar'!Q20
A22: ='Tab Primeira Fase'!N29 -> LUIZ CLAUDIO | B22: =IF('Tab Primeira Fase'!O29<'Tab Primeira Fase'!Q29,0,IF('Tab Primeira Fase'!O29='Tab Primeira Fase'!Q29,1,IF('Tab Primeira Fase'!O29>'Tab Primeira Fase'!Q29,2))) -> 2 | C22: ='Tab Primeira Fase'!R29 -> WILLIAM MOREIRA | D22: =IF('Tab Primeira Fase'!O29>'Tab Primeira Fase'!Q29,0,IF('Tab Primeira Fase'!O29='Tab Primeira Fase'!Q29,1,IF('Tab Primeira Fase'!O29<'Tab Primeira Fase'!Q29,2))) -> 0 | E22: =IF(ISNUMBER('Tab Primeira Fase'!O29),1,0) -> 1 | F22: =IF(B22*E22=2,1,0) -> 1 | G22: =IF(B22*E22=1,1,0) -> 0 | H22: =IF(B22=0,IF(E22=1,1,0),0) -> 0 | I22: =IF(E22*D22=2,1,0) -> 0 | J22: =IF(E22*D22=1,1,0) -> 0 | K22: =IF(D22=0,IF(E22=1,1,0),0) -> 1 | L22: IZALCI | M22: =SUMIF($A$1:$A$708,L22,$F$1:$F$708)+SUMIF($C$1:$C$708,L22,$I$1:$I$708) -> 0 | N22: =SUMIF($A$1:$A$708,L22,$G$1:$G$708)+SUMIF($C$1:$C$708,L22,$J$1:$J$708) -> 3 | O22: =SUMIF($A$1:$A$708,L22,$H$1:$H$708)+SUMIF($C$1:$C$708,L22,$K$1:$K$708) -> 3 | P22: =SUMIF('Tab Primeira Fase'!$N$8:$N$815,L22,'Tab Primeira Fase'!$O$8:$O$815)+SUMIF('Tab Primeira Fase'!$R$8:$R$815,L22,'Tab Primeira Fase'!$Q$8:$Q$815) -> 4 | Q22: =SUMIF('Tab Primeira Fase'!$N$8:$N$815,L22,'Tab Primeira Fase'!$Q$8:$Q$815)+SUMIF('Tab Primeira Fase'!$R$8:$R$815,L22,'Tab Primeira Fase'!$O$8:$O$815) -> 9 | R22: =(1000000*((3*M22)+N22))+(10000*M22)+(100*(P22-Q22))+P22+(0.001*(6-T22)) -> 2999504 | S22: =RANK(R22,$R$18:$R$24) -> 6 | T22: 5 | U22: =IF($S$18=T22,18,0)+IF($S$19=T22,19,0)+IF($S$20=T22,20,0)+IF($S$21=T22,21,0)+IF($S$22=T22,22,0)+IF($S$23=T22,23,0)+IF($S$24=T22,24,0) -> 24 | W22: =CONCATENATE("'Auxiliar'!",W$1,$U22) -> 'Auxiliar'!L24 | X22: =CONCATENATE("'Auxiliar'!",X$1,$U22) -> 'Auxiliar'!M24 | Y22: =CONCATENATE("'Auxiliar'!",Y$1,$U22) -> 'Auxiliar'!N24 | Z22: =CONCATENATE("'Auxiliar'!",Z$1,$U22) -> 'Auxiliar'!O24 | AA22: =CONCATENATE("'Auxiliar'!",AA$1,$U22) -> 'Auxiliar'!P24 | AB22: =CONCATENATE("'Auxiliar'!",AB$1,$U22) -> 'Auxiliar'!Q24
A23: ='Tab Primeira Fase'!N30 -> THIAGO | B23: =IF('Tab Primeira Fase'!O30<'Tab Primeira Fase'!Q30,0,IF('Tab Primeira Fase'!O30='Tab Primeira Fase'!Q30,1,IF('Tab Primeira Fase'!O30>'Tab Primeira Fase'!Q30,2))) -> 2 | C23: ='Tab Primeira Fase'!R30 -> LUIZ GOMES | D23: =IF('Tab Primeira Fase'!O30>'Tab Primeira Fase'!Q30,0,IF('Tab Primeira Fase'!O30='Tab Primeira Fase'!Q30,1,IF('Tab Primeira Fase'!O30<'Tab Primeira Fase'!Q30,2))) -> 0 | E23: =IF(ISNUMBER('Tab Primeira Fase'!O30),1,0) -> 1 | F23: =IF(B23*E23=2,1,0) -> 1 | G23: =IF(B23*E23=1,1,0) -> 0 | H23: =IF(B23=0,IF(E23=1,1,0),0) -> 0 | I23: =IF(E23*D23=2,1,0) -> 0 | J23: =IF(E23*D23=1,1,0) -> 0 | K23: =IF(D23=0,IF(E23=1,1,0),0) -> 1 | L23: TONINHO | M23: =SUMIF($A$1:$A$708,L23,$F$1:$F$708)+SUMIF($C$1:$C$708,L23,$I$1:$I$708) -> 4 | N23: =SUMIF($A$1:$A$708,L23,$G$1:$G$708)+SUMIF($C$1:$C$708,L23,$J$1:$J$708) -> 2 | O23: =SUMIF($A$1:$A$708,L23,$H$1:$H$708)+SUMIF($C$1:$C$708,L23,$K$1:$K$708) -> 0 | P23: =SUMIF('Tab Primeira Fase'!$N$8:$N$815,L23,'Tab Primeira Fase'!$O$8:$O$815)+SUMIF('Tab Primeira Fase'!$R$8:$R$815,L23,'Tab Primeira Fase'!$Q$8:$Q$815) -> 10 | Q23: =SUMIF('Tab Primeira Fase'!$N$8:$N$815,L23,'Tab Primeira Fase'!$Q$8:$Q$815)+SUMIF('Tab Primeira Fase'!$R$8:$R$815,L23,'Tab Primeira Fase'!$O$8:$O$815) -> 3 | R23: =(1000000*((3*M23)+N23))+(10000*M23)+(100*(P23-Q23))+P23+(0.001*(6-T23)) -> 14040710 | S23: =RANK(R23,$R$18:$R$24) -> 2 | T23: 6 | U23: =IF($S$18=T23,18,0)+IF($S$19=T23,19,0)+IF($S$20=T23,20,0)+IF($S$21=T23,21,0)+IF($S$22=T23,22,0)+IF($S$23=T23,23,0)+IF($S$24=T23,24,0) -> 22 | W23: =CONCATENATE("'Auxiliar'!",W$1,$U23) -> 'Auxiliar'!L22 | X23: =CONCATENATE("'Auxiliar'!",X$1,$U23) -> 'Auxiliar'!M22 | Y23: =CONCATENATE("'Auxiliar'!",Y$1,$U23) -> 'Auxiliar'!N22 | Z23: =CONCATENATE("'Auxiliar'!",Z$1,$U23) -> 'Auxiliar'!O22 | AA23: =CONCATENATE("'Auxiliar'!",AA$1,$U23) -> 'Auxiliar'!P22 | AB23: =CONCATENATE("'Auxiliar'!",AB$1,$U23) -> 'Auxiliar'!Q22
A24: ='Tab Primeira Fase'!N31 -> VASQUES | B24: =IF('Tab Primeira Fase'!O31<'Tab Primeira Fase'!Q31,0,IF('Tab Primeira Fase'!O31='Tab Primeira Fase'!Q31,1,IF('Tab Primeira Fase'!O31>'Tab Primeira Fase'!Q31,2))) -> 1 | C24: ='Tab Primeira Fase'!R31 -> AMAURI | D24: =IF('Tab Primeira Fase'!O31>'Tab Primeira Fase'!Q31,0,IF('Tab Primeira Fase'!O31='Tab Primeira Fase'!Q31,1,IF('Tab Primeira Fase'!O31<'Tab Primeira Fase'!Q31,2))) -> 1 | E24: =IF(ISNUMBER('Tab Primeira Fase'!O31),1,0) -> 1 | F24: =IF(B24*E24=2,1,0) -> 0 | G24: =IF(B24*E24=1,1,0) -> 1 | H24: =IF(B24=0,IF(E24=1,1,0),0) -> 0 | I24: =IF(E24*D24=2,1,0) -> 0 | J24: =IF(E24*D24=1,1,0) -> 1 | K24: =IF(D24=0,IF(E24=1,1,0),0) -> 0 | L24: MARQUINHOS | M24: =SUMIF($A$1:$A$708,L24,$F$1:$F$708)+SUMIF($C$1:$C$708,L24,$I$1:$I$708) -> 1 | N24: =SUMIF($A$1:$A$708,L24,$G$1:$G$708)+SUMIF($C$1:$C$708,L24,$J$1:$J$708) -> 1 | O24: =SUMIF($A$1:$A$708,L24,$H$1:$H$708)+SUMIF($C$1:$C$708,L24,$K$1:$K$708) -> 4 | P24: =SUMIF('Tab Primeira Fase'!$N$8:$N$815,L24,'Tab Primeira Fase'!$O$8:$O$815)+SUMIF('Tab Primeira Fase'!$R$8:$R$815,L24,'Tab Primeira Fase'!$Q$8:$Q$815) -> 4 | Q24: =SUMIF('Tab Primeira Fase'!$N$8:$N$815,L24,'Tab Primeira Fase'!$Q$8:$Q$815)+SUMIF('Tab Primeira Fase'!$R$8:$R$815,L24,'Tab Primeira Fase'!$O$8:$O$815) -> 9 | R24: =(1000000*((3*M24)+N24))+(10000*M24)+(100*(P24-Q24))+P24+(0.001*(6-T24)) -> 4009504 | S24: =RANK(R24,$R$18:$R$24) -> 5 | T24: 7 | U24: =IF($S$18=T24,18,0)+IF($S$19=T24,19,0)+IF($S$20=T24,20,0)+IF($S$21=T24,21,0)+IF($S$22=T24,22,0)+IF($S$23=T24,23,0)+IF($S$24=T24,24,0) -> 21 | W24: =CONCATENATE("'Auxiliar'!",W$1,$U24) -> 'Auxiliar'!L21 | X24: =CONCATENATE("'Auxiliar'!",X$1,$U24) -> 'Auxiliar'!M21 | Y24: =CONCATENATE("'Auxiliar'!",Y$1,$U24) -> 'Auxiliar'!N21 | Z24: =CONCATENATE("'Auxiliar'!",Z$1,$U24) -> 'Auxiliar'!O21 | AA24: =CONCATENATE("'Auxiliar'!",AA$1,$U24) -> 'Auxiliar'!P21 | AB24: =CONCATENATE("'Auxiliar'!",AB$1,$U24) -> 'Auxiliar'!Q21
A25: ='Tab Primeira Fase'!N32 -> MAGNO | B25: =IF('Tab Primeira Fase'!O32<'Tab Primeira Fase'!Q32,0,IF('Tab Primeira Fase'!O32='Tab Primeira Fase'!Q32,1,IF('Tab Primeira Fase'!O32>'Tab Primeira Fase'!Q32,2))) -> 1 | C25: ='Tab Primeira Fase'!R32 -> JORGE DIAS | D25: =IF('Tab Primeira Fase'!O32>'Tab Primeira Fase'!Q32,0,IF('Tab Primeira Fase'!O32='Tab Primeira Fase'!Q32,1,IF('Tab Primeira Fase'!O32<'Tab Primeira Fase'!Q32,2))) -> 1 | E25: =IF(ISNUMBER('Tab Primeira Fase'!O32),1,0) -> 1 | F25: =IF(B25*E25=2,1,0) -> 0 | G25: =IF(B25*E25=1,1,0) -> 1 | H25: =IF(B25=0,IF(E25=1,1,0),0) -> 0 | I25: =IF(E25*D25=2,1,0) -> 0 | J25: =IF(E25*D25=1,1,0) -> 1 | K25: =IF(D25=0,IF(E25=1,1,0),0) -> 0
A26: ='Tab Primeira Fase'!N33 -> ANDRÉ BRANDÃO | B26: =IF('Tab Primeira Fase'!O33<'Tab Primeira Fase'!Q33,0,IF('Tab Primeira Fase'!O33='Tab Primeira Fase'!Q33,1,IF('Tab Primeira Fase'!O33>'Tab Primeira Fase'!Q33,2))) -> 1 | C26: ='Tab Primeira Fase'!R33 -> JULIANO | D26: =IF('Tab Primeira Fase'!O33>'Tab Primeira Fase'!Q33,0,IF('Tab Primeira Fase'!O33='Tab Primeira Fase'!Q33,1,IF('Tab Primeira Fase'!O33<'Tab Primeira Fase'!Q33,2))) -> 1 | E26: =IF(ISNUMBER('Tab Primeira Fase'!O33),1,0) -> 1 | F26: =IF(B26*E26=2,1,0) -> 0 | G26: =IF(B26*E26=1,1,0) -> 1 | H26: =IF(B26=0,IF(E26=1,1,0),0) -> 0 | I26: =IF(E26*D26=2,1,0) -> 0 | J26: =IF(E26*D26=1,1,0) -> 1 | K26: =IF(D26=0,IF(E26=1,1,0),0) -> 0 | L26: LUIZ CLAUDIO | M26: =SUMIF($A$1:$A$708,L26,$F$1:$F$708)+SUMIF($C$1:$C$708,L26,$I$1:$I$708) -> 5 | N26: =SUMIF($A$1:$A$708,L26,$G$1:$G$708)+SUMIF($C$1:$C$708,L26,$J$1:$J$708) -> 0 | O26: =SUMIF($A$1:$A$708,L26,$H$1:$H$708)+SUMIF($C$1:$C$708,L26,$K$1:$K$708) -> 1 | P26: =SUMIF('Tab Primeira Fase'!$N$8:$N$815,L26,'Tab Primeira Fase'!$O$8:$O$815)+SUMIF('Tab Primeira Fase'!$R$8:$R$815,L26,'Tab Primeira Fase'!$Q$8:$Q$815) -> 13 | Q26: =SUMIF('Tab Primeira Fase'!$N$8:$N$815,L26,'Tab Primeira Fase'!$Q$8:$Q$815)+SUMIF('Tab Primeira Fase'!$R$8:$R$815,L26,'Tab Primeira Fase'!$O$8:$O$815) -> 3 | R26: =(1000000*((3*M26)+N26))+(10000*M26)+(100*(P26-Q26))+P26+(0.001*(6-T26)) -> 15051013 | S26: =RANK(R26,$R$26:$R$32) -> 1 | T26: 1 | U26: =IF($S$26=T26,26,0)+IF($S$27=T26,27,0)+IF($S$28=T26,28,0)+IF($S$29=T26,29,0)+IF($S$30=T26,30,0)+IF($S$31=T26,31,0)+IF($S$32=T26,32,0) -> 26 | W26: =CONCATENATE("'Auxiliar'!",W$1,$U26) -> 'Auxiliar'!L26 | X26: =CONCATENATE("'Auxiliar'!",X$1,$U26) -> 'Auxiliar'!M26 | Y26: =CONCATENATE("'Auxiliar'!",Y$1,$U26) -> 'Auxiliar'!N26 | Z26: =CONCATENATE("'Auxiliar'!",Z$1,$U26) -> 'Auxiliar'!O26 | AA26: =CONCATENATE("'Auxiliar'!",AA$1,$U26) -> 'Auxiliar'!P26 | AB26: =CONCATENATE("'Auxiliar'!",AB$1,$U26) -> 'Auxiliar'!Q26
A27: ='Tab Primeira Fase'!N34 -> MALCHER | B27: =IF('Tab Primeira Fase'!O34<'Tab Primeira Fase'!Q34,0,IF('Tab Primeira Fase'!O34='Tab Primeira Fase'!Q34,1,IF('Tab Primeira Fase'!O34>'Tab Primeira Fase'!Q34,2))) -> 0 | C27: ='Tab Primeira Fase'!R34 -> MARCELO PORTO | D27: =IF('Tab Primeira Fase'!O34>'Tab Primeira Fase'!Q34,0,IF('Tab Primeira Fase'!O34='Tab Primeira Fase'!Q34,1,IF('Tab Primeira Fase'!O34<'Tab Primeira Fase'!Q34,2))) -> 2 | E27: =IF(ISNUMBER('Tab Primeira Fase'!O34),1,0) -> 1 | F27: =IF(B27*E27=2,1,0) -> 0 | G27: =IF(B27*E27=1,1,0) -> 0 | H27: =IF(B27=0,IF(E27=1,1,0),0) -> 1 | I27: =IF(E27*D27=2,1,0) -> 1 | J27: =IF(E27*D27=1,1,0) -> 0 | K27: =IF(D27=0,IF(E27=1,1,0),0) -> 0 | L27: THIAGO | M27: =SUMIF($A$1:$A$708,L27,$F$1:$F$708)+SUMIF($C$1:$C$708,L27,$I$1:$I$708) -> 3 | N27: =SUMIF($A$1:$A$708,L27,$G$1:$G$708)+SUMIF($C$1:$C$708,L27,$J$1:$J$708) -> 2 | O27: =SUMIF($A$1:$A$708,L27,$H$1:$H$708)+SUMIF($C$1:$C$708,L27,$K$1:$K$708) -> 1 | P27: =SUMIF('Tab Primeira Fase'!$N$8:$N$815,L27,'Tab Primeira Fase'!$O$8:$O$815)+SUMIF('Tab Primeira Fase'!$R$8:$R$815,L27,'Tab Primeira Fase'!$Q$8:$Q$815) -> 6 | Q27: =SUMIF('Tab Primeira Fase'!$N$8:$N$815,L27,'Tab Primeira Fase'!$Q$8:$Q$815)+SUMIF('Tab Primeira Fase'!$R$8:$R$815,L27,'Tab Primeira Fase'!$O$8:$O$815) -> 5 | R27: =(1000000*((3*M27)+N27))+(10000*M27)+(100*(P27-Q27))+P27+(0.001*(6-T27)) -> 11030106 | S27: =RANK(R27,$R$26:$R$32) -> 2 | T27: 2 | U27: =IF($S$26=T27,26,0)+IF($S$27=T27,27,0)+IF($S$28=T27,28,0)+IF($S$29=T27,29,0)+IF($S$30=T27,30,0)+IF($S$31=T27,31,0)+IF($S$32=T27,32,0) -> 27 | W27: =CONCATENATE("'Auxiliar'!",W$1,$U27) -> 'Auxiliar'!L27 | X27: =CONCATENATE("'Auxiliar'!",X$1,$U27) -> 'Auxiliar'!M27 | Y27: =CONCATENATE("'Auxiliar'!",Y$1,$U27) -> 'Auxiliar'!N27 | Z27: =CONCATENATE("'Auxiliar'!",Z$1,$U27) -> 'Auxiliar'!O27 | AA27: =CONCATENATE("'Auxiliar'!",AA$1,$U27) -> 'Auxiliar'!P27 | AB27: =CONCATENATE("'Auxiliar'!",AB$1,$U27) -> 'Auxiliar'!Q27
A28: ='Tab Primeira Fase'!N35 -> PAULO CÉSAR | B28: =IF('Tab Primeira Fase'!O35<'Tab Primeira Fase'!Q35,0,IF('Tab Primeira Fase'!O35='Tab Primeira Fase'!Q35,1,IF('Tab Primeira Fase'!O35>'Tab Primeira Fase'!Q35,2))) -> 0 | C28: ='Tab Primeira Fase'!R35 -> BETO | D28: =IF('Tab Primeira Fase'!O35>'Tab Primeira Fase'!Q35,0,IF('Tab Primeira Fase'!O35='Tab Primeira Fase'!Q35,1,IF('Tab Primeira Fase'!O35<'Tab Primeira Fase'!Q35,2))) -> 2 | E28: =IF(ISNUMBER('Tab Primeira Fase'!O35),1,0) -> 1 | F28: =IF(B28*E28=2,1,0) -> 0 | G28: =IF(B28*E28=1,1,0) -> 0 | H28: =IF(B28=0,IF(E28=1,1,0),0) -> 1 | I28: =IF(E28*D28=2,1,0) -> 1 | J28: =IF(E28*D28=1,1,0) -> 0 | K28: =IF(D28=0,IF(E28=1,1,0),0) -> 0 | L28: VASQUES | M28: =SUMIF($A$1:$A$708,L28,$F$1:$F$708)+SUMIF($C$1:$C$708,L28,$I$1:$I$708) -> 2 | N28: =SUMIF($A$1:$A$708,L28,$G$1:$G$708)+SUMIF($C$1:$C$708,L28,$J$1:$J$708) -> 2 | O28: =SUMIF($A$1:$A$708,L28,$H$1:$H$708)+SUMIF($C$1:$C$708,L28,$K$1:$K$708) -> 2 | P28: =SUMIF('Tab Primeira Fase'!$N$8:$N$815,L28,'Tab Primeira Fase'!$O$8:$O$815)+SUMIF('Tab Primeira Fase'!$R$8:$R$815,L28,'Tab Primeira Fase'!$Q$8:$Q$815) -> 6 | Q28: =SUMIF('Tab Primeira Fase'!$N$8:$N$815,L28,'Tab Primeira Fase'!$Q$8:$Q$815)+SUMIF('Tab Primeira Fase'!$R$8:$R$815,L28,'Tab Primeira Fase'!$O$8:$O$815) -> 6 | R28: =(1000000*((3*M28)+N28))+(10000*M28)+(100*(P28-Q28))+P28+(0.001*(6-T28)) -> 8020006 | S28: =RANK(R28,$R$26:$R$32) -> 3 | T28: 3 | U28: =IF($S$26=T28,26,0)+IF($S$27=T28,27,0)+IF($S$28=T28,28,0)+IF($S$29=T28,29,0)+IF($S$30=T28,30,0)+IF($S$31=T28,31,0)+IF($S$32=T28,32,0) -> 28 | W28: =CONCATENATE("'Auxiliar'!",W$1,$U28) -> 'Auxiliar'!L28 | X28: =CONCATENATE("'Auxiliar'!",X$1,$U28) -> 'Auxiliar'!M28 | Y28: =CONCATENATE("'Auxiliar'!",Y$1,$U28) -> 'Auxiliar'!N28 | Z28: =CONCATENATE("'Auxiliar'!",Z$1,$U28) -> 'Auxiliar'!O28 | AA28: =CONCATENATE("'Auxiliar'!",AA$1,$U28) -> 'Auxiliar'!P28 | AB28: =CONCATENATE("'Auxiliar'!",AB$1,$U28) -> 'Auxiliar'!Q28
A29: ='Tab Primeira Fase'!N36 -> IZALCI | B29: =IF('Tab Primeira Fase'!O36<'Tab Primeira Fase'!Q36,0,IF('Tab Primeira Fase'!O36='Tab Primeira Fase'!Q36,1,IF('Tab Primeira Fase'!O36>'Tab Primeira Fase'!Q36,2))) -> 0 | C29: ='Tab Primeira Fase'!R36 -> ALCIDES | D29: =IF('Tab Primeira Fase'!O36>'Tab Primeira Fase'!Q36,0,IF('Tab Primeira Fase'!O36='Tab Primeira Fase'!Q36,1,IF('Tab Primeira Fase'!O36<'Tab Primeira Fase'!Q36,2))) -> 2 | E29: =IF(ISNUMBER('Tab Primeira Fase'!O36),1,0) -> 1 | F29: =IF(B29*E29=2,1,0) -> 0 | G29: =IF(B29*E29=1,1,0) -> 0 | H29: =IF(B29=0,IF(E29=1,1,0),0) -> 1 | I29: =IF(E29*D29=2,1,0) -> 1 | J29: =IF(E29*D29=1,1,0) -> 0 | K29: =IF(D29=0,IF(E29=1,1,0),0) -> 0 | L29: AMAURI | M29: =SUMIF($A$1:$A$708,L29,$F$1:$F$708)+SUMIF($C$1:$C$708,L29,$I$1:$I$708) -> 2 | N29: =SUMIF($A$1:$A$708,L29,$G$1:$G$708)+SUMIF($C$1:$C$708,L29,$J$1:$J$708) -> 2 | O29: =SUMIF($A$1:$A$708,L29,$H$1:$H$708)+SUMIF($C$1:$C$708,L29,$K$1:$K$708) -> 2 | P29: =SUMIF('Tab Primeira Fase'!$N$8:$N$815,L29,'Tab Primeira Fase'!$O$8:$O$815)+SUMIF('Tab Primeira Fase'!$R$8:$R$815,L29,'Tab Primeira Fase'!$Q$8:$Q$815) -> 5 | Q29: =SUMIF('Tab Primeira Fase'!$N$8:$N$815,L29,'Tab Primeira Fase'!$Q$8:$Q$815)+SUMIF('Tab Primeira Fase'!$R$8:$R$815,L29,'Tab Primeira Fase'!$O$8:$O$815) -> 5 | R29: =(1000000*((3*M29)+N29))+(10000*M29)+(100*(P29-Q29))+P29+(0.001*(6-T29)) -> 8020005 | S29: =RANK(R29,$R$26:$R$32) -> 4 | T29: 4 | U29: =IF($S$26=T29,26,0)+IF($S$27=T29,27,0)+IF($S$28=T29,28,0)+IF($S$29=T29,29,0)+IF($S$30=T29,30,0)+IF($S$31=T29,31,0)+IF($S$32=T29,32,0) -> 29 | W29: =CONCATENATE("'Auxiliar'!",W$1,$U29) -> 'Auxiliar'!L29 | X29: =CONCATENATE("'Auxiliar'!",X$1,$U29) -> 'Auxiliar'!M29 | Y29: =CONCATENATE("'Auxiliar'!",Y$1,$U29) -> 'Auxiliar'!N29 | Z29: =CONCATENATE("'Auxiliar'!",Z$1,$U29) -> 'Auxiliar'!O29 | AA29: =CONCATENATE("'Auxiliar'!",AA$1,$U29) -> 'Auxiliar'!P29 | AB29: =CONCATENATE("'Auxiliar'!",AB$1,$U29) -> 'Auxiliar'!Q29
A30: ='Tab Primeira Fase'!N37 -> TONINHO | B30: =IF('Tab Primeira Fase'!O37<'Tab Primeira Fase'!Q37,0,IF('Tab Primeira Fase'!O37='Tab Primeira Fase'!Q37,1,IF('Tab Primeira Fase'!O37>'Tab Primeira Fase'!Q37,2))) -> 2 | C30: ='Tab Primeira Fase'!R37 -> MARQUINHOS | D30: =IF('Tab Primeira Fase'!O37>'Tab Primeira Fase'!Q37,0,IF('Tab Primeira Fase'!O37='Tab Primeira Fase'!Q37,1,IF('Tab Primeira Fase'!O37<'Tab Primeira Fase'!Q37,2))) -> 0 | E30: =IF(ISNUMBER('Tab Primeira Fase'!O37),1,0) -> 1 | F30: =IF(B30*E30=2,1,0) -> 1 | G30: =IF(B30*E30=1,1,0) -> 0 | H30: =IF(B30=0,IF(E30=1,1,0),0) -> 0 | I30: =IF(E30*D30=2,1,0) -> 0 | J30: =IF(E30*D30=1,1,0) -> 0 | K30: =IF(D30=0,IF(E30=1,1,0),0) -> 1 | L30: LUIZ GOMES | M30: =SUMIF($A$1:$A$708,L30,$F$1:$F$708)+SUMIF($C$1:$C$708,L30,$I$1:$I$708) -> 0 | N30: =SUMIF($A$1:$A$708,L30,$G$1:$G$708)+SUMIF($C$1:$C$708,L30,$J$1:$J$708) -> 0 | O30: =SUMIF($A$1:$A$708,L30,$H$1:$H$708)+SUMIF($C$1:$C$708,L30,$K$1:$K$708) -> 6 | P30: =SUMIF('Tab Primeira Fase'!$N$8:$N$815,L30,'Tab Primeira Fase'!$O$8:$O$815)+SUMIF('Tab Primeira Fase'!$R$8:$R$815,L30,'Tab Primeira Fase'!$Q$8:$Q$815) -> 2 | Q30: =SUMIF('Tab Primeira Fase'!$N$8:$N$815,L30,'Tab Primeira Fase'!$Q$8:$Q$815)+SUMIF('Tab Primeira Fase'!$R$8:$R$815,L30,'Tab Primeira Fase'!$O$8:$O$815) -> 10 | R30: =(1000000*((3*M30)+N30))+(10000*M30)+(100*(P30-Q30))+P30+(0.001*(6-T30)) -> -797.999 | S30: =RANK(R30,$R$26:$R$32) -> 7 | T30: 5 | U30: =IF($S$26=T30,26,0)+IF($S$27=T30,27,0)+IF($S$28=T30,28,0)+IF($S$29=T30,29,0)+IF($S$30=T30,30,0)+IF($S$31=T30,31,0)+IF($S$32=T30,32,0) -> 32 | W30: =CONCATENATE("'Auxiliar'!",W$1,$U30) -> 'Auxiliar'!L32 | X30: =CONCATENATE("'Auxiliar'!",X$1,$U30) -> 'Auxiliar'!M32 | Y30: =CONCATENATE("'Auxiliar'!",Y$1,$U30) -> 'Auxiliar'!N32 | Z30: =CONCATENATE("'Auxiliar'!",Z$1,$U30) -> 'Auxiliar'!O32 | AA30: =CONCATENATE("'Auxiliar'!",AA$1,$U30) -> 'Auxiliar'!P32 | AB30: =CONCATENATE("'Auxiliar'!",AB$1,$U30) -> 'Auxiliar'!Q32
A31: ='Tab Primeira Fase'!N38 -> FELIPE | B31: =IF('Tab Primeira Fase'!O38<'Tab Primeira Fase'!Q38,0,IF('Tab Primeira Fase'!O38='Tab Primeira Fase'!Q38,1,IF('Tab Primeira Fase'!O38>'Tab Primeira Fase'!Q38,2))) -> 0 | C31: ='Tab Primeira Fase'!R38 -> VANDER | D31: =IF('Tab Primeira Fase'!O38>'Tab Primeira Fase'!Q38,0,IF('Tab Primeira Fase'!O38='Tab Primeira Fase'!Q38,1,IF('Tab Primeira Fase'!O38<'Tab Primeira Fase'!Q38,2))) -> 2 | E31: =IF(ISNUMBER('Tab Primeira Fase'!O38),1,0) -> 1 | F31: =IF(B31*E31=2,1,0) -> 0 | G31: =IF(B31*E31=1,1,0) -> 0 | H31: =IF(B31=0,IF(E31=1,1,0),0) -> 1 | I31: =IF(E31*D31=2,1,0) -> 1 | J31: =IF(E31*D31=1,1,0) -> 0 | K31: =IF(D31=0,IF(E31=1,1,0),0) -> 0 | L31: WILLIAM MOREIRA | M31: =SUMIF($A$1:$A$708,L31,$F$1:$F$708)+SUMIF($C$1:$C$708,L31,$I$1:$I$708) -> 2 | N31: =SUMIF($A$1:$A$708,L31,$G$1:$G$708)+SUMIF($C$1:$C$708,L31,$J$1:$J$708) -> 2 | O31: =SUMIF($A$1:$A$708,L31,$H$1:$H$708)+SUMIF($C$1:$C$708,L31,$K$1:$K$708) -> 2 | P31: =SUMIF('Tab Primeira Fase'!$N$8:$N$815,L31,'Tab Primeira Fase'!$O$8:$O$815)+SUMIF('Tab Primeira Fase'!$R$8:$R$815,L31,'Tab Primeira Fase'!$Q$8:$Q$815) -> 6 | Q31: =SUMIF('Tab Primeira Fase'!$N$8:$N$815,L31,'Tab Primeira Fase'!$Q$8:$Q$815)+SUMIF('Tab Primeira Fase'!$R$8:$R$815,L31,'Tab Primeira Fase'!$O$8:$O$815) -> 8 | R31: =(1000000*((3*M31)+N31))+(10000*M31)+(100*(P31-Q31))+P31+(0.001*(6-T31)) -> 8019806 | S31: =RANK(R31,$R$26:$R$32) -> 6 | T31: 6 | U31: =IF($S$26=T31,26,0)+IF($S$27=T31,27,0)+IF($S$28=T31,28,0)+IF($S$29=T31,29,0)+IF($S$30=T31,30,0)+IF($S$31=T31,31,0)+IF($S$32=T31,32,0) -> 31 | W31: =CONCATENATE("'Auxiliar'!",W$1,$U31) -> 'Auxiliar'!L31 | X31: =CONCATENATE("'Auxiliar'!",X$1,$U31) -> 'Auxiliar'!M31 | Y31: =CONCATENATE("'Auxiliar'!",Y$1,$U31) -> 'Auxiliar'!N31 | Z31: =CONCATENATE("'Auxiliar'!",Z$1,$U31) -> 'Auxiliar'!O31 | AA31: =CONCATENATE("'Auxiliar'!",AA$1,$U31) -> 'Auxiliar'!P31 | AB31: =CONCATENATE("'Auxiliar'!",AB$1,$U31) -> 'Auxiliar'!Q31
A32: ='Tab Primeira Fase'!N39 -> RODRIGO BARROS | B32: =IF('Tab Primeira Fase'!O39<'Tab Primeira Fase'!Q39,0,IF('Tab Primeira Fase'!O39='Tab Primeira Fase'!Q39,1,IF('Tab Primeira Fase'!O39>'Tab Primeira Fase'!Q39,2))) -> 0 | C32: ='Tab Primeira Fase'!R39 -> JUNIOR | D32: =IF('Tab Primeira Fase'!O39>'Tab Primeira Fase'!Q39,0,IF('Tab Primeira Fase'!O39='Tab Primeira Fase'!Q39,1,IF('Tab Primeira Fase'!O39<'Tab Primeira Fase'!Q39,2))) -> 2 | E32: =IF(ISNUMBER('Tab Primeira Fase'!O39),1,0) -> 1 | F32: =IF(B32*E32=2,1,0) -> 0 | G32: =IF(B32*E32=1,1,0) -> 0 | H32: =IF(B32=0,IF(E32=1,1,0),0) -> 1 | I32: =IF(E32*D32=2,1,0) -> 1 | J32: =IF(E32*D32=1,1,0) -> 0 | K32: =IF(D32=0,IF(E32=1,1,0),0) -> 0 | L32: JEAN | M32: =SUMIF($A$1:$A$708,L32,$F$1:$F$708)+SUMIF($C$1:$C$708,L32,$I$1:$I$708) -> 2 | N32: =SUMIF($A$1:$A$708,L32,$G$1:$G$708)+SUMIF($C$1:$C$708,L32,$J$1:$J$708) -> 2 | O32: =SUMIF($A$1:$A$708,L32,$H$1:$H$708)+SUMIF($C$1:$C$708,L32,$K$1:$K$708) -> 2 | P32: =SUMIF('Tab Primeira Fase'!$N$8:$N$815,L32,'Tab Primeira Fase'!$O$8:$O$815)+SUMIF('Tab Primeira Fase'!$R$8:$R$815,L32,'Tab Primeira Fase'!$Q$8:$Q$815) -> 6 | Q32: =SUMIF('Tab Primeira Fase'!$N$8:$N$815,L32,'Tab Primeira Fase'!$Q$8:$Q$815)+SUMIF('Tab Primeira Fase'!$R$8:$R$815,L32,'Tab Primeira Fase'!$O$8:$O$815) -> 7 | R32: =(1000000*((3*M32)+N32))+(10000*M32)+(100*(P32-Q32))+P32+(0.001*(6-T32)) -> 8019906 | S32: =RANK(R32,$R$26:$R$32) -> 5 | T32: 7 | U32: =IF($S$26=T32,26,0)+IF($S$27=T32,27,0)+IF($S$28=T32,28,0)+IF($S$29=T32,29,0)+IF($S$30=T32,30,0)+IF($S$31=T32,31,0)+IF($S$32=T32,32,0) -> 30 | W32: =CONCATENATE("'Auxiliar'!",W$1,$U32) -> 'Auxiliar'!L30 | X32: =CONCATENATE("'Auxiliar'!",X$1,$U32) -> 'Auxiliar'!M30 | Y32: =CONCATENATE("'Auxiliar'!",Y$1,$U32) -> 'Auxiliar'!N30 | Z32: =CONCATENATE("'Auxiliar'!",Z$1,$U32) -> 'Auxiliar'!O30 | AA32: =CONCATENATE("'Auxiliar'!",AA$1,$U32) -> 'Auxiliar'!P30 | AB32: =CONCATENATE("'Auxiliar'!",AB$1,$U32) -> 'Auxiliar'!Q30
A33: ='Tab Primeira Fase'!N40 -> AÉCIO | B33: =IF('Tab Primeira Fase'!O40<'Tab Primeira Fase'!Q40,0,IF('Tab Primeira Fase'!O40='Tab Primeira Fase'!Q40,1,IF('Tab Primeira Fase'!O40>'Tab Primeira Fase'!Q40,2))) -> 2 | C33: ='Tab Primeira Fase'!R40 -> RODRIGO GUIMARÃES | D33: =IF('Tab Primeira Fase'!O40>'Tab Primeira Fase'!Q40,0,IF('Tab Primeira Fase'!O40='Tab Primeira Fase'!Q40,1,IF('Tab Primeira Fase'!O40<'Tab Primeira Fase'!Q40,2))) -> 0 | E33: =IF(ISNUMBER('Tab Primeira Fase'!O40),1,0) -> 1 | F33: =IF(B33*E33=2,1,0) -> 1 | G33: =IF(B33*E33=1,1,0) -> 0 | H33: =IF(B33=0,IF(E33=1,1,0),0) -> 0 | I33: =IF(E33*D33=2,1,0) -> 0 | J33: =IF(E33*D33=1,1,0) -> 0 | K33: =IF(D33=0,IF(E33=1,1,0),0) -> 1
A34: ='Tab Primeira Fase'!N41 -> MARCELO PORTO | B34: =IF('Tab Primeira Fase'!O41<'Tab Primeira Fase'!Q41,0,IF('Tab Primeira Fase'!O41='Tab Primeira Fase'!Q41,1,IF('Tab Primeira Fase'!O41>'Tab Primeira Fase'!Q41,2))) -> 0 | C34: ='Tab Primeira Fase'!R41 -> ANDRÉ BRANDÃO | D34: =IF('Tab Primeira Fase'!O41>'Tab Primeira Fase'!Q41,0,IF('Tab Primeira Fase'!O41='Tab Primeira Fase'!Q41,1,IF('Tab Primeira Fase'!O41<'Tab Primeira Fase'!Q41,2))) -> 2 | E34: =IF(ISNUMBER('Tab Primeira Fase'!O41),1,0) -> 1 | F34: =IF(B34*E34=2,1,0) -> 0 | G34: =IF(B34*E34=1,1,0) -> 0 | H34: =IF(B34=0,IF(E34=1,1,0),0) -> 1 | I34: =IF(E34*D34=2,1,0) -> 1 | J34: =IF(E34*D34=1,1,0) -> 0 | K34: =IF(D34=0,IF(E34=1,1,0),0) -> 0
A35: ='Tab Primeira Fase'!N42 -> JULIANO | B35: =IF('Tab Primeira Fase'!O42<'Tab Primeira Fase'!Q42,0,IF('Tab Primeira Fase'!O42='Tab Primeira Fase'!Q42,1,IF('Tab Primeira Fase'!O42>'Tab Primeira Fase'!Q42,2))) -> 2 | C35: ='Tab Primeira Fase'!R42 -> MAGNO | D35: =IF('Tab Primeira Fase'!O42>'Tab Primeira Fase'!Q42,0,IF('Tab Primeira Fase'!O42='Tab Primeira Fase'!Q42,1,IF('Tab Primeira Fase'!O42<'Tab Primeira Fase'!Q42,2))) -> 0 | E35: =IF(ISNUMBER('Tab Primeira Fase'!O42),1,0) -> 1 | F35: =IF(B35*E35=2,1,0) -> 1 | G35: =IF(B35*E35=1,1,0) -> 0 | H35: =IF(B35=0,IF(E35=1,1,0),0) -> 0 | I35: =IF(E35*D35=2,1,0) -> 0 | J35: =IF(E35*D35=1,1,0) -> 0 | K35: =IF(D35=0,IF(E35=1,1,0),0) -> 1
A36: ='Tab Primeira Fase'!N43 -> JORGE DIAS | B36: =IF('Tab Primeira Fase'!O43<'Tab Primeira Fase'!Q43,0,IF('Tab Primeira Fase'!O43='Tab Primeira Fase'!Q43,1,IF('Tab Primeira Fase'!O43>'Tab Primeira Fase'!Q43,2))) -> 1 | C36: ='Tab Primeira Fase'!R43 -> FRANCISCO | D36: =IF('Tab Primeira Fase'!O43>'Tab Primeira Fase'!Q43,0,IF('Tab Primeira Fase'!O43='Tab Primeira Fase'!Q43,1,IF('Tab Primeira Fase'!O43<'Tab Primeira Fase'!Q43,2))) -> 1 | E36: =IF(ISNUMBER('Tab Primeira Fase'!O43),1,0) -> 1 | F36: =IF(B36*E36=2,1,0) -> 0 | G36: =IF(B36*E36=1,1,0) -> 1 | H36: =IF(B36=0,IF(E36=1,1,0),0) -> 0 | I36: =IF(E36*D36=2,1,0) -> 0 | J36: =IF(E36*D36=1,1,0) -> 1 | K36: =IF(D36=0,IF(E36=1,1,0),0) -> 0
