Workbook

Sheet Auxiliar
A1: ='Tab Primeira Fase'!N8 -> ANDRÉ BRANDÃO | B1: =IF('Tab Primeira Fase'!O8<'Tab Primeira Fase'!Q8,0,IF('Tab Primeira Fase'!O8='Tab Primeira Fase'!Q8,1,IF('Tab Primeira Fase'!O8>'Tab Primeira Fase'!Q8,2))) -> 0 | C1: ='Tab Primeira Fase'!R8 -> FRANCISCO | D1: =IF('Tab Primeira Fase'!O8>'Tab Primeira Fase'!Q8,0,IF('Tab Primeira Fase'!O8='Tab Primeira Fase'!Q8,1,IF('Tab Primeira Fase'!O8<'Tab Primeira Fase'!Q8,2))) -> 2 | E1: =IF(ISNUMBER('Tab Primeira Fase'!O8),1,0) -> 1 | F1: =IF(B1*E1=2,1,0) -> 0 | G1: =IF(B1*E1=1,1,0) -> 0 | H1: =IF(B1=0,IF(E1=1,1,0),0) -> 1 | I1: =IF(E1*D1=2,1,0) -> 1 | J1: =IF(E1*D1=1,1,0) -> 0 | K1: =IF(D1=0,IF(E1=1,1,0),0) -> 0 | L1: CLUBES | M1: V | N1: E | O1: D | P1: GP | Q1: GC | W1: L | X1: M | Y1: N | Z1: O | AA1: P | AB1: Q
A2: ='Tab Primeira Fase'!N9 -> MALCHER | B2: =IF('Tab Primeira Fase'!O9<'Tab Primeira Fase'!Q9,0,IF('Tab Primeira Fase'!O9='Tab Primeira Fase'!Q9,1,IF('Tab Primeira Fase'!O9>'Tab Primeira Fase'!Q9,2))) -> 0 | C2: ='Tab Primeira Fase'!R9 -> JORGE DIAS | D2: =IF('Tab Primeira Fase'!O9>'Tab Primeira Fase'!Q9,0,IF('Tab Primeira Fase'!O9='Tab Primeira Fase'!Q9,1,IF('Tab Primeira Fase'!O9<'Tab Primeira Fase'!Q9,2))) -> 2 | E2: =IF(ISNUMBER('Tab Primeira Fase'!O9),1,0) -> 1 | F2: =IF(B2*E2=2,1,0) -> 0 | G2: =IF(B2*E2=1,1,0) -> 0 | H2: =IF(B2=0,IF(E2=1,1,0),0) -> 1 | I2: =IF(E2*D2=2,1,0) -> 1 | J2: =IF(E2*D2=1,1,0) -> 0 | K2: =IF(D2=0,IF(E2=1,1,0),0) -> 0 | L2: JULIANO | M2: =SUMIF($A$1:$A$708,L2,$F$1:$F$708)+SUMIF($C$1:$C$708,L2,$I$1:$I$708) -> 2 | N2: =SUMIF($A$1:$A$708,L2,$G$1:$G$708)+SUMIF($C$1:$C$708,L2,$J$1:$J$708) -> 3 | O2: =SUMIF($A$1:$A$708,L2,$H$1:$H$708)+SUMIF($C$1:$C$708,L2,$K$1:$K$708) -> 1 | P2: =SUMIF('Tab Primeira Fase'!$N$8:$N$815,L2,'Tab Primeira Fase'!$O$8:$O$815)+SUMIF('Tab Primeira Fase'!$R$8:$R$815,L2,'Tab Primeira Fase'!$Q$8:$Q$815) -> 8 | Q2: =SUMIF('Tab Primeira Fase'!$N$8:$N$815,L2,'Tab Primeira Fase'!$Q$8:$Q$815)+SUMIF('Tab Primeira Fase'!$R$8:$R$815,L2,'Tab Primeira Fase'!$O$8:$O$815) -> 6 | R2: =(1000000*((3*M2)+N2))+(10000*M2)+(100*(P2-Q2))+P2+(0.001*(7-T2)) -> 9020208 | S2: =RANK(R2,$R$2:$R$8) -> 3 | T2: 1 | U2: =IF($S$2=T2,2,0)+IF($S$3=T2,3,0)+IF($S$4=T2,4,0)+IF($S$5=T2,5,0)+IF($S$6=T2,6,0)+IF($S$7=T2,7,0)+IF($S$8=T2,8,0) -> 5 | W2: =CONCATENATE("'Auxiliar'!",W$1,$U2) -> 'Auxiliar'!L5 | X2: =CONCATENATE("'Auxiliar'!",X$1,$U2) -> 'Auxiliar'!M5 | Y2: =CONCATENATE("'Auxiliar'!",Y$1,$U2) -> 'Auxiliar'!N5 | Z2: =CONCATENATE("'Auxiliar'!",Z$1,$U2) -> 'Auxiliar'!O5 | AA2: =CONCATENATE("'Auxiliar'!",AA$1,$U2) -> 'Auxiliar'!P5 | AB2: =CONCATENATE("'Auxiliar'!",AB$1,$U2) -> 'Auxiliar'!Q5
A3: ='Tab Primeira Fase'!N10 -> MARCELO PORTO | B3: =IF('Tab Primeira Fase'!O10<'Tab Primeira Fase'!Q10,0,IF('Tab Primeira Fase'!O10='Tab Primeira Fase'!Q10,1,IF('Tab Primeira Fase'!O10>'Tab Primeira Fase'!Q10,2))) -> 2 | C3: ='Tab Primeira Fase'!R10 -> JULIANO | D3: =IF('Tab Primeira Fase'!O10>'Tab Primeira Fase'!Q10,0,IF('Tab Primeira Fase'!O10='Tab Primeira Fase'!Q10,1,IF('Tab Primeira Fase'!O10<'Tab Primeira Fase'!Q10,2))) -> 0 | E3: =IF(ISNUMBER('Tab Primeira Fase'!O10),1,0) -> 1 | F3: =IF(B3*E3=2,1,0) -> 1 | G3: =IF(B3*E3=1,1,0) -> 0 | H3: =IF(B3=0,IF(E3=1,1,0),0) -> 0 | I3: =IF(E3*D3=2,1,0) -> 0 | J3: =IF(E3*D3=1,1,0) -> 0 | K3: =IF(D3=0,IF(E3=1,1,0),0) -> 1 | L3: JORGE DIAS | M3: =SUMIF($A$1:$A$708,L3,$F$1:$F$708)+SUMIF($C$1:$C$708,L3,$I$1:$I$708) -> 2 | N3: =SUMIF($A$1:$A$708,L3,$G$1:$G$708)+SUMIF($C$1:$C$708,L3,$J$1:$J$708) -> 4 | O3: =SUMIF($A$1:$A$708,L3,$H$1:$H$708)+SUMIF($C$1:$C$708,L3,$K$1:$K$708) -> 0 | P3: =SUMIF('Tab Primeira Fase'!$N$8:$N$815,L3,'Tab Primeira Fase'!$O$8:$O$815)+SUMIF('Tab Primeira Fase'!$R$8:$R$815,L3,'Tab Primeira Fase'!$Q$8:$Q$815) -> 9 | Q3: =SUMIF('Tab Primeira Fase'!$N$8:$N$815,L3,'Tab Primeira Fase'!$Q$8:$Q$815)+SUMIF('Tab Primeira Fase'!$R$8:$R$815,L3,'Tab Primeira Fase'!$O$8:$O$815) -> 5 | R3: =(1000000*((3*M3)+N3))+(10000*M3)+(100*(P3-Q3))+P3+(0.001*(7-T3)) -> 10020409 | S3: =RANK(R3,$R$2:$R$8) -> 2 | T3: 2 | U3: =IF($S$2=T3,2,0)+IF($S$3=T3,3,0)+IF($S$4=T3,4,0)+IF($S$5=T3,5,0)+IF($S$6=T3,6,0)+IF($S$7=T3,7,0)+IF($S$8=T3,8,0) -> 3 | W3: =CONCATENATE("'Auxiliar'!",W$1,$U3) -> 'Auxiliar'!L3 | X3: =CONCATENATE("'Auxiliar'!",X$1,$U3) -> 'Auxiliar'!M3 | Y3: =CONCATENATE("'Auxiliar'!",Y$1,$U3) -> 'Auxiliar'!N3 | Z3: =CONCATENATE("'Auxiliar'!",Z$1,$U3) -> 'Auxiliar'!O3 | AA3: =CONCATENATE("'Auxiliar'!",AA$1,$U3) -> 'Auxiliar'!P3 | AB3: =CONCATENATE("'Auxiliar'!",AB$1,$U3) -> 'Auxiliar'!Q3
A4: ='Tab Primeira Fase'!N11 -> RODRIGO BARROS | B4: =IF('Tab Primeira Fase'!O11<'Tab Primeira Fase'!Q11,0,IF('Tab Primeira Fase'!O11='Tab Primeira Fase'!Q11,1,IF('Tab Primeira Fase'!O11>'Tab Primeira Fase'!Q11,2))) -> 1 | C4: ='Tab Primeira Fase'!R11 -> HÉLIO | D4: =IF('Tab Primeira Fase'!O11>'Tab Primeira Fase'!Q11,0,IF('Tab Primeira Fase'!O11='Tab Primeira Fase'!Q11,1,IF('Tab Primeira Fase'!O11<'Tab Primeira Fase'!Q11,2))) -> 1 | E4: =IF(ISNUMBER('Tab Primeira Fase'!O11),1,0) -> 1 | F4: =IF(B4*E4=2,1,0) -> 0 | G4: =IF(B4*E4=1,1,0) -> 1 | H4: =IF(B4=0,IF(E4=1,1,0),0) -> 0 | I4: =IF(E4*D4=2,1,0) -> 0 | J4: =IF(E4*D4=1,1,0) -> 1 | K4: =IF(D4=0,IF(E4=1,1,0),0) -> 0 | L4: FRANCISCO | M4: =SUMIF($A$1:$A$708,L4,$F$1:$F$708)+SUMIF($C$1:$C$708,L4,$I$1:$I$708) -> 1 | N4: =SUMIF($A$1:$A$708,L4,$G$1:$G$708)+SUMIF($C$1:$C$708,L4,$J$1:$J$708) -> 4 | O4: =SUMIF($A$1:$A$708,L4,$H$1:$H$708)+SUMIF($C$1:$C$708,L4,$K$1:$K$708) -> 1 | P4: =SUMIF('Tab Primeira Fase'!$N$8:$N$815,L4,'Tab Primeira Fase'!$O$8:$O$815)+SUMIF('Tab Primeira Fase'!$R$8:$R$815,L4,'Tab Primeira Fase'!$Q$8:$Q$815) -> 4 | Q4: =SUMIF('Tab Primeira Fase'!$N$8:$N$815,L4,'Tab Primeira Fase'!$Q$8:$Q$815)+SUMIF('Tab Primeira Fase'!$R$8:$R$815,L4,'Tab Primeira Fase'!$O$8:$O$815) -> 7 | R4: =(1000000*((3*M4)+N4))+(10000*M4)+(100*(P4-Q4))+P4+(0.001*(7-T4)) -> 7009704 | S4: =RANK(R4,$R$2:$R$8) -> 6 | T4: 3 | U4: =IF($S$2=T4,2,0)+IF($S$3=T4,3,0)+IF($S$4=T4,4,0)+IF($S$5=T4,5,0)+IF($S$6=T4,6,0)+IF($S$7=T4,7,0)+IF($S$8=T4,8,0) -> 2 | W4: =CONCATENATE("'Auxiliar'!",W$1,$U4) -> 'Auxiliar'!L2 | X4: =CONCATENATE("'Auxiliar'!",X$1,$U4) -> 'Auxiliar'!M2 | Y4: =CONCATENATE("'Auxiliar'!",Y$1,$U4) -> 'Auxiliar'!N2 | Z4: =CONCATENATE("'Auxiliar'!",Z$1,$U4) -> 'Auxiliar'!O2 | AA4: =CONCATENATE("'Auxiliar'!",AA$1,$U4) -> 'Auxiliar'!P2 | AB4: =CONCATENATE("'Auxiliar'!",AB$1,$U4) -> 'Auxiliar'!Q2
A5: ='Tab Primeira Fase'!N12 -> AÉCIO | B5: =IF('Tab Primeira Fase'!O12<'Tab Primeira Fase'!Q12,0,IF('Tab Primeira Fase'!O12='Tab Primeira Fase'!Q12,1,IF('Tab Primeira Fase'!O12>'Tab Primeira Fase'!Q12,2))) -> 0 | C5: ='Tab Primeira Fase'!R12 -> VANDER | D5: =IF('Tab Primeira Fase'!O12>'Tab Primeira Fase'!Q12,0,IF('Tab Primeira Fase'!O12='Tab Primeira Fase'!Q12,1,IF('Tab Primeira Fase'!O12<'Tab Primeira Fase'!Q12,2))) -> 2 | E5: =IF(ISNUMBER('Tab Primeira Fase'!O12),1,0) -> 1 | F5: =IF(B5*E5=2,1,0) -> 0 | G5: =IF(B5*E5=1,1,0) -> 0 | H5: =IF(B5=0,IF(E5=1,1,0),0) -> 1 | I5: =IF(E5*D5=2,1,0) -> 1 | J5: =IF(E5*D5=1,1,0) -> 0 | K5: =IF(D5=0,IF(E5=1,1,0),0) -> 0 | L5: MAGNO | M5: =SUMIF($A$1:$A$708,L5,$F$1:$F$708)+SUMIF($C$1:$C$708,L5,$I$1:$I$708) -> 3 | N5: =SUMIF($A$1:$A$708,L5,$G$1:$G$708)+SUMIF($C$1:$C$708,L5,$J$1:$J$708) -> 1 | O5: =SUMIF($A$1:$A$708,L5,$H$1:$H$708)+SUMIF($C$1:$C$708,L5,$K$1:$K$708) -> 2 | P5: =SUMIF('Tab Primeira Fase'!$N$8:$N$815,L5,'Tab Primeira Fase'!$O$8:$O$815)+SUMIF('Tab Primeira Fase'!$R$8:$R$815,L5,'Tab Primeira Fase'!$Q$8:$Q$815) -> 12 | Q5: =SUMIF('Tab Primeira Fase'!$N$8:$N$815,L5,'Tab Primeira Fase'!$Q$8:$Q$815)+SUMIF('Tab Primeira Fase'!$R$8:$R$815,L5,'Tab Primeira Fase'!$O$8:$O$815) -> 5 | R5: =(1000000*((3*M5)+N5))+(10000*M5)+(100*(P5-Q5))+P5+(0.001*(7-T5)) -> 10030712 | S5: =RANK(R5,$R$2:$R$8) -> 1 | T5: 4 | U5: =IF($S$2=T5,2,0)+IF($S$3=T5,3,0)+IF($S$4=T5,4,0)+IF($S$5=T5,5,0)+IF($S$6=T5,6,0)+IF($S$7=T5,7,0)+IF($S$8=T5,8,0) -> 8 | W5: =CONCATENATE("'Auxiliar'!",W$1,$U5) -> 'Auxiliar'!L8 | X5: =CONCATENATE("'Auxiliar'!",X$1,$U5) -> 'Auxiliar'!M8 | Y5: =CONCATENATE("'Auxiliar'!",Y$1,$U5) -> 'Auxiliar'!N8 | Z5: =CONCATENATE("'Auxiliar'!",Z$1,$U5) -> 'Auxiliar'!O8 | AA5: =CONCATENATE("'Auxiliar'!",AA$1,$U5) -> 'Auxiliar'!P8 | AB5: =CONCATENATE("'Auxiliar'!",AB$1,$U5) -> 'Auxiliar'!Q8
A6: ='Tab Primeira Fase'!N13 -> RODRIGO GUIMARÃES | B6: =IF('Tab Primeira Fase'!O13<'Tab Primeira Fase'!Q13,0,IF('Tab Primeira Fase'!O13='Tab Primeira Fase'!Q13,1,IF('Tab Primeira Fase'!O13>'Tab Primeira Fase'!Q13,2))) -> 0 | C6: ='Tab Primeira Fase'!R13 -> JUNIOR | D6: =IF('Tab Primeira Fase'!O13>'Tab Primeira Fase'!Q13,0,IF('Tab Primeira Fase'!O13='Tab Primeira Fase'!Q13,1,IF('Tab Primeira Fase'!O13<'Tab Primeira Fase'!Q13,2))) -> 2 | E6: =IF(ISNUMBER('Tab Primeira Fase'!O13),1,0) -> 1 | F6: =IF(B6*E6=2,1,0) -> 0 | G6: =IF(B6*E6=1,1,0) -> 0 | H6: =IF(B6=0,IF(E6=1,1,0),0) -> 1 | I6: =IF(E6*D6=2,1,0) -> 1 | J6: =IF(E6*D6=1,1,0) -> 0 | K6: =IF(D6=0,IF(E6=1,1,0),0) -> 0 | L6: ANDRÉ BRANDÃO | M6: =SUMIF($A$1:$A$708,L6,$F$1:$F$708)+SUMIF($C$1:$C$708,L6,$I$1:$I$708) -> 2 | N6: =SUMIF($A$1:$A$708,L6,$G$1:$G$708)+SUMIF($C$1:$C$708,L6,$J$1:$J$708) -> 1 | O6: =SUMIF($A$1:$A$708,L6,$H$1:$H$708)+SUMIF($C$1:$C$708,L6,$K$1:$K$708) -> 3 | P6: =SUMIF('Tab Primeira Fase'!$N$8:$N$815,L6,'Tab Primeira Fase'!$O$8:$O$815)+SUMIF('Tab Primeira Fase'!$R$8:$R$815,L6,'Tab Primeira Fase'!$Q$8:$Q$815) -> 8 | Q6: =SUMIF('Tab Primeira Fase'!$N$8:$N$815,L6,'Tab Primeira Fase'!$Q$8:$Q$815)+SUMIF('Tab Primeira Fase'!$R$8:$R$815,L6,'Tab Primeira Fase'!$O$8:$O$815) -> 9 | R6: =(1000000*((3*M6)+N6))+(10000*M6)+(100*(P6-Q6))+P6+(0.001*(7-T6)) -> 7019908 | S6: =RANK(R6,$R$2:$R$8) -> 5 | T6: 5 | U6: =IF($S$2=T6,2,0)+IF($S$3=T6,3,0)+IF($S$4=T6,4,0)+IF($S$5=T6,5,0)+IF($S$6=T6,6,0)+IF($S$7=T6,7,0)+IF($S$8=T6,8,0) -> 6 | W6: =CONCATENATE("'Auxiliar'!",W$1,$U6) -> 'Auxiliar'!L6 | X6: =CONCATENATE("'Auxiliar'!",X$1,$U6) -> 'Auxiliar'!M6 | Y6: =CONCATENATE("'Auxiliar'!",Y$1,$U6) -> 'Auxiliar'!N6 | Z6: =CONCATENATE("'Auxiliar'!",Z$1,$U6) -> 'Auxiliar'!O6 | AA6: =CONCATENATE("'Auxiliar'!",AA$1,$U6) -> 'Auxiliar'!P6 | AB6: =CONCATENATE("'Auxiliar'!",AB$1,$U6) -> 'Auxiliar'!Q6
A7: ='Tab Primeira Fase'!N14 -> IZALCI | B7: =IF('Tab Primeira Fase'!O14<'Tab Primeira Fase'!Q14,0,IF('Tab Primeira Fase'!O14='Tab Primeira Fase'!Q14,1,IF('Tab Primeira Fase'!O14>'Tab Primeira Fase'!Q14,2))) -> 1 | C7: ='Tab Primeira Fase'!R14 -> HEAVY | D7: =IF('Tab Primeira Fase'!O14>'Tab Primeira Fase'!Q14,0,IF('Tab Primeira Fase'!O14='Tab Primeira Fase'!Q14,1,IF('Tab Primeira Fase'!O14<'Tab Primeira Fase'!Q14,2))) -> 1 | E7: =IF(ISNUMBER('Tab Primeira Fase'!O14),1,0) -> 1 | F7: =IF(B7*E7=2,1,0) -> 0 | G7: =IF(B7*E7=1,1,0) -> 1 | H7: =IF(B7=0,IF(E7=1,1,0),0) -> 0 | I7: =IF(E7*D7=2,1,0) -> 0 | J7: =IF(E7*D7=1,1,0) -> 1 | K7: =IF(D7=0,IF(E7=1,1,0),0) -> 0 | L7: MALCHER | M7: =SUMIF($A$1:$A$708,L7,$F$1:$F$708)+SUMIF($C$1:$C$708,L7,$I$1:$I$708) -> 1 | N7: =SUMIF($A$1:$A$708,L7,$G$1:$G$708)+SUMIF($C$1:$C$708,L7,$J$1:$J$708) -> 1 | O7: =SUMIF($A$1:$A$708,L7,$H$1:$H$708)+SUMIF($C$1:$C$708,L7,$K$1:$K$708) -> 4 | P7: =SUMIF('Tab Primeira Fase'!$N$8:$N$815,L7,'Tab Primeira Fase'!$O$8:$O$815)+SUMIF('Tab Primeira Fase'!$R$8:$R$815,L7,'Tab Primeira Fase'!$Q$8:$Q$815) -> 4 | Q7: =SUMIF('Tab Primeira Fase'!$N$8:$N$815,L7,'Tab Primeira Fase'!$Q$8:$Q$815)+SUMIF('Tab Primeira Fase'!$R$8:$R$815,L7,'Tab Primeira Fase'!$O$8:$O$815) -> 11 | R7: =(1000000*((3*M7)+N7))+(10000*M7)+(100*(P7-Q7))+P7+(0.001*(7-T7)) -> 4009304 | S7: =RANK(R7,$R$2:$R$8) -> 7 | T7: 6 | U7: =IF($S$2=T7,2,0)+IF($S$3=T7,3,0)+IF($S$4=T7,4,0)+IF($S$5=T7,5,0)+IF($S$6=T7,6,0)+IF($S$7=T7,7,0)+IF($S$8=T7,8,0) -> 4 | W7: =CONCATENATE("'Auxiliar'!",W$1,$U7) -> 'Auxiliar'!L4 | X7: =CONCATENATE("'Auxiliar'!",X$1,$U7) -> 'Auxiliar'!M4 | Y7: =CONCATENATE("'Auxiliar'!",Y$1,$U7) -> 'Auxiliar'!N4 | Z7: =CONCATENATE("'Auxiliar'!",Z$1,$U7) -> 'Auxiliar'!O4 | AA7: =CONCATENATE("'Auxiliar'!",AA$1,$U7) -> 'Auxiliar'!P4 | AB7: =CONCATENATE("'Auxiliar'!",AB$1,$U7) -> 'Auxiliar'!Q4
A8: ='Tab Primeira Fase'!N15 -> TONINHO | B8: =IF('Tab Primeira Fase'!O15<'Tab Primeira Fase'!Q15,0,IF('Tab Primeira Fase'!O15='Tab Primeira Fase'!Q15,1,IF('Tab Primeira Fase'!O15>'Tab Primeira Fase'!Q15,2))) -> 1 | C8: ='Tab Primeira Fase'!R15 -> BETO | D8: =IF('Tab Primeira Fase'!O15>'Tab Primeira Fase'!Q15,0,IF('Tab Primeira Fase'!O15='Tab Primeira Fase'!Q15,1,IF('Tab Primeira Fase'!O15<'Tab Primeira Fase'!Q15,2))) -> 1 | E8: =IF(ISNUMBER('Tab Primeira Fase'!O15),1,0) -> 1 | F8: =IF(B8*E8=2,1,0) -> 0 | G8: =IF(B8*E8=1,1,0) -> 1 | H8: =IF(B8=0,IF(E8=1,1,0),0) -> 0 | I8: =IF(E8*D8=2,1,0) -> 0 | J8: =IF(E8*D8=1,1,0) -> 1 | K8: =IF(D8=0,IF(E8=1,1,0),0) -> 0 | L8: MARCELO PORTO | M8: =SUMIF($A$1:$A$708,L8,$F$1:$F$708)+SUMIF($C$1:$C$708,L8,$I$1:$I$708) -> 2 | N8: =SUMIF($A$1:$A$708,L8,$G$1:$G$708)+SUMIF($C$1:$C$708,L8,$J$1:$J$708) -> 2 | O8: =SUMIF($A$1:$A$708,L8,$H$1:$H$708)+SUMIF($C$1:$C$708,L8,$K$1:$K$708) -> 2 | P8: =SUMIF('Tab Primeira Fase'!$N$8:$N$815,L8,'Tab Primeira Fase'!$O$8:$O$815)+SUMIF('Tab Primeira Fase'!$R$8:$R$815,L8,'Tab Primeira Fase'!$Q$8:$Q$815) -> 6 | Q8: =SUMIF('Tab Primeira Fase'!$N$8:$N$815,L8,'Tab Primeira Fase'!$Q$8:$Q$815)+SUMIF('Tab Primeira Fase'!$R$8:$R$815,L8,'Tab Primeira Fase'!$O$8:$O$815) -> 8 | R8: =(1000000*((3*M8)+N8))+(10000*M8)+(100*(P8-Q8))+P8+(0.001*(7-T8)) -> 8019806 | S8: =RANK(R8,$R$2:$R$8) -> 4 | T8: 7 | U8: =IF($S$2=T8,2,0)+IF($S$3=T8,3,0)+IF($S$4=T8,4,0)+IF($S$5=T8,5,0)+IF($S$6=T8,6,0)+IF($S$7=T8,7,0)+IF($S$8=T8,8,0) -> 7 | W8: =CONCATENATE("'Auxiliar'!",W$1,$U8) -> 'Auxiliar'!L7 | X8: =CONCATENATE("'Auxiliar'!",X$1,$U8) -> 'Auxiliar'!M7 | Y8: =CONCATENATE("'Auxiliar'!",Y$1,$U8) -> 'Auxiliar'!N7 | Z8: =CONCATENATE("'Auxiliar'!",Z$1,$U8) -> 'Auxiliar'!O7 | AA8: =CONCATENATE("'Auxiliar'!",AA$1,$U8) -> 'Auxiliar'!P7 | AB8: =CONCATENATE("'Auxiliar'!",AB$1,$U8) -> 'Auxiliar'!Q7
A9: ='Tab Primeira Fase'!N16 -> MARQUINHOS | B9: =IF('Tab Primeira Fase'!O16<'Tab Primeira Fase'!Q16,0,IF('Tab Primeira Fase'!O16='Tab Primeira Fase'!Q16,1,IF('Tab Primeira Fase'!O16>'Tab Primeira Fase'!Q16,2))) -> 0 | C9: ='Tab Primeira Fase'!R16 -> ALCIDES | D9: =IF('Tab Primeira Fase'!O16>'Tab Primeira Fase'!Q16,0,IF('Tab Primeira Fase'!O16='Tab Primeira Fase'!Q16,1,IF('Tab Primeira Fase'!O16<'Tab Primeira Fase'!Q16,2))) -> 2 | E9: =IF(ISNUMBER('Tab Primeira Fase'!O16),1,0) -> 1 | F9: =IF(B9*E9=2,1,0) -> 0 | G9: =IF(B9*E9=1,1,0) -> 0 | H9: =IF(B9=0,IF(E9=1,1,0),0) -> 1 | I9: =IF(E9*D9=2,1,0) -> 1 | J9: =IF(E9*D9=1,1,0) -> 0 | K9: =IF(D9=0,IF(E9=1,1,0),0) -> 0
A10: ='Tab Primeira Fase'!N17 -> LUIZ GOMES | B10: =IF('Tab Primeira Fase'!O17<'Tab Primeira Fase'!Q17,0,IF('Tab Primeira Fase'!O17='Tab Primeira Fase'!Q17,1,IF('Tab Primeira Fase'!O17>'Tab Primeira Fase'!Q17,2))) -> 0 | C10: ='Tab Primeira Fase'!R17 -> VASQUES | D10: =IF('Tab Primeira Fase'!O17>'Tab Primeira Fase'!Q17,0,IF('Tab Primeira Fase'!O17='Tab Primeira Fase'!Q17,1,IF('Tab Primeira Fase'!O17<'Tab Primeira Fase'!Q17,2))) -> 2 | E10: =IF(ISNUMBER('Tab Primeira Fase'!O17),1,0) -> 1 | F10: =IF(B10*E10=2,1,0) -> 0 | G10: =IF(B10*E10=1,1,0) -> 0 | H10: =IF(B10=0,IF(E10=1,1,0),0) -> 1 | I10: =IF(E10*D10=2,1,0) -> 1 | J10: =IF(E10*D10=1,1,0) -> 0 | K10: =IF(D10=0,IF(E10=1,1,0),0) -> 0 | L10: JUNIOR | M10: =SUMIF($A$1:$A$708,L10,$F$1:$F$708)+SUMIF($C$1:$C$708,L10,$I$1:$I$708) -> 4 | N10: =SUMIF($A$1:$A$708,L10,$G$1:$G$708)+SUMIF($C$1:$C$708,L10,$J$1:$J$708) -> 1 | O10: =SUMIF($A$1:$A$708,L10,$H$1:$H$708)+SUMIF($C$1:$C$708,L10,$K$1:$K$708) -> 1 | P10: =SUMIF('Tab Primeira Fase'!$N$8:$N$815,L10,'Tab Primeira Fase'!$O$8:$O$815)+SUMIF('Tab Primeira Fase'!$R$8:$R$815,L10,'Tab Primeira Fase'!$Q$8:$Q$815) -> 9 | Q10: =SUMIF('Tab Primeira Fase'!$N$8:$N$815,L10,'Tab Primeira Fase'!$Q$8:$Q$815)+SUMIF('Tab Primeira Fase'!$R$8:$R$815,L10,'Tab Primeira Fase'!$O$8:$O$815) -> 3 | R10: =(1000000*((3*M10)+N10))+(10000*M10)+(100*(P10-Q10))+P10+(0.001*(6-T10)) -> 13040609 | S10: =RANK(R10,$R$10:$R$16) -> 2 | T10: 1 | U10: =IF($S$10=T10,10,0)+IF($S$11=T10,11,0)+IF($S$12=T10,12,0)+IF($S$13=T10,13,0)+IF($S$14=T10,14,0)+IF($S$15=T10,15,0)+IF($S$16=T10,16,0) -> 11 | W10: =CONCATENATE("'Auxiliar'!",W$1,$U10) -> 'Auxiliar'!L11 | X10: =CONCATENATE("'Auxiliar'!",X$1,$U10) -> 'Auxiliar'!M11 | Y10: =CONCATENATE("'Auxiliar'!",Y$1,$U10) -> 'Auxiliar'!N11 | Z10: =CONCATENATE("'Auxiliar'!",Z$1,$U10) -> 'Auxiliar'!O11 | AA10: =CONCATENATE("'Auxiliar'!",AA$1,$U10) -> 'Auxiliar'!P11 | AB10: =CONCATENATE("'Auxiliar'!",AB$1,$U10) -> 'Auxiliar'!Q11
A11: ='Tab Primeira Fase'!N18 -> WILLIAM MOREIRA | B11: =IF('Tab Primeira Fase'!O18<'Tab Primeira Fase'!Q18,0,IF('Tab Primeira Fase'!O18='Tab Primeira Fase'!Q18,1,IF('Tab Primeira Fase'!O18>'Tab Primeira Fase'!Q18,2))) -> 0 | C11: ='Tab Primeira Fase'!R18 -> THIAGO | D11: =IF('Tab Primeira Fase'!O18>'Tab Primeira Fase'!Q18,0,IF('Tab Primeira Fase'!O18='Tab Primeira Fase'!Q18,1,IF('Tab Primeira Fase'!O18<'Tab Primeira Fase'!Q18,2))) -> 2 | E11: =IF(ISNUMBER('Tab Primeira Fase'!O18),1,0) -> 1 | F11: =IF(B11*E11=2,1,0) -> 0 | G11: =IF(B11*E11=1,1,0) -> 0 | H11: =IF(B11=0,IF(E11=1,1,0),0) -> 1 | I11: =IF(E11*D11=2,1,0) -> 1 | J11: =IF(E11*D11=1,1,0) -> 0 | K11: =IF(D11=0,IF(E11=1,1,0),0) -> 0 | L11: VANDER | M11: =SUMIF($A$1:$A$708,L11,$F$1:$F$708)+SUMIF($C$1:$C$708,L11,$I$1:$I$708) -> 4 | N11: =SUMIF($A$1:$A$708,L11,$G$1:$G$708)+SUMIF($C$1:$C$708,L11,$J$1:$J$708) -> 2 | O11: =SUMIF($A$1:$A$708,L11,$H$1:$H$708)+SUMIF($C$1:$C$708,L11,$K$1:$K$708) -> 0 | P11: =SUMIF('Tab Primeira Fase'!$N$8:$N$815,L11,'Tab Primeira Fase'!$O$8:$O$815)+SUMIF('Tab Primeira Fase'!$R$8:$R$815,L11,'Tab Primeira Fase'!$Q$8:$Q$815) -> 9 | Q11: =SUMIF('Tab Primeira Fase'!$N$8:$N$815,L11,'Tab Primeira Fase'!$Q$8:$Q$815)+SUMIF('Tab Primeira Fase'!$R$8:$R$815,L11,'Tab Primeira Fase'!$O$8:$O$815) -> 3 | R11: =(1000000*((3*M11)+N11))+(10000*M11)+(100*(P11-Q11))+P11+(0.001*(6-T11)) -> 14040609 | S11: =RANK(R11,$R$10:$R$16) -> 1 | T11: 2 | U11: =IF($S$10=T11,10,0)+IF($S$11=T11,11,0)+IF($S$12=T11,12,0)+IF($S$13=T11,13,0)+IF($S$14=T11,14,0)+IF($S$15=T11,15,0)+IF($S$16=T11,16,0) -> 10 | W11: =CONCATENATE("'Auxiliar'!",W$1,$U11) -> 'Auxiliar'!L10 | X11: =CONCATENATE("'Auxiliar'!",X$1,$U11) -> 'Auxiliar'!M10 | Y11: =CONCATENATE("'Auxiliar'!",Y$1,$U11) -> 'Auxiliar'!N10 | Z11: =CONCATENATE("'Auxiliar'!",Z$1,$U11) -> 'Auxiliar'!O10 | AA11: =CONCATENATE("'Auxiliar'!",AA$1,$U11) -> 'Auxiliar'!P10 | AB11: =CONCATENATE("'Auxiliar'!",AB$1,$U11) -> 'Auxiliar'!Q10
A12: ='Tab Primeira Fase'!N19 -> JEAN | B12: =IF('Tab Primeira Fase'!O19<'Tab Primeira Fase'!Q19,0,IF('Tab Primeira Fase'!O19='Tab Primeira Fase'!Q19,1,IF('Tab Primeira Fase'!O19>'Tab Primeira Fase'!Q19,2))) -> 0 | C12: ='Tab Primeira Fase'!R19 -> LUIZ CLAUDIO | D12: =IF('Tab Primeira Fase'!O19>'Tab Primeira Fase'!Q19,0,IF('Tab Primeira Fase'!O19='Tab Primeira Fase'!Q19,1,IF('Tab Primeira Fase'!O19<'Tab Primeira Fase'!Q19,2))) -> 2 | E12: =IF(ISNUMBER('Tab Primeira Fase'!O19),1,0) -> 1 | F12: =IF(B12*E12=2,1,0) -> 0 | G12: =IF(B12*E12=1,1,0) -> 0 | H12: =IF(B12=0,IF(E12=1,1,0),0) -> 1 | I12: =IF(E12*D12=2,1,0) -> 1 | J12: =IF(E12*D12=1,1,0) -> 0 | K12: =IF(D12=0,IF(E12=1,1,0),0) -> 0 | L12: HÉLIO | M12: =SUMIF($A$1:$A$708,L12,$F$1:$F$708)+SUMIF($C$1:$C$708,L12,$I$1:$I$708) -> 2 | N12: =SUMIF($A$1:$A$708,L12,$G$1:$G$708)+SUMIF($C$1:$C$708,L12,$J$1:$J$708) -> 1 | O12: =SUMIF($A$1:$A$708,L12,$H$1:$H$708)+SUMIF($C$1:$C$708,L12,$K$1:$K$708) -> 3 | P12: =SUMIF('Tab Primeira Fase'!$N$8:$N$815,L12,'Tab Primeira Fase'!$O$8:$O$815)+SUMIF('Tab Primeira Fase'!$R$8:$R$815,L12,'Tab Primeira Fase'!$Q$8:$Q$815) -> 7 | Q12: =SUMIF('Tab Primeira Fase'!$N$8:$N$815,L12,'Tab Primeira Fase'!$Q$8:$Q$815)+SUMIF('Tab Primeira Fase'!$R$8:$R$815,L12,'Tab Primeira Fase'!$O$8:$O$815) -> 7 | R12: =(1000000*((3*M12)+N12))+(10000*M12)+(100*(P12-Q12))+P12+(0.001*(6-T12)) -> 7020007 | S12: =RANK(R12,$R$10:$R$16) -> 4 | T12: 3 | U12: =IF($S$10=T12,10,0)+IF($S$11=T12,11,0)+IF($S$12=T12,12,0)+IF($S$13=T12,13,0)+IF($S$14=T12,14,0)+IF($S$15=T12,15,0)+IF($S$16=T12,16,0) -> 14 | W12: =CONCATENATE("'Auxiliar'!",W$1,$U12) -> 'Auxiliar'!L14 | X12: =CONCATENATE("'Auxiliar'!",X$1,$U12) -> 'Auxiliar'!M14 | Y12: =CONCATENATE("'Auxiliar'!",Y$1,$U12) -> 'Auxiliar'!N14 | Z12: =CONCATENATE("'Auxiliar'!",Z$1,$U12) -> 'Auxiliar'!O14 | AA12: =CONCATENATE("'Auxiliar'!",AA$1,$U12) -> 'Auxiliar'!P14 | AB12: =CONCATENATE("'Auxiliar'!",AB$1,$U12) -> 'Auxiliar'!Q14
A13: ='Tab Primeira Fase'!N20 -> JULIANO | B13: =IF('Tab Primeira Fase'!O20<'Tab Primeira Fase'!Q20,0,IF('Tab Primeira Fase'!O20='Tab Primeira Fase'!Q20,1,IF('Tab Primeira Fase'!O20>'Tab Primeira Fase'!Q20,2))) -> 2 | C13: ='Tab Primeira Fase'!R20 -> MALCHER | D13: =IF('Tab Primeira Fase'!O20>'Tab Primeira Fase'!Q20,0,IF('Tab Primeira Fase'!O20='Tab Primeira Fase'!Q20,1,IF('Tab Primeira Fase'!O20<'Tab Primeira Fase'!Q20,2))) -> 0 | E13: =IF(ISNUMBER('Tab Primeira Fase'!O20),1,0) -> 1 | F13: =IF(B13*E13=2,1,0) -> 1 | G13: =IF(B13*E13=1,1,0) -> 0 | H13: =IF(B13=0,IF(E13=1,1,0),0) -> 0 | I13: =IF(E13*D13=2,1,0) -> 0 | J13: =IF(E13*D13=1,1,0) -> 0 | K13: =IF(D13=0,IF(E13=1,1,0),0) -> 1 | L13: FELIPE | M13: =SUMIF($A$1:$A$708,L13,$F$1:$F$708)+SUMIF($C$1:$C$708,L13,$I$1:$I$708) -> 1 | N13: =SUMIF($A$1:$A$708,L13,$G$1:$G$708)+SUMIF($C$1:$C$708,L13,$J$1:$J$708) -> 2 | O13: =SUMIF($A$1:$A$708,L13,$H$1:$H$708)+SUMIF($C$1:$C$708,L13,$K$1:$K$708) -> 3 | P13: =SUMIF('Tab Primeira Fase'!$N$8:$N$815,L13,'Tab Primeira Fase'!$O$8:$O$815)+SUMIF('Tab Primeira Fase'!$R$8:$R$815,L13,'Tab Primeira Fase'!$Q$8:$Q$815) -> 6 | Q13: =SUMIF('Tab Primeira Fase'!$N$8:$N$815,L13,'Tab Primeira Fase'!$Q$8:$Q$815)+SUMIF('Tab Primeira Fase'!$R$8:$R$815,L13,'Tab Primeira Fase'!$O$8:$O$815) -> 12 | R13: =(1000000*((3*M13)+N13))+(10000*M13)+(100*(P13-Q13))+P13+(0.001*(6-T13)) -> 5009406 | S13: =RANK(R13,$R$10:$R$16) -> 6 | T13: 4 | U13: =IF($S$10=T13,10,0)+IF($S$11=T13,11,0)+IF($S$12=T13,12,0)+IF($S$13=T13,13,0)+IF($S$14=T13,14,0)+IF($S$15=T13,15,0)+IF($S$16=T13,16,0) -> 12 | W13: =CONCATENATE("'Auxiliar'!",W$1,$U13) -> 'Auxiliar'!L12 | X13: =CONCATENATE("'Auxiliar'!",X$1,$U13) -> 'Auxiliar'!M12 | Y13: =CONCATENATE("'Auxiliar'!",Y$1,$U13) -> 'Auxiliar'!N12 | Z13: =CONCATENATE("'Auxiliar'!",Z$1,$U13) -> 'Auxiliar'!O12 | AA13: =CONCATENATE("'Auxiliar'!",AA$1,$U13) -> 'Auxiliar'!P12 | AB13: =CONCATENATE("'Auxiliar'!",AB$1,$U13) -> 'Auxiliar'!Q12
A14: ='Tab Primeira Fase'!N21 -> JORGE DIAS | B14: =IF('Tab Primeira Fase'!O21<'Tab Primeira Fase'!Q21,0,IF('Tab Primeira Fase'!O21='Tab Primeira Fase'!Q21,1,IF('Tab Primeira Fase'!O21>'Tab Primeira Fase'!Q21,2))) -> 2 | C14: ='Tab Primeira Fase'!R21 -> ANDRÉ BRANDÃO | D14: =IF('Tab Primeira Fase'!O21>'Tab Primeira Fase'!Q21,0,IF('Tab Primeira Fase'!O21='Tab Primeira Fase'!Q21,1,IF('Tab Primeira Fase'!O21<'Tab Primeira Fase'!Q21,2))) -> 0 | E14: =IF(ISNUMBER('Tab Primeira Fase'!O21),1,0) -> 1 | F14: =IF(B14*E14=2,1,0) -> 1 | G14: =IF(B14*E14=1,1,0) -> 0 | H14: =IF(B14=0,IF(E14=1,1,0),0) -> 0 | I14: =IF(E14*D14=2,1,0) -> 0 | J14: =IF(E14*D14=1,1,0) -> 0 | K14: =IF(D14=0,IF(E14=1,1,0),0) -> 1 | L14: RODRIGO BARROS | M14: =SUMIF($A$1:$A$708,L14,$F$1:$F$708)+SUMIF($C$1:$C$708,L14,$I$1:$I$708) -> 3 | N14: =SUMIF($A$1:$A$708,L14,$G$1:$G$708)+SUMIF($C$1:$C$708,L14,$J$1:$J$708) -> 2 | O14: =SUMIF($A$1:$A$708,L14,$H$1:$H$708)+SUMIF($C$1:$C$708,L14,$K$1:$K$708) -> 1 | P14: =SUMIF('Tab Primeira Fase'!$N$8:$N$815,L14,'Tab Primeira Fase'!$O$8:$O$815)+SUMIF('Tab Primeira Fase'!$R$8:$R$815,L14,'Tab Primeira Fase'!$Q$8:$Q$815) -> 11 | Q14: =SUMIF('Tab Primeira Fase'!$N$8:$N$815,L14,'Tab Primeira Fase'!$Q$8:$Q$815)+SUMIF('Tab Primeira Fase'!$R$8:$R$815,L14,'Tab Primeira Fase'!$O$8:$O$815) -> 3 | R14: =(1000000*((3*M14)+N14))+(10000*M14)+(100*(P14-Q14))+P14+(0.001*(6-T14)) -> 11030811 | S14: =RANK(R14,$R$10:$R$16) -> 3 | T14: 5 | U14: =IF($S$10=T14,10,0)+IF($S$11=T14,11,0)+IF($S$12=T14,12,0)+IF($S$13=T14,13,0)+IF($S$14=T14,14,0)+IF($S$15=T14,15,0)+IF($S$16=T14,16,0) -> 15 | W14: =CONCATENATE("'Auxiliar'!",W$1,$U14) -> 'Auxiliar'!L15 | X14: =CONCATENATE("'Auxiliar'!",X$1,$U14) -> 'Auxiliar'!M15 | Y14: =CONCATENATE("'Auxiliar'!",Y$1,$U14) -> 'Auxiliar'!N15 | Z14: =CONCATENATE("'Auxiliar'!",Z$1,$U14) -> 'Auxiliar'!O15 | AA14: =CONCATENATE("'Auxiliar'!",AA$1,$U14) -> 'Auxiliar'!P15 | AB14: =CONCATENATE("'Auxiliar'!",AB$1,$U14) -> 'Auxiliar'!Q15
A15: ='Tab Primeira Fase'!N22 -> FRANCISCO | B15: =IF('Tab Primeira Fase'!O22<'Tab Primeira Fase'!Q22,0,IF('Tab Primeira Fase'!O22='Tab Primeira Fase'!Q22,1,IF('Tab Primeira Fase'!O22>'Tab Primeira Fase'!Q22,2))) -> 0 | C15: ='Tab Primeira Fase'!R22 -> MAGNO | D15: =IF('Tab Primeira Fase'!O22>'Tab Primeira Fase'!Q22,0,IF('Tab Primeira Fase'!O22='Tab Primeira Fase'!Q22,1,IF('Tab Primeira Fase'!O22<'Tab Primeira Fase'!Q22,2))) -> 2 | E15: =IF(ISNUMBER('Tab Primeira Fase'!O22),1,0) -> 1 | F15: =IF(B15*E15=2,1,0) -> 0 | G15: =IF(B15*E15=1,1,0) -> 0 | H15: =IF(B15=0,IF(E15=1,1,0),0) -> 1 | I15: =IF(E15*D15=2,1,0) -> 1 | J15: =IF(E15*D15=1,1,0) -> 0 | K15: =IF(D15=0,IF(E15=1,1,0),0) -> 0 | L15: AÉCIO | M15: =SUMIF($A$1:$A$708,L15,$F$1:$F$708)+SUMIF($C$1:$C$708,L15,$I$1:$I$708) -> 2 | N15: =SUMIF($A$1:$A$708,L15,$G$1:$G$708)+SUMIF($C$1:$C$708,L15,$J$1:$J$708) -> 1 | O15: =SUMIF($A$1:$A$708,L15,$H$1:$H$708)+SUMIF($C$1:$C$708,L15,$K$1:$K$708) -> 3 | P15: =SUMIF('Tab Primeira Fase'!$N$8:$N$815,L15,'Tab Primeira Fase'!$O$8:$O$815)+SUMIF('Tab Primeira Fase'!$R$8:$R$815,L15,'Tab Primeira Fase'!$Q$8:$Q$815) -> 5 | Q15: =SUMIF('Tab Primeira Fase'!$N$8:$N$815,L15,'Tab Primeira Fase'!$Q$8:$Q$815)+SUMIF('Tab Primeira Fase'!$R$8:$R$815,L15,'Tab Primeira Fase'!$O$8:$O$815) -> 7 | R15: =(1000000*((3*M15)+N15))+(10000*M15)+(100*(P15-Q15))+P15+(0.001*(6-T15)) -> 7019805 | S15: =RANK(R15,$R$10:$R$16) -> 5 | T15: 6 | U15: =IF($S$10=T15,10,0)+IF($S$11=T15,11,0)+IF($S$12=T15,12,0)+IF($S$13=T15,13,0)+IF($S$14=T15,14,0)+IF($S$15=T15,15,0)+IF($S$16=T15,16,0) -> 13 | W15: =CONCATENATE("'Auxiliar'!",W$1,$U15) -> 'Auxiliar'!L13 | X15: =CONCATENATE("'Auxiliar'!",X$1,$U15) -> 'Auxiliar'!M13 | Y15: =CONCATENATE("'Auxiliar'!",Y$1,$U15) -> 'Auxiliar'!N13 | Z15: =CONCATENATE("'Auxiliar'!",Z$1,$U15) -> 'Auxiliar'!O13 | AA15: =CONCATENATE("'Auxiliar'!",AA$1,$U15) -> 'Auxiliar'!P13 | AB15: =CONCATENATE("'Auxiliar'!",AB$1,$U15) -> 'Auxiliar'!Q13
A16: ='Tab Primeira Fase'!N23 -> JUNIOR | B16: =IF('Tab Primeira Fase'!O23<'Tab Primeira Fase'!Q23,0,IF('Tab Primeira Fase'!O23='Tab Primeira Fase'!Q23,1,IF('Tab Primeira Fase'!O23>'Tab Primeira Fase'!Q23,2))) -> 2 | C16: ='Tab Primeira Fase'!R23 -> AÉCIO | D16: =IF('Tab Primeira Fase'!O23>'Tab Primeira Fase'!Q23,0,IF('Tab Primeira Fase'!O23='Tab Primeira Fase'!Q23,1,IF('Tab Primeira Fase'!O23<'Tab Primeira Fase'!Q23,2))) -> 0 | E16: =IF(ISNUMBER('Tab Primeira Fase'!O23),1,0) -> 1 | F16: =IF(B16*E16=2,1,0) -> 1 | G16: =IF(B16*E16=1,1,0) -> 0 | H16: =IF(B16=0,IF(E16=1,1,0),0) -> 0 | I16: =IF(E16*D16=2,1,0) -> 0 | J16: =IF(E16*D16=1,1,0) -> 0 | K16: =IF(D16=0,IF(E16=1,1,0),0) -> 1 | L16: RODRIGO GUIMARÃES | M16: =SUMIF($A$1:$A$708,L16,$F$1:$F$708)+SUMIF($C$1:$C$708,L16,$I$1:$I$708) -> 0 | N16: =SUMIF($A$1:$A$708,L16,$G$1:$G$708)+SUMIF($C$1:$C$708,L16,$J$1:$J$708) -> 1 | O16: =SUMIF($A$1:$A$708,L16,$H$1:$H$708)+SUMIF($C$1:$C$708,L16,$K$1:$K$708) -> 5 | P16: =SUMIF('Tab Primeira Fase'!$N$8:$N$815,L16,'Tab Primeira Fase'!$O$8:$O$815)+SUMIF('Tab Primeira Fase'!$R$8:$R$815,L16,'Tab Primeira Fase'!$Q$8:$Q$815) -> 0 | Q16: =SUMIF('Tab Primeira Fase'!$N$8:$N$815,L16,'Tab Primeira Fase'!$Q$8:$Q$815)+SUMIF('Tab Primeira Fase'!$R$8:$R$815,L16,'Tab Primeira Fase'!$O$8:$O$815) -> 12 | R16: =(1000000*((3*M16)+N16))+(10000*M16)+(100*(P16-Q16))+P16+(0.001*(6-T16)) -> 998800 | S16: =RANK(R16,$R$10:$R$16) -> 7 | T16: 7 | U16: =IF($S$10=T16,10,0)+IF($S$11=T16,11,0)+IF($S$12=T16,12,0)+IF($S$13=T16,13,0)+IF($S$14=T16,14,0)+IF($S$15=T16,15,0)+IF($S$16=T16,16,0) -> 16 | W16: =CONCATENATE("'Auxiliar'!",W$1,$U16) -> 'Auxiliar'!L16 | X16: =CONCATENATE("'Auxiliar'!",X$1,$U16) -> 'Auxiliar'!M16 | Y16: =CONCATENATE("'Auxiliar'!",Y$1,$U16) -> 'Auxiliar'!N16 | Z16: =CONCATENATE("'Auxiliar'!",Z$1,$U16) -> 'Auxiliar'!O16 | AA16: =CONCATENATE("'Auxiliar'!",AA$1,$U16) -> 'Auxiliar'!P16 | AB16: =CONCATENATE("'Auxiliar'!",AB$1,$U16) -> 'Auxiliar'!Q16
A17: ='Tab Primeira Fase'!N24 -> VANDER | B17: =IF('Tab Primeira Fase'!O24<'Tab Primeira Fase'!Q24,0,IF('Tab Primeira Fase'!O24='Tab Primeira Fase'!Q24,1,IF('Tab Primeira Fase'!O24>'Tab Primeira Fase'!Q24,2))) -> 1 | C17: ='Tab Primeira Fase'!R24 -> RODRIGO BARROS | D17: =IF('Tab Primeira Fase'!O24>'Tab Primeira Fase'!Q24,0,IF('Tab Primeira Fase'!O24='Tab Primeira Fase'!Q24,1,IF('Tab Primeira Fase'!O24<'Tab Primeira Fase'!Q24,2))) -> 1 | E17: =IF(ISNUMBER('Tab Primeira Fase'!O24),1,0) -> 1 | F17: =IF(B17*E17=2,1,0) -> 0 | G17: =IF(B17*E17=1,1,0) -> 1 | H17: =IF(B17=0,IF(E17=1,1,0),0) -> 0 | I17: =IF(E17*D17=2,1,0) -> 0 | J17: =IF(E17*D17=1,1,0) -> 1 | K17: =IF(D17=0,IF(E17=1,1,0),0) -> 0
A18: ='Tab Primeira Fase'!N25 -> HÉLIO | B18: =IF('Tab Primeira Fase'!O25<'Tab Primeira Fase'!Q25,0,IF('Tab Primeira Fase'!O25='Tab Primeira Fase'!Q25,1,IF('Tab Primeira Fase'!O25>'Tab Primeira Fase'!Q25,2))) -> 2 | C18: ='Tab Primeira Fase'!R25 -> FELIPE | D18: =IF('Tab Primeira Fase'!O25>'Tab Primeira Fase'!Q25,0,IF('Tab Primeira Fase'!O25='Tab Primeira Fase'!Q25,1,IF('Tab Primeira Fase'!O25<'Tab Primeira Fase'!Q25,2))) -> 0 | E18: =IF(ISNUMBER('Tab Primeira Fase'!O25),1,0) -> 1 | F18: =IF(B18*E18=2,1,0) -> 1 | G18: =IF(B18*E18=1,1,0) -> 0 | H18: =IF(B18=0,IF(E18=1,1,0),0) -> 0 | I18: =IF(E18*D18=2,1,0) -> 0 | J18: =IF(E18*D18=1,1,0) -> 0 | K18: =IF(D18=0,IF(E18=1,1,0),0) -> 1 | L18: ALCIDES | M18: =SUMIF($A$1:$A$708,L18,$F$1:$F$708)+SUMIF($C$1:$C$708,L18,$I$1:$I$708) -> 4 | N18: =SUMIF($A$1:$A$708,L18,$G$1:$G$708)+SUMIF($C$1:$C$708,L18,$J$1:$J$708) -> 2 | O18: =SUMIF($A$1:$A$708,L18,$H$1:$H$708)+SUMIF($C$1:$C$708,L18,$K$1:$K$708) -> 0 | P18: =SUMIF('Tab Primeira Fase'!$N$8:$N$815,L18,'Tab Primeira Fase'!$O$8:$O$815)+SUMIF('Tab Primeira Fase'!$R$8:$R$815,L18,'Tab Primeira Fase'!$Q$8:$Q$815) -> 13 | Q18: =SUMIF('Tab Primeira Fase'!$N$8:$N$815,L18,'Tab Primeira Fase'!$Q$8:$Q$815)+SUMIF('Tab Primeira Fase'!$R$8:$R$815,L18,'Tab Primeira Fase'!$O$8:$O$815) -> 4 | R18: =(1000000*((3*M18)+N18))+(10000*M18)+(100*(P18-Q18))+P18+(0.001*(6-T18)) -> 14040913 | S18: =RANK(R18,$R$18:$R$24) -> 1 | T18: 1 | U18: =IF($S$18=T18,18,0)+IF($S$19=T18,19,0)+IF($S$20=T18,20,0)+IF($S$21=T18,21,0)+IF($S$22=T18,22,0)+IF($S$23=T18,23,0)+IF($S$24=T18,24,0) -> 18 | W18: =CONCATENATE("'Auxiliar'!",W$1,$U18) -> 'Auxiliar'!L18 | X18: =CONCATENATE("'Auxiliar'!",X$1,$U18) -> 'Auxiliar'!M18 | Y18: =CONCATENATE("'Auxiliar'!",Y$1,$U18) -> 'Auxiliar'!N18 | Z18: =CONCATENATE("'Auxiliar'!",Z$1,$U18) -> 'Auxiliar'!O18 | AA18: =CONCATENATE("'Auxiliar'!",AA$1,$U18) -> 'Auxiliar'!P18 | AB18: =CONCATENATE("'Auxiliar'!",AB$1,$U18) -> 'Auxiliar'!Q18
A19: ='Tab Primeira Fase'!N26 -> ALCIDES | B19: =IF('Tab Primeira Fase'!O26<'Tab Primeira Fase'!Q26,0,IF('Tab Primeira Fase'!O26='Tab Primeira Fase'!Q26,1,IF('Tab Primeira Fase'!O26>'Tab Primeira Fase'!Q26,2))) -> 1 | C19: ='Tab Primeira Fase'!R26 -> TONINHO | D19: =IF('Tab Primeira Fase'!O26>'Tab Primeira Fase'!Q26,0,IF('Tab Primeira Fase'!O26='Tab Primeira Fase'!Q26,1,IF('Tab Primeira Fase'!O26<'Tab Primeira Fase'!Q26,2))) -> 1 | E19: =IF(ISNUMBER('Tab Primeira Fase'!O26),1,0) -> 1 | F19: =IF(B19*E19=2,1,0) -> 0 | G19: =IF(B19*E19=1,1,0) -> 1 | H19: =IF(B19=0,IF(E19=1,1,0),0) -> 0 | I19: =IF(E19*D19=2,1,0) -> 0 | J19: =IF(E19*D19=1,1,0) -> 1 | K19: =IF(D19=0,IF(E19=1,1,0),0) -> 0 | L19: BETO | M19: =SUMIF($A$1:$A$708,L19,$F$1:$F$708)+SUMIF($C$1:$C$708,L19,$I$1:$I$708) -> 3 | N19: =SUMIF($A$1:$A$708,L19,$G$1:$G$708)+SUMIF($C$1:$C$708,L19,$J$1:$J$708) -> 2 | O19: =SUMIF($A$1:$A$708,L19,$H$1:$H$708)+SUMIF($C$1:$C$708,L19,$K$1:$K$708) -> 1 | P19: =SUMIF('Tab Primeira Fase'!$N$8:$N$815,L19,'Tab Primeira Fase'!$O$8:$O$815)+SUMIF('Tab Primeira Fase'!$R$8:$R$815,L19,'Tab Primeira Fase'!$Q$8:$Q$815) -> 8 | Q19: =SUMIF('Tab Primeira Fase'!$N$8:$N$815,L19,'Tab Primeira Fase'!$Q$8:$Q$815)+SUMIF('Tab Primeira Fase'!$R$8:$R$815,L19,'Tab Primeira Fase'!$O$8:$O$815) -> 5 | R19: =(1000000*((3*M19)+N19))+(10000*M19)+(100*(P19-Q19))+P19+(0.001*(6-T19)) -> 11030308 | S19: =RANK(R19,$R$18:$R$24) -> 3 | T19: 2 | U19: =IF($S$18=T19,18,0)+IF($S$19=T19,19,0)+IF($S$20=T19,20,0)+IF($S$21=T19,21,0)+IF($S$22=T19,22,0)+IF($S$23=T19,23,0)+IF($S$24=T19,24,0) -> 23 | W19: =CONCATENATE("'Auxiliar'!",W$1,$U19) -> 'Auxiliar'!L23 | X19: =CONCATENATE("'Auxiliar'!",X$1,$U19) -> 'Auxiliar'!M23 | Y19: =CONCATENATE("'Auxiliar'!",Y$1,$U19) -> 'Auxiliar'!N23 | Z19: =CONCATENATE("'Auxiliar'!",Z$1,$U19) -> 'Auxiliar'!O23 | AA19: =CONCATENATE("'Auxiliar'!",AA$1,$U19) -> 'Auxiliar'!P23 | AB19: =CONCATENATE("'Auxiliar'!",AB$1,$U19) -> 'Auxiliar'!Q23
A20: ='Tab Primeira Fase'!N27 -> BETO | B20: =IF('Tab Primeira Fase'!O27<'Tab Primeira Fase'!Q27,0,IF('Tab Primeira Fase'!O27='Tab Primeira Fase'!Q27,1,IF('Tab Primeira Fase'!O27>'Tab Primeira Fase'!Q27,2))) -> 2 | C20: ='Tab Primeira Fase'!R27 -> IZALCI | D20: =IF('Tab Primeira Fase'!O27>'Tab Primeira Fase'!Q27,0,IF('Tab Primeira Fase'!O27='Tab Primeira Fase'!Q27,1,IF('Tab Primeira Fase'!O27<'Tab Primeira Fase'!Q27,2))) -> 0 | E20: =IF(ISNUMBER('Tab Primeira Fase'!O27),1,0) -> 1 | F20: =IF(B20*E20=2,1,0) -> 1 | G20: =IF(B20*E20=1,1,0) -> 0 | H20: =IF(B20=0,IF(E20=1,1,0),0) -> 0 | I20: =IF(E20*D20=2,1,0) -> 0 | J20: =IF(E20*D20=1,1,0) -> 0 | K20: =IF(D20=0,IF(E20=1,1,0),0) -> 1 | L20: HEAVY | M20: =SUMIF($A$1:$A$708,L20,$F$1:$F$708)+SUMIF($C$1:$C$708,L20,$I$1:$I$708) -> 1 | N20: =SUMIF($A$1:$A$708,L20,$G$1:$G$708)+SUMIF($C$1:$C$708,L20,$J$1:$J$708) -> 4 | O20: =SUMIF($A$1:$A$708,L20,$H$1:$H$708)+SUMIF($C$1:$C$708,L20,$K$1:$K$708) -> 1 | P20: =SUMIF('Tab Primeira Fase'!$N$8:$N$815,L20,'Tab Primeira Fase'!$O$8:$O$815)+SUMIF('Tab Primeira Fase'!$R$8:$R$815,L20,'Tab Primeira Fase'!$Q$8:$Q$815) -> 6 | Q20: =SUMIF('Tab Primeira Fase'!$N$8:$N$815,L20,'Tab Primeira Fase'!$Q$8:$Q$815)+SUMIF('Tab Primeira Fase'!$R$8:$R$815,L20,'Tab Primeira Fase'!$O$8:$O$815) -> 5 | R20: =(1000000*((3*M20)+N20))+(10000*M20)+(100*(P20-Q20))+P20+(0.001*(6-T20)) -> 7010106 | S20: =RANK(R20,$R$18:$R$24) -> 4 | T20: 3 | U20: =IF($S$18=T20,18,0)+IF($S$19=T20,19,0)+IF($S$20=T20,20,0)+IF($S$21=T20,21,0)+IF($S$22=T20,22,0)+IF($S$23=T20,23,0)+IF($S$24=T20,24,0) -> 19 | W20: =CONCATENATE("'Auxiliar'!",W$1,$U20) -> 'Auxiliar'!L19 | X20: =CONCATENATE("'Auxiliar'!",X$1,$U20) -> 'Auxiliar'!M19 | Y20: =CONCATENATE("'Auxiliar'!",Y$1,$U20) -> 'Auxiliar'!N19 | Z20: =CONCATENATE("'Auxiliar'!",Z$1,$U20) -> 'Auxiliar'!O19 | AA20: =CONCATENATE("'Auxiliar'!",AA$1,$U20) -> 'Auxiliar'!P19 | AB20: =CONCATENATE("'Auxiliar'!",AB$1,$U20) -> 'Auxiliar'!Q19
A21: ='Tab Primeira Fase'!N28 -> HEAVY | B21: =IF('Tab Primeira Fase'!O28<'Tab Primeira Fase'!Q28,0,IF('Tab Primeira Fase'!O28='Tab Primeira Fase'!Q28,1,IF('Tab Primeira Fase'!O28>'Tab Primeira Fase'!Q28,2))) -> 1 | C21: ='Tab Primeira Fase'!R28 -> PAULO CÉSAR | D21: =IF('Tab Primeira Fase'!O28>'Tab Primeira Fase'!Q28,0,IF('Tab Primeira Fase'!O28='Tab Primeira Fase'!Q28,1,IF('Tab Primeira Fase'!O28<'Tab Primeira Fase'!Q28,2))) -> 1 | E21: =IF(ISNUMBER('Tab Primeira Fase'!O28),1,0) -> 1 | F21: =IF(B21*E21=2,1,0) -> 0 | G21: =IF(B21*E21=1,1,0) -> 1 | H21: =IF(B21=0,IF(E21=1,1,0),0) -> 0 | I21: =IF(E21*D21=2,1,0) -> 0 | J21: =IF(E21*D21=1,1,0) -> 1 | K21: =IF(D21=0,IF(E21=1,1,0),0) -> 0 | L21: PAULO CÉSAR | M21: =SUMIF($A$1:$A$708,L21,$F$1:$F$708)+SUMIF($C$1:$C$708,L21,$I$1:$I$708) -> 0 | N21: =SUMIF($A$1:$A$708,L21,$G$1:$G$708)+SUMIF($C$1:$C$708,L21,$J$1:$J$708) -> 2 | O21: =SUMIF($A$1:$A$708,L21,$H$1:$H$708)+SUMIF($C$1:$C$708,L21,$K$1:$K$708) -> 4 | P21: =SUMIF('Tab Primeira Fase'!$N$8:$N$815,L21,'Tab Primeira Fase'!$O$8:$O$815)+SUMIF('Tab Primeira Fase'!$R$8:$R$815,L21,'Tab Primeira Fase'!$Q$8:$Q$815) -> 2 | Q21: =SUMIF('Tab Primeira Fase'!$N$8:$N$815,L21,'Tab Primeira Fase'!$Q$8:$Q$815)+SUMIF('Tab Primeira Fase'!$R$8:$R$815,L21,'Tab Primeira Fase'!$O$8:$O$815) -> 12 | R21: =(1000000*((3*M21)+N21))+(10000*M21)+(100*(P21-Q21))+P21+(0.001*(6-T21)) -> 1999002 | S21: =RANK(R21,$R$18:$R$24) -> 7 | T21: 4 | U21: =IF($S$18=T21,18,0)+IF($S$19=T21,19,0)+IF($S$20=T21,20,0)+IF($S$21=T21,21,0)+IF($S$22=T21,22,0)+IF($S$23=T21,23,0)+IF($S$24=T21,24,0) -> 20 | W21: =CONCATENATE("'Auxiliar'!",W$1,$U21) -> 'Auxiliar'!L20 | X21: =CONCATENATE("'Auxiliar'!",X$1,$U21) -> 'Auxiliar'!M20 | Y21: =CONCATENATE("'Auxiliar'!",Y$1,$U21) -> 'Auxiliar'!N20 | Z21: =CONCATENATE("'Auxiliar'!",Z$1,$U21) -> 'Auxiliar'!O20 | AA21: =CONCATENATE("'Auxiliar'!",AA$1,$U21) -> 'Auxiliar'!P20 | AB21: =CONCATENATE("'Auxiliar'!",AB$1,$U21) -> 'Auxiliar'!Q20
A22: ='Tab Primeira Fase'!N29 -> LUIZ CLAUDIO | B22: =IF('Tab Primeira Fase'!O29<'Tab Primeira Fase'!Q29,0,IF('Tab Primeira Fase'!O29='Tab Primeira Fase'!Q29,1,IF('Tab Primeira Fase'!O29>'Tab Primeira Fase'!Q29,2))) -> 2 | C22: ='Tab Primeira Fase'!R29 -> WILLIAM MOREIRA | D22: =IF('Tab Primeira Fase'!O29>'Tab Primeira Fase'!Q29,0,IF('Tab Primeira Fase'!O29='Tab Primeira Fase'!Q29,1,IF('Tab Primeira Fase'!O29<'Tab Primeira Fase'!Q29,2))) -> 0 | E22: =IF(ISNUMBER('Tab Primeira Fase'!O29),1,0) -> 1 | F22: =IF(B22*E22=2,1,0) -> 1 | G22: =IF(B22*E22=1,1,0) -> 0 | H22: =IF(B22=0,IF(E22=1,1,0),0) -> 0 | I22: =IF(E22*D22=2,1,0) -> 0 | J22: =IF(E22*D22=1,1,0) -> 0 | K22: =IF(D22=0,IF(E22=1,1,0),0) -> 1 | L22: IZALCI | M22: =SUMIF($A$1:$A$708,L22,$F$1:$F$708)+SUMIF($C$1:$C$708,L22,$I$1:$I$708) -> 0 | N22: =SUMIF($A$1:$A$708,L22,$G$1:$G$708)+SUMIF($C$1:$C$708,L22,$J$1:$J$708) -> 3 | O22: =SUMIF($A$1:$A$708,L22,$H$1:$H$708)+SUMIF($C$1:$C$708,L22,$K$1:$K$708) -> 3 | P22: =SUMIF('Tab Primeira Fase'!$N$8:$N$815,L22,'Tab Primeira Fase'!$O$8:$O$815)+SUMIF('Tab Primeira Fase'!$R$8:$R$815,L22,'Tab Primeira Fase'!$Q$8:$Q$815) -> 4 | Q22: =SUMIF('Tab Primeira Fase'!$N$8:$N$815,L22,'Tab Primeira Fase'!$Q$8:$Q$815)+SUMIF('Tab Primeira Fase'!$R$8:$R$815,L22,'Tab Primeira Fase'!$O$8:$O$815) -> 9 | R22: =(1000000*((3*M22)+N22))+(10000*M22)+(100*(P22-Q22))+P22+(0.001*(6-T22)) -> 2999504 | S22: =RANK(R22,$R$18:$R$24) -> 6 | T22: 5 | U22: =IF($S$18=T22,18,0)+IF($S$19=T22,19,0)+IF($S$20=T22,20,0)+IF($S$21=T22,21,0)+IF($S$22=T22,22,0)+IF($S$23=T22,23,0)+IF($S$24=T22,24,0) -> 24 | W22: =CONCATENATE("'Auxiliar'!",W$1,$U22) -> 'Auxiliar'!L24 | X22: =CONCATENATE("'Auxiliar'!",X$1,$U22) -> 'Auxiliar'!M24 | Y22: =CONCATENATE("'Auxiliar'!",Y$1,$U22) -> 'Auxiliar'!N24 | Z22: =CONCATENATE("'Auxiliar'!",Z$1,$U22) -> 'Auxiliar'!O24 | AA22: =CONCATENATE("'Auxiliar'!",AA$1,$U22) -> 'Auxiliar'!P24 | AB22: =CONCATENATE("'Auxiliar'!",AB$1,$U22) -> 'Auxiliar'!Q24
A23: ='Tab Primeira Fase'!N30 -> THIAGO | B23: =IF('Tab Primeira Fase'!O30<'Tab Primeira Fase'!Q30,0,IF('Tab Primeira Fase'!O30='Tab Primeira Fase'!Q30,1,IF('Tab Primeira Fase'!O30>'Tab Primeira Fase'!Q30,2))) -> 2 | C23: ='Tab Primeira Fase'!R30 -> LUIZ GOMES | D23: =IF('Tab Primeira Fase'!O30>'Tab Primeira Fase'!Q30,0,IF('Tab Primeira Fase'!O30='Tab Primeira Fase'!Q30,1,IF('Tab Primeira Fase'!O30<'Tab Primeira Fase'!Q30,2))) -> 0 | E23: =IF(ISNUMBER('Tab Primeira Fase'!O30),1,0) -> 1 | F23: =IF(B23*E23=2,1,0) -> 1 | G23: =IF(B23*E23=1,1,0) -> 0 | H23: =IF(B23=0,IF(E23=1,1,0),0) -> 0 | I23: =IF(E23*D23=2,1,0) -> 0 | J23: =IF(E23*D23=1,1,0) -> 0 | K23: =IF(D23=0,IF(E23=1,1,0),0) -> 1 | L23: TONINHO | M23: =SUMIF($A$1:$A$708,L23,$F$1:$F$708)+SUMIF($C$1:$C$708,L23,$I$1:$I$708) -> 4 | N23: =SUMIF($A$1:$A$708,L23,$G$1:$G$708)+SUMIF($C$1:$C$708,L23,$J$1:$J$708) -> 2 | O23: =SUMIF($A$1:$A$708,L23,$H$1:$H$708)+SUMIF($C$1:$C$708,L23,$K$1:$K$708) -> 0 | P23: =SUMIF('Tab Primeira Fase'!$N$8:$N$815,L23,'Tab Primeira Fase'!$O$8:$O$815)+SUMIF('Tab Primeira Fase'!$R$8:$R$815,L23,'Tab Primeira Fase'!$Q$8:$Q$815) -> 10 | Q23: =SUMIF('Tab Primeira Fase'!$N$8:$N$815,L23,'Tab Primeira Fase'!$Q$8:$Q$815)+SUMIF('Tab Primeira Fase'!$R$8:$R$815,L23,'Tab Primeira Fase'!$O$8:$O$815) -> 3 | R23: =(1000000*((3*M23)+N23))+(10000*M23)+(100*(P23-Q23))+P23+(0.001*(6-T23)) -> 14040710 | S23: =RANK(R23,$R$18:$R$24) -> 2 | T23: 6 | U23: =IF($S$18=T23,18,0)+IF($S$19=T23,19,0)+IF($S$20=T23,20,0)+IF($S$21=T23,21,0)+IF($S$22=T23,22,0)+IF($S$23=T23,23,0)+IF($S$24=T23,24,0) -> 22 | W23: =CONCATENATE("'Auxiliar'!",W$1,$U23) -> 'Auxiliar'!L22 | X23: =CONCATENATE("'Auxiliar'!",X$1,$U23) -> 'Auxiliar'!M22 | Y23: =CONCATENATE("'Auxiliar'!",Y$1,$U23) -> 'Auxiliar'!N22 | Z23: =CONCATENATE("'Auxiliar'!",Z$1,$U23) -> 'Auxiliar'!O22 | AA23: =CONCATENATE("'Auxiliar'!",AA$1,$U23) -> 'Auxiliar'!P22 | AB23: =CONCATENATE("'Auxiliar'!",AB$1,$U23) -> 'Auxiliar'!Q22
A24: ='Tab Primeira Fase'!N31 -> VASQUES | B24: =IF('Tab Primeira Fase'!O31<'Tab Primeira Fase'!Q31,0,IF('Tab Primeira Fase'!O31='Tab Primeira Fase'!Q31,1,IF('Tab Primeira Fase'!O31>'Tab Primeira Fase'!Q31,2))) -> 1 | C24: ='Tab Primeira Fase'!R31 -> AMAURI | D24: =IF('Tab Primeira Fase'!O31>'Tab Primeira Fase'!Q31,0,IF('Tab Primeira Fase'!O31='Tab Primeira Fase'!Q31,1,IF('Tab Primeira Fase'!O31<'Tab Primeira Fase'!Q31,2))) -> 1 | E24: =IF(ISNUMBER('Tab Primeira Fase'!O31),1,0) -> 1 | F24: =IF(B24*E24=2,1,0) -> 0 | G24: =IF(B24*E24=1,1,0) -> 1 | H24: =IF(B24=0,IF(E24=1,1,0),0) -> 0 | I24: =IF(E24*D24=2,1,0) -> 0 | J24: =IF(E24*D24=1,1,0) -> 1 | K24: =IF(D24=0,IF(E24=1,1,0),0) -> 0 | L24: MARQUINHOS | M24: =SUMIF($A$1:$A$708,L24,$F$1:$F$708)+SUMIF($C$1:$C$708,L24,$I$1:$I$708) -> 1 | N24: =SUMIF($A$1:$A$708,L24,$G$1:$G$708)+SUMIF($C$1:$C$708,L24,$J$1:$J$708) -> 1 | O24: =SUMIF($A$1:$A$708,L24,$H$1:$H$708)+SUMIF($C$1:$C$708,L24,$K$1:$K$708) -> 4 | P24: =SUMIF('Tab Primeira Fase'!$N$8:$N$815,L24,'Tab Primeira Fase'!$O$8:$O$815)+SUMIF('Tab Primeira Fase'!$R$8:$R$815,L24,'Tab Primeira Fase'!$Q$8:$Q$815) -> 4 | Q24: =SUMIF('Tab Primeira Fase'!$N$8:$N$815,L24,'Tab Primeira Fase'!$Q$8:$Q$815)+SUMIF('Tab Primeira Fase'!$R$8:$R$815,L24,'Tab Primeira Fase'!$O$8:$O$815) -> 9 | R24: =(1000000*((3*M24)+N24))+(10000*M24)+(100*(P24-Q24))+P24+(0.001*(6-T24)) -> 4009504 | S24: =RANK(R24,$R$18:$R$24) -> 5 | T24: 7 | U24: =IF($S$18=T24,18,0)+IF($S$19=T24,19,0)+IF($S$20=T24,20,0)+IF($S$21=T24,21,0)+IF($S$22=T24,22,0)+IF($S$23=T24,23,0)+IF($S$24=T24,24,0) -> 21 | W24: =CONCATENATE("'Auxiliar'!",W$1,$U24) -> 'Auxiliar'!L21 | X24: =CONCATENATE("'Auxiliar'!",X$1,$U24) -> 'Auxiliar'!M21 | Y24: =CONCATENATE("'Auxiliar'!",Y$1,$U24) -> 'Auxiliar'!N21 | Z24: =CONCATENATE("'Auxiliar'!",Z$1,$U24) -> 'Auxiliar'!O21 | AA24: =CONCATENATE("'Auxiliar'!",AA$1,$U24) -> 'Auxiliar'!P21 | AB24: =CONCATENATE("'Auxiliar'!",AB$1,$U24) -> 'Auxiliar'!Q21
A25: ='Tab Primeira Fase'!N32 -> MAGNO | B25: =IF('Tab Primeira Fase'!O32<'Tab Primeira Fase'!Q32,0,IF('Tab Primeira Fase'!O32='Tab Primeira Fase'!Q32,1,IF('Tab Primeira Fase'!O32>'Tab Primeira Fase'!Q32,2))) -> 1 | C25: ='Tab Primeira Fase'!R32 -> JORGE DIAS | D25: =IF('Tab Primeira Fase'!O32>'Tab Primeira Fase'!Q32,0,IF('Tab Primeira Fase'!O32='Tab Primeira Fase'!Q32,1,IF('Tab Primeira Fase'!O32<'Tab Primeira Fase'!Q32,2))) -> 1 | E25: =IF(ISNUMBER('Tab Primeira Fase'!O32),1,0) -> 1 | F25: =IF(B25*E25=2,1,0) -> 0 | G25: =IF(B25*E25=1,1,0) -> 1 | H25: =IF(B25=0,IF(E25=1,1,0),0) -> 0 | I25: =IF(E25*D25=2,1,0) -> 0 | J25: =IF(E25*D25=1,1,0) -> 1 | K25: =IF(D25=0,IF(E25=1,1,0),0) -> 0
A26: ='Tab Primeira Fase'!N33 -> ANDRÉ BRANDÃO | B26: =IF('Tab Primeira Fase'!O33<'Tab Primeira Fase'!Q33,0,IF('Tab Primeira Fase'!O33='Tab Primeira Fase'!Q33,1,IF('Tab Primeira Fase'!O33>'Tab Primeira Fase'!Q33,2))) -> 1 | C26: ='Tab Primeira Fase'!R33 -> JULIANO | D26: =IF('Tab Primeira Fase'!O33>'Tab Primeira Fase'!Q33,0,IF('Tab Primeira Fase'!O33='Tab Primeira Fase'!Q33,1,IF('Tab Primeira Fase'!O33<'Tab Primeira Fase'!Q33,2))) -> 1 | E26: =IF(ISNUMBER('Tab Primeira Fase'!O33),1,0) -> 1 | F26: =IF(B26*E26=2,1,0) -> 0 | G26: =IF(B26*E26=1,1,0) -> 1 | H26: =IF(B26=0,IF(E26=1,1,0),0) -> 0 | I26: =IF(E26*D26=2,1,0) -> 0 | J26: =IF(E26*D26=1,1,0) -> 1 | K26: =IF(D26=0,IF(E26=1,1,0),0) -> 0 | L26: LUIZ CLAUDIO | M26: =SUMIF($A$1:$A$708,L26,$F$1:$F$708)+SUMIF($C$1:$C$708,L26,$I$1:$I$708) -> 5 | N26: =SUMIF($A$1:$A$708,L26,$G$1:$G$708)+SUMIF($C$1:$C$708,L26,$J$1:$J$708) -> 0 | O26: =SUMIF($A$1:$A$708,L26,$H$1:$H$708)+SUMIF($C$1:$C$708,L26,$K$1:$K$708) -> 1 | P26: =SUMIF('Tab Primeira Fase'!$N$8:$N$815,L26,'Tab Primeira Fase'!$O$8:$O$815)+SUMIF('Tab Primeira Fase'!$R$8:$R$815,L26,'Tab Primeira Fase'!$Q$8:$Q$815) -> 13 | Q26: =SUMIF('Tab Primeira Fase'!$N$8:$N$815,L26,'Tab Primeira Fase'!$Q$8:$Q$815)+SUMIF('Tab Primeira Fase'!$R$8:$R$815,L26,'Tab Primeira Fase'!$O$8:$O$815) -> 3 | R26: =(1000000*((3*M26)+N26))+(10000*M26)+(100*(P26-Q26))+P26+(0.001*(6-T26)) -> 15051013 | S26: =RANK(R26,$R$26:$R$32) -> 1 | T26: 1 | U26: =IF($S$26=T26,26,0)+IF($S$27=T26,27,0)+IF($S$28=T26,28,0)+IF($S$29=T26,29,0)+IF($S$30=T26,30,0)+IF($S$31=T26,31,0)+IF($S$32=T26,32,0) -> 26 | W26: =CONCATENATE("'Auxiliar'!",W$1,$U26) -> 'Auxiliar'!L26 | X26: =CONCATENATE("'Auxiliar'!",X$1,$U26) -> 'Auxiliar'!M26 | Y26: =CONCATENATE("'Auxiliar'!",Y$1,$U26) -> 'Auxiliar'!N26 | Z26: =CONCATENATE("'Auxiliar'!",Z$1,$U26) -> 'Auxiliar'!O26 | AA26: =CONCATENATE("'Auxiliar'!",AA$1,$U26) -> 'Auxiliar'!P26 | AB26: =CONCATENATE("'Auxiliar'!",AB$1,$U26) -> 'Auxiliar'!Q26
A27: ='Tab Primeira Fase'!N34 -> MALCHER | B27: =IF('Tab Primeira Fase'!O34<'Tab Primeira Fase'!Q34,0,IF('Tab Primeira Fase'!O34='Tab Primeira Fase'!Q34,1,IF('Tab Primeira Fase'!O34>'Tab Primeira Fase'!Q34,2))) -> 0 | C27: ='Tab Primeira Fase'!R34 -> MARCELO PORTO | D27: =IF('Tab Primeira Fase'!O34>'Tab Primeira Fase'!Q34,0,IF('Tab Primeira Fase'!O34='Tab Primeira Fase'!Q34,1,IF('Tab Primeira Fase'!O34<'Tab Primeira Fase'!Q34,2))) -> 2 | E27: =IF(ISNUMBER('Tab Primeira Fase'!O34),1,0) -> 1 | F27: =IF(B27*E27=2,1,0) -> 0 | G27: =IF(B27*E27=1,1,0) -> 0 | H27: =IF(B27=0,IF(E27=1,1,0),0) -> 1 | I27: =IF(E27*D27=2,1,0) -> 1 | J27: =IF(E27*D27=1,1,0) -> 0 | K27: =IF(D27=0,IF(E27=1,1,0),0) -> 0 | L27: THIAGO | M27: =SUMIF($A$1:$A$708,L27,$F$1:$F$708)+SUMIF($C$1:$C$708,L27,$I$1:$I$708) -> 3 | N27: =SUMIF($A$1:$A$708,L27,$G$1:$G$708)+SUMIF($C$1:$C$708,L27,$J$1:$J$708) -> 2 | O27: =SUMIF($A$1:$A$708,L27,$H$1:$H$708)+SUMIF($C$1:$C$708,L27,$K$1:$K$708) -> 1 | P27: =SUMIF('Tab Primeira Fase'!$N$8:$N$815,L27,'Tab Primeira Fase'!$O$8:$O$815)+SUMIF('Tab Primeira Fase'!$R$8:$R$815,L27,'Tab Primeira Fase'!$Q$8:$Q$815) -> 6 | Q27: =SUMIF('Tab Primeira Fase'!$N$8:$N$815,L27,'Tab Primeira Fase'!$Q$8:$Q$815)+SUMIF('Tab Primeira Fase'!$R$8:$R$815,L27,'Tab Primeira Fase'!$O$8:$O$815) -> 5 | R27: =(1000000*((3*M27)+N27))+(10000*M27)+(100*(P27-Q27))+P27+(0.001*(6-T27)) -> 11030106 | S27: =RANK(R27,$R$26:$R$32) -> 2 | T27: 2 | U27: =IF($S$26=T27,26,0)+IF($S$27=T27,27,0)+IF($S$28=T27,28,0)+IF($S$29=T27,29,0)+IF($S$30=T27,30,0)+IF($S$31=T27,31,0)+IF($S$32=T27,32,0) -> 27 | W27: =CONCATENATE("'Auxiliar'!",W$1,$U27) -> 'Auxiliar'!L27 | X27: =CONCATENATE("'Auxiliar'!",X$1,$U27) -> 'Auxiliar'!M27 | Y27: =CONCATENATE("'Auxiliar'!",Y$1,$U27) -> 'Auxiliar'!N27 | Z27: =CONCATENATE("'Auxiliar'!",Z$1,$U27) -> 'Auxiliar'!O27 | AA27: =CONCATENATE("'Auxiliar'!",AA$1,$U27) -> 'Auxiliar'!P27 | AB27: =CONCATENATE("'Auxiliar'!",AB$1,$U27) -> 'Auxiliar'!Q27
A28: ='Tab Primeira Fase'!N35 -> PAULO CÉSAR | B28: =IF('Tab Primeira Fase'!O35<'Tab Primeira Fase'!Q35,0,IF('Tab Primeira Fase'!O35='Tab Primeira Fase'!Q35,1,IF('Tab Primeira Fase'!O35>'Tab Primeira Fase'!Q35,2))) -> 0 | C28: ='Tab Primeira Fase'!R35 -> BETO | D28: =IF('Tab Primeira Fase'!O35>'Tab Primeira Fase'!Q35,0,IF('Tab Primeira Fase'!O35='Tab Primeira Fase'!Q35,1,IF('Tab Primeira Fase'!O35<'Tab Primeira Fase'!Q35,2))) -> 2 | E28: =IF(ISNUMBER('Tab Primeira Fase'!O35),1,0) -> 1 | F28: =IF(B28*E28=2,1,0) -> 0 | G28: =IF(B28*E28=1,1,0) -> 0 | H28: =IF(B28=0,IF(E28=1,1,0),0) -> 1 | I28: =IF(E28*D28=2,1,0) -> 1 | J28: =IF(E28*D28=1,1,0) -> 0 | K28: =IF(D28=0,IF(E28=1,1,0),0) -> 0 | L28: VASQUES | M28: =SUMIF($A$1:$A$708,L28,$F$1:$F$708)+SUMIF($C$1:$C$708,L28,$I$1:$I$708) -> 2 | N28: =SUMIF($A$1:$A$708,L28,$G$1:$G$708)+SUMIF($C$1:$C$708,L28,$J$1:$J$708) -> 2 | O28: =SUMIF($A$1:$A$708,L28,$H$1:$H$708)+SUMIF($C$1:$C$708,L28,$K$1:$K$708) -> 2 | P28: =SUMIF('Tab Primeira Fase'!$N$8:$N$815,L28,'Tab Primeira Fase'!$O$8:$O$815)+SUMIF('Tab Primeira Fase'!$R$8:$R$815,L28,'Tab Primeira Fase'!$Q$8:$Q$815) -> 6 | Q28: =SUMIF('Tab Primeira Fase'!$N$8:$N$815,L28,'Tab Primeira Fase'!$Q$8:$Q$815)+SUMIF('Tab Primeira Fase'!$R$8:$R$815,L28,'Tab Primeira Fase'!$O$8:$O$815) -> 6 | R28: =(1000000*((3*M28)+N28))+(10000*M28)+(100*(P28-Q28))+P28+(0.001*(6-T28)) -> 8020006 | S28: =RANK(R28,$R$26:$R$32) -> 3 | T28: 3 | U28: =IF($S$26=T28,26,0)+IF($S$27=T28,27,0)+IF($S$28=T28,28,0)+IF($S$29=T28,29,0)+IF($S$30=T28,30,0)+IF($S$31=T28,31,0)+IF($S$32=T28,32,0) -> 28 | W28: =CONCATENATE("'Auxiliar'!",W$1,$U28) -> 'Auxiliar'!L28 | X28: =CONCATENATE("'Auxiliar'!",X$1,$U28) -> 'Auxiliar'!M28 | Y28: =CONCATENATE("'Auxiliar'!",Y$1,$U28) -> 'Auxiliar'!N28 | Z28: =CONCATENATE("'Auxiliar'!",Z$1,$U28) -> 'Auxiliar'!O28 | AA28: =CONCATENATE("'Auxiliar'!",AA$1,$U28) -> 'Auxiliar'!P28 | AB28: =CONCATENATE("'Auxiliar'!",AB$1,$U28) -> 'Auxiliar'!Q28
A29: ='Tab Primeira Fase'!N36 -> IZALCI | B29: =IF('Tab Primeira Fase'!O36<'Tab Primeira Fase'!Q36,0,IF('Tab Primeira Fase'!O36='Tab Primeira Fase'!Q36,1,IF('Tab Primeira Fase'!O36>'Tab Primeira Fase'!Q36,2))) -> 0 | C29: ='Tab Primeira Fase'!R36 -> ALCIDES | D29: =IF('Tab Primeira Fase'!O36>'Tab Primeira Fase'!Q36,0,IF('Tab Primeira Fase'!O36='Tab Primeira Fase'!Q36,1,IF('Tab Primeira Fase'!O36<'Tab Primeira Fase'!Q36,2))) -> 2 | E29: =IF(ISNUMBER('Tab Primeira Fase'!O36),1,0) -> 1 | F29: =IF(B29*E29=2,1,0) -> 0 | G29: =IF(B29*E29=1,1,0) -> 0 | H29: =IF(B29=0,IF(E29=1,1,0),0) -> 1 | I29: =IF(E29*D29=2,1,0) -> 1 | J29: =IF(E29*D29=1,1,0) -> 0 | K29: =IF(D29=0,IF(E29=1,1,0),0) -> 0 | L29: AMAURI | M29: =SUMIF($A$1:$A$708,L29,$F$1:$F$708)+SUMIF($C$1:$C$708,L29,$I$1:$I$708) -> 2 | N29: =SUMIF($A$1:$A$708,L29,$G$1:$G$708)+SUMIF($C$1:$C$708,L29,$J$1:$J$708) -> 2 | O29: =SUMIF($A$1:$A$708,L29,$H$1:$H$708)+SUMIF($C$1:$C$708,L29,$K$1:$K$708) -> 2 | P29: =SUMIF('Tab Primeira Fase'!$N$8:$N$815,L29,'Tab Primeira Fase'!$O$8:$O$815)+SUMIF('Tab Primeira Fase'!$R$8:$R$815,L29,'Tab Primeira Fase'!$Q$8:$Q$815) -> 5 | Q29: =SUMIF('Tab Primeira Fase'!$N$8:$N$815,L29,'Tab Primeira Fase'!$Q$8:$Q$815)+SUMIF('Tab Primeira Fase'!$R$8:$R$815,L29,'Tab Primeira Fase'!$O$8:$O$815) -> 5 | R29: =(1000000*((3*M29)+N29))+(10000*M29)+(100*(P29-Q29))+P29+(0.001*(6-T29)) -> 8020005 | S29: =RANK(R29,$R$26:$R$32) -> 4 | T29: 4 | U29: =IF($S$26=T29,26,0)+IF($S$27=T29,27,0)+IF($S$28=T29,28,0)+IF($S$29=T29,29,0)+IF($S$30=T29,30,0)+IF($S$31=T29,31,0)+IF($S$32=T29,32,0) -> 29 | W29: =CONCATENATE("'Auxiliar'!",W$1,$U29) -> 'Auxiliar'!L29 | X29: =CONCATENATE("'Auxiliar'!",X$1,$U29) -> 'Auxiliar'!M29 | Y29: =CONCATENATE("'Auxiliar'!",Y$1,$U29) -> 'Auxiliar'!N29 | Z29: =CONCATENATE("'Auxiliar'!",Z$1,$U29) -> 'Auxiliar'!O29 | AA29: =CONCATENATE("'Auxiliar'!",AA$1,$U29) -> 'Auxiliar'!P29 | AB29: =CONCATENATE("'Auxiliar'!",AB$1,$U29) -> 'Auxiliar'!Q29
A30: ='Tab Primeira Fase'!N37 -> TONINHO | B30: =IF('Tab Primeira Fase'!O37<'Tab Primeira Fase'!Q37,0,IF('Tab Primeira Fase'!O37='Tab Primeira Fase'!Q37,1,IF('Tab Primeira Fase'!O37>'Tab Primeira Fase'!Q37,2))) -> 2 | C30: ='Tab Primeira Fase'!R37 -> MARQUINHOS | D30: =IF('Tab Primeira Fase'!O37>'Tab Primeira Fase'!Q37,0,IF('Tab Primeira Fase'!O37='Tab Primeira Fase'!Q37,1,IF('Tab Primeira Fase'!O37<'Tab Primeira Fase'!Q37,2))) -> 0 | E30: =IF(ISNUMBER('Tab Primeira Fase'!O37),1,0) -> 1 | F30: =IF(B30*E30=2,1,0) -> 1 | G30: =IF(B30*E30=1,1,0) -> 0 | H30: =IF(B30=0,IF(E30=1,1,0),0) -> 0 | I30: =IF(E30*D30=2,1,0) -> 0 | J30: =IF(E30*D30=1,1,0) -> 0 | K30: =IF(D30=0,IF(E30=1,1,0),0) -> 1 | L30: LUIZ GOMES | M30: =SUMIF($A$1:$A$708,L30,$F$1:$F$708)+SUMIF($C$1:$C$708,L30,$I$1:$I$708) -> 0 | N30: =SUMIF($A$1:$A$708,L30,$G$1:$G$708)+SUMIF($C$1:$C$708,L30,$J$1:$J$708) -> 0 | O30: =SUMIF($A$1:$A$708,L30,$H$1:$H$708)+SUMIF($C$1:$C$708,L30,$K$1:$K$708) -> 6 | P30: =SUMIF('Tab Primeira Fase'!$N$8:$N$815,L30,'Tab Primeira Fase'!$O$8:$O$815)+SUMIF('Tab Primeira Fase'!$R$8:$R$815,L30,'Tab Primeira Fase'!$Q$8:$Q$815) -> 2 | Q30: =SUMIF('Tab Primeira Fase'!$N$8:$N$815,L30,'Tab Primeira Fase'!$Q$8:$Q$815)+SUMIF('Tab Primeira Fase'!$R$8:$R$815,L30,'Tab Primeira Fase'!$O$8:$O$815) -> 10 | R30: =(1000000*((3*M30)+N30))+(10000*M30)+(100*(P30-Q30))+P30+(0.001*(6-T30)) -> -797.999 | S30: =RANK(R30,$R$26:$R$32) -> 7 | T30: 5 | U30: =IF($S$26=T30,26,0)+IF($S$27=T30,27,0)+IF($S$28=T30,28,0)+IF($S$29=T30,29,0)+IF($S$30=T30,30,0)+IF($S$31=T30,31,0)+IF($S$32=T30,32,0) -> 32 | W30: =CONCATENATE("'Auxiliar'!",W$1,$U30) -> 'Auxiliar'!L32 | X30: =CONCATENATE("'Auxiliar'!",X$1,$U30) -> 'Auxiliar'!M32 | Y30: =CONCATENATE("'Auxiliar'!",Y$1,$U30) -> 'Auxiliar'!N32 | Z30: =CONCATENATE("'Auxiliar'!",Z$1,$U30) -> 'Auxiliar'!O32 | AA30: =CONCATENATE("'Auxiliar'!",AA$1,$U30) -> 'Auxiliar'!P32 | AB30: =CONCATENATE("'Auxiliar'!",AB$1,$U30) -> 'Auxiliar'!Q32
A31: ='Tab Primeira Fase'!N38 -> FELIPE | B31: =IF('Tab Primeira Fase'!O38<'Tab Primeira Fase'!Q38,0,IF('Tab Primeira Fase'!O38='Tab Primeira Fase'!Q38,1,IF('Tab Primeira Fase'!O38>'Tab Primeira Fase'!Q38,2))) -> 0 | C31: ='Tab Primeira Fase'!R38 -> VANDER | D31: =IF('Tab Primeira Fase'!O38>'Tab Primeira Fase'!Q38,0,IF('Tab Primeira Fase'!O38='Tab Primeira Fase'!Q38,1,IF('Tab Primeira Fase'!O38<'Tab Primeira Fase'!Q38,2))) -> 2 | E31: =IF(ISNUMBER('Tab Primeira Fase'!O38),1,0) -> 1 | F31: =IF(B31*E31=2,1,0) -> 0 | G31: =IF(B31*E31=1,1,0) -> 0 | H31: =IF(B31=0,IF(E31=1,1,0),0) -> 1 | I31: =IF(E31*D31=2,1,0) -> 1 | J31: =IF(E31*D31=1,1,0) -> 0 | K31: =IF(D31=0,IF(E31=1,1,0),0) -> 0 | L31: WILLIAM MOREIRA | M31: =SUMIF($A$1:$A$708,L31,$F$1:$F$708)+SUMIF($C$1:$C$708,L31,$I$1:$I$708) -> 2 | N31: =SUMIF($A$1:$A$708,L31,$G$1:$G$708)+SUMIF($C$1:$C$708,L31,$J$1:$J$708) -> 2 | O31: =SUMIF($A$1:$A$708,L31,$H$1:$H$708)+SUMIF($C$1:$C$708,L31,$K$1:$K$708) -> 2 | P31: =SUMIF('Tab Primeira Fase'!$N$8:$N$815,L31,'Tab Primeira Fase'!$O$8:$O$815)+SUMIF('Tab Primeira Fase'!$R$8:$R$815,L31,'Tab Primeira Fase'!$Q$8:$Q$815) -> 6 | Q31: =SUMIF('Tab Primeira Fase'!$N$8:$N$815,L31,'Tab Primeira Fase'!$Q$8:$Q$815)+SUMIF('Tab Primeira Fase'!$R$8:$R$815,L31,'Tab Primeira Fase'!$O$8:$O$815) -> 8 | R31: =(1000000*((3*M31)+N31))+(10000*M31)+(100*(P31-Q31))+P31+(0.001*(6-T31)) -> 8019806 | S31: =RANK(R31,$R$26:$R$32) -> 6 | T31: 6 | U31: =IF($S$26=T31,26,0)+IF($S$27=T31,27,0)+IF($S$28=T31,28,0)+IF($S$29=T31,29,0)+IF($S$30=T31,30,0)+IF($S$31=T31,31,0)+IF($S$32=T31,32,0) -> 31 | W31: =CONCATENATE("'Auxiliar'!",W$1,$U31) -> 'Auxiliar'!L31 | X31: =CONCATENATE("'Auxiliar'!",X$1,$U31) -> 'Auxiliar'!M31 | Y31: =CONCATENATE("'Auxiliar'!",Y$1,$U31) -> 'Auxiliar'!N31 | Z31: =CONCATENATE("'Auxiliar'!",Z$1,$U31) -> 'Auxiliar'!O31 | AA31: =CONCATENATE("'Auxiliar'!",AA$1,$U31) -> 'Auxiliar'!P31 | AB31: =CONCATENATE("'Auxiliar'!",AB$1,$U31) -> 'Auxiliar'!Q31
A32: ='Tab Primeira Fase'!N39 -> RODRIGO BARROS | B32: =IF('Tab Primeira Fase'!O39<'Tab Primeira Fase'!Q39,0,IF('Tab Primeira Fase'!O39='Tab Primeira Fase'!Q39,1,IF('Tab Primeira Fase'!O39>'Tab Primeira Fase'!Q39,2))) -> 0 | C32: ='Tab Primeira Fase'!R39 -> JUNIOR | D32: =IF('Tab Primeira Fase'!O39>'Tab Primeira Fase'!Q39,0,IF('Tab Primeira Fase'!O39='Tab Primeira Fase'!Q39,1,IF('Tab Primeira Fase'!O39<'Tab Primeira Fase'!Q39,2))) -> 2 | E32: =IF(ISNUMBER('Tab Primeira Fase'!O39),1,0) -> 1 | F32: =IF(B32*E32=2,1,0) -> 0 | G32: =IF(B32*E32=1,1,0) -> 0 | H32: =IF(B32=0,IF(E32=1,1,0),0) -> 1 | I32: =IF(E32*D32=2,1,0) -> 1 | J32: =IF(E32*D32=1,1,0) -> 0 | K32: =IF(D32=0,IF(E32=1,1,0),0) -> 0 | L32: JEAN | M32: =SUMIF($A$1:$A$708,L32,$F$1:$F$708)+SUMIF($C$1:$C$708,L32,$I$1:$I$708) -> 2 | N32: =SUMIF($A$1:$A$708,L32,$G$1:$G$708)+SUMIF($C$1:$C$708,L32,$J$1:$J$708) -> 2 | O32: =SUMIF($A$1:$A$708,L32,$H$1:$H$708)+SUMIF($C$1:$C$708,L32,$K$1:$K$708) -> 2 | P32: =SUMIF('Tab Primeira Fase'!$N$8:$N$815,L32,'Tab Primeira Fase'!$O$8:$O$815)+SUMIF('Tab Primeira Fase'!$R$8:$R$815,L32,'Tab Primeira Fase'!$Q$8:$Q$815) -> 6 | Q32: =SUMIF('Tab Primeira Fase'!$N$8:$N$815,L32,'Tab Primeira Fase'!$Q$8:$Q$815)+SUMIF('Tab Primeira Fase'!$R$8:$R$815,L32,'Tab Primeira Fase'!$O$8:$O$815) -> 7 | R32: =(1000000*((3*M32)+N32))+(10000*M32)+(100*(P32-Q32))+P32+(0.001*(6-T32)) -> 8019906 | S32: =RANK(R32,$R$26:$R$32) -> 5 | T32: 7 | U32: =IF($S$26=T32,26,0)+IF($S$27=T32,27,0)+IF($S$28=T32,28,0)+IF($S$29=T32,29,0)+IF($S$30=T32,30,0)+IF($S$31=T32,31,0)+IF($S$32=T32,32,0) -> 30 | W32: =CONCATENATE("'Auxiliar'!",W$1,$U32) -> 'Auxiliar'!L30 | X32: =CONCATENATE("'Auxiliar'!",X$1,$U32) -> 'Auxiliar'!M30 | Y32: =CONCATENATE("'Auxiliar'!",Y$1,$U32) -> 'Auxiliar'!N30 | Z32: =CONCATENATE("'Auxiliar'!",Z$1,$U32) -> 'Auxiliar'!O30 | AA32: =CONCATENATE("'Auxiliar'!",AA$1,$U32) -> 'Auxiliar'!P30 | AB32: =CONCATENATE("'Auxiliar'!",AB$1,$U32) -> 'Auxiliar'!Q30
A33: ='Tab Primeira Fase'!N40 -> AÉCIO | B33: =IF('Tab Primeira Fase'!O40<'Tab Primeira Fase'!Q40,0,IF('Tab Primeira Fase'!O40='Tab Primeira Fase'!Q40,1,IF('Tab Primeira Fase'!O40>'Tab Primeira Fase'!Q40,2))) -> 2 | C33: ='Tab Primeira Fase'!R40 -> RODRIGO GUIMARÃES | D33: =IF('Tab Primeira Fase'!O40>'Tab Primeira Fase'!Q40,0,IF('Tab Primeira Fase'!O40='Tab Primeira Fase'!Q40,1,IF('Tab Primeira Fase'!O40<'Tab Primeira Fase'!Q40,2))) -> 0 | E33: =IF(ISNUMBER('Tab Primeira Fase'!O40),1,0) -> 1 | F33: =IF(B33*E33=2,1,0) -> 1 | G33: =IF(B33*E33=1,1,0) -> 0 | H33: =IF(B33=0,IF(E33=1,1,0),0) -> 0 | I33: =IF(E33*D33=2,1,0) -> 0 | J33: =IF(E33*D33=1,1,0) -> 0 | K33: =IF(D33=0,IF(E33=1,1,0),0) -> 1
A34: ='Tab Primeira Fase'!N41 -> MARCELO PORTO | B34: =IF('Tab Primeira Fase'!O41<'Tab Primeira Fase'!Q41,0,IF('Tab Primeira Fase'!O41='Tab Primeira Fase'!Q41,1,IF('Tab Primeira Fase'!O41>'Tab Primeira Fase'!Q41,2))) -> 0 | C34: ='Tab Primeira Fase'!R41 -> ANDRÉ BRANDÃO | D34: =IF('Tab Primeira Fase'!O41>'Tab Primeira Fase'!Q41,0,IF('Tab Primeira Fase'!O41='Tab Primeira Fase'!Q41,1,IF('Tab Primeira Fase'!O41<'Tab Primeira Fase'!Q41,2))) -> 2 | E34: =IF(ISNUMBER('Tab Primeira Fase'!O41),1,0) -> 1 | F34: =IF(B34*E34=2,1,0) -> 0 | G34: =IF(B34*E34=1,1,0) -> 0 | H34: =IF(B34=0,IF(E34=1,1,0),0) -> 1 | I34: =IF(E34*D34=2,1,0) -> 1 | J34: =IF(E34*D34=1,1,0) -> 0 | K34: =IF(D34=0,IF(E34=1,1,0),0) -> 0
A35: ='Tab Primeira Fase'!N42 -> JULIANO | B35: =IF('Tab Primeira Fase'!O42<'Tab Primeira Fase'!Q42,0,IF('Tab Primeira Fase'!O42='Tab Primeira Fase'!Q42,1,IF('Tab Primeira Fase'!O42>'Tab Primeira Fase'!Q42,2))) -> 2 | C35: ='Tab Primeira Fase'!R42 -> MAGNO | D35: =IF('Tab Primeira Fase'!O42>'Tab Primeira Fase'!Q42,0,IF('Tab Primeira Fase'!O42='Tab Primeira Fase'!Q42,1,IF('Tab Primeira Fase'!O42<'Tab Primeira Fase'!Q42,2))) -> 0 | E35: =IF(ISNUMBER('Tab Primeira Fase'!O42),1,0) -> 1 | F35: =IF(B35*E35=2,1,0) -> 1 | G35: =IF(B35*E35=1,1,0) -> 0 | H35: =IF(B35=0,IF(E35=1,1,0),0) -> 0 | I35: =IF(E35*D35=2,1,0) -> 0 | J35: =IF(E35*D35=1,1,0) -> 0 | K35: =IF(D35=0,IF(E35=1,1,0),0) -> 1
A36: ='Tab Primeira Fase'!N43 -> JORGE DIAS | B36: =IF('Tab Primeira Fase'!O43<'Tab Primeira Fase'!Q43,0,IF('Tab Primeira Fase'!O43='Tab Primeira Fase'!Q43,1,IF('Tab Primeira Fase'!O43>'Tab Primeira Fase'!Q43,2))) -> 1 | C36: ='Tab Primeira Fase'!R43 -> FRANCISCO | D36: =IF('Tab Primeira Fase'!O43>'Tab Primeira Fase'!Q43,0,IF('Tab Primeira Fase'!O43='Tab Primeira Fase'!Q43,1,IF('Tab Primeira Fase'!O43<'Tab Primeira Fase'!Q43,2))) -> 1 | E36: =IF(ISNUMBER('Tab Primeira Fase'!O43),1,0) -> 1 | F36: =IF(B36*E36=2,1,0) -> 0 | G36: =IF(B36*E36=1,1,0) -> 1 | H36: =IF(B36=0,IF(E36=1,1,0),0) -> 0 | I36: =IF(E36*D36=2,1,0) -> 0 | J36: =IF(E36*D36=1,1,0) -> 1 | K36: =IF(D36=0,IF(E36=1,1,0),0) -> 0
A37: ='Tab Primeira Fase'!N44 -> RODRIGO GUIMARÃES | B37: =IF('Tab Primeira Fase'!O44<'Tab Primeira Fase'!Q44,0,IF('Tab Primeira Fase'!O44='Tab Primeira Fase'!Q44,1,IF('Tab Primeira Fase'!O44>'Tab Primeira Fase'!Q44,2))) -> 0 | C37: ='Tab Primeira Fase'!R44 -> RODRIGO BARROS | D37: =IF('Tab Primeira Fase'!O44>'Tab Primeira Fase'!Q44,0,IF('Tab Primeira Fase'!O44='Tab Primeira Fase'!Q44,1,IF('Tab Primeira Fase'!O44<'Tab Primeira Fase'!Q44,2))) -> 2 | E37: =IF(ISNUMBER('Tab Primeira Fase'!O44),1,0) -> 1 | F37: =IF(B37*E37=2,1,0) -> 0 | G37: =IF(B37*E37=1,1,0) -> 0 | H37: =IF(B37=0,IF(E37=1,1,0),0) -> 1 | I37: =IF(E37*D37=2,1,0) -> 1 | J37: =IF(E37*D37=1,1,0) -> 0 | K37: =IF(D37=0,IF(E37=1,1,0),0) -> 0
A38: ='Tab Primeira Fase'!N45 -> JUNIOR | B38: =IF('Tab Primeira Fase'!O45<'Tab Primeira Fase'!Q45,0,IF('Tab Primeira Fase'!O45='Tab Primeira Fase'!Q45,1,IF('Tab Primeira Fase'!O45>'Tab Primeira Fase'!Q45,2))) -> 0 | C38: ='Tab Primeira Fase'!R45 -> FELIPE | D38: =IF('Tab Primeira Fase'!O45>'Tab Primeira Fase'!Q45,0,IF('Tab Primeira Fase'!O45='Tab Primeira Fase'!Q45,1,IF('Tab Primeira Fase'!O45<'Tab Primeira Fase'!Q45,2))) -> 2 | E38: =IF(ISNUMBER('Tab Primeira Fase'!O45),1,0) -> 1 | F38: =IF(B38*E38=2,1,0) -> 0 | G38: =IF(B38*E38=1,1,0) -> 0 | H38: =IF(B38=0,IF(E38=1,1,0),0) -> 1 | I38: =IF(E38*D38=2,1,0) -> 1 | J38: =IF(E38*D38=1,1,0) -> 0 | K38: =IF(D38=0,IF(E38=1,1,0),0) -> 0
A39: ='Tab Primeira Fase'!N46 -> VANDER | B39: =IF('Tab Primeira Fase'!O46<'Tab Primeira Fase'!Q46,0,IF('Tab Primeira Fase'!O46='Tab Primeira Fase'!Q46,1,IF('Tab Primeira Fase'!O46>'Tab Primeira Fase'!Q46,2))) -> 2 | C39: ='Tab Primeira Fase'!R46 -> HÉLIO | D39: =IF('Tab Primeira Fase'!O46>'Tab Primeira Fase'!Q46,0,IF('Tab Primeira Fase'!O46='Tab Primeira Fase'!Q46,1,IF('Tab Primeira Fase'!O46<'Tab Primeira Fase'!Q46,2))) -> 0 | E39: =IF(ISNUMBER('Tab Primeira Fase'!O46),1,0) -> 1 | F39: =IF(B39*E39=2,1,0) -> 1 | G39: =IF(B39*E39=1,1,0) -> 0 | H39: =IF(B39=0,IF(E39=1,1,0),0) -> 0 | I39: =IF(E39*D39=2,1,0) -> 0 | J39: =IF(E39*D39=1,1,0) -> 0 | K39: =IF(D39=0,IF(E39=1,1,0),0) -> 1
A40: ='Tab Primeira Fase'!N47 -> AMAURI | B40: =IF('Tab Primeira Fase'!O47<'Tab Primeira Fase'!Q47,0,IF('Tab Primeira Fase'!O47='Tab Primeira Fase'!Q47,1,IF('Tab Primeira Fase'!O47>'Tab Primeira Fase'!Q47,2))) -> 1 | C40: ='Tab Primeira Fase'!R47 -> THIAGO | D40: =IF('Tab Primeira Fase'!O47>'Tab Primeira Fase'!Q47,0,IF('Tab Primeira Fase'!O47='Tab Primeira Fase'!Q47,1,IF('Tab Primeira Fase'!O47<'Tab Primeira Fase'!Q47,2))) -> 1 | E40: =IF(ISNUMBER('Tab Primeira Fase'!O47),1,0) -> 1 | F40: =IF(B40*E40=2,1,0) -> 0 | G40: =IF(B40*E40=1,1,0) -> 1 | H40: =IF(B40=0,IF(E40=1,1,0),0) -> 0 | I40: =IF(E40*D40=2,1,0) -> 0 | J40: =IF(E40*D40=1,1,0) -> 1 | K40: =IF(D40=0,IF(E40=1,1,0),0) -> 0
A41: ='Tab Primeira Fase'!N48 -> LUIZ GOMES | B41: =IF('Tab Primeira Fase'!O48<'Tab Primeira Fase'!Q48,0,IF('Tab Primeira Fase'!O48='Tab Primeira Fase'!Q48,1,IF('Tab Primeira Fase'!O48>'Tab Primeira Fase'!Q48,2))) -> 0 | C41: ='Tab Primeira Fase'!R48 -> LUIZ CLAUDIO | D41: =IF('Tab Primeira Fase'!O48>'Tab Primeira Fase'!Q48,0,IF('Tab Primeira Fase'!O48='Tab Primeira Fase'!Q48,1,IF('Tab Primeira Fase'!O48<'Tab Primeira Fase'!Q48,2))) -> 2 | E41: =IF(ISNUMBER('Tab Primeira Fase'!O48),1,0) -> 1 | F41: =IF(B41*E41=2,1,0) -> 0 | G41: =IF(B41*E41=1,1,0) -> 0 | H41: =IF(B41=0,IF(E41=1,1,0),0) -> 1 | I41: =IF(E41*D41=2,1,0) -> 1 | J41: =IF(E41*D41=1,1,0) -> 0 | K41: =IF(D41=0,IF(E41=1,1,0),0) -> 0
A42: ='Tab Primeira Fase'!N49 -> WILLIAM MOREIRA | B42: =IF('Tab Primeira Fase'!O49<'Tab Primeira Fase'!Q49,0,IF('Tab Primeira Fase'!O49='Tab Primeira Fase'!Q49,1,IF('Tab Primeira Fase'!O49>'Tab Primeira Fase'!Q49,2))) -> 1 | C42: ='Tab Primeira Fase'!R49 -> JEAN | D42: =IF('Tab Primeira Fase'!O49>'Tab Primeira Fase'!Q49,0,IF('Tab Primeira Fase'!O49='Tab Primeira Fase'!Q49,1,IF('Tab Primeira Fase'!O49<'Tab Primeira Fase'!Q49,2))) -> 1 | E42: =IF(ISNUMBER('Tab Primeira Fase'!O49),1,0) -> 1 | F42: =IF(B42*E42=2,1,0) -> 0 | G42: =IF(B42*E42=1,1,0) -> 1 | H42: =IF(B42=0,IF(E42=1,1,0),0) -> 0 | I42: =IF(E42*D42=2,1,0) -> 0 | J42: =IF(E42*D42=1,1,0) -> 1 | K42: =IF(D42=0,IF(E42=1,1,0),0) -> 0
A43: ='Tab Primeira Fase'!N50 -> LUIZ CLAUDIO | B43: =IF('Tab Primeira Fase'!O50<'Tab Primeira Fase'!Q50,0,IF('Tab Primeira Fase'!O50='Tab Primeira Fase'!Q50,1,IF('Tab Primeira Fase'!O50>'Tab Primeira Fase'!Q50,2))) -> 2 | C43: ='Tab Primeira Fase'!R50 -> AMAURI | D43: =IF('Tab Primeira Fase'!O50>'Tab Primeira Fase'!Q50,0,IF('Tab Primeira Fase'!O50='Tab Primeira Fase'!Q50,1,IF('Tab Primeira Fase'!O50<'Tab Primeira Fase'!Q50,2))) -> 0 | E43: =IF(ISNUMBER('Tab Primeira Fase'!O50),1,0) -> 1 | F43: =IF(B43*E43=2,1,0) -> 1 | G43: =IF(B43*E43=1,1,0) -> 0 | H43: =IF(B43=0,IF(E43=1,1,0),0) -> 0 | I43: =IF(E43*D43=2,1,0) -> 0 | J43: =IF(E43*D43=1,1,0) -> 0 | K43: =IF(D43=0,IF(E43=1,1,0),0) -> 1
A44: ='Tab Primeira Fase'!N51 -> THIAGO | B44: =IF('Tab Primeira Fase'!O51<'Tab Primeira Fase'!Q51,0,IF('Tab Primeira Fase'!O51='Tab Primeira Fase'!Q51,1,IF('Tab Primeira Fase'!O51>'Tab Primeira Fase'!Q51,2))) -> 0 | C44: ='Tab Primeira Fase'!R51 -> VASQUES | D44: =IF('Tab Primeira Fase'!O51>'Tab Primeira Fase'!Q51,0,IF('Tab Primeira Fase'!O51='Tab Primeira Fase'!Q51,1,IF('Tab Primeira Fase'!O51<'Tab Primeira Fase'!Q51,2))) -> 2 | E44: =IF(ISNUMBER('Tab Primeira Fase'!O51),1,0) -> 1 | F44: =IF(B44*E44=2,1,0) -> 0 | G44: =IF(B44*E44=1,1,0) -> 0 | H44: =IF(B44=0,IF(E44=1,1,0),0) -> 1 | I44: =IF(E44*D44=2,1,0) -> 1 | J44: =IF(E44*D44=1,1,0) -> 0 | K44: =IF(D44=0,IF(E44=1,1,0),0) -> 0
... A100: ='Tab Primeira Fase'!N107 -> 0 | B100: =IF('Tab Primeira Fase'!O107<'Tab Primeira Fase'!Q107,0,IF('Tab Primeira Fase'!O107='Tab Primeira Fase'!Q107,1,IF('Tab Primeira Fase'!O107>'Tab Primeira Fase'!Q107,2))) -> 1 | C100: ='Tab Primeira Fase'!R107 -> 0 | D100: =IF('Tab Primeira Fase'!O107>'Tab Primeira Fase'!Q107,0,IF('Tab Primeira Fase'!O107='Tab Primeira Fase'!Q107,1,IF('Tab Primeira Fase'!O107<'Tab Primeira Fase'!Q107,2))) -> 1 | E100: =IF(ISNUMBER('Tab Primeira Fase'!O107),1,0) -> 0 | F100: =IF(B100*E100=2,1,0) -> 0 | G100: =IF(B100*E100=1,1,0) -> 0 | H100: =IF(B100=0,IF(E100=1,1,0),0) -> 0 | I100: =IF(E100*D100=2,1,0) -> 0 | J100: =IF(E100*D100=1,1,0) -> 0 | K100: =IF(D100=0,IF(E100=1,1,0),0) -> 0
A101: ='Tab Primeira Fase'!N105 -> 0 | B101: =IF('Tab Primeira Fase'!O105<'Tab Primeira Fase'!Q105,0,IF('Tab Primeira Fase'!O105='Tab Primeira Fase'!Q105,1,IF('Tab Primeira Fase'!O105>'Tab Primeira Fase'!Q105,2))) -> 1 | C101: ='Tab Primeira Fase'!R105 -> 0 | D101: =IF('Tab Primeira Fase'!O105>'Tab Primeira Fase'!Q105,0,IF('Tab Primeira Fase'!O105='Tab Primeira Fase'!Q105,1,IF('Tab Primeira Fase'!O105<'Tab Primeira Fase'!Q105,2))) -> 1 | E101: =IF(ISNUMBER('Tab Primeira Fase'!O105),1,0) -> 0 | F101: =IF(B101*E101=2,1,0) -> 0 | G101: =IF(B101*E101=1,1,0) -> 0 | H101: =IF(B101=0,IF(E101=1,1,0),0) -> 0 | I101: =IF(E101*D101=2,1,0) -> 0 | J101: =IF(E101*D101=1,1,0) -> 0 | K101: =IF(D101=0,IF(E101=1,1,0),0) -> 0
A102: ='Tab Primeira Fase'!N106 -> 0 | B102: =IF('Tab Primeira Fase'!O106<'Tab Primeira Fase'!Q106,0,IF('Tab Primeira Fase'!O106='Tab Primeira Fase'!Q106,1,IF('Tab Primeira Fase'!O106>'Tab Primeira Fase'!Q106,2))) -> 1 | C102: ='Tab Primeira Fase'!R106 -> 0 | D102: =IF('Tab Primeira Fase'!O106>'Tab Primeira Fase'!Q106,0,IF('Tab Primeira Fase'!O106='Tab Primeira Fase'!Q106,1,IF('Tab Primeira Fase'!O106<'Tab Primeira Fase'!Q106,2))) -> 1 | E102: =IF(ISNUMBER('Tab Primeira Fase'!O106),1,0) -> 0 | F102: =IF(B102*E102=2,1,0) -> 0 | G102: =IF(B102*E102=1,1,0) -> 0 | H102: =IF(B102=0,IF(E102=1,1,0),0) -> 0 | I102: =IF(E102*D102=2,1,0) -> 0 | J102: =IF(E102*D102=1,1,0) -> 0 | K102: =IF(D102=0,IF(E102=1,1,0),0) -> 0
A103: ='Tab Primeira Fase'!N107 -> 0 | B103: =IF('Tab Primeira Fase'!O107<'Tab Primeira Fase'!Q107,0,IF('Tab Primeira Fase'!O107='Tab Primeira Fase'!Q107,1,IF('Tab Primeira Fase'!O107>'Tab Primeira Fase'!Q107,2))) -> 1 | C103: ='Tab Primeira Fase'!R107 -> 0 | D103: =IF('Tab Primeira Fase'!O107>'Tab Primeira Fase'!Q107,0,IF('Tab Primeira Fase'!O107='Tab Primeira Fase'!Q107,1,IF('Tab Primeira Fase'!O107<'Tab Primeira Fase'!Q107,2))) -> 1 | E103: =IF(ISNUMBER('Tab Primeira Fase'!O107),1,0) -> 0 | F103: =IF(B103*E103=2,1,0) -> 0 | G103: =IF(B103*E103=1,1,0) -> 0 | H103: =IF(B103=0,IF(E103=1,1,0),0) -> 0 | I103: =IF(E103*D103=2,1,0) -> 0 | J103: =IF(E103*D103=1,1,0) -> 0 | K103: =IF(D103=0,IF(E103=1,1,0),0) -> 0
A104: ='Tab Primeira Fase'!N108 -> 0 | B104: =IF('Tab Primeira Fase'!O108<'Tab Primeira Fase'!Q108,0,IF('Tab Primeira Fase'!O108='Tab Primeira Fase'!Q108,1,IF('Tab Primeira Fase'!O108>'Tab Primeira Fase'!Q108,2))) -> 1 | C104: ='Tab Primeira Fase'!R108 -> 0 | D104: =IF('Tab Primeira Fase'!O108>'Tab Primeira Fase'!Q108,0,IF('Tab Primeira Fase'!O108='Tab Primeira Fase'!Q108,1,IF('Tab Primeira Fase'!O108<'Tab Primeira Fase'!Q108,2))) -> 1 | E104: =IF(ISNUMBER('Tab Primeira Fase'!O108),1,0) -> 0 | F104: =IF(B104*E104=2,1,0) -> 0 | G104: =IF(B104*E104=1,1,0) -> 0 | H104: =IF(B104=0,IF(E104=1,1,0),0) -> 0 | I104: =IF(E104*D104=2,1,0) -> 0 | J104: =IF(E104*D104=1,1,0) -> 0 | K104: =IF(D104=0,IF(E104=1,1,0),0) -> 0
A105: ='Tab Primeira Fase'!N109 -> 0 | B105: =IF('Tab Primeira Fase'!O109<'Tab Primeira Fase'!Q109,0,IF('Tab Primeira Fase'!O109='Tab Primeira Fase'!Q109,1,IF('Tab Primeira Fase'!O109>'Tab Primeira Fase'!Q109,2))) -> 1 | C105: ='Tab Primeira Fase'!R109 -> 0 | D105: =IF('Tab Primeira Fase'!O109>'Tab Primeira Fase'!Q109,0,IF('Tab Primeira Fase'!O109='Tab Primeira Fase'!Q109,1,IF('Tab Primeira Fase'!O109<'Tab Primeira Fase'!Q109,2))) -> 1 | E105: =IF(ISNUMBER('Tab Primeira Fase'!O109),1,0) -> 0 | F105: =IF(B105*E105=2,1,0) -> 0 | G105: =IF(B105*E105=1,1,0) -> 0 | H105: =IF(B105=0,IF(E105=1,1,0),0) -> 0 | I105: =IF(E105*D105=2,1,0) -> 0 | J105: =IF(E105*D105=1,1,0) -> 0 | K105: =IF(D105=0,IF(E105=1,1,0),0) -> 0
A106: ='Tab Primeira Fase'!N110 -> 0 | B106: =IF('Tab Primeira Fase'!O110<'Tab Primeira Fase'!Q110,0,IF('Tab Primeira Fase'!O110='Tab Primeira Fase'!Q110,1,IF('Tab Primeira Fase'!O110>'Tab Primeira Fase'!Q110,2))) -> 1 | C106: ='Tab Primeira Fase'!R110 -> 0 | D106: =IF('Tab Primeira Fase'!O110>'Tab Primeira Fase'!Q110,0,IF('Tab Primeira Fase'!O110='Tab Primeira Fase'!Q110,1,IF('Tab Primeira Fase'!O110<'Tab Primeira Fase'!Q110,2))) -> 1 | E106: =IF(ISNUMBER('Tab Primeira Fase'!O110),1,0) -> 0 | F106: =IF(B106*E106=2,1,0) -> 0 | G106: =IF(B106*E106=1,1,0) -> 0 | H106: =IF(B106=0,IF(E106=1,1,0),0) -> 0 | I106: =IF(E106*D106=2,1,0) -> 0 | J106: =IF(E106*D106=1,1,0) -> 0 | K106: =IF(D106=0,IF(E106=1,1,0),0) -> 0
A107: ='Tab Primeira Fase'!N111 -> 0 | B107: =IF('Tab Primeira Fase'!O111<'Tab Primeira Fase'!Q111,0,IF('Tab Primeira Fase'!O111='Tab Primeira Fase'!Q111,1,IF('Tab Primeira Fase'!O111>'Tab Primeira Fase'!Q111,2))) -> 1 | C107: ='Tab Primeira Fase'!R111 -> 0 | D107: =IF('Tab Primeira Fase'!O111>'Tab Primeira Fase'!Q111,0,IF('Tab Primeira Fase'!O111='Tab Primeira Fase'!Q111,1,IF('Tab Primeira Fase'!O111<'Tab Primeira Fase'!Q111,2))) -> 1 | E107: =IF(ISNUMBER('Tab Primeira Fase'!O111),1,0) -> 0 | F107: =IF(B107*E107=2,1,0) -> 0 | G107: =IF(B107*E107=1,1,0) -> 0 | H107: =IF(B107=0,IF(E107=1,1,0),0) -> 0 | I107: =IF(E107*D107=2,1,0) -> 0 | J107: =IF(E107*D107=1,1,0) -> 0 | K107: =IF(D107=0,IF(E107=1,1,0),0) -> 0
A108: ='Tab Primeira Fase'!N112 -> 0 | B108: =IF('Tab Primeira Fase'!O112<'Tab Primeira Fase'!Q112,0,IF('Tab Primeira Fase'!O112='Tab Primeira Fase'!Q112,1,IF('Tab Primeira Fase'!O112>'Tab Primeira Fase'!Q112,2))) -> 1 | C108: ='Tab Primeira Fase'!R112 -> 0 | D108: =IF('Tab Primeira Fase'!O112>'Tab Primeira Fase'!Q112,0,IF('Tab Primeira Fase'!O112='Tab Primeira Fase'!Q112,1,IF('Tab Primeira Fase'!O112<'Tab Primeira Fase'!Q112,2))) -> 1 | E108: =IF(ISNUMBER('Tab Primeira Fase'!O112),1,0) -> 0 | F108: =IF(B108*E108=2,1,0) -> 0 | G108: =IF(B108*E108=1,1,0) -> 0 | H108: =IF(B108=0,IF(E108=1,1,0),0) -> 0 | I108: =IF(E108*D108=2,1,0) -> 0 | J108: =IF(E108*D108=1,1,0) -> 0 | K108: =IF(D108=0,IF(E108=1,1,0),0) -> 0
A109: ='Tab Primeira Fase'!N113 -> 0 | B109: =IF('Tab Primeira Fase'!O113<'Tab Primeira Fase'!Q113,0,IF('Tab Primeira Fase'!O113='Tab Primeira Fase'!Q113,1,IF('Tab Primeira Fase'!O113>'Tab Primeira Fase'!Q113,2))) -> 1 | C109: ='Tab Primeira Fase'!R113 -> 0 | D109: =IF('Tab Primeira Fase'!O113>'Tab Primeira Fase'!Q113,0,IF('Tab Primeira Fase'!O113='Tab Primeira Fase'!Q113,1,IF('Tab Primeira Fase'!O113<'Tab Primeira Fase'!Q113,2))) -> 1 | E109: =IF(ISNUMBER('Tab Primeira Fase'!O113),1,0) -> 0 | F109: =IF(B109*E109=2,1,0) -> 0 | G109: =IF(B109*E109=1,1,0) -> 0 | H109: =IF(B109=0,IF(E109=1,1,0),0) -> 0 | I109: =IF(E109*D109=2,1,0) -> 0 | J109: =IF(E109*D109=1,1,0) -> 0 | K109: =IF(D109=0,IF(E109=1,1,0),0) -> 0
A110: ='Tab Primeira Fase'!N114 -> 0 | B110: =IF('Tab Primeira Fase'!O114<'Tab Primeira Fase'!Q114,0,IF('Tab Primeira Fase'!O114='Tab Primeira Fase'!Q114,1,IF('Tab Primeira Fase'!O114>'Tab Primeira Fase'!Q114,2))) -> 1 | C110: ='Tab Primeira Fase'!R114 -> 0 | D110: =IF('Tab Primeira Fase'!O114>'Tab Primeira Fase'!Q114,0,IF('Tab Primeira Fase'!O114='Tab Primeira Fase'!Q114,1,IF('Tab Primeira Fase'!O114<'Tab Primeira Fase'!Q114,2))) -> 1 | E110: =IF(ISNUMBER('Tab Primeira Fase'!O114),1,0) -> 0 | F110: =IF(B110*E110=2,1,0) -> 0 | G110: =IF(B110*E110=1,1,0) -> 0 | H110: =IF(B110=0,IF(E110=1,1,0),0) -> 0 | I110: =IF(E110*D110=2,1,0) -> 0 | J110: =IF(E110*D110=1,1,0) -> 0 | K110: =IF(D110=0,IF(E110=1,1,0),0) -> 0

Sheet Tab Primeira Fase
A1: FEDERAÇÃO BRASILIENSE DE FUTEBOL DE MESA - 3 Toques
A2: IX Copa Centro-Oeste Individual
A3: Brasília (DF), 24 e 25.02.2024
A5: TABELA DA PRIMEIRA FASE
A7: ROD | B7: M | C7: ÁRBITROS | D7: ARTILHEIROS | N7: JOGOS | S7: ARTILHEIROS
A8: 0.375 | B8: 3 | C8: LUIZ CLAUDIO | D8: 0 | M8: T | N8: =Auxiliar!$L$6 -> ANDRÉ BRANDÃO | O8: =IF(D8="","",IF(D8=0,0,COUNT(D8:M8))) -> 0 | P8: x | Q8: =IF(S8="","",IF(S8=0,0,COUNT(S8:AB8))) -> 2 | R8: =Auxiliar!$L$4 -> FRANCISCO | S8: 2 | T8: 18 | AB8: T
B9: 4 | C9: THIAGO | D9: 5 | E9: 9 | N9: =Auxiliar!$L$7 -> MALCHER | O9: =IF(D9="","",IF(D9=0,0,COUNT(D9:M9))) -> 2 | P9: x | Q9: =IF(S9="","",IF(S9=0,0,COUNT(S9:AB9))) -> 4 | R9: =Auxiliar!$L$3 -> JORGE DIAS | S9: 11 | T9: 10 | U9: 11 | V9: 10
B10: 5 | C10: VASQUES | D10: 10 | E10: 9 | N10: =Auxiliar!$L$8 -> MARCELO PORTO | O10: =IF(D10="","",IF(D10=0,0,COUNT(D10:M10))) -> 2 | P10: x | Q10: =IF(S10="","",IF(S10=0,0,COUNT(S10:AB10))) -> 1 | R10: =Auxiliar!$L$2 -> JULIANO | S10: 14
B11: 6 | C11: AMAURI | D11: 0 | N11: =Auxiliar!$L$14 -> RODRIGO BARROS | O11: =IF(D11="","",IF(D11=0,0,COUNT(D11:M11))) -> 0 | P11: x | Q11: =IF(S11="","",IF(S11=0,0,COUNT(S11:AB11))) -> 0 | R11: =Auxiliar!$L$12 -> HÉLIO | S11: 0
B12: 7 | C12: LUIZ GOMES | D12: 0 | N12: =Auxiliar!$L$15 -> AÉCIO | O12: =IF(D12="","",IF(D12=0,0,COUNT(D12:M12))) -> 0 | P12: x | Q12: =IF(S12="","",IF(S12=0,0,COUNT(S12:AB12))) -> 1 | R12: =Auxiliar!$L$11 -> VANDER | S12: 2
B13: 8 | C13: WILLIAM MOREIRA | D13: 0 | N13: =Auxiliar!$L$16 -> RODRIGO GUIMARÃES | O13: =IF(D13="","",IF(D13=0,0,COUNT(D13:M13))) -> 0 | P13: x | Q13: =IF(S13="","",IF(S13=0,0,COUNT(S13:AB13))) -> 3 | R13: =Auxiliar!$L$10 -> JUNIOR | S13: 8 | T13: 7 | U13: 4
B14: 9 | C14: JEAN | D14: 8 | N14: =Auxiliar!$L$22 -> IZALCI | O14: =IF(D14="","",IF(D14=0,0,COUNT(D14:M14))) -> 1 | P14: x | Q14: =IF(S14="","",IF(S14=0,0,COUNT(S14:AB14))) -> 1 | R14: =Auxiliar!$L$20 -> HEAVY | S14: 9
B15: 11 | C15: MAGNO | D15: 0 | N15: =Auxiliar!$L$23 -> TONINHO | O15: =IF(D15="","",IF(D15=0,0,COUNT(D15:M15))) -> 0 | P15: x | Q15: =IF(S15="","",IF(S15=0,0,COUNT(S15:AB15))) -> 0 | R15: =Auxiliar!$L$19 -> BETO | S15: 0
B16: 12 | C16: FELIPE | D16: 0 | N16: =Auxiliar!$L$24 -> MARQUINHOS | O16: =IF(D16="","",IF(D16=0,0,COUNT(D16:M16))) -> 0 | P16: x | Q16: =IF(S16="","",IF(S16=0,0,COUNT(S16:AB16))) -> 2 | R16: =Auxiliar!$L$18 -> ALCIDES | S16: 13 | T16: 13
A17: 0.41666667 | B17: 3 | C17: ALCIDES | D17: 0 | N17: =Auxiliar!$L$30 -> LUIZ GOMES | O17: =IF(D17="","",IF(D17=0,0,COUNT(D17:M17))) -> 0 | P17: x | Q17: =IF(S17="","",IF(S17=0,0,COUNT(S17:AB17))) -> 1 | R17: =Auxiliar!$L$28 -> VASQUES | S17: 5
B18: 4 | C18: BETO | D18: 0 | N18: =Auxiliar!$L$31 -> WILLIAM MOREIRA | O18: =IF(D18="","",IF(D18=0,0,COUNT(D18:M18))) -> 0 | P18: x | Q18: =IF(S18="","",IF(S18=0,0,COUNT(S18:AB18))) -> 1 | R18: =Auxiliar!$L$27 -> THIAGO | S18: 1
B19: 5 | C19: HEAVY | D19: 8 | N19: =Auxiliar!$L$32 -> JEAN | O19: =IF(D19="","",IF(D19=0,0,COUNT(D19:M19))) -> 1 | P19: x | Q19: =IF(S19="","",IF(S19=0,0,COUNT(S19:AB19))) -> 2 | R19: =Auxiliar!$L$26 -> LUIZ CLAUDIO | S19: 6 | T19: 19
B20: 6 | C20: PAULO CÉSAR | D20: 7 | E20: 2 | N20: =Auxiliar!$L$2 -> JULIANO | O20: =IF(D20="","",IF(D20=0,0,COUNT(D20:M20))) -> 2 | P20: x | Q20: =IF(S20="","",IF(S20=0,0,COUNT(S20:AB20))) -> 0 | R20: =Auxiliar!$L$7 -> MALCHER | S20: 0
B21: 7 | C21: IZALCI | D21: 10 | E21: 10 | F21: 10 | N21: =Auxiliar!$L$3 -> JORGE DIAS | O21: =IF(D21="","",IF(D21=0,0,COUNT(D21:M21))) -> 3 | P21: x | Q21: =IF(S21="","",IF(S21=0,0,COUNT(S21:AB21))) -> 1 | R21: =Auxiliar!$L$6 -> ANDRÉ BRANDÃO | S21: 4
B22: 8 | C22: TONINHO | D22: 0 | N22: =Auxiliar!$L$4 -> FRANCISCO | O22: =IF(D22="","",IF(D22=0,0,COUNT(D22:M22))) -> 0 | P22: x | Q22: =IF(S22="","",IF(S22=0,0,COUNT(S22:AB22))) -> 5 | R22: =Auxiliar!$L$5 -> MAGNO | S22: 8 | T22: 9 | U22: 8 | V22: 4 | W22: 11
B23: 9 | C23: MARQUINHOS | D23: 10 | E23: 5 | N23: =Auxiliar!$L$10 -> JUNIOR | O23: =IF(D23="","",IF(D23=0,0,COUNT(D23:M23))) -> 2 | P23: x | Q23: =IF(S23="","",IF(S23=0,0,COUNT(S23:AB23))) -> 0 | R23: =Auxiliar!$L$15 -> AÉCIO | S23: 0
B24: 11 | C24: MARCELO PORTO | D24: 0 | N24: =Auxiliar!$L$11 -> VANDER | O24: =IF(D24="","",IF(D24=0,0,COUNT(D24:M24))) -> 0 | P24: x | Q24: =IF(S24="","",IF(S24=0,0,COUNT(S24:AB24))) -> 0 | R24: =Auxiliar!$L$14 -> RODRIGO BARROS | S24: 0
B25: 12 | C25: AMAURI | D25: 10 | N25: =Auxiliar!$L$12 -> HÉLIO | O25: =IF(D25="","",IF(D25=0,0,COUNT(D25:M25))) -> 1 | P25: x | Q25: =IF(S25="","",IF(S25=0,0,COUNT(S25:AB25))) -> 0 | R25: =Auxiliar!$L$13 -> FELIPE | S25: 0
A26: 0.45833333 | B26: 3 | C26: JUNIOR | D26: 7 | E26: 8 | N26: =Auxiliar!$L$18 -> ALCIDES | O26: =IF(D26="","",IF(D26=0,0,COUNT(D26:M26))) -> 2 | P26: x | Q26: =IF(S26="","",IF(S26=0,0,COUNT(S26:AB26))) -> 2 | R26: =Auxiliar!$L$23 -> TONINHO | S26: 7 | T26: 8
B27: 4 | C27: VANDER | D27: 20 | E27: 7 | F27: 20 | G27: 8 | N27: =Auxiliar!$L$19 -> BETO | O27: =IF(D27="","",IF(D27=0,0,COUNT(D27:M27))) -> 4 | P27: x | Q27: =IF(S27="","",IF(S27=0,0,COUNT(S27:AB27))) -> 2 | R27: =Auxiliar!$L$22 -> IZALCI | S27: 5 | T27: 6
B28: 5 | C28: HÉLIO | D28: 0 | N28: =Auxiliar!$L$20 -> HEAVY | O28: =IF(D28="","",IF(D28=0,0,COUNT(D28:M28))) -> 0 | P28: x | Q28: =IF(S28="","",IF(S28=0,0,COUNT(S28:AB28))) -> 0 | R28: =Auxiliar!$L$21 -> PAULO CÉSAR | S28: 0
B29: 6 | C29: FELIPE | D29: 8 | E29: 19 | F29: 11 | N29: =Auxiliar!$L$26 -> LUIZ CLAUDIO | O29: =IF(D29="","",IF(D29=0,0,COUNT(D29:M29))) -> 3 | P29: x | Q29: =IF(S29="","",IF(S29=0,0,COUNT(S29:AB29))) -> 0 | R29: =Auxiliar!$L$31 -> WILLIAM MOREIRA | S29: 0
B30: 7 | C30: RODRIGO BARROS | D30: 8 | E30: 7 | N30: =Auxiliar!$L$27 -> THIAGO | O30: =IF(D30="","",IF(D30=0,0,COUNT(D30:M30))) -> 2 | P30: x | Q30: =IF(S30="","",IF(S30=0,0,COUNT(S30:AB30))) -> 1 | R30: =Auxiliar!$L$30 -> LUIZ GOMES | S30: 4
B31: 8 | C31: FRANCISCO | D31: 0 | N31: =Auxiliar!$L$28 -> VASQUES | O31: =IF(D31="","",IF(D31=0,0,COUNT(D31:M31))) -> 0 | P31: x | Q31: =IF(S31="","",IF(S31=0,0,COUNT(S31:AB31))) -> 0 | R31: =Auxiliar!$L$29 -> AMAURI | S31: 0
B32: 9 | C32: RODRIGO GUIMARÃES | D32: 0 | N32: =Auxiliar!$L$5 -> MAGNO | O32: =IF(D32="","",IF(D32=0,0,COUNT(D32:M32))) -> 0 | P32: x | Q32: =IF(S32="","",IF(S32=0,0,COUNT(S32:AB32))) -> 0 | R32: =Auxiliar!$L$3 -> JORGE DIAS | S32: 0
B33: 11 | C33: AÉCIO | D33: 6 | N33: =Auxiliar!$L$6 -> ANDRÉ BRANDÃO | O33: =IF(D33="","",IF(D33=0,0,COUNT(D33:M33))) -> 1 | P33: x | Q33: =IF(S33="","",IF(S33=0,0,COUNT(S33:AB33))) -> 1 | R33: =Auxiliar!$L$2 -> JULIANO | S33: 22
B34: 12 | C34: JEAN | D34: 0 | N34: =Auxiliar!$L$7 -> MALCHER | O34: =IF(D34="","",IF(D34=0,0,COUNT(D34:M34))) -> 0 | P34: x | Q34: =IF(S34="","",IF(S34=0,0,COUNT(S34:AB34))) -> 1 | R34: =Auxiliar!$L$8 -> MARCELO PORTO | S34: 12
A35: 0.5 | B35: 6 | C35: MAGNO | D35: 0 | N35: =Auxiliar!$L$21 -> PAULO CÉSAR | O35: =IF(D35="","",IF(D35=0,0,COUNT(D35:M35))) -> 0 | P35: x | Q35: =IF(S35="","",IF(S35=0,0,COUNT(S35:AB35))) -> 1 | R35: =Auxiliar!$L$19 -> BETO | S35: 11
B36: 7 | C36: ANDRÉ BRANDÃO | D36: 0 | M36: T | N36: =Auxiliar!$L$22 -> IZALCI | O36: =IF(D36="","",IF(D36=0,0,COUNT(D36:M36))) -> 0 | P36: x | Q36: =IF(S36="","",IF(S36=0,0,COUNT(S36:AB36))) -> 2 | R36: =Auxiliar!$L$18 -> ALCIDES | S36: 11 | T36: 11
B37: 8 | C37: MALCHER | D37: 2 | N37: =Auxiliar!$L$23 -> TONINHO | O37: =IF(D37="","",IF(D37=0,0,COUNT(D37:M37))) -> 1 | P37: x | Q37: =IF(S37="","",IF(S37=0,0,COUNT(S37:AB37))) -> 0 | R37: =Auxiliar!$L$24 -> MARQUINHOS | S37: 0
B38: 9 | C38: JULIANO | D38: 10 | N38: =Auxiliar!$L$13 -> FELIPE | O38: =IF(D38="","",IF(D38=0,0,COUNT(D38:M38))) -> 1 | P38: x | Q38: =IF(S38="","",IF(S38=0,0,COUNT(S38:AB38))) -> 4 | R38: =Auxiliar!$L$11 -> VANDER | S38: 9 | T38: 11 | U38: 11 | V38: 10
B39: 11 | C39: JORGE DIAS | D39: 0 | N39: =Auxiliar!$L$14 -> RODRIGO BARROS | O39: =IF(D39="","",IF(D39=0,0,COUNT(D39:M39))) -> 0 | P39: x | Q39: =IF(S39="","",IF(S39=0,0,COUNT(S39:AB39))) -> 1 | R39: =Auxiliar!$L$10 -> JUNIOR | S39: 10
B40: 12 | C40: MARCELO PORTO | D40: 18 | E40: 20 | N40: =Auxiliar!$L$15 -> AÉCIO | O40: =IF(D40="","",IF(D40=0,0,COUNT(D40:M40))) -> 2 | P40: x | Q40: =IF(S40="","",IF(S40=0,0,COUNT(S40:AB40))) -> 0 | R40: =Auxiliar!$L$16 -> RODRIGO GUIMARÃES | S40: 0
A41: 0.58333333 | B41: 3 | C41: BETO | D41: 4 | N41: =Auxiliar!$L$8 -> MARCELO PORTO | O41: =IF(D41="","",IF(D41=0,0,COUNT(D41:M41))) -> 1 | P41: x | Q41: =IF(S41="","",IF(S41=0,0,COUNT(S41:AB41))) -> 4 | R41: =Auxiliar!$L$6 -> ANDRÉ BRANDÃO | S41: 7 | T41: 8 | U41: 4 | V41: 3
B42: 4 | C42: VASQUES | D42: 14 | E42: 29 | F42: 14 | L42: T | M42: T | N42: =Auxiliar!$L$2 -> JULIANO | O42: =IF(D42="","",IF(D42=0,0,COUNT(D42:M42))) -> 3 | P42: x | Q42: =IF(S42="","",IF(S42=0,0,COUNT(S42:AB42))) -> 2 | R42: =Auxiliar!$L$5 -> MAGNO | S42: 4 | T42: 7
B43: 5 | C43: HEAVY | D43: 0 | N43: =Auxiliar!$L$3 -> JORGE DIAS | O43: =IF(D43="","",IF(D43=0,0,COUNT(D43:M43))) -> 0 | P43: x | Q43: =IF(S43="","",IF(S43=0,0,COUNT(S43:AB43))) -> 0 | R43: =Auxiliar!$L$4 -> FRANCISCO | S43: 0
B44: 6 | C44: PAULO CÉSAR | D44: 0 | M44: T | N44: =Auxiliar!$L$16 -> RODRIGO GUIMARÃES | O44: =IF(D44="","",IF(D44=0,0,COUNT(D44:M44))) -> 0 | P44: x | Q44: =IF(S44="","",IF(S44=0,0,COUNT(S44:AB44))) -> 4 | R44: =Auxiliar!$L$14 -> RODRIGO BARROS | S44: 7 | T44: 4 | U44: 8 | V44: 8 | AB44: T
B45: 7 | C45: IZALCI | D45: 5 | N45: =Auxiliar!$L$10 -> JUNIOR | O45: =IF(D45="","",IF(D45=0,0,COUNT(D45:M45))) -> 1 | P45: x | Q45: =IF(S45="","",IF(S45=0,0,COUNT(S45:AB45))) -> 2 | R45: =Auxiliar!$L$13 -> FELIPE | S45: 10 | T45: 11
B46: 8 | C46: TONINHO | D46: 8 | E46: 4 | F46: 9 | N46: =Auxiliar!$L$11 -> VANDER | O46: =IF(D46="","",IF(D46=0,0,COUNT(D46:M46))) -> 3 | P46: x | Q46: =IF(S46="","",IF(S46=0,0,COUNT(S46:AB46))) -> 2 | R46: =Auxiliar!$L$12 -> HÉLIO | S46: 5 | T46: 2
B47: 9 | C47: MARQUINHOS | D47: 5 | N47: =Auxiliar!$L$29 -> AMAURI | O47: =IF(D47="","",IF(D47=0,0,COUNT(D47:M47))) -> 1 | P47: x | Q47: =IF(S47="","",IF(S47=0,0,COUNT(S47:AB47))) -> 1 | R47: =Auxiliar!$L$27 -> THIAGO | S47: 11
B48: 11 | C48: AÉCIO | D48: 0 | N48: =Auxiliar!$L$30 -> LUIZ GOMES | O48: =IF(D48="","",IF(D48=0,0,COUNT(D48:M48))) -> 0 | P48: x | Q48: =IF(S48="","",IF(S48=0,0,COUNT(S48:AB48))) -> 3 | R48: =Auxiliar!$L$26 -> LUIZ CLAUDIO | S48: 11 | T48: 2 | U48: 3
B49: 12 | C49: MALCHER | D49: 11 | N49: =Auxiliar!$L$31 -> WILLIAM MOREIRA | O49: =IF(D49="","",IF(D49=0,0,COUNT(D49:M49))) -> 1 | P49: x | Q49: =IF(S49="","",IF(S49=0,0,COUNT(S49:AB49))) -> 1 | R49: =Auxiliar!$L$32 -> JEAN | S49: 9
A50: 0.625 | B50: 4 | C50: HÉLIO | D50: 8 | E50: 2 | F50: 8 | N50: =Auxiliar!$L$26 -> LUIZ CLAUDIO | O50: =IF(D50="","",IF(D50=0,0,COUNT(D50:M50))) -> 3 | P50: x | Q50: =IF(S50="","",IF(S50=0,0,COUNT(S50:AB50))) -> 1 | R50: =Auxiliar!$L$29 -> AMAURI | S50: 11
B51: 5 | C51: VANDER | D51: 0 | M51: T | N51: =Auxiliar!$L$27 -> THIAGO | O51: =IF(D51="","",IF(D51=0,0,COUNT(D51:M51))) -> 0 | P51: x | Q51: =IF(S51="","",IF(S51=0,0,COUNT(S51:AB51))) -> 2 | R51: =Auxiliar!$L$28 -> VASQUES | S51: 8 | T51: 9 | Z51: T | AA51: T | AB51: T | AC51: Exp. 8
B52: 6 | C52: RODRIGO BARROS | D52: 0 | N52: =Auxiliar!$L$4 -> FRANCISCO | O52: =IF(D52="","",IF(D52=0,0,COUNT(D52:M52))) -> 0 | P52: x | Q52: =IF(S52="","",IF(S52=0,0,COUNT(S52:AB52))) -> 0 | R52: =Auxiliar!$L$2 -> JULIANO | S52: 0
B53: 7 | C53: WILLIAM MOREIRA | D53: 9 | N53: =Auxiliar!$L$5 -> MAGNO | O53: =IF(D53="","",IF(D53=0,0,COUNT(D53:M53))) -> 1 | P53: x | Q53: =IF(S53="","",IF(S53=0,0,COUNT(S53:AB53))) -> 0 | R53: =Auxiliar!$L$8 -> MARCELO PORTO | S53: 0
B54: 8 | C54: FELIPE | D54: 0 | N54: =Auxiliar!$L$24 -> MARQUINHOS | O54: =IF(D54="","",IF(D54=0,0,COUNT(D54:M54))) -> 0 | P54: x | Q54: =IF(S54="","",IF(S54=0,0,COUNT(S54:AB54))) -> 0 | R54: =Auxiliar!$L$22 -> IZALCI | S54: 0
B55: 9 | C55: RODRIGO GUIMARÃES | D55: 13 | E55: 13 | F55: 13 | G55: 9 | N55: =Auxiliar!$L$18 -> ALCIDES | O55: =IF(D55="","",IF(D55=0,0,COUNT(D55:M55))) -> 4 | P55: x | Q55: =IF(S55="","",IF(S55=0,0,COUNT(S55:AB55))) -> 0 | R55: =Auxiliar!$L$21 -> PAULO CÉSAR | S55: 0
B56: 11 | C56: JORGE DIAS | D56: 0 | N56: =Auxiliar!$L$19 -> BETO | O56: =IF(D56="","",IF(D56=0,0,COUNT(D56:M56))) -> 0 | P56: x | Q56: =IF(S56="","",IF(S56=0,0,COUNT(S56:AB56))) -> 0 | R56: =Auxiliar!$L$20 -> HEAVY | S56: 0
B57: 12 | C57: JUNIOR | D57: 9 | N57: =Auxiliar!$L$32 -> JEAN | O57: =IF(D57="","",IF(D57=0,0,COUNT(D57:M57))) -> 1 | P57: x | Q57: =IF(S57="","",IF(S57=0,0,COUNT(S57:AB57))) -> 0 | R57: =Auxiliar!$L$30 -> LUIZ GOMES | S57: 0
A58: 0.66666667 | B58: 4 | C58: MARCELO PORTO | D58: 7 | N58: =Auxiliar!$L$21 -> PAULO CÉSAR | O58: =IF(D58="","",IF(D58=0,0,COUNT(D58:M58))) -> 1 | P58: x | Q58: =IF(S58="","",IF(S58=0,0,COUNT(S58:AB58))) -> 2 | R58: =Auxiliar!$L$24 -> MARQUINHOS | S58: 9 | T58: 15
B59: 5 | C59: JULIANO | D59: 0 | N59: =Auxiliar!$L$22 -> IZALCI | O59: =IF(D59="","",IF(D59=0,0,COUNT(D59:M59))) -> 0 | P59: x | Q59: =IF(S59="","",IF(S59=0,0,COUNT(S59:AB59))) -> 1 | R59: =Auxiliar!$L$23 -> TONINHO | S59: 11
B60: 6 | C60: MAGNO | D60: 0 | N60: =Auxiliar!$L$28 -> VASQUES | O60: =IF(D60="","",IF(D60=0,0,COUNT(D60:M60))) -> 0 | P60: x | Q60: =IF(S60="","",IF(S60=0,0,COUNT(S60:AB60))) -> 2 | R60: =Auxiliar!$L$26 -> LUIZ CLAUDIO | S60: 7 | T60: 19
B61: 7 | C61: ANDRÉ BRANDÃO | D61: 7 | E61: 8 | N61: =Auxiliar!$L$29 -> AMAURI | O61: =IF(D61="","",IF(D61=0,0,COUNT(D61:M61))) -> 2 | P61: x | Q61: =IF(S61="","",IF(S61=0,0,COUNT(S61:AB61))) -> 0 | R61: =Auxiliar!$L$32 -> JEAN | S61: 0
B62: 8 | C62: BETO | D62: 8 | N62: =Auxiliar!$L$30 -> LUIZ GOMES | O62: =IF(D62="","",IF(D62=0,0,COUNT(D62:M62))) -> 1 | P62: x | Q62: =IF(S62="","",IF(S62=0,0,COUNT(S62:AB62))) -> 2 | R62: =Auxiliar!$L$31 -> WILLIAM MOREIRA | S62: 11 | T62: 9
B63: 9 | C63: THIAGO | D63: 8 | N63: =Auxiliar!$L$12 -> HÉLIO | O63: =IF(D63="","",IF(D63=0,0,COUNT(D63:M63))) -> 1 | P63: x | Q63: =IF(S63="","",IF(S63=0,0,COUNT(S63:AB63))) -> 2 | R63: =Auxiliar!$L$10 -> JUNIOR | S63: 8 | T63: 9
B64: 11 | C64: MALCHER | D64: 0 | N64: =Auxiliar!$L$13 -> FELIPE | O64: =IF(D64="","",IF(D64=0,0,COUNT(D64:M64))) -> 0 | P64: x | Q64: =IF(S64="","",IF(S64=0,0,COUNT(S64:AB64))) -> 0 | R64: =Auxiliar!$L$16 -> RODRIGO GUIMARÃES | S64: 0
B65: 12 | C65: FRANCISCO | D65: 7 | N65: =Auxiliar!$L$20 -> HEAVY | O65: =IF(D65="","",IF(D65=0,0,COUNT(D65:M65))) -> 1 | P65: x | Q65: =IF(S65="","",IF(S65=0,0,COUNT(S65:AB65))) -> 1 | R65: =Auxiliar!$L$18 -> ALCIDES | S65: 15
A66: 0.70833333 | B66: 4 | C66: VASQUES | D66: 7 | N66: =Auxiliar!$L$2 -> JULIANO | O66: =IF(D66="","",IF(D66=0,0,COUNT(D66:M66))) -> 1 | P66: x | Q66: =IF(S66="","",IF(S66=0,0,COUNT(S66:AB66))) -> 1 | R66: =Auxiliar!$L$3 -> JORGE DIAS | S66: 10
B67: 5 | C67: AMAURI | D67: 19 | N67: =Auxiliar!$L$15 -> AÉCIO | O67: =IF(D67="","",IF(D67=0,0,COUNT(D67:M67))) -> 1 | P67: x | Q67: =IF(S67="","",IF(S67=0,0,COUNT(S67:AB67))) -> 1 | R67: =Auxiliar!$L$13 -> FELIPE | S67: 4 | AA67: T | AB67: T
B68: 6 | C68: LUIZ GOMES | D68: 0 | N68: =Auxiliar!$L$16 -> RODRIGO GUIMARÃES | O68: =IF(D68="","",IF(D68=0,0,COUNT(D68:M68))) -> 0 | P68: x | Q68: =IF(S68="","",IF(S68=0,0,COUNT(S68:AB68))) -> 2 | R68: =Auxiliar!$L$12 -> HÉLIO | S68: 6 | T68: 5
B69: 7 | C69: WILLIAM MOREIRA | D69: 0 | N69: =Auxiliar!$L$10 -> JUNIOR | O69: =IF(D69="","",IF(D69=0,0,COUNT(D69:M69))) -> 0 | P69: x | Q69: =IF(S69="","",IF(S69=0,0,COUNT(S69:AB69))) -> 0 | R69: =Auxiliar!$L$11 -> VANDER | S69: 0
B70: 8 | C70: RODRIGO BARROS | D70: 7 | E70: 2 | F70: 9 | G70: 3 | N70: =Auxiliar!$L$23 -> TONINHO | O70: =IF(D70="","",IF(D70=0,0,COUNT(D70:M70))) -> 4 | P70: x | Q70: =IF(S70="","",IF(S70=0,0,COUNT(S70:AB70))) -> 0 | R70: =Auxiliar!$L$21 -> PAULO CÉSAR | S70: 0 | AB70: T
B71: 9 | C71: JEAN | D71: 4 | N71: =Auxiliar!$L$24 -> MARQUINHOS | O71: =IF(D71="","",IF(D71=0,0,COUNT(D71:M71))) -> 1 | P71: x | Q71: =IF(S71="","",IF(S71=0,0,COUNT(S71:AB71))) -> 3 | R71: =Auxiliar!$L$20 -> HEAVY | S71: 7 | T71: 4 | U71: 10
B72: 11 | C72: LUIZ CLAUDIO | D72: 13 | E72: 7 | N72: =Auxiliar!$L$18 -> ALCIDES | O72: =IF(D72="","",IF(D72=0,0,COUNT(D72:M72))) -> 2 | P72: x | Q72: =IF(S72="","",IF(S72=0,0,COUNT(S72:AB72))) -> 1 | R72: =Auxiliar!$L$19 -> BETO | S72: 9
B73: 12 | C73: IZALCI | D73: 0 | N73: =Auxiliar!$L$7 -> MALCHER | O73: =IF(D73="","",IF(D73=0,0,COUNT(D73:M73))) -> 0 | P73: x | Q73: =IF(S73="","",IF(S73=0,0,COUNT(S73:AB73))) -> 3 | R73: =Auxiliar!$L$5 -> MAGNO | S73: 9 | T73: 9 | U73: 9
A74: 0.75 | B74: 3 | C74: ALCIDES | D74: 7 | M74: T | N74: =Auxiliar!$L$31 -> WILLIAM MOREIRA | O74: =IF(D74="","",IF(D74=0,0,COUNT(D74:M74))) -> 1 | P74: x | Q74: =IF(S74="","",IF(S74=0,0,COUNT(S74:AB74))) -> 0 | R74: =Auxiliar!$L$29 -> AMAURI | S74: 0
B75: 4 | C75: VANDER | D75: 11 | E75: 8 | N75: =Auxiliar!$L$32 -> JEAN | O75: =IF(D75="","",IF(D75=0,0,COUNT(D75:M75))) -> 2 | P75: x | Q75: =IF(S75="","",IF(S75=0,0,COUNT(S75:AB75))) -> 1 | R75: =Auxiliar!$L$28 -> VASQUES | S75: 4
B76: 5 | C76: JULIANO | D76: 0 | N76: =Auxiliar!$L$26 -> LUIZ CLAUDIO | O76: =IF(D76="","",IF(D76=0,0,COUNT(D76:M76))) -> 0 | P76: x | Q76: =IF(S76="","",IF(S76=0,0,COUNT(S76:AB76))) -> 1 | R76: =Auxiliar!$L$27 -> THIAGO | S76: 4
B77: 6 | C77: FELIPE | D77: 8 | E77: 7 | N77: =Auxiliar!$L$19 -> BETO | O77: =IF(D77="","",IF(D77=0,0,COUNT(D77:M77))) -> 2 | P77: x | Q77: =IF(S77="","",IF(S77=0,0,COUNT(S77:AB77))) -> 1 | R77: =Auxiliar!$L$24 -> MARQUINHOS | S77: 8
B78: 7 | C78: JORGE DIAS | D78: 9 | N78: =Auxiliar!$L$20 -> HEAVY | O78: =IF(D78="","",IF(D78=0,0,COUNT(D78:M78))) -> 1 | P78: x | Q78: =IF(S78="","",IF(S78=0,0,COUNT(S78:AB78))) -> 2 | R78: =Auxiliar!$L$23 -> TONINHO | S78: 3 | T78: 7
B79: 8 | C79: JUNIOR | D79: 9 | N79: =Auxiliar!$L$21 -> PAULO CÉSAR | O79: =IF(D79="","",IF(D79=0,0,COUNT(D79:M79))) -> 1 | P79: x | Q79: =IF(S79="","",IF(S79=0,0,COUNT(S79:AB79))) -> 1 | R79: =Auxiliar!$L$22 -> IZALCI | S79: 10
B80: 9 | C80: RODRIGO GUIMARÃES | D80: 0 | N80: =Auxiliar!$L$6 -> ANDRÉ BRANDÃO | O80: =IF(D80="","",IF(D80=0,0,COUNT(D80:M80))) -> 0 | P80: x | Q80: =IF(S80="","",IF(S80=0,0,COUNT(S80:AB80))) -> 1 | R80: =Auxiliar!$L$7 -> MALCHER | S80: 8
B81: 11 | C81: MAGNO | D81: 9 | E81: 2 | N81: =Auxiliar!$L$14 -> RODRIGO BARROS | O81: =IF(D81="","",IF(D81=0,0,COUNT(D81:M81))) -> 2 | P81: x | Q81: =IF(S81="","",IF(S81=0,0,COUNT(S81:AB81))) -> 0 | R81: =Auxiliar!$L$15 -> AÉCIO | S81: 0
B82: 12 | C82: HÉLIO | D82: 2 | N82: =Auxiliar!$L$8 -> MARCELO PORTO | O82: =IF(D82="","",IF(D82=0,0,COUNT(D82:M82))) -> 1 | P82: x | Q82: =IF(S82="","",IF(S82=0,0,COUNT(S82:AB82))) -> 1 | R82: =Auxiliar!$L$4 -> FRANCISCO | S82: 2
A83: 0.375 | B83: 3 | C83: LUIZ CLAUDIO | D83: 8 | N83: =Auxiliar!$L$3 -> JORGE DIAS | O83: =IF(D83="","",IF(D83=0,0,COUNT(D83:M83))) -> 1 | P83: x | Q83: =IF(S83="","",IF(S83=0,0,COUNT(S83:AB83))) -> 1 | R83: =Auxiliar!$L$8 -> MARCELO PORTO | S83: 9
B84: 4 | C84: BETO | D84: 8 | N84: =Auxiliar!$L$4 -> FRANCISCO | O84: =IF(D84="","",IF(D84=0,0,COUNT(D84:M84))) -> 1 | P84: x | Q84: =IF(S84="","",IF(S84=0,0,COUNT(S84:AB84))) -> 1 | R84: =Auxiliar!$L$7 -> MALCHER | S84: 8
B85: 5 | C85: HEAVY | D85: 8 | N85: =Auxiliar!$L$5 -> MAGNO | O85: =IF(D85="","",IF(D85=0,0,COUNT(D85:M85))) -> 1 | P85: x | Q85: =IF(S85="","",IF(S85=0,0,COUNT(S85:AB85))) -> 2 | R85: =Auxiliar!$L$6 -> ANDRÉ BRANDÃO | S85: 7 | T85: 9
B86: 6 | C86: PAULO CÉSAR | D86: 10 | N86: =Auxiliar!$L$11 -> VANDER | O86: =IF(D86="","",IF(D86=0,0,COUNT(D86:M86))) -> 1 | P86: x | Q86: =IF(S86="","",IF(S86=0,0,COUNT(S86:AB86))) -> 0 | R86: =Auxiliar!$L$16 -> RODRIGO GUIMARÃES | S86: 0
B87: 7 | C87: IZALCI | D87: 10 | N87: =Auxiliar!$L$12 -> HÉLIO | O87: =IF(D87="","",IF(D87=0,0,COUNT(D87:M87))) -> 1 | P87: x | Q87: =IF(S87="","",IF(S87=0,0,COUNT(S87:AB87))) -> 2 | R87: =Auxiliar!$L$15 -> AÉCIO | S87: 22 | T87: 14
B88: 8 | C88: TONINHO | D88: 8 | E88: 9 | N88: =Auxiliar!$L$13 -> FELIPE | O88: =IF(D88="","",IF(D88=0,0,COUNT(D88:M88))) -> 2 | P88: x | Q88: =IF(S88="","",IF(S88=0,0,COUNT(S88:AB88))) -> 5 | R88: =Auxiliar!$L$14 -> RODRIGO BARROS | S88: 2 | T88: 7 | U88: 7 | V88: 9 | W88: 9
B89: 9 | C89: MARQUINHOS | D89: 4 | N89: =Auxiliar!$L$27 -> THIAGO | O89: =IF(D89="","",IF(D89=0,0,COUNT(D89:M89))) -> 1 | P89: x | Q89: =IF(S89="","",IF(S89=0,0,COUNT(S89:AB89))) -> 1 | R89: =Auxiliar!$L$32 -> JEAN | S89: 6
B90: 11 | C90: JULIANO | D90: 4 | E90: 2 | N90: =Auxiliar!$L$28 -> VASQUES | O90: =IF(D90="","",IF(D90=0,0,COUNT(D90:M90))) -> 2 | P90: x | Q90: =IF(S90="","",IF(S90=0,0,COUNT(S90:AB90))) -> 2 | R90: =Auxiliar!$L$31 -> WILLIAM MOREIRA | S90: 7 | T90: 4
B91: 12 | C91: ALCIDES | D91: 7 | N91: =Auxiliar!$L$29 -> AMAURI | O91: =IF(D91="","",IF(D91=0,0,COUNT(D91:M91))) -> 1 | P91: x | Q91: =IF(S91="","",IF(S91=0,0,COUNT(S91:AB91))) -> 0 | R91: =Auxiliar!$L$30 -> LUIZ GOMES | S91: 0
Q92: =IF(S92="","",IF(S92=0,0,COUNT(S92:AB92)))

Sheet Classif da Prim Fase
A1: FEDERAÇÃO BRASILIENSE DE FUTEBOL DE MESA - 3 Toques
A2: ='Tab Primeira Fase'!A2:AB2 -> IX Copa Centro-Oeste Individual
A3: CLASSIFICAÇÃO FINAL DA PRIMEIRA FASE
A5: GRUPO | B5: CF | C5: TÉCNICOS | D5: J | E5: V | F5: E | G5: D | H5: GF | I5: GC | J5: SG | K5: PG | L5: Aprov.
A7: A | B7: 1º | C7: =INDIRECT(Auxiliar!W2) -> MAGNO | D7: =E7+F7+G7 -> 6 | E7: =INDIRECT(Auxiliar!X2) -> 3 | F7: =INDIRECT(Auxiliar!Y2) -> 1 | G7: =INDIRECT(Auxiliar!Z2) -> 2 | H7: =INDIRECT(Auxiliar!AA2) -> 12 | I7: =INDIRECT(Auxiliar!AB2) -> 5 | J7: =H7-I7 -> 7 | K7: =(3*E7)+F7 -> 10 | L7: =IF(ISERR((K7/(D7*3))),0,((K7/(D7*3)))) -> 0.55555556
B8: 2º | C8: =INDIRECT(Auxiliar!W3) -> JORGE DIAS | D8: =E8+F8+G8 -> 6 | E8: =INDIRECT(Auxiliar!X3) -> 2 | F8: =INDIRECT(Auxiliar!Y3) -> 4 | G8: =INDIRECT(Auxiliar!Z3) -> 0 | H8: =INDIRECT(Auxiliar!AA3) -> 9 | I8: =INDIRECT(Auxiliar!AB3) -> 5 | J8: =H8-I8 -> 4 | K8: =(3*E8)+F8 -> 10 | L8: =IF(ISERR((K8/(D8*3))),0,((K8/(D8*3)))) -> 0.55555556
B9: 3º | C9: =INDIRECT(Auxiliar!W4) -> JULIANO | D9: =E9+F9+G9 -> 6 | E9: =INDIRECT(Auxiliar!X4) -> 2 | F9: =INDIRECT(Auxiliar!Y4) -> 3 | G9: =INDIRECT(Auxiliar!Z4) -> 1 | H9: =INDIRECT(Auxiliar!AA4) -> 8 | I9: =INDIRECT(Auxiliar!AB4) -> 6 | J9: =H9-I9 -> 2 | K9: =(3*E9)+F9 -> 9 | L9: =IF(ISERR((K9/(D9*3))),0,((K9/(D9*3)))) -> 0.5
B10: 4º | C10: =INDIRECT(Auxiliar!W5) -> MARCELO PORTO | D10: =E10+F10+G10 -> 6 | E10: =INDIRECT(Auxiliar!X5) -> 2 | F10: =INDIRECT(Auxiliar!Y5) -> 2 | G10: =INDIRECT(Auxiliar!Z5) -> 2 | H10: =INDIRECT(Auxiliar!AA5) -> 6 | I10: =INDIRECT(Auxiliar!AB5) -> 8 | J10: =H10-I10 -> -2 | K10: =(3*E10)+F10 -> 8 | L10: =IF(ISERR((K10/(D10*3))),0,((K10/(D10*3)))) -> 0.44444444
B11: 5º | C11: =INDIRECT(Auxiliar!W6) -> ANDRÉ BRANDÃO | D11: =E11+F11+G11 -> 6 | E11: =INDIRECT(Auxiliar!X6) -> 2 | F11: =INDIRECT(Auxiliar!Y6) -> 1 | G11: =INDIRECT(Auxiliar!Z6) -> 3 | H11: =INDIRECT(Auxiliar!AA6) -> 8 | I11: =INDIRECT(Auxiliar!AB6) -> 9 | J11: =H11-I11 -> -1 | K11: =(3*E11)+F11 -> 7 | L11: =IF(ISERR((K11/(D11*3))),0,((K11/(D11*3)))) -> 0.38888889
B12: 6º | C12: =INDIRECT(Auxiliar!W7) -> FRANCISCO | D12: =E12+F12+G12 -> 6 | E12: =INDIRECT(Auxiliar!X7) -> 1 | F12: =INDIRECT(Auxiliar!Y7) -> 4 | G12: =INDIRECT(Auxiliar!Z7) -> 1 | H12: =INDIRECT(Auxiliar!AA7) -> 4 | I12: =INDIRECT(Auxiliar!AB7) -> 7 | J12: =H12-I12 -> -3 | K12: =(3*E12)+F12 -> 7 | L12: =IF(ISERR((K12/(D12*3))),0,((K12/(D12*3)))) -> 0.38888889
B13: 7º | C13: =INDIRECT(Auxiliar!W8) -> MALCHER | D13: =E13+F13+G13 -> 6 | E13: =INDIRECT(Auxiliar!X8) -> 1 | F13: =INDIRECT(Auxiliar!Y8) -> 1 | G13: =INDIRECT(Auxiliar!Z8) -> 4 | H13: =INDIRECT(Auxiliar!AA8) -> 4 | I13: =INDIRECT(Auxiliar!AB8) -> 11 | J13: =H13-I13 -> -7 | K13: =(3*E13)+F13 -> 4 | L13: =IF(ISERR((K13/(D13*3))),0,((K13/(D13*3)))) -> 0.22222222
A15: GRUPO | B15: CF | C15: TÉCNICOS | D15: J | E15: V | F15: E | G15: D | H15: GF | I15: GC | J15: SG | K15: PG | L15: Aprov.
A17: B | B17: 1º | C17: =INDIRECT(Auxiliar!W10) -> VANDER | D17: =E17+F17+G17 -> 6 | E17: =INDIRECT(Auxiliar!X10) -> 4 | F17: =INDIRECT(Auxiliar!Y10) -> 2 | G17: =INDIRECT(Auxiliar!Z10) -> 0 | H17: =INDIRECT(Auxiliar!AA10) -> 9 | I17: =INDIRECT(Auxiliar!AB10) -> 3 | J17: =H17-I17 -> 6 | K17: =(3*E17)+F17 -> 14 | L17: =IF(ISERR((K17/(D17*3))),0,((K17/(D17*3)))) -> 0.77777778
B18: 2º | C18: =INDIRECT(Auxiliar!W11) -> JUNIOR | D18: =E18+F18+G18 -> 6 | E18: =INDIRECT(Auxiliar!X11) -> 4 | F18: =INDIRECT(Auxiliar!Y11) -> 1 | G18: =INDIRECT(Auxiliar!Z11) -> 1 | H18: =INDIRECT(Auxiliar!AA11) -> 9 | I18: =INDIRECT(Auxiliar!AB11) -> 3 | J18: =H18-I18 -> 6 | K18: =(3*E18)+F18 -> 13 | L18: =IF(ISERR((K18/(D18*3))),0,((K18/(D18*3)))) -> 0.72222222
B19: 3º | C19: =INDIRECT(Auxiliar!W12) -> RODRIGO BARROS | D19: =E19+F19+G19 -> 6 | E19: =INDIRECT(Auxiliar!X12) -> 3 | F19: =INDIRECT(Auxiliar!Y12) -> 2 | G19: =INDIRECT(Auxiliar!Z12) -> 1 | H19: =INDIRECT(Auxiliar!AA12) -> 11 | I19: =INDIRECT(Auxiliar!AB12) -> 3 | J19: =H19-I19 -> 8 | K19: =(3*E19)+F19 -> 11 | L19: =IF(ISERR((K19/(D19*3))),0,((K19/(D19*3)))) -> 0.61111111
B20: 4º | C20: =INDIRECT(Auxiliar!W13) -> HÉLIO | D20: =E20+F20+G20 -> 6 | E20: =INDIRECT(Auxiliar!X13) -> 2 | F20: =INDIRECT(Auxiliar!Y13) -> 1 | G20: =INDIRECT(Auxiliar!Z13) -> 3 | H20: =INDIRECT(Auxiliar!AA13) -> 7 | I20: =INDIRECT(Auxiliar!AB13) -> 7 | J20: =H20-I20 -> 0 | K20: =(3*E20)+F20 -> 7 | L20: =IF(ISERR((K20/(D20*3))),0,((K20/(D20*3)))) -> 0.38888889
B21: 5º | C21: =INDIRECT(Auxiliar!W14) -> AÉCIO | D21: =E21+F21+G21 -> 6 | E21: =INDIRECT(Auxiliar!X14) -> 2 | F21: =INDIRECT(Auxiliar!Y14) -> 1 | G21: =INDIRECT(Auxiliar!Z14) -> 3 | H21: =INDIRECT(Auxiliar!AA14) -> 5 | I21: =INDIRECT(Auxiliar!AB14) -> 7 | J21: =H21-I21 -> -2 | K21: =(3*E21)+F21 -> 7 | L21: =IF(ISERR((K21/(D21*3))),0,((K21/(D21*3)))) -> 0.38888889
B22: 6º | C22: =INDIRECT(Auxiliar!W15) -> FELIPE | D22: =E22+F22+G22 -> 6 | E22: =INDIRECT(Auxiliar!X15) -> 1 | F22: =INDIRECT(Auxiliar!Y15) -> 2 | G22: =INDIRECT(Auxiliar!Z15) -> 3 | H22: =INDIRECT(Auxiliar!AA15) -> 6 | I22: =INDIRECT(Auxiliar!AB15) -> 12 | J22: =H22-I22 -> -6 | K22: =(3*E22)+F22 -> 5 | L22: =IF(ISERR((K22/(D22*3))),0,((K22/(D22*3)))) -> 0.27777778
B23: 7º | C23: =INDIRECT(Auxiliar!W16) -> RODRIGO GUIMARÃES | D23: =E23+F23+G23 -> 6 | E23: =INDIRECT(Auxiliar!X16) -> 0 | F23: =INDIRECT(Auxiliar!Y16) -> 1 | G23: =INDIRECT(Auxiliar!Z16) -> 5 | H23: =INDIRECT(Auxiliar!AA16) -> 0 | I23: =INDIRECT(Auxiliar!AB16) -> 12 | J23: =H23-I23 -> -12 | K23: =(3*E23)+F23 -> 1 | L23: =IF(ISERR((K23/(D23*3))),0,((K23/(D23*3)))) -> 0.055555556
A25: GRUPO | B25: CF | C25: TÉCNICOS | D25: J | E25: V | F25: E | G25: D | H25: GF | I25: GC | J25: SG | K25: PG | L25: Aprov.
A27: C | B27: 1º | C27: =INDIRECT(Auxiliar!W18) -> ALCIDES | D27: =E27+F27+G27 -> 6 | E27: =INDIRECT(Auxiliar!X18) -> 4 | F27: =INDIRECT(Auxiliar!Y18) -> 2 | G27: =INDIRECT(Auxiliar!Z18) -> 0 | H27: =INDIRECT(Auxiliar!AA18) -> 13 | I27: =INDIRECT(Auxiliar!AB18) -> 4 | J27: =H27-I27 -> 9 | K27: =(3*E27)+F27 -> 14 | L27: =IF(ISERR((K27/(D27*3))),0,((K27/(D27*3)))) -> 0.77777778
B28: 2º | C28: =INDIRECT(Auxiliar!W19) -> TONINHO | D28: =E28+F28+G28 -> 6 | E28: =INDIRECT(Auxiliar!X19) -> 4 | F28: =INDIRECT(Auxiliar!Y19) -> 2 | G28: =INDIRECT(Auxiliar!Z19) -> 0 | H28: =INDIRECT(Auxiliar!AA19) -> 10 | I28: =INDIRECT(Auxiliar!AB19) -> 3 | J28: =H28-I28 -> 7 | K28: =(3*E28)+F28 -> 14 | L28: =IF(ISERR((K28/(D28*3))),0,((K28/(D28*3)))) -> 0.77777778
B29: 3º | C29: =INDIRECT(Auxiliar!W20) -> BETO | D29: =E29+F29+G29 -> 6 | E29: =INDIRECT(Auxiliar!X20) -> 3 | F29: =INDIRECT(Auxiliar!Y20) -> 2 | G29: =INDIRECT(Auxiliar!Z20) -> 1 | H29: =INDIRECT(Auxiliar!AA20) -> 8 | I29: =INDIRECT(Auxiliar!AB20) -> 5 | J29: =H29-I29 -> 3 | K29: =(3*E29)+F29 -> 11 | L29: =IF(ISERR((K29/(D29*3))),0,((K29/(D29*3)))) -> 0.61111111
B30: 4º | C30: =INDIRECT(Auxiliar!W21) -> HEAVY | D30: =E30+F30+G30 -> 6 | E30: =INDIRECT(Auxiliar!X21) -> 1 | F30: =INDIRECT(Auxiliar!Y21) -> 4 | G30: =INDIRECT(Auxiliar!Z21) -> 1 | H30: =INDIRECT(Auxiliar!AA21) -> 6 | I30: =INDIRECT(Auxiliar!AB21) -> 5 | J30: =H30-I30 -> 1 | K30: =(3*E30)+F30 -> 7 | L30: =IF(ISERR((K30/(D30*3))),0,((K30/(D30*3)))) -> 0.38888889
B31: 5º | C31: =INDIRECT(Auxiliar!W22) -> MARQUINHOS | D31: =E31+F31+G31 -> 6 | E31: =INDIRECT(Auxiliar!X22) -> 1 | F31: =INDIRECT(Auxiliar!Y22) -> 1 | G31: =INDIRECT(Auxiliar!Z22) -> 4 | H31: =INDIRECT(Auxiliar!AA22) -> 4 | I31: =INDIRECT(Auxiliar!AB22) -> 9 | J31: =H31-I31 -> -5 | K31: =(3*E31)+F31 -> 4 | L31: =IF(ISERR((K31/(D31*3))),0,((K31/(D31*3)))) -> 0.22222222
B32: 6º | C32: =INDIRECT(Auxiliar!W23) -> IZALCI | D32: =E32+F32+G32 -> 6 | E32: =INDIRECT(Auxiliar!X23) -> 0 | F32: =INDIRECT(Auxiliar!Y23) -> 3 | G32: =INDIRECT(Auxiliar!Z23) -> 3 | H32: =INDIRECT(Auxiliar!AA23) -> 4 | I32: =INDIRECT(Auxiliar!AB23) -> 9 | J32: =H32-I32 -> -5 | K32: =(3*E32)+F32 -> 3 | L32: =IF(ISERR((K32/(D32*3))),0,((K32/(D32*3)))) -> 0.16666667
B33: 7º | C33: =INDIRECT(Auxiliar!W24) -> PAULO CÉSAR | D33: =E33+F33+G33 -> 6 | E33: =INDIRECT(Auxiliar!X24) -> 0 | F33: =INDIRECT(Auxiliar!Y24) -> 2 | G33: =INDIRECT(Auxiliar!Z24) -> 4 | H33: =INDIRECT(Auxiliar!AA24) -> 2 | I33: =INDIRECT(Auxiliar!AB24) -> 12 | J33: =H33-I33 -> -10 | K33: =(3*E33)+F33 -> 2 | L33: =IF(ISERR((K33/(D33*3))),0,((K33/(D33*3)))) -> 0.11111111
A35: GRUPO | B35: CF | C35: TÉCNICOS | D35: J | E35: V | F35: E | G35: D | H35: GF | I35: GC | J35: SG | K35: PG | L35: Aprov.
A37: D | B37: 1º | C37: =INDIRECT(Auxiliar!W26) -> LUIZ CLAUDIO | D37: =E37+F37+G37 -> 6 | E37: =INDIRECT(Auxiliar!X26) -> 5 | F37: =INDIRECT(Auxiliar!Y26) -> 0 | G37: =INDIRECT(Auxiliar!Z26) -> 1 | H37: =INDIRECT(Auxiliar!AA26) -> 13 | I37: =INDIRECT(Auxiliar!AB26) -> 3 | J37: =H37-I37 -> 10 | K37: =(3*E37)+F37 -> 15 | L37: =IF(ISERR((K37/(D37*3))),0,((K37/(D37*3)))) -> 0.83333333
B38: 2º | C38: =INDIRECT(Auxiliar!W27) -> THIAGO | D38: =E38+F38+G38 -> 6 | E38: =INDIRECT(Auxiliar!X27) -> 3 | F38: =INDIRECT(Auxiliar!Y27) -> 2 | G38: =INDIRECT(Auxiliar!Z27) -> 1 | H38: =INDIRECT(Auxiliar!AA27) -> 6 | I38: =INDIRECT(Auxiliar!AB27) -> 5 | J38: =H38-I38 -> 1 | K38: =(3*E38)+F38 -> 11 | L38: =IF(ISERR((K38/(D38*3))),0,((K38/(D38*3)))) -> 0.61111111
B39: 3º | C39: =INDIRECT(Auxiliar!W28) -> VASQUES | D39: =E39+F39+G39 -> 6 | E39: =INDIRECT(Auxiliar!X28) -> 2 | F39: =INDIRECT(Auxiliar!Y28) -> 2 | G39: =INDIRECT(Auxiliar!Z28) -> 2 | H39: =INDIRECT(Auxiliar!AA28) -> 6 | I39: =INDIRECT(Auxiliar!AB28) -> 6 | J39: =H39-I39 -> 0 | K39: =(3*E39)+F39 -> 8 | L39: =IF(ISERR((K39/(D39*3))),0,((K39/(D39*3)))) -> 0.44444444
B40: 4º | C40: =INDIRECT(Auxiliar!W29) -> AMAURI | D40: =E40+F40+G40 -> 6 | E40: =INDIRECT(Auxiliar!X29) -> 2 | F40: =INDIRECT(Auxiliar!Y29) -> 2 | G40: =INDIRECT(Auxiliar!Z29) -> 2 | H40: =INDIRECT(Auxiliar!AA29) -> 5 | I40: =INDIRECT(Auxiliar!AB29) -> 5 | J40: =H40-I40 -> 0 | K40: =(3*E40)+F40 -> 8 | L40: =IF(ISERR((K40/(D40*3))),0,((K40/(D40*3)))) -> 0.44444444
B41: 5º | C41: =INDIRECT(Auxiliar!W30) -> JEAN | D41: =E41+F41+G41 -> 6 | E41: =INDIRECT(Auxiliar!X30) -> 2 | F41: =INDIRECT(Auxiliar!Y30) -> 2 | G41: =INDIRECT(Auxiliar!Z30) -> 2 | H41: =INDIRECT(Auxiliar!AA30) -> 6 | I41: =INDIRECT(Auxiliar!AB30) -> 7 | J41: =H41-I41 -> -1 | K41: =(3*E41)+F41 -> 8 | L41: =IF(ISERR((K41/(D41*3))),0,((K41/(D41*3)))) -> 0.44444444
B42: 6º | C42: =INDIRECT(Auxiliar!W31) -> WILLIAM MOREIRA | D42: =E42+F42+G42 -> 6 | E42: =INDIRECT(Auxiliar!X31) -> 2 | F42: =INDIRECT(Auxiliar!Y31) -> 2 | G42: =INDIRECT(Auxiliar!Z31) -> 2 | H42: =INDIRECT(Auxiliar!AA31) -> 6 | I42: =INDIRECT(Auxiliar!AB31) -> 8 | J42: =H42-I42 -> -2 | K42: =(3*E42)+F42 -> 8 | L42: =IF(ISERR((K42/(D42*3))),0,((K42/(D42*3)))) -> 0.44444444
B43: 7º | C43: =INDIRECT(Auxiliar!W32) -> LUIZ GOMES | D43: =E43+F43+G43 -> 6 | E43: =INDIRECT(Auxiliar!X32) -> 0 | F43: =INDIRECT(Auxiliar!Y32) -> 0 | G43: =INDIRECT(Auxiliar!Z32) -> 6 | H43: =INDIRECT(Auxiliar!AA32) -> 2 | I43: =INDIRECT(Auxiliar!AB32) -> 10 | J43: =H43-I43 -> -8 | K43: =(3*E43)+F43 -> 0 | L43: =IF(ISERR((K43/(D43*3))),0,((K43/(D43*3)))) -> 0

Sheet Auxiliar (2)
A1: ='Tab da Seg Fase'!N7 -> MARCELO PORTO | B1: =IF('Tab da Seg Fase'!O7<'Tab da Seg Fase'!Q7,0,IF('Tab da Seg Fase'!O7='Tab da Seg Fase'!Q7,1,IF('Tab da Seg Fase'!O7>'Tab da Seg Fase'!Q7,2))) -> 2 | C1: ='Tab da Seg Fase'!R7 -> JEAN | D1: =IF('Tab da Seg Fase'!O7>'Tab da Seg Fase'!Q7,0,IF('Tab da Seg Fase'!O7='Tab da Seg Fase'!Q7,1,IF('Tab da Seg Fase'!O7<'Tab da Seg Fase'!Q7,2))) -> 0 | E1: =IF(ISNUMBER('Tab da Seg Fase'!O7),1,0) -> 1 | F1: =IF(B1*E1=2,1,0) -> 1 | G1: =IF(B1*E1=1,1,0) -> 0 | H1: =IF(B1=0,IF(E1=1,1,0),0) -> 0 | I1: =IF(E1*D1=2,1,0) -> 0 | J1: =IF(E1*D1=1,1,0) -> 0 | K1: =IF(D1=0,IF(E1=1,1,0),0) -> 1 | L1: CLUBES | M1: V | N1: E | O1: D | P1: GP | Q1: GC | W1: L | X1: M | Y1: N | Z1: O | AA1: P | AB1: Q
A2: ='Tab da Seg Fase'!N8 -> HÉLIO | B2: =IF('Tab da Seg Fase'!O8<'Tab da Seg Fase'!Q8,0,IF('Tab da Seg Fase'!O8='Tab da Seg Fase'!Q8,1,IF('Tab da Seg Fase'!O8>'Tab da Seg Fase'!Q8,2))) -> 1 | C2: ='Tab da Seg Fase'!R8 -> MARQUINHOS | D2: =IF('Tab da Seg Fase'!O8>'Tab da Seg Fase'!Q8,0,IF('Tab da Seg Fase'!O8='Tab da Seg Fase'!Q8,1,IF('Tab da Seg Fase'!O8<'Tab da Seg Fase'!Q8,2))) -> 1 | E2: =IF(ISNUMBER('Tab da Seg Fase'!O8),1,0) -> 1 | F2: =IF(B2*E2=2,1,0) -> 0 | G2: =IF(B2*E2=1,1,0) -> 1 | H2: =IF(B2=0,IF(E2=1,1,0),0) -> 0 | I2: =IF(E2*D2=2,1,0) -> 0 | J2: =IF(E2*D2=1,1,0) -> 1 | K2: =IF(D2=0,IF(E2=1,1,0),0) -> 0 | L2: ='Classif da Prim Fase'!$C$7 -> MAGNO | M2: =SUMIF($A$1:$A$24,L2,$F$1:$F$24)+SUMIF($C$1:$C$24,L2,$I$1:$I$24) -> 0 | N2: =SUMIF($A$1:$A$24,L2,$G$1:$G$24)+SUMIF($C$1:$C$24,L2,$J$1:$J$24) -> 0 | O2: =SUMIF($A$1:$A$24,L2,$H$1:$H$24)+SUMIF($C$1:$C$24,L2,$K$1:$K$24) -> 2 | P2: =SUMIF('Tab da Seg Fase'!$N$7:$N$30,L2,'Tab da Seg Fase'!$O$7:$O$30)+SUMIF('Tab da Seg Fase'!$R$7:$R$30,L2,'Tab da Seg Fase'!$Q$7:$Q$30) -> 1 | Q2: =SUMIF('Tab da Seg Fase'!$N$7:$N$30,L2,'Tab da Seg Fase'!$Q$7:$Q$30)+SUMIF('Tab da Seg Fase'!$R$7:$R$30,L2,'Tab da Seg Fase'!$O$7:$O$30) -> 4 | R2: =(1000000*((3*M2)+N2))+(10000*M2)+(100*(P2-Q2))+P2+(0.001*(3-T2)) -> -298.998 | S2: =RANK(R2,$R$2:$R$4) -> 3 | T2: 1 | U2: =IF($S$2=T2,2,0)+IF($S$3=T2,3,0)+IF($S$4=T2,4,0) -> 4 | W2: =CONCATENATE("'Auxiliar (2)'!",W$1,$U2) -> 'Auxiliar (2)'!L4 | X2: =CONCATENATE("'Auxiliar (2)'!",X$1,$U2) -> 'Auxiliar (2)'!M4 | Y2: =CONCATENATE("'Auxiliar (2)'!",Y$1,$U2) -> 'Auxiliar (2)'!N4 | Z2: =CONCATENATE("'Auxiliar (2)'!",Z$1,$U2) -> 'Auxiliar (2)'!O4 | AA2: =CONCATENATE("'Auxiliar (2)'!",AA$1,$U2) -> 'Auxiliar (2)'!P4 | AB2: =CONCATENATE("'Auxiliar (2)'!",AB$1,$U2) -> 'Auxiliar (2)'!Q4 | AC2: E
A3: ='Tab da Seg Fase'!N9 -> MAGNO | B3: =IF('Tab da Seg Fase'!O9<'Tab da Seg Fase'!Q9,0,IF('Tab da Seg Fase'!O9='Tab da Seg Fase'!Q9,1,IF('Tab da Seg Fase'!O9>'Tab da Seg Fase'!Q9,2))) -> 0 | C3: ='Tab da Seg Fase'!R9 -> BETO | D3: =IF('Tab da Seg Fase'!O9>'Tab da Seg Fase'!Q9,0,IF('Tab da Seg Fase'!O9='Tab da Seg Fase'!Q9,1,IF('Tab da Seg Fase'!O9<'Tab da Seg Fase'!Q9,2))) -> 2 | E3: =IF(ISNUMBER('Tab da Seg Fase'!O9),1,0) -> 1 | F3: =IF(B3*E3=2,1,0) -> 0 | G3: =IF(B3*E3=1,1,0) -> 0 | H3: =IF(B3=0,IF(E3=1,1,0),0) -> 1 | I3: =IF(E3*D3=2,1,0) -> 1 | J3: =IF(E3*D3=1,1,0) -> 0 | K3: =IF(D3=0,IF(E3=1,1,0),0) -> 0 | L3: ='Classif da Prim Fase'!$C$38 -> THIAGO | M3: =SUMIF($A$1:$A$24,L3,$F$1:$F$24)+SUMIF($C$1:$C$24,L3,$I$1:$I$24) -> 1 | N3: =SUMIF($A$1:$A$24,L3,$G$1:$G$24)+SUMIF($C$1:$C$24,L3,$J$1:$J$24) -> 0 | O3: =SUMIF($A$1:$A$24,L3,$H$1:$H$24)+SUMIF($C$1:$C$24,L3,$K$1:$K$24) -> 1 | P3: =SUMIF('Tab da Seg Fase'!$N$7:$N$30,L3,'Tab da Seg Fase'!$O$7:$O$30)+SUMIF('Tab da Seg Fase'!$R$7:$R$30,L3,'Tab da Seg Fase'!$Q$7:$Q$30) -> 2 | Q3: =SUMIF('Tab da Seg Fase'!$N$7:$N$30,L3,'Tab da Seg Fase'!$Q$7:$Q$30)+SUMIF('Tab da Seg Fase'!$R$7:$R$30,L3,'Tab da Seg Fase'!$O$7:$O$30) -> 4 | R3: =(1000000*((3*M3)+N3))+(10000*M3)+(100*(P3-Q3))+P3+(0.001*(3-T3)) -> 3009802 | S3: =RANK(R3,$R$2:$R$4) -> 2 | T3: 2 | U3: =IF($S$2=T3,2,0)+IF($S$3=T3,3,0)+IF($S$4=T3,4,0) -> 3 | W3: =CONCATENATE("'Auxiliar (2)'!",W$1,$U3) -> 'Auxiliar (2)'!L3 | X3: =CONCATENATE("'Auxiliar (2)'!",X$1,$U3) -> 'Auxiliar (2)'!M3 | Y3: =CONCATENATE("'Auxiliar (2)'!",Y$1,$U3) -> 'Auxiliar (2)'!N3 | Z3: =CONCATENATE("'Auxiliar (2)'!",Z$1,$U3) -> 'Auxiliar (2)'!O3 | AA3: =CONCATENATE("'Auxiliar (2)'!",AA$1,$U3) -> 'Auxiliar (2)'!P3 | AB3: =CONCATENATE("'Auxiliar (2)'!",AB$1,$U3) -> 'Auxiliar (2)'!Q3
A4: ='Tab da Seg Fase'!N10 -> VANDER | B4: =IF('Tab da Seg Fase'!O10<'Tab da Seg Fase'!Q10,0,IF('Tab da Seg Fase'!O10='Tab da Seg Fase'!Q10,1,IF('Tab da Seg Fase'!O10>'Tab da Seg Fase'!Q10,2))) -> 1 | C4: ='Tab da Seg Fase'!R10 -> VASQUES | D4: =IF('Tab da Seg Fase'!O10>'Tab da Seg Fase'!Q10,0,IF('Tab da Seg Fase'!O10='Tab da Seg Fase'!Q10,1,IF('Tab da Seg Fase'!O10<'Tab da Seg Fase'!Q10,2))) -> 1 | E4: =IF(ISNUMBER('Tab da Seg Fase'!O10),1,0) -> 1 | F4: =IF(B4*E4=2,1,0) -> 0 | G4: =IF(B4*E4=1,1,0) -> 1 | H4: =IF(B4=0,IF(E4=1,1,0),0) -> 0 | I4: =IF(E4*D4=2,1,0) -> 0 | J4: =IF(E4*D4=1,1,0) -> 1 | K4: =IF(D4=0,IF(E4=1,1,0),0) -> 0 | L4: ='Classif da Prim Fase'!$C$29 -> BETO | M4: =SUMIF($A$1:$A$24,L4,$F$1:$F$24)+SUMIF($C$1:$C$24,L4,$I$1:$I$24) -> 2 | N4: =SUMIF($A$1:$A$24,L4,$G$1:$G$24)+SUMIF($C$1:$C$24,L4,$J$1:$J$24) -> 0 | O4: =SUMIF($A$1:$A$24,L4,$H$1:$H$24)+SUMIF($C$1:$C$24,L4,$K$1:$K$24) -> 0 | P4: =SUMIF('Tab da Seg Fase'!$N$7:$N$30,L4,'Tab da Seg Fase'!$O$7:$O$30)+SUMIF('Tab da Seg Fase'!$R$7:$R$30,L4,'Tab da Seg Fase'!$Q$7:$Q$30) -> 6 | Q4: =SUMIF('Tab da Seg Fase'!$N$7:$N$30,L4,'Tab da Seg Fase'!$Q$7:$Q$30)+SUMIF('Tab da Seg Fase'!$R$7:$R$30,L4,'Tab da Seg Fase'!$O$7:$O$30) -> 1 | R4: =(1000000*((3*M4)+N4))+(10000*M4)+(100*(P4-Q4))+P4+(0.001*(3-T4)) -> 6020506 | S4: =RANK(R4,$R$2:$R$4) -> 1 | T4: 3 | U4: =IF($S$2=T4,2,0)+IF($S$3=T4,3,0)+IF($S$4=T4,4,0) -> 2 | W4: =CONCATENATE("'Auxiliar (2)'!",W$1,$U4) -> 'Auxiliar (2)'!L2 | X4: =CONCATENATE("'Auxiliar (2)'!",X$1,$U4) -> 'Auxiliar (2)'!M2 | Y4: =CONCATENATE("'Auxiliar (2)'!",Y$1,$U4) -> 'Auxiliar (2)'!N2 | Z4: =CONCATENATE("'Auxiliar (2)'!",Z$1,$U4) -> 'Auxiliar (2)'!O2 | AA4: =CONCATENATE("'Auxiliar (2)'!",AA$1,$U4) -> 'Auxiliar (2)'!P2 | AB4: =CONCATENATE("'Auxiliar (2)'!",AB$1,$U4) -> 'Auxiliar (2)'!Q2
A5: ='Tab da Seg Fase'!N11 -> ALCIDES | B5: =IF('Tab da Seg Fase'!O11<'Tab da Seg Fase'!Q11,0,IF('Tab da Seg Fase'!O11='Tab da Seg Fase'!Q11,1,IF('Tab da Seg Fase'!O11>'Tab da Seg Fase'!Q11,2))) -> 2 | C5: ='Tab da Seg Fase'!R11 -> JULIANO | D5: =IF('Tab da Seg Fase'!O11>'Tab da Seg Fase'!Q11,0,IF('Tab da Seg Fase'!O11='Tab da Seg Fase'!Q11,1,IF('Tab da Seg Fase'!O11<'Tab da Seg Fase'!Q11,2))) -> 0 | E5: =IF(ISNUMBER('Tab da Seg Fase'!O11),1,0) -> 1 | F5: =IF(B5*E5=2,1,0) -> 1 | G5: =IF(B5*E5=1,1,0) -> 0 | H5: =IF(B5=0,IF(E5=1,1,0),0) -> 0 | I5: =IF(E5*D5=2,1,0) -> 0 | J5: =IF(E5*D5=1,1,0) -> 0 | K5: =IF(D5=0,IF(E5=1,1,0),0) -> 1
A6: ='Tab da Seg Fase'!N12 -> LUIZ CLAUDIO | B6: =IF('Tab da Seg Fase'!O12<'Tab da Seg Fase'!Q12,0,IF('Tab da Seg Fase'!O12='Tab da Seg Fase'!Q12,1,IF('Tab da Seg Fase'!O12>'Tab da Seg Fase'!Q12,2))) -> 2 | C6: ='Tab da Seg Fase'!R12 -> RODRIGO BARROS | D6: =IF('Tab da Seg Fase'!O12>'Tab da Seg Fase'!Q12,0,IF('Tab da Seg Fase'!O12='Tab da Seg Fase'!Q12,1,IF('Tab da Seg Fase'!O12<'Tab da Seg Fase'!Q12,2))) -> 0 | E6: =IF(ISNUMBER('Tab da Seg Fase'!O12),1,0) -> 1 | F6: =IF(B6*E6=2,1,0) -> 1 | G6: =IF(B6*E6=1,1,0) -> 0 | H6: =IF(B6=0,IF(E6=1,1,0),0) -> 0 | I6: =IF(E6*D6=2,1,0) -> 0 | J6: =IF(E6*D6=1,1,0) -> 0 | K6: =IF(D6=0,IF(E6=1,1,0),0) -> 1 | L6: ='Classif da Prim Fase'!$C$17 -> VANDER | M6: =SUMIF($A$1:$A$24,L6,$F$1:$F$24)+SUMIF($C$1:$C$24,L6,$I$1:$I$24) -> 0 | N6: =SUMIF($A$1:$A$24,L6,$G$1:$G$24)+SUMIF($C$1:$C$24,L6,$J$1:$J$24) -> 1 | O6: =SUMIF($A$1:$A$24,L6,$H$1:$H$24)+SUMIF($C$1:$C$24,L6,$K$1:$K$24) -> 1 | P6: =SUMIF('Tab da Seg Fase'!$N$7:$N$30,L6,'Tab da Seg Fase'!$O$7:$O$30)+SUMIF('Tab da Seg Fase'!$R$7:$R$30,L6,'Tab da Seg Fase'!$Q$7:$Q$30) -> 1 | Q6: =SUMIF('Tab da Seg Fase'!$N$7:$N$30,L6,'Tab da Seg Fase'!$Q$7:$Q$30)+SUMIF('Tab da Seg Fase'!$R$7:$R$30,L6,'Tab da Seg Fase'!$O$7:$O$30) -> 2 | R6: =(1000000*((3*M6)+N6))+(10000*M6)+(100*(P6-Q6))+P6+(0.001*(3-T6)) -> 999901 | S6: =RANK(R6,$R$6:$R$8) -> 2 | T6: 1 | U6: =IF($S$6=T6,6,0)+IF($S$7=T6,7,0)+IF($S$8=T6,8,0) -> 7 | W6: =CONCATENATE("'Auxiliar (2)'!",W$1,$U6) -> 'Auxiliar (2)'!L7 | X6: =CONCATENATE("'Auxiliar (2)'!",X$1,$U6) -> 'Auxiliar (2)'!M7 | Y6: =CONCATENATE("'Auxiliar (2)'!",Y$1,$U6) -> 'Auxiliar (2)'!N7 | Z6: =CONCATENATE("'Auxiliar (2)'!",Z$1,$U6) -> 'Auxiliar (2)'!O7 | AA6: =CONCATENATE("'Auxiliar (2)'!",AA$1,$U6) -> 'Auxiliar (2)'!P7 | AB6: =CONCATENATE("'Auxiliar (2)'!",AB$1,$U6) -> 'Auxiliar (2)'!Q7 | AC6: F
A7: ='Tab da Seg Fase'!N13 -> FRANCISCO | B7: =IF('Tab da Seg Fase'!O13<'Tab da Seg Fase'!Q13,0,IF('Tab da Seg Fase'!O13='Tab da Seg Fase'!Q13,1,IF('Tab da Seg Fase'!O13>'Tab da Seg Fase'!Q13,2))) -> 1 | C7: ='Tab da Seg Fase'!R13 -> LUIZ GOMES | D7: =IF('Tab da Seg Fase'!O13>'Tab da Seg Fase'!Q13,0,IF('Tab da Seg Fase'!O13='Tab da Seg Fase'!Q13,1,IF('Tab da Seg Fase'!O13<'Tab da Seg Fase'!Q13,2))) -> 1 | E7: =IF(ISNUMBER('Tab da Seg Fase'!O13),1,0) -> 1 | F7: =IF(B7*E7=2,1,0) -> 0 | G7: =IF(B7*E7=1,1,0) -> 1 | H7: =IF(B7=0,IF(E7=1,1,0),0) -> 0 | I7: =IF(E7*D7=2,1,0) -> 0 | J7: =IF(E7*D7=1,1,0) -> 1 | K7: =IF(D7=0,IF(E7=1,1,0),0) -> 0 | L7: ='Classif da Prim Fase'!$C$28 -> TONINHO | M7: =SUMIF($A$1:$A$24,L7,$F$1:$F$24)+SUMIF($C$1:$C$24,L7,$I$1:$I$24) -> 2 | N7: =SUMIF($A$1:$A$24,L7,$G$1:$G$24)+SUMIF($C$1:$C$24,L7,$J$1:$J$24) -> 0 | O7: =SUMIF($A$1:$A$24,L7,$H$1:$H$24)+SUMIF($C$1:$C$24,L7,$K$1:$K$24) -> 0 | P7: =SUMIF('Tab da Seg Fase'!$N$7:$N$30,L7,'Tab da Seg Fase'!$O$7:$O$30)+SUMIF('Tab da Seg Fase'!$R$7:$R$30,L7,'Tab da Seg Fase'!$Q$7:$Q$30) -> 7 | Q7: =SUMIF('Tab da Seg Fase'!$N$7:$N$30,L7,'Tab da Seg Fase'!$Q$7:$Q$30)+SUMIF('Tab da Seg Fase'!$R$7:$R$30,L7,'Tab da Seg Fase'!$O$7:$O$30) -> 0 | R7: =(1000000*((3*M7)+N7))+(10000*M7)+(100*(P7-Q7))+P7+(0.001*(3-T7)) -> 6020707 | S7: =RANK(R7,$R$6:$R$8) -> 1 | T7: 2 | U7: =IF($S$6=T7,6,0)+IF($S$7=T7,7,0)+IF($S$8=T7,8,0) -> 6 | W7: =CONCATENATE("'Auxiliar (2)'!",W$1,$U7) -> 'Auxiliar (2)'!L6 | X7: =CONCATENATE("'Auxiliar (2)'!",X$1,$U7) -> 'Auxiliar (2)'!M6 | Y7: =CONCATENATE("'Auxiliar (2)'!",Y$1,$U7) -> 'Auxiliar (2)'!N6 | Z7: =CONCATENATE("'Auxiliar (2)'!",Z$1,$U7) -> 'Auxiliar (2)'!O6 | AA7: =CONCATENATE("'Auxiliar (2)'!",AA$1,$U7) -> 'Auxiliar (2)'!P6 | AB7: =CONCATENATE("'Auxiliar (2)'!",AB$1,$U7) -> 'Auxiliar (2)'!Q6
A8: ='Tab da Seg Fase'!N14 -> FELIPE | B8: =IF('Tab da Seg Fase'!O14<'Tab da Seg Fase'!Q14,0,IF('Tab da Seg Fase'!O14='Tab da Seg Fase'!Q14,1,IF('Tab da Seg Fase'!O14>'Tab da Seg Fase'!Q14,2))) -> 1 | C8: ='Tab da Seg Fase'!R14 -> PAULO CÉSAR | D8: =IF('Tab da Seg Fase'!O14>'Tab da Seg Fase'!Q14,0,IF('Tab da Seg Fase'!O14='Tab da Seg Fase'!Q14,1,IF('Tab da Seg Fase'!O14<'Tab da Seg Fase'!Q14,2))) -> 1 | E8: =IF(ISNUMBER('Tab da Seg Fase'!O14),1,0) -> 1 | F8: =IF(B8*E8=2,1,0) -> 0 | G8: =IF(B8*E8=1,1,0) -> 1 | H8: =IF(B8=0,IF(E8=1,1,0),0) -> 0 | I8: =IF(E8*D8=2,1,0) -> 0 | J8: =IF(E8*D8=1,1,0) -> 1 | K8: =IF(D8=0,IF(E8=1,1,0),0) -> 0 | L8: ='Classif da Prim Fase'!$C$39 -> VASQUES | M8: =SUMIF($A$1:$A$24,L8,$F$1:$F$24)+SUMIF($C$1:$C$24,L8,$I$1:$I$24) -> 0 | N8: =SUMIF($A$1:$A$24,L8,$G$1:$G$24)+SUMIF($C$1:$C$24,L8,$J$1:$J$24) -> 1 | O8: =SUMIF($A$1:$A$24,L8,$H$1:$H$24)+SUMIF($C$1:$C$24,L8,$K$1:$K$24) -> 1 | P8: =SUMIF('Tab da Seg Fase'!$N$7:$N$30,L8,'Tab da Seg Fase'!$O$7:$O$30)+SUMIF('Tab da Seg Fase'!$R$7:$R$30,L8,'Tab da Seg Fase'!$Q$7:$Q$30) -> 1 | Q8: =SUMIF('Tab da Seg Fase'!$N$7:$N$30,L8,'Tab da Seg Fase'!$Q$7:$Q$30)+SUMIF('Tab da Seg Fase'!$R$7:$R$30,L8,'Tab da Seg Fase'!$O$7:$O$30) -> 7 | R8: =(1000000*((3*M8)+N8))+(10000*M8)+(100*(P8-Q8))+P8+(0.001*(3-T8)) -> 999401 | S8: =RANK(R8,$R$6:$R$8) -> 3 | T8: 3 | U8: =IF($S$6=T8,6,0)+IF($S$7=T8,7,0)+IF($S$8=T8,8,0) -> 8 | W8: =CONCATENATE("'Auxiliar (2)'!",W$1,$U8) -> 'Auxiliar (2)'!L8 | X8: =CONCATENATE("'Auxiliar (2)'!",X$1,$U8) -> 'Auxiliar (2)'!M8 | Y8: =CONCATENATE("'Auxiliar (2)'!",Y$1,$U8) -> 'Auxiliar (2)'!N8 | Z8: =CONCATENATE("'Auxiliar (2)'!",Z$1,$U8) -> 'Auxiliar (2)'!O8 | AA8: =CONCATENATE("'Auxiliar (2)'!",AA$1,$U8) -> 'Auxiliar (2)'!P8 | AB8: =CONCATENATE("'Auxiliar (2)'!",AB$1,$U8) -> 'Auxiliar (2)'!Q8
A9: ='Tab da Seg Fase'!N15 -> HEAVY | B9: =IF('Tab da Seg Fase'!O15<'Tab da Seg Fase'!Q15,0,IF('Tab da Seg Fase'!O15='Tab da Seg Fase'!Q15,1,IF('Tab da Seg Fase'!O15>'Tab da Seg Fase'!Q15,2))) -> 1 | C9: ='Tab da Seg Fase'!R15 -> AÉCIO | D9: =IF('Tab da Seg Fase'!O15>'Tab da Seg Fase'!Q15,0,IF('Tab da Seg Fase'!O15='Tab da Seg Fase'!Q15,1,IF('Tab da Seg Fase'!O15<'Tab da Seg Fase'!Q15,2))) -> 1 | E9: =IF(ISNUMBER('Tab da Seg Fase'!O15),1,0) -> 1 | F9: =IF(B9*E9=2,1,0) -> 0 | G9: =IF(B9*E9=1,1,0) -> 1 | H9: =IF(B9=0,IF(E9=1,1,0),0) -> 0 | I9: =IF(E9*D9=2,1,0) -> 0 | J9: =IF(E9*D9=1,1,0) -> 1 | K9: =IF(D9=0,IF(E9=1,1,0),0) -> 0
A10: ='Tab da Seg Fase'!N16 -> AMAURI | B10: =IF('Tab da Seg Fase'!O16<'Tab da Seg Fase'!Q16,0,IF('Tab da Seg Fase'!O16='Tab da Seg Fase'!Q16,1,IF('Tab da Seg Fase'!O16>'Tab da Seg Fase'!Q16,2))) -> 0 | C10: ='Tab da Seg Fase'!R16 -> ANDRÉ BRANDÃO | D10: =IF('Tab da Seg Fase'!O16>'Tab da Seg Fase'!Q16,0,IF('Tab da Seg Fase'!O16='Tab da Seg Fase'!Q16,1,IF('Tab da Seg Fase'!O16<'Tab da Seg Fase'!Q16,2))) -> 2 | E10: =IF(ISNUMBER('Tab da Seg Fase'!O16),1,0) -> 1 | F10: =IF(B10*E10=2,1,0) -> 0 | G10: =IF(B10*E10=1,1,0) -> 0 | H10: =IF(B10=0,IF(E10=1,1,0),0) -> 1 | I10: =IF(E10*D10=2,1,0) -> 1 | J10: =IF(E10*D10=1,1,0) -> 0 | K10: =IF(D10=0,IF(E10=1,1,0),0) -> 0 | L10: ='Classif da Prim Fase'!$C$27 -> ALCIDES | M10: =SUMIF($A$1:$A$24,L10,$F$1:$F$24)+SUMIF($C$1:$C$24,L10,$I$1:$I$24) -> 2 | N10: =SUMIF($A$1:$A$24,L10,$G$1:$G$24)+SUMIF($C$1:$C$24,L10,$J$1:$J$24) -> 0 | O10: =SUMIF($A$1:$A$24,L10,$H$1:$H$24)+SUMIF($C$1:$C$24,L10,$K$1:$K$24) -> 0 | P10: =SUMIF('Tab da Seg Fase'!$N$7:$N$30,L10,'Tab da Seg Fase'!$O$7:$O$30)+SUMIF('Tab da Seg Fase'!$R$7:$R$30,L10,'Tab da Seg Fase'!$Q$7:$Q$30) -> 7 | Q10: =SUMIF('Tab da Seg Fase'!$N$7:$N$30,L10,'Tab da Seg Fase'!$Q$7:$Q$30)+SUMIF('Tab da Seg Fase'!$R$7:$R$30,L10,'Tab da Seg Fase'!$O$7:$O$30) -> 0 | R10: =(1000000*((3*M10)+N10))+(10000*M10)+(100*(P10-Q10))+P10+(0.001*(3-T10)) -> 6020707 | S10: =RANK(R10,$R$10:$R$12) -> 1 | T10: 1 | U10: =IF($S$10=T10,10,0)+IF($S$11=T10,11,0)+IF($S$12=T10,12,0) -> 10 | W10: =CONCATENATE("'Auxiliar (2)'!",W$1,$U10) -> 'Auxiliar (2)'!L10 | X10: =CONCATENATE("'Auxiliar (2)'!",X$1,$U10) -> 'Auxiliar (2)'!M10 | Y10: =CONCATENATE("'Auxiliar (2)'!",Y$1,$U10) -> 'Auxiliar (2)'!N10 | Z10: =CONCATENATE("'Auxiliar (2)'!",Z$1,$U10) -> 'Auxiliar (2)'!O10 | AA10: =CONCATENATE("'Auxiliar (2)'!",AA$1,$U10) -> 'Auxiliar (2)'!P10 | AB10: =CONCATENATE("'Auxiliar (2)'!",AB$1,$U10) -> 'Auxiliar (2)'!Q10 | AC10: G
A11: ='Tab da Seg Fase'!N17 -> THIAGO | B11: =IF('Tab da Seg Fase'!O17<'Tab da Seg Fase'!Q17,0,IF('Tab da Seg Fase'!O17='Tab da Seg Fase'!Q17,1,IF('Tab da Seg Fase'!O17>'Tab da Seg Fase'!Q17,2))) -> 2 | C11: ='Tab da Seg Fase'!R17 -> MAGNO | D11: =IF('Tab da Seg Fase'!O17>'Tab da Seg Fase'!Q17,0,IF('Tab da Seg Fase'!O17='Tab da Seg Fase'!Q17,1,IF('Tab da Seg Fase'!O17<'Tab da Seg Fase'!Q17,2))) -> 0 | E11: =IF(ISNUMBER('Tab da Seg Fase'!O17),1,0) -> 1 | F11: =IF(B11*E11=2,1,0) -> 1 | G11: =IF(B11*E11=1,1,0) -> 0 | H11: =IF(B11=0,IF(E11=1,1,0),0) -> 0 | I11: =IF(E11*D11=2,1,0) -> 0 | J11: =IF(E11*D11=1,1,0) -> 0 | K11: =IF(D11=0,IF(E11=1,1,0),0) -> 1 | L11: ='Classif da Prim Fase'!$C$18 -> JUNIOR | M11: =SUMIF($A$1:$A$24,L11,$F$1:$F$24)+SUMIF($C$1:$C$24,L11,$I$1:$I$24) -> 0 | N11: =SUMIF($A$1:$A$24,L11,$G$1:$G$24)+SUMIF($C$1:$C$24,L11,$J$1:$J$24) -> 0 | O11: =SUMIF($A$1:$A$24,L11,$H$1:$H$24)+SUMIF($C$1:$C$24,L11,$K$1:$K$24) -> 2 | P11: =SUMIF('Tab da Seg Fase'!$N$7:$N$30,L11,'Tab da Seg Fase'!$O$7:$O$30)+SUMIF('Tab da Seg Fase'!$R$7:$R$30,L11,'Tab da Seg Fase'!$Q$7:$Q$30) -> 0 | Q11: =SUMIF('Tab da Seg Fase'!$N$7:$N$30,L11,'Tab da Seg Fase'!$Q$7:$Q$30)+SUMIF('Tab da Seg Fase'!$R$7:$R$30,L11,'Tab da Seg Fase'!$O$7:$O$30) -> 6 | R11: =(1000000*((3*M11)+N11))+(10000*M11)+(100*(P11-Q11))+P11+(0.001*(3-T11)) -> -599.999 | S11: =RANK(R11,$R$10:$R$12) -> 3 | T11: 2 | U11: =IF($S$10=T11,10,0)+IF($S$11=T11,11,0)+IF($S$12=T11,12,0) -> 12 | W11: =CONCATENATE("'Auxiliar (2)'!",W$1,$U11) -> 'Auxiliar (2)'!L12 | X11: =CONCATENATE("'Auxiliar (2)'!",X$1,$U11) -> 'Auxiliar (2)'!M12 | Y11: =CONCATENATE("'Auxiliar (2)'!",Y$1,$U11) -> 'Auxiliar (2)'!N12 | Z11: =CONCATENATE("'Auxiliar (2)'!",Z$1,$U11) -> 'Auxiliar (2)'!O12 | AA11: =CONCATENATE("'Auxiliar (2)'!",AA$1,$U11) -> 'Auxiliar (2)'!P12 | AB11: =CONCATENATE("'Auxiliar (2)'!",AB$1,$U11) -> 'Auxiliar (2)'!Q12
A12: ='Tab da Seg Fase'!N18 -> TONINHO | B12: =IF('Tab da Seg Fase'!O18<'Tab da Seg Fase'!Q18,0,IF('Tab da Seg Fase'!O18='Tab da Seg Fase'!Q18,1,IF('Tab da Seg Fase'!O18>'Tab da Seg Fase'!Q18,2))) -> 2 | C12: ='Tab da Seg Fase'!R18 -> VASQUES | D12: =IF('Tab da Seg Fase'!O18>'Tab da Seg Fase'!Q18,0,IF('Tab da Seg Fase'!O18='Tab da Seg Fase'!Q18,1,IF('Tab da Seg Fase'!O18<'Tab da Seg Fase'!Q18,2))) -> 0 | E12: =IF(ISNUMBER('Tab da Seg Fase'!O18),1,0) -> 1 | F12: =IF(B12*E12=2,1,0) -> 1 | G12: =IF(B12*E12=1,1,0) -> 0 | H12: =IF(B12=0,IF(E12=1,1,0),0) -> 0 | I12: =IF(E12*D12=2,1,0) -> 0 | J12: =IF(E12*D12=1,1,0) -> 0 | K12: =IF(D12=0,IF(E12=1,1,0),0) -> 1 | L12: ='Classif da Prim Fase'!$C$9 -> JULIANO | M12: =SUMIF($A$1:$A$24,L12,$F$1:$F$24)+SUMIF($C$1:$C$24,L12,$I$1:$I$24) -> 1 | N12: =SUMIF($A$1:$A$24,L12,$G$1:$G$24)+SUMIF($C$1:$C$24,L12,$J$1:$J$24) -> 0 | O12: =SUMIF($A$1:$A$24,L12,$H$1:$H$24)+SUMIF($C$1:$C$24,L12,$K$1:$K$24) -> 1 | P12: =SUMIF('Tab da Seg Fase'!$N$7:$N$30,L12,'Tab da Seg Fase'!$O$7:$O$30)+SUMIF('Tab da Seg Fase'!$R$7:$R$30,L12,'Tab da Seg Fase'!$Q$7:$Q$30) -> 2 | Q12: =SUMIF('Tab da Seg Fase'!$N$7:$N$30,L12,'Tab da Seg Fase'!$Q$7:$Q$30)+SUMIF('Tab da Seg Fase'!$R$7:$R$30,L12,'Tab da Seg Fase'!$O$7:$O$30) -> 3 | R12: =(1000000*((3*M12)+N12))+(10000*M12)+(100*(P12-Q12))+P12+(0.001*(3-T12)) -> 3009902 | S12: =RANK(R12,$R$10:$R$12) -> 2 | T12: 3 | U12: =IF($S$10=T12,10,0)+IF($S$11=T12,11,0)+IF($S$12=T12,12,0) -> 11 | W12: =CONCATENATE("'Auxiliar (2)'!",W$1,$U12) -> 'Auxiliar (2)'!L11 | X12: =CONCATENATE("'Auxiliar (2)'!",X$1,$U12) -> 'Auxiliar (2)'!M11 | Y12: =CONCATENATE("'Auxiliar (2)'!",Y$1,$U12) -> 'Auxiliar (2)'!N11 | Z12: =CONCATENATE("'Auxiliar (2)'!",Z$1,$U12) -> 'Auxiliar (2)'!O11 | AA12: =CONCATENATE("'Auxiliar (2)'!",AA$1,$U12) -> 'Auxiliar (2)'!P11 | AB12: =CONCATENATE("'Auxiliar (2)'!",AB$1,$U12) -> 'Auxiliar (2)'!Q11
A13: ='Tab da Seg Fase'!N19 -> JUNIOR | B13: =IF('Tab da Seg Fase'!O19<'Tab da Seg Fase'!Q19,0,IF('Tab da Seg Fase'!O19='Tab da Seg Fase'!Q19,1,IF('Tab da Seg Fase'!O19>'Tab da Seg Fase'!Q19,2))) -> 0 | C13: ='Tab da Seg Fase'!R19 -> JULIANO | D13: =IF('Tab da Seg Fase'!O19>'Tab da Seg Fase'!Q19,0,IF('Tab da Seg Fase'!O19='Tab da Seg Fase'!Q19,1,IF('Tab da Seg Fase'!O19<'Tab da Seg Fase'!Q19,2))) -> 2 | E13: =IF(ISNUMBER('Tab da Seg Fase'!O19),1,0) -> 1 | F13: =IF(B13*E13=2,1,0) -> 0 | G13: =IF(B13*E13=1,1,0) -> 0 | H13: =IF(B13=0,IF(E13=1,1,0),0) -> 1 | I13: =IF(E13*D13=2,1,0) -> 1 | J13: =IF(E13*D13=1,1,0) -> 0 | K13: =IF(D13=0,IF(E13=1,1,0),0) -> 0
A14: ='Tab da Seg Fase'!N20 -> JORGE DIAS | B14: =IF('Tab da Seg Fase'!O20<'Tab da Seg Fase'!Q20,0,IF('Tab da Seg Fase'!O20='Tab da Seg Fase'!Q20,1,IF('Tab da Seg Fase'!O20>'Tab da Seg Fase'!Q20,2))) -> 1 | C14: ='Tab da Seg Fase'!R20 -> RODRIGO BARROS | D14: =IF('Tab da Seg Fase'!O20>'Tab da Seg Fase'!Q20,0,IF('Tab da Seg Fase'!O20='Tab da Seg Fase'!Q20,1,IF('Tab da Seg Fase'!O20<'Tab da Seg Fase'!Q20,2))) -> 1 | E14: =IF(ISNUMBER('Tab da Seg Fase'!O20),1,0) -> 1 | F14: =IF(B14*E14=2,1,0) -> 0 | G14: =IF(B14*E14=1,1,0) -> 1 | H14: =IF(B14=0,IF(E14=1,1,0),0) -> 0 | I14: =IF(E14*D14=2,1,0) -> 0 | J14: =IF(E14*D14=1,1,0) -> 1 | K14: =IF(D14=0,IF(E14=1,1,0),0) -> 0 | L14: ='Classif da Prim Fase'!$C$37 -> LUIZ CLAUDIO | M14: =SUMIF($A$1:$A$24,L14,$F$1:$F$24)+SUMIF($C$1:$C$24,L14,$I$1:$I$24) -> 1 | N14: =SUMIF($A$1:$A$24,L14,$G$1:$G$24)+SUMIF($C$1:$C$24,L14,$J$1:$J$24) -> 1 | O14: =SUMIF($A$1:$A$24,L14,$H$1:$H$24)+SUMIF($C$1:$C$24,L14,$K$1:$K$24) -> 0 | P14: =SUMIF('Tab da Seg Fase'!$N$7:$N$30,L14,'Tab da Seg Fase'!$O$7:$O$30)+SUMIF('Tab da Seg Fase'!$R$7:$R$30,L14,'Tab da Seg Fase'!$Q$7:$Q$30) -> 1 | Q14: =SUMIF('Tab da Seg Fase'!$N$7:$N$30,L14,'Tab da Seg Fase'!$Q$7:$Q$30)+SUMIF('Tab da Seg Fase'!$R$7:$R$30,L14,'Tab da Seg Fase'!$O$7:$O$30) -> 0 | R14: =(1000000*((3*M14)+N14))+(10000*M14)+(100*(P14-Q14))+P14+(0.001*(3-T14)) -> 4010101 | S14: =RANK(R14,$R$14:$R$16) -> 1 | T14: 1 | U14: =IF($S$14=T14,14,0)+IF($S$15=T14,15,0)+IF($S$16=T14,16,0) -> 14 | W14: =CONCATENATE("'Auxiliar (2)'!",W$1,$U14) -> 'Auxiliar (2)'!L14 | X14: =CONCATENATE("'Auxiliar (2)'!",X$1,$U14) -> 'Auxiliar (2)'!M14 | Y14: =CONCATENATE("'Auxiliar (2)'!",Y$1,$U14) -> 'Auxiliar (2)'!N14 | Z14: =CONCATENATE("'Auxiliar (2)'!",Z$1,$U14) -> 'Auxiliar (2)'!O14 | AA14: =CONCATENATE("'Auxiliar (2)'!",AA$1,$U14) -> 'Auxiliar (2)'!P14 | AB14: =CONCATENATE("'Auxiliar (2)'!",AB$1,$U14) -> 'Auxiliar (2)'!Q14 | AC14: H
A15: ='Tab da Seg Fase'!N21 -> IZALCI | B15: =IF('Tab da Seg Fase'!O21<'Tab da Seg Fase'!Q21,0,IF('Tab da Seg Fase'!O21='Tab da Seg Fase'!Q21,1,IF('Tab da Seg Fase'!O21>'Tab da Seg Fase'!Q21,2))) -> 2 | C15: ='Tab da Seg Fase'!R21 -> RODRIGO GUIMARÃES | D15: =IF('Tab da Seg Fase'!O21>'Tab da Seg Fase'!Q21,0,IF('Tab da Seg Fase'!O21='Tab da Seg Fase'!Q21,1,IF('Tab da Seg Fase'!O21<'Tab da Seg Fase'!Q21,2))) -> 0 | E15: =IF(ISNUMBER('Tab da Seg Fase'!O21),1,0) -> 1 | F15: =IF(B15*E15=2,1,0) -> 1 | G15: =IF(B15*E15=1,1,0) -> 0 | H15: =IF(B15=0,IF(E15=1,1,0),0) -> 0 | I15: =IF(E15*D15=2,1,0) -> 0 | J15: =IF(E15*D15=1,1,0) -> 0 | K15: =IF(D15=0,IF(E15=1,1,0),0) -> 1 | L15: ='Classif da Prim Fase'!$C$8 -> JORGE DIAS | M15: =SUMIF($A$1:$A$24,L15,$F$1:$F$24)+SUMIF($C$1:$C$24,L15,$I$1:$I$24) -> 0 | N15: =SUMIF($A$1:$A$24,L15,$G$1:$G$24)+SUMIF($C$1:$C$24,L15,$J$1:$J$24) -> 2 | O15: =SUMIF($A$1:$A$24,L15,$H$1:$H$24)+SUMIF($C$1:$C$24,L15,$K$1:$K$24) -> 0 | P15: =SUMIF('Tab da Seg Fase'!$N$7:$N$30,L15,'Tab da Seg Fase'!$O$7:$O$30)+SUMIF('Tab da Seg Fase'!$R$7:$R$30,L15,'Tab da Seg Fase'!$Q$7:$Q$30) -> 1 | Q15: =SUMIF('Tab da Seg Fase'!$N$7:$N$30,L15,'Tab da Seg Fase'!$Q$7:$Q$30)+SUMIF('Tab da Seg Fase'!$R$7:$R$30,L15,'Tab da Seg Fase'!$O$7:$O$30) -> 1 | R15: =(1000000*((3*M15)+N15))+(10000*M15)+(100*(P15-Q15))+P15+(0.001*(3-T15)) -> 2000001 | S15: =RANK(R15,$R$14:$R$16) -> 2 | T15: 2 | U15: =IF($S$14=T15,14,0)+IF($S$15=T15,15,0)+IF($S$16=T15,16,0) -> 15 | W15: =CONCATENATE("'Auxiliar (2)'!",W$1,$U15) -> 'Auxiliar (2)'!L15 | X15: =CONCATENATE("'Auxiliar (2)'!",X$1,$U15) -> 'Auxiliar (2)'!M15 | Y15: =CONCATENATE("'Auxiliar (2)'!",Y$1,$U15) -> 'Auxiliar (2)'!N15 | Z15: =CONCATENATE("'Auxiliar (2)'!",Z$1,$U15) -> 'Auxiliar (2)'!O15 | AA15: =CONCATENATE("'Auxiliar (2)'!",AA$1,$U15) -> 'Auxiliar (2)'!P15 | AB15: =CONCATENATE("'Auxiliar (2)'!",AB$1,$U15) -> 'Auxiliar (2)'!Q15
A16: ='Tab da Seg Fase'!N22 -> WILLIAM MOREIRA | B16: =IF('Tab da Seg Fase'!O22<'Tab da Seg Fase'!Q22,0,IF('Tab da Seg Fase'!O22='Tab da Seg Fase'!Q22,1,IF('Tab da Seg Fase'!O22>'Tab da Seg Fase'!Q22,2))) -> 2 | C16: ='Tab da Seg Fase'!R22 -> MALCHER | D16: =IF('Tab da Seg Fase'!O22>'Tab da Seg Fase'!Q22,0,IF('Tab da Seg Fase'!O22='Tab da Seg Fase'!Q22,1,IF('Tab da Seg Fase'!O22<'Tab da Seg Fase'!Q22,2))) -> 0 | E16: =IF(ISNUMBER('Tab da Seg Fase'!O22),1,0) -> 1 | F16: =IF(B16*E16=2,1,0) -> 1 | G16: =IF(B16*E16=1,1,0) -> 0 | H16: =IF(B16=0,IF(E16=1,1,0),0) -> 0 | I16: =IF(E16*D16=2,1,0) -> 0 | J16: =IF(E16*D16=1,1,0) -> 0 | K16: =IF(D16=0,IF(E16=1,1,0),0) -> 1 | L16: ='Classif da Prim Fase'!$C$19 -> RODRIGO BARROS | M16: =SUMIF($A$1:$A$24,L16,$F$1:$F$24)+SUMIF($C$1:$C$24,L16,$I$1:$I$24) -> 0 | N16: =SUMIF($A$1:$A$24,L16,$G$1:$G$24)+SUMIF($C$1:$C$24,L16,$J$1:$J$24) -> 1 | O16: =SUMIF($A$1:$A$24,L16,$H$1:$H$24)+SUMIF($C$1:$C$24,L16,$K$1:$K$24) -> 1 | P16: =SUMIF('Tab da Seg Fase'!$N$7:$N$30,L16,'Tab da Seg Fase'!$O$7:$O$30)+SUMIF('Tab da Seg Fase'!$R$7:$R$30,L16,'Tab da Seg Fase'!$Q$7:$Q$30) -> 1 | Q16: =SUMIF('Tab da Seg Fase'!$N$7:$N$30,L16,'Tab da Seg Fase'!$Q$7:$Q$30)+SUMIF('Tab da Seg Fase'!$R$7:$R$30,L16,'Tab da Seg Fase'!$O$7:$O$30) -> 2 | R16: =(1000000*((3*M16)+N16))+(10000*M16)+(100*(P16-Q16))+P16+(0.001*(3-T16)) -> 999901 | S16: =RANK(R16,$R$14:$R$16) -> 3 | T16: 3 | U16: =IF($S$14=T16,14,0)+IF($S$15=T16,15,0)+IF($S$16=T16,16,0) -> 16 | W16: =CONCATENATE("'Auxiliar (2)'!",W$1,$U16) -> 'Auxiliar (2)'!L16 | X16: =CONCATENATE("'Auxiliar (2)'!",X$1,$U16) -> 'Auxiliar (2)'!M16 | Y16: =CONCATENATE("'Auxiliar (2)'!",Y$1,$U16) -> 'Auxiliar (2)'!N16 | Z16: =CONCATENATE("'Auxiliar (2)'!",Z$1,$U16) -> 'Auxiliar (2)'!O16 | AA16: =CONCATENATE("'Auxiliar (2)'!",AA$1,$U16) -> 'Auxiliar (2)'!P16 | AB16: =CONCATENATE("'Auxiliar (2)'!",AB$1,$U16) -> 'Auxiliar (2)'!Q16
A17: ='Tab da Seg Fase'!N23 -> MARCELO PORTO | B17: =IF('Tab da Seg Fase'!O23<'Tab da Seg Fase'!Q23,0,IF('Tab da Seg Fase'!O23='Tab da Seg Fase'!Q23,1,IF('Tab da Seg Fase'!O23>'Tab da Seg Fase'!Q23,2))) -> 2 | C17: ='Tab da Seg Fase'!R23 -> ANDRÉ BRANDÃO | D17: =IF('Tab da Seg Fase'!O23>'Tab da Seg Fase'!Q23,0,IF('Tab da Seg Fase'!O23='Tab da Seg Fase'!Q23,1,IF('Tab da Seg Fase'!O23<'Tab da Seg Fase'!Q23,2))) -> 0 | E17: =IF(ISNUMBER('Tab da Seg Fase'!O23),1,0) -> 1 | F17: =IF(B17*E17=2,1,0) -> 1 | G17: =IF(B17*E17=1,1,0) -> 0 | H17: =IF(B17=0,IF(E17=1,1,0),0) -> 0 | I17: =IF(E17*D17=2,1,0) -> 0 | J17: =IF(E17*D17=1,1,0) -> 0 | K17: =IF(D17=0,IF(E17=1,1,0),0) -> 1
A18: ='Tab da Seg Fase'!N24 -> AÉCIO | B18: =IF('Tab da Seg Fase'!O24<'Tab da Seg Fase'!Q24,0,IF('Tab da Seg Fase'!O24='Tab da Seg Fase'!Q24,1,IF('Tab da Seg Fase'!O24>'Tab da Seg Fase'!Q24,2))) -> 1 | C18: ='Tab da Seg Fase'!R24 -> HÉLIO | D18: =IF('Tab da Seg Fase'!O24>'Tab da Seg Fase'!Q24,0,IF('Tab da Seg Fase'!O24='Tab da Seg Fase'!Q24,1,IF('Tab da Seg Fase'!O24<'Tab da Seg Fase'!Q24,2))) -> 1 | E18: =IF(ISNUMBER('Tab da Seg Fase'!O24),1,0) -> 1 | F18: =IF(B18*E18=2,1,0) -> 0 | G18: =IF(B18*E18=1,1,0) -> 1 | H18: =IF(B18=0,IF(E18=1,1,0),0) -> 0 | I18: =IF(E18*D18=2,1,0) -> 0 | J18: =IF(E18*D18=1,1,0) -> 1 | K18: =IF(D18=0,IF(E18=1,1,0),0) -> 0
A19: ='Tab da Seg Fase'!N25 -> LUIZ CLAUDIO | B19: =IF('Tab da Seg Fase'!O25<'Tab da Seg Fase'!Q25,0,IF('Tab da Seg Fase'!O25='Tab da Seg Fase'!Q25,1,IF('Tab da Seg Fase'!O25>'Tab da Seg Fase'!Q25,2))) -> 1 | C19: ='Tab da Seg Fase'!R25 -> JORGE DIAS | D19: =IF('Tab da Seg Fase'!O25>'Tab da Seg Fase'!Q25,0,IF('Tab da Seg Fase'!O25='Tab da Seg Fase'!Q25,1,IF('Tab da Seg Fase'!O25<'Tab da Seg Fase'!Q25,2))) -> 1 | E19: =IF(ISNUMBER('Tab da Seg Fase'!O25),1,0) -> 1 | F19: =IF(B19*E19=2,1,0) -> 0 | G19: =IF(B19*E19=1,1,0) -> 1 | H19: =IF(B19=0,IF(E19=1,1,0),0) -> 0 | I19: =IF(E19*D19=2,1,0) -> 0 | J19: =IF(E19*D19=1,1,0) -> 1 | K19: =IF(D19=0,IF(E19=1,1,0),0) -> 0
A20: ='Tab da Seg Fase'!N26 -> ALCIDES | B20: =IF('Tab da Seg Fase'!O26<'Tab da Seg Fase'!Q26,0,IF('Tab da Seg Fase'!O26='Tab da Seg Fase'!Q26,1,IF('Tab da Seg Fase'!O26>'Tab da Seg Fase'!Q26,2))) -> 2 | C20: ='Tab da Seg Fase'!R26 -> JUNIOR | D20: =IF('Tab da Seg Fase'!O26>'Tab da Seg Fase'!Q26,0,IF('Tab da Seg Fase'!O26='Tab da Seg Fase'!Q26,1,IF('Tab da Seg Fase'!O26<'Tab da Seg Fase'!Q26,2))) -> 0 | E20: =IF(ISNUMBER('Tab da Seg Fase'!O26),1,0) -> 1 | F20: =IF(B20*E20=2,1,0) -> 1 | G20: =IF(B20*E20=1,1,0) -> 0 | H20: =IF(B20=0,IF(E20=1,1,0),0) -> 0 | I20: =IF(E20*D20=2,1,0) -> 0 | J20: =IF(E20*D20=1,1,0) -> 0 | K20: =IF(D20=0,IF(E20=1,1,0),0) -> 1
A21: ='Tab da Seg Fase'!N27 -> VANDER | B21: =IF('Tab da Seg Fase'!O27<'Tab da Seg Fase'!Q27,0,IF('Tab da Seg Fase'!O27='Tab da Seg Fase'!Q27,1,IF('Tab da Seg Fase'!O27>'Tab da Seg Fase'!Q27,2))) -> 0 | C21: ='Tab da Seg Fase'!R27 -> TONINHO | D21: =IF('Tab da Seg Fase'!O27>'Tab da Seg Fase'!Q27,0,IF('Tab da Seg Fase'!O27='Tab da Seg Fase'!Q27,1,IF('Tab da Seg Fase'!O27<'Tab da Seg Fase'!Q27,2))) -> 2 | E21: =IF(ISNUMBER('Tab da Seg Fase'!O27),1,0) -> 1 | F21: =IF(B21*E21=2,1,0) -> 0 | G21: =IF(B21*E21=1,1,0) -> 0 | H21: =IF(B21=0,IF(E21=1,1,0),0) -> 1 | I21: =IF(E21*D21=2,1,0) -> 1 | J21: =IF(E21*D21=1,1,0) -> 0 | K21: =IF(D21=0,IF(E21=1,1,0),0) -> 0
A22: ='Tab da Seg Fase'!N28 -> BETO | B22: =IF('Tab da Seg Fase'!O28<'Tab da Seg Fase'!Q28,0,IF('Tab da Seg Fase'!O28='Tab da Seg Fase'!Q28,1,IF('Tab da Seg Fase'!O28>'Tab da Seg Fase'!Q28,2))) -> 2 | C22: ='Tab da Seg Fase'!R28 -> THIAGO | D22: =IF('Tab da Seg Fase'!O28>'Tab da Seg Fase'!Q28,0,IF('Tab da Seg Fase'!O28='Tab da Seg Fase'!Q28,1,IF('Tab da Seg Fase'!O28<'Tab da Seg Fase'!Q28,2))) -> 0 | E22: =IF(ISNUMBER('Tab da Seg Fase'!O28),1,0) -> 1 | F22: =IF(B22*E22=2,1,0) -> 1 | G22: =IF(B22*E22=1,1,0) -> 0 | H22: =IF(B22=0,IF(E22=1,1,0),0) -> 0 | I22: =IF(E22*D22=2,1,0) -> 0 | J22: =IF(E22*D22=1,1,0) -> 0 | K22: =IF(D22=0,IF(E22=1,1,0),0) -> 1
A23: ='Tab da Seg Fase'!N29 -> FRANCISCO | B23: =IF('Tab da Seg Fase'!O29<'Tab da Seg Fase'!Q29,0,IF('Tab da Seg Fase'!O29='Tab da Seg Fase'!Q29,1,IF('Tab da Seg Fase'!O29>'Tab da Seg Fase'!Q29,2))) -> 2 | C23: ='Tab da Seg Fase'!R29 -> FELIPE | D23: =IF('Tab da Seg Fase'!O29>'Tab da Seg Fase'!Q29,0,IF('Tab da Seg Fase'!O29='Tab da Seg Fase'!Q29,1,IF('Tab da Seg Fase'!O29<'Tab da Seg Fase'!Q29,2))) -> 0 | E23: =IF(ISNUMBER('Tab da Seg Fase'!O29),1,0) -> 1 | F23: =IF(B23*E23=2,1,0) -> 1 | G23: =IF(B23*E23=1,1,0) -> 0 | H23: =IF(B23=0,IF(E23=1,1,0),0) -> 0 | I23: =IF(E23*D23=2,1,0) -> 0 | J23: =IF(E23*D23=1,1,0) -> 0 | K23: =IF(D23=0,IF(E23=1,1,0),0) -> 1
A24: ='Tab da Seg Fase'!N30 -> IZALCI | B24: =IF('Tab da Seg Fase'!O30<'Tab da Seg Fase'!Q30,0,IF('Tab da Seg Fase'!O30='Tab da Seg Fase'!Q30,1,IF('Tab da Seg Fase'!O30>'Tab da Seg Fase'!Q30,2))) -> 1 | C24: ='Tab da Seg Fase'!R30 -> WILLIAM MOREIRA | D24: =IF('Tab da Seg Fase'!O30>'Tab da Seg Fase'!Q30,0,IF('Tab da Seg Fase'!O30='Tab da Seg Fase'!Q30,1,IF('Tab da Seg Fase'!O30<'Tab da Seg Fase'!Q30,2))) -> 1 | E24: =IF(ISNUMBER('Tab da Seg Fase'!O30),1,0) -> 1 | F24: =IF(B24*E24=2,1,0) -> 0 | G24: =IF(B24*E24=1,1,0) -> 1 | H24: =IF(B24=0,IF(E24=1,1,0),0) -> 0 | I24: =IF(E24*D24=2,1,0) -> 0 | J24: =IF(E24*D24=1,1,0) -> 1 | K24: =IF(D24=0,IF(E24=1,1,0),0) -> 0
A25: ='Tab da Seg Fase'!N31 -> 0 | B25: =IF('Tab da Seg Fase'!O31<'Tab da Seg Fase'!Q31,0,IF('Tab da Seg Fase'!O31='Tab da Seg Fase'!Q31,1,IF('Tab da Seg Fase'!O31>'Tab da Seg Fase'!Q31,2))) -> 1 | C25: ='Tab da Seg Fase'!R31 -> 0 | D25: =IF('Tab da Seg Fase'!O31>'Tab da Seg Fase'!Q31,0,IF('Tab da Seg Fase'!O31='Tab da Seg Fase'!Q31,1,IF('Tab da Seg Fase'!O31<'Tab da Seg Fase'!Q31,2))) -> 1 | E25: =IF(ISNUMBER('Tab da Seg Fase'!O31),1,0) -> 0 | F25: =IF(B25*E25=2,1,0) -> 0 | G25: =IF(B25*E25=1,1,0) -> 0 | H25: =IF(B25=0,IF(E25=1,1,0),0) -> 0 | I25: =IF(E25*D25=2,1,0) -> 0 | J25: =IF(E25*D25=1,1,0) -> 0 | K25: =IF(D25=0,IF(E25=1,1,0),0) -> 0
A26: ='Tab da Seg Fase'!N32 -> 0 | B26: =IF('Tab da Seg Fase'!O32<'Tab da Seg Fase'!Q32,0,IF('Tab da Seg Fase'!O32='Tab da Seg Fase'!Q32,1,IF('Tab da Seg Fase'!O32>'Tab da Seg Fase'!Q32,2))) -> 1 | C26: ='Tab da Seg Fase'!R32 -> 0 | D26: =IF('Tab da Seg Fase'!O32>'Tab da Seg Fase'!Q32,0,IF('Tab da Seg Fase'!O32='Tab da Seg Fase'!Q32,1,IF('Tab da Seg Fase'!O32<'Tab da Seg Fase'!Q32,2))) -> 1 | E26: =IF(ISNUMBER('Tab da Seg Fase'!O32),1,0) -> 0 | F26: =IF(B26*E26=2,1,0) -> 0 | G26: =IF(B26*E26=1,1,0) -> 0 | H26: =IF(B26=0,IF(E26=1,1,0),0) -> 0 | I26: =IF(E26*D26=2,1,0) -> 0 | J26: =IF(E26*D26=1,1,0) -> 0 | K26: =IF(D26=0,IF(E26=1,1,0),0) -> 0
A27: ='Tab da Seg Fase'!N33 -> 0 | B27: =IF('Tab da Seg Fase'!O33<'Tab da Seg Fase'!Q33,0,IF('Tab da Seg Fase'!O33='Tab da Seg Fase'!Q33,1,IF('Tab da Seg Fase'!O33>'Tab da Seg Fase'!Q33,2))) -> 1 | C27: ='Tab da Seg Fase'!R33 -> 0 | D27: =IF('Tab da Seg Fase'!O33>'Tab da Seg Fase'!Q33,0,IF('Tab da Seg Fase'!O33='Tab da Seg Fase'!Q33,1,IF('Tab da Seg Fase'!O33<'Tab da Seg Fase'!Q33,2))) -> 1 | E27: =IF(ISNUMBER('Tab da Seg Fase'!O33),1,0) -> 0 | F27: =IF(B27*E27=2,1,0) -> 0 | G27: =IF(B27*E27=1,1,0) -> 0 | H27: =IF(B27=0,IF(E27=1,1,0),0) -> 0 | I27: =IF(E27*D27=2,1,0) -> 0 | J27: =IF(E27*D27=1,1,0) -> 0 | K27: =IF(D27=0,IF(E27=1,1,0),0) -> 0
A28: ='Tab da Seg Fase'!N34 -> WILLIAM MOREIRA | B28: =IF('Tab da Seg Fase'!O34<'Tab da Seg Fase'!Q34,0,IF('Tab da Seg Fase'!O34='Tab da Seg Fase'!Q34,1,IF('Tab da Seg Fase'!O34>'Tab da Seg Fase'!Q34,2))) -> 0 | C28: ='Tab da Seg Fase'!R34 -> FRANCISCO | D28: =IF('Tab da Seg Fase'!O34>'Tab da Seg Fase'!Q34,0,IF('Tab da Seg Fase'!O34='Tab da Seg Fase'!Q34,1,IF('Tab da Seg Fase'!O34<'Tab da Seg Fase'!Q34,2))) -> 2 | E28: =IF(ISNUMBER('Tab da Seg Fase'!O34),1,0) -> 1 | F28: =IF(B28*E28=2,1,0) -> 0 | G28: =IF(B28*E28=1,1,0) -> 0 | H28: =IF(B28=0,IF(E28=1,1,0),0) -> 1 | I28: =IF(E28*D28=2,1,0) -> 1 | J28: =IF(E28*D28=1,1,0) -> 0 | K28: =IF(D28=0,IF(E28=1,1,0),0) -> 0
... A35: ='Tab da Seg Fase'!N41 -> TONINHO | B35: =IF('Tab da Seg Fase'!O41<'Tab da Seg Fase'!Q41,0,IF('Tab da Seg Fase'!O41='Tab da Seg Fase'!Q41,1,IF('Tab da Seg Fase'!O41>'Tab da Seg Fase'!Q41,2))) -> 0 | C35: ='Tab da Seg Fase'!R41 -> ALCIDES | D35: =IF('Tab da Seg Fase'!O41>'Tab da Seg Fase'!Q41,0,IF('Tab da Seg Fase'!O41='Tab da Seg Fase'!Q41,1,IF('Tab da Seg Fase'!O41<'Tab da Seg Fase'!Q41,2))) -> 2 | E35: =IF(ISNUMBER('Tab da Seg Fase'!O41),1,0) -> 1 | F35: =IF(B35*E35=2,1,0) -> 0 | G35: =IF(B35*E35=1,1,0) -> 0 | H35: =IF(B35=0,IF(E35=1,1,0),0) -> 1 | I35: =IF(E35*D35=2,1,0) -> 1 | J35: =IF(E35*D35=1,1,0) -> 0 | K35: =IF(D35=0,IF(E35=1,1,0),0) -> 0

Sheet Tab da Seg Fase
A1: ='Classif da Prim Fase'!A1 -> FEDERAÇÃO BRASILIENSE DE FUTEBOL DE MESA - 3 Toques
A2: ='Tab Primeira Fase'!A2:AB2 -> IX Copa Centro-Oeste Individual
A3: TABELA DA SEGUNDA FASE - 25.02.2024
A6: H | B6: M | C6: ÁRBITROS | D6: ARTILHEIROS | O6: JOGOS | S6: ARTILHEIROS
A7: 0.41666667 | B7: 4 | C7: ='Classif da Prim Fase'!$C$32 -> IZALCI | D7: 10 | E7: 10 | N7: ='Classif da Prim Fase'!$C$10 -> MARCELO PORTO | O7: =IF(D7="","",IF(D7=0,0,COUNT(D7:M7))) -> 2 | P7: x | Q7: =IF(S7="","",IF(S7=0,0,COUNT(S7:AB7))) -> 1 | R7: ='Classif da Prim Fase'!$C$41 -> JEAN | S7: 8 | AC7: E | AD7: Prata
B8: 5 | C8: ='Classif da Prim Fase'!$C$42 -> WILLIAM MOREIRA | D8: 0 | N8: ='Classif da Prim Fase'!$C$20 -> HÉLIO | O8: =IF(D8="","",IF(D8=0,0,COUNT(D8:M8))) -> 0 | P8: x | Q8: =IF(S8="","",IF(S8=0,0,COUNT(S8:AB8))) -> 0 | R8: ='Classif da Prim Fase'!$C$31 -> MARQUINHOS | S8: 0 | AC8: F | AD8: Prata
B9: 6 | C9: ='Classif da Prim Fase'!$C$30 -> HEAVY | D9: 10 | N9: ='Auxiliar (2)'!L2 -> MAGNO | O9: =IF(D9="","",IF(D9=0,0,COUNT(D9:M9))) -> 1 | P9: x | Q9: =IF(S9="","",IF(S9=0,0,COUNT(S9:AB9))) -> 2 | R9: ='Auxiliar (2)'!L4 -> BETO | S9: 2 | T9: 3 | AC9: G
B10: 7 | C10: ='Classif da Prim Fase'!$C$40 -> AMAURI | D10: 7 | N10: ='Auxiliar (2)'!L6 -> VANDER | O10: =IF(D10="","",IF(D10=0,0,COUNT(D10:M10))) -> 1 | P10: x | Q10: =IF(S10="","",IF(S10=0,0,COUNT(S10:AB10))) -> 1 | R10: ='Auxiliar (2)'!L8 -> VASQUES | S10: 11 | AC10: H
B11: 8 | C11: ='Classif da Prim Fase'!$C$21 -> AÉCIO | D11: 13 | E11: 5 | F11: 5 | N11: ='Auxiliar (2)'!L10 -> ALCIDES | O11: =IF(D11="","",IF(D11=0,0,COUNT(D11:M11))) -> 3 | P11: x | Q11: =IF(S11="","",IF(S11=0,0,COUNT(S11:AB11))) -> 0 | R11: ='Auxiliar (2)'!L12 -> JULIANO | S11: 0 | AC11: I
B12: 9 | C12: ='Classif da Prim Fase'!$C$11 -> ANDRÉ BRANDÃO | D12: 7 | N12: ='Auxiliar (2)'!L14 -> LUIZ CLAUDIO | O12: =IF(D12="","",IF(D12=0,0,COUNT(D12:M12))) -> 1 | P12: x | Q12: =IF(S12="","",IF(S12=0,0,COUNT(S12:AB12))) -> 0 | R12: ='Auxiliar (2)'!L16 -> RODRIGO BARROS | S12: 0 | AC12: J
B13: 11 | C13: MALCHER | D13: 0 | N13: ='Classif da Prim Fase'!$C$12 -> FRANCISCO | O13: =IF(D13="","",IF(D13=0,0,COUNT(D13:M13))) -> 0 | P13: x | Q13: =IF(S13="","",IF(S13=0,0,COUNT(S13:AB13))) -> 0 | R13: ='Classif da Prim Fase'!$C$43 -> LUIZ GOMES | S13: 0 | AC13: M | AD13: Bronze
B14: 12 | C14: RODRIGO GUIMARÃES | D14: 7 | N14: ='Classif da Prim Fase'!$C$22 -> FELIPE | O14: =IF(D14="","",IF(D14=0,0,COUNT(D14:M14))) -> 1 | P14: x | Q14: =IF(S14="","",IF(S14=0,0,COUNT(S14:AB14))) -> 1 | R14: ='Classif da Prim Fase'!$C$33 -> PAULO CÉSAR | S14: 8 | AC14: N | AD14: Bronze
A15: 0.45833333 | B15: 4 | C15: ='Classif da Prim Fase'!$C$10 -> MARCELO PORTO | D15: 10 | N15: ='Classif da Prim Fase'!C30 -> HEAVY | O15: =IF(D15="","",IF(D15=0,0,COUNT(D15:M15))) -> 1 | P15: x | Q15: =IF(S15="","",IF(S15=0,0,COUNT(S15:AB15))) -> 1 | R15: ='Classif da Prim Fase'!C21 -> AÉCIO | S15: 13 | AD15: Prata
B16: 5 | C16: ='Classif da Prim Fase'!$C$20 -> HÉLIO | D16: 2 | N16: ='Classif da Prim Fase'!C40 -> AMAURI | O16: =IF(D16="","",IF(D16=0,0,COUNT(D16:M16))) -> 1 | P16: x | Q16: =IF(S16="","",IF(S16=0,0,COUNT(S16:AB16))) -> 2 | R16: ='Classif da Prim Fase'!$C$11 -> ANDRÉ BRANDÃO | S16: 99 | T16: 9 | AD16: Prata
B17: 6 | C17: LUIZ CLAUDIO | D17: 8 | E17: 10 | N17: ='Classif da Prim Fase'!$C$38 -> THIAGO | O17: =IF(D17="","",IF(D17=0,0,COUNT(D17:M17))) -> 2 | P17: x | Q17: =IF(S17="","",IF(S17=0,0,COUNT(S17:AB17))) -> 0 | R17: MAGNO | S17: 0
B18: 7 | C18: ALCIDES | D18: 9 | E18: 2 | F18: 11 | G18: 10 | H18: 9 | I18: 8 | N18: ='Classif da Prim Fase'!$C$28 -> TONINHO | O18: =IF(D18="","",IF(D18=0,0,COUNT(D18:M18))) -> 6 | P18: x | Q18: =IF(S18="","",IF(S18=0,0,COUNT(S18:AB18))) -> 0 | R18: VASQUES | S18: 0
B19: 8 | C19: BETO | D19: 0 | N19: ='Classif da Prim Fase'!$C$18 -> JUNIOR | O19: =IF(D19="","",IF(D19=0,0,COUNT(D19:M19))) -> 0 | P19: x | Q19: =IF(S19="","",IF(S19=0,0,COUNT(S19:AB19))) -> 2 | R19: JULIANO | S19: 29 | T19: 9 | AC19: E
B20: 9 | C20: VANDER | D20: 10 | N20: ='Classif da Prim Fase'!$C$8 -> JORGE DIAS | O20: =IF(D20="","",IF(D20=0,0,COUNT(D20:M20))) -> 1 | P20: x | Q20: =IF(S20="","",IF(S20=0,0,COUNT(S20:AB20))) -> 1 | R20: RODRIGO BARROS | S20: 11 | AC20: F
B21: 11 | C21: ='Classif da Prim Fase'!$C$41 -> JEAN | D21: 9 | E21: 11 | F21: 8 | N21: ='Classif da Prim Fase'!$C$32 -> IZALCI | O21: =IF(D21="","",IF(D21=0,0,COUNT(D21:M21))) -> 3 | P21: x | Q21: =IF(S21="","",IF(S21=0,0,COUNT(S21:AB21))) -> 1 | R21: ='Classif da Prim Fase'!C23 -> RODRIGO GUIMARÃES | S21: 9 | AC21: G | AD21: Bronze
B22: 12 | C22: ='Classif da Prim Fase'!$C$31 -> MARQUINHOS | D22: 10 | E22: 11 | F22: 2 | N22: ='Classif da Prim Fase'!$C$42 -> WILLIAM MOREIRA | O22: =IF(D22="","",IF(D22=0,0,COUNT(D22:M22))) -> 3 | P22: x | Q22: =IF(S22="","",IF(S22=0,0,COUNT(S22:AB22))) -> 0 | R22: ='Classif da Prim Fase'!C13 -> MALCHER | S22: 0 | AC22: H | AD22: Bronze
A23: 0.5 | B23: 4 | C23: PAULO CÉSAR | D23: 11 | E23: 7 | N23: MARCELO PORTO | O23: =IF(D23="","",IF(D23=0,0,COUNT(D23:M23))) -> 2 | P23: x | Q23: =IF(S23="","",IF(S23=0,0,COUNT(S23:AB23))) -> 0 | R23: ANDRÉ BRANDÃO | S23: 0 | AC23: I x J | AD23: Prata
B24: 5 | C24: MARQUINHOS | D24: 22 | N24: AÉCIO | O24: =IF(D24="","",IF(D24=0,0,COUNT(D24:M24))) -> 1 | P24: x | Q24: =IF(S24="","",IF(S24=0,0,COUNT(S24:AB24))) -> 1 | R24: HÉLIO | S24: 11 | AC24: K x L | AD24: Prata
B25: 6 | C25: MAGNO | D25: 0 | N25: LUIZ CLAUDIO | O25: =IF(D25="","",IF(D25=0,0,COUNT(D25:M25))) -> 0 | P25: x | Q25: =IF(S25="","",IF(S25=0,0,COUNT(S25:AB25))) -> 0 | R25: ='Classif da Prim Fase'!$C$8 -> JORGE DIAS | S25: 0
B26: 7 | C26: VASQUES | D26: 9 | E26: 8 | F26: 15 | G26: 9 | N26: ALCIDES | O26: =IF(D26="","",IF(D26=0,0,COUNT(D26:M26))) -> 4 | P26: x | Q26: =IF(S26="","",IF(S26=0,0,COUNT(S26:AB26))) -> 0 | R26: ='Classif da Prim Fase'!$C$18 -> JUNIOR | S26: 0
B27: 8 | C27: JULIANO | D27: 0 | N27: VANDER | O27: =IF(D27="","",IF(D27=0,0,COUNT(D27:M27))) -> 0 | P27: x | Q27: =IF(S27="","",IF(S27=0,0,COUNT(S27:AB27))) -> 1 | R27: ='Classif da Prim Fase'!$C$28 -> TONINHO | S27: 11
B28: 9 | C28: RODRIGO BARROS | D28: 11 | E28: 2 | F28: 11 | G28: 11 | N28: BETO | O28: =IF(D28="","",IF(D28=0,0,COUNT(D28:M28))) -> 4 | P28: x | Q28: =IF(S28="","",IF(S28=0,0,COUNT(S28:AB28))) -> 0 | R28: ='Classif da Prim Fase'!$C$38 -> THIAGO | S28: 0
B29: 11 | C29: RODRIGO GUIMARÃES | D29: 3 | N29: FRANCISCO | O29: =IF(D29="","",IF(D29=0,0,COUNT(D29:M29))) -> 1 | P29: x | Q29: =IF(S29="","",IF(S29=0,0,COUNT(S29:AB29))) -> 0 | R29: FELIPE | S29: 0 | AC29: M x N | AD29: Bronze
B30: 12 | C30: MALCHER | D30: 10 | N30: IZALCI | O30: =IF(D30="","",IF(D30=0,0,COUNT(D30:M30))) -> 1 | P30: x | Q30: =IF(S30="","",IF(S30=0,0,COUNT(S30:AB30))) -> 1 | R30: WILLIAM MOREIRA | S30: 10 | AC30: O x P | AD30: Bronze
A32: SEMIFINAIS OURO - FINAIS PRATA e BRONZE
A34: 0.58333333 | B34: 6 | C34: JUNIOR | D34: 8 | N34: WILLIAM MOREIRA | O34: =IF(D34="","",IF(D34=0,0,COUNT(D34:M34))) -> 1 | P34: x | Q34: =IF(S34="","",IF(S34=0,0,COUNT(S34:AB34))) -> 2 | R34: FRANCISCO | S34: 18 | T34: 6 | AD34: Bronze
B35: 7 | C35: THIAGO | D35: 11 | N35: TONINHO | O35: =IF(D35="","",IF(D35=0,0,COUNT(D35:M35))) -> 1 | P35: x | Q35: =IF(S35="","",IF(S35=0,0,COUNT(S35:AB35))) -> 1 | R35: BETO | S35: 6 | AD35: Ouro
B36: 8 | C36: VANDER | D36: 3 | E36: 16 | N36: ALCIDES | O36: =IF(D36="","",IF(D36=0,0,COUNT(D36:M36))) -> 2 | P36: x | Q36: =IF(S36="","",IF(S36=0,0,COUNT(S36:AB36))) -> 1 | R36: LUIZ CLAUDIO | S36: 7 | AD36: Ouro
B37: 9 | C37: JORGE DIAS | D37: 8 | E37: 9 | F37: 4 | N37: MARCELO PORTO | O37: =IF(D37="","",IF(D37=0,0,COUNT(D37:M37))) -> 3 | P37: x | Q37: =IF(S37="","",IF(S37=0,0,COUNT(S37:AB37))) -> 1 | R37: HÉLIO | S37: 3 | AD37: Prata
A39: FINAL OURO
A41: 0.625 | B41: 9 | C41: LUIZ CLAUDIO | D41: 11 | N41: TONINHO | O41: =IF(D41="","",IF(D41=0,0,COUNT(D41:M41))) -> 1 | P41: x | Q41: =IF(S41="","",IF(S41=0,0,COUNT(S41:AB41))) -> 4 | R41: ALCIDES | S41: 8 | T41: 2 | U41: 2 | V41: 9 | AD41: Ouro

Sheet Classif da Seg Fase
A1: ='Classif da Prim Fase'!A1 -> FEDERAÇÃO BRASILIENSE DE FUTEBOL DE MESA - 3 Toques
A2: ='Tab Primeira Fase'!A2:AB2 -> IX Copa Centro-Oeste Individual
A3: CLASSIFICAÇÃO FINAL DA SEGUNDA FASE
A5: E | B5: TÉCNICOS | C5: J | D5: V | E5: E | F5: D | G5: GF | H5: GC | I5: SG | J5: PG | K5: Aprov.
A7: 1º | B7: =INDIRECT('Auxiliar (2)'!W2) -> BETO | C7: =D7+E7+F7 -> 2 | D7: =INDIRECT('Auxiliar (2)'!X2) -> 2 | E7: =INDIRECT('Auxiliar (2)'!Y2) -> 0 | F7: =INDIRECT('Auxiliar (2)'!Z2) -> 0 | G7: =INDIRECT('Auxiliar (2)'!AA2) -> 6 | H7: =INDIRECT('Auxiliar (2)'!AB2) -> 1 | I7: =G7-H7 -> 5 | J7: =(3*D7)+E7 -> 6 | K7: =IF(ISERR((J7/(C7*3))),0,((J7/(C7*3)))) -> 1
A8: 2º | B8: =INDIRECT('Auxiliar (2)'!W3) -> THIAGO | C8: =D8+E8+F8 -> 2 | D8: =INDIRECT('Auxiliar (2)'!X3) -> 1 | E8: =INDIRECT('Auxiliar (2)'!Y3) -> 0 | F8: =INDIRECT('Auxiliar (2)'!Z3) -> 1 | G8: =INDIRECT('Auxiliar (2)'!AA3) -> 2 | H8: =INDIRECT('Auxiliar (2)'!AB3) -> 4 | I8: =G8-H8 -> -2 | J8: =(3*D8)+E8 -> 3 | K8: =IF(ISERR((J8/(C8*3))),0,((J8/(C8*3)))) -> 0.5
A9: 3º | B9: =INDIRECT('Auxiliar (2)'!W4) -> MAGNO | C9: =D9+E9+F9 -> 2 | D9: =INDIRECT('Auxiliar (2)'!X4) -> 0 | E9: =INDIRECT('Auxiliar (2)'!Y4) -> 0 | F9: =INDIRECT('Auxiliar (2)'!Z4) -> 2 | G9: =INDIRECT('Auxiliar (2)'!AA4) -> 1 | H9: =INDIRECT('Auxiliar (2)'!AB4) -> 4 | I9: =G9-H9 -> -3 | J9: =(3*D9)+E9 -> 0 | K9: =IF(ISERR((J9/(C9*3))),0,((J9/(C9*3)))) -> 0
A11: F | B11: TÉCNICOS | C11: J | D11: V | E11: E | F11: D | G11: GF | H11: GC | I11: SG | J11: PG | K11: Aprov.
A13: 1º | B13: =INDIRECT('Auxiliar (2)'!W6) -> TONINHO | C13: =D13+E13+F13 -> 2 | D13: =INDIRECT('Auxiliar (2)'!X6) -> 2 | E13: =INDIRECT('Auxiliar (2)'!Y6) -> 0 | F13: =INDIRECT('Auxiliar (2)'!Z6) -> 0 | G13: =INDIRECT('Auxiliar (2)'!AA6) -> 7 | H13: =INDIRECT('Auxiliar (2)'!AB6) -> 0 | I13: =G13-H13 -> 7 | J13: =(3*D13)+E13 -> 6 | K13: =IF(ISERR((J13/(C13*3))),0,((J13/(C13*3)))) -> 1
A14: 2º | B14: =INDIRECT('Auxiliar (2)'!W7) -> VANDER | C14: =D14+E14+F14 -> 2 | D14: =INDIRECT('Auxiliar (2)'!X7) -> 0 | E14: =INDIRECT('Auxiliar (2)'!Y7) -> 1 | F14: =INDIRECT('Auxiliar (2)'!Z7) -> 1 | G14: =INDIRECT('Auxiliar (2)'!AA7) -> 1 | H14: =INDIRECT('Auxiliar (2)'!AB7) -> 2 | I14: =G14-H14 -> -1 | J14: =(3*D14)+E14 -> 1 | K14: =IF(ISERR((J14/(C14*3))),0,((J14/(C14*3)))) -> 0.16666667
A15: 3º | B15: =INDIRECT('Auxiliar (2)'!W8) -> VASQUES | C15: =D15+E15+F15 -> 2 | D15: =INDIRECT('Auxiliar (2)'!X8) -> 0 | E15: =INDIRECT('Auxiliar (2)'!Y8) -> 1 | F15: =INDIRECT('Auxiliar (2)'!Z8) -> 1 | G15: =INDIRECT('Auxiliar (2)'!AA8) -> 1 | H15: =INDIRECT('Auxiliar (2)'!AB8) -> 7 | I15: =G15-H15 -> -6 | J15: =(3*D15)+E15 -> 1 | K15: =IF(ISERR((J15/(C15*3))),0,((J15/(C15*3)))) -> 0.16666667
A17: G | B17: TÉCNICOS | C17: J | D17: V | E17: E | F17: D | G17: GF | H17: GC | I17: SG | J17: PG | K17: Aprov.
A19: 1º | B19: =INDIRECT('Auxiliar (2)'!W10) -> ALCIDES | C19: =D19+E19+F19 -> 2 | D19: =INDIRECT('Auxiliar (2)'!X10) -> 2 | E19: =INDIRECT('Auxiliar (2)'!Y10) -> 0 | F19: =INDIRECT('Auxiliar (2)'!Z10) -> 0 | G19: =INDIRECT('Auxiliar (2)'!AA10) -> 7 | H19: =INDIRECT('Auxiliar (2)'!AB10) -> 0 | I19: =G19-H19 -> 7 | J19: =(3*D19)+E19 -> 6 | K19: =IF(ISERR((J19/(C19*3))),0,((J19/(C19*3)))) -> 1
A20: 2º | B20: =INDIRECT('Auxiliar (2)'!W11) -> JULIANO | C20: =D20+E20+F20 -> 2 | D20: =INDIRECT('Auxiliar (2)'!X11) -> 1 | E20: =INDIRECT('Auxiliar (2)'!Y11) -> 0 | F20: =INDIRECT('Auxiliar (2)'!Z11) -> 1 | G20: =INDIRECT('Auxiliar (2)'!AA11) -> 2 | H20: =INDIRECT('Auxiliar (2)'!AB11) -> 3 | I20: =G20-H20 -> -1 | J20: =(3*D20)+E20 -> 3 | K20: =IF(ISERR((J20/(C20*3))),0,((J20/(C20*3)))) -> 0.5
A21: 3º | B21: =INDIRECT('Auxiliar (2)'!W12) -> JUNIOR | C21: =D21+E21+F21 -> 2 | D21: =INDIRECT('Auxiliar (2)'!X12) -> 0 | E21: =INDIRECT('Auxiliar (2)'!Y12) -> 0 | F21: =INDIRECT('Auxiliar (2)'!Z12) -> 2 | G21: =INDIRECT('Auxiliar (2)'!AA12) -> 0 | H21: =INDIRECT('Auxiliar (2)'!AB12) -> 6 | I21: =G21-H21 -> -6 | J21: =(3*D21)+E21 -> 0 | K21: =IF(ISERR((J21/(C21*3))),0,((J21/(C21*3)))) -> 0
A23: H | B23: TÉCNICOS | C23: J | D23: V | E23: E | F23: D | G23: GF | H23: GC | I23: SG | J23: PG | K23: Aprov.
A25: 1º | B25: =INDIRECT('Auxiliar (2)'!W14) -> LUIZ CLAUDIO | C25: =D25+E25+F25 -> 2 | D25: =INDIRECT('Auxiliar (2)'!X14) -> 1 | E25: =INDIRECT('Auxiliar (2)'!Y14) -> 1 | F25: =INDIRECT('Auxiliar (2)'!Z14) -> 0 | G25: =INDIRECT('Auxiliar (2)'!AA14) -> 1 | H25: =INDIRECT('Auxiliar (2)'!AB14) -> 0 | I25: =G25-H25 -> 1 | J25: =(3*D25)+E25 -> 4 | K25: =IF(ISERR((J25/(C25*3))),0,((J25/(C25*3)))) -> 0.66666667
A26: 2º | B26: =INDIRECT('Auxiliar (2)'!W15) -> JORGE DIAS | C26: =D26+E26+F26 -> 2 | D26: =INDIRECT('Auxiliar (2)'!X15) -> 0 | E26: =INDIRECT('Auxiliar (2)'!Y15) -> 2 | F26: =INDIRECT('Auxiliar (2)'!Z15) -> 0 | G26: =INDIRECT('Auxiliar (2)'!AA15) -> 1 | H26: =INDIRECT('Auxiliar (2)'!AB15) -> 1 | I26: =G26-H26 -> 0 | J26: =(3*D26)+E26 -> 2 | K26: =IF(ISERR((J26/(C26*3))),0,((J26/(C26*3)))) -> 0.33333333
A27: 3º | B27: =INDIRECT('Auxiliar (2)'!W16) -> RODRIGO BARROS | C27: =D27+E27+F27 -> 2 | D27: =INDIRECT('Auxiliar (2)'!X16) -> 0 | E27: =INDIRECT('Auxiliar (2)'!Y16) -> 1 | F27: =INDIRECT('Auxiliar (2)'!Z16) -> 1 | G27: =INDIRECT('Auxiliar (2)'!AA16) -> 1 | H27: =INDIRECT('Auxiliar (2)'!AB16) -> 2 | I27: =G27-H27 -> -1 | J27: =(3*D27)+E27 -> 1 | K27: =IF(ISERR((J27/(C27*3))),0,((J27/(C27*3)))) -> 0.16666667

Sheet Normas de Conduta
A1: REGULAMENTO BÁSICO DA COPA CENTRO OESTE 2024
A5: NORMAS DE CONDUTA
A7: 1. Os jogos não serão anunciados pela organização. Foi divulgada tabela completa da Primeira Fase nesse grupo. De posse dessa tabela, é obrigação do atleta a presença na mesa designada para o seu jogo ou arbitragem no momento em que for declarado o início da rodada.
A8: Este procedimento é obrigatório mesmo em caso de WO.
A10: 2. O horário de início das rodadas e dos jogos deverá ser seguido à risca pela organização e pelos técnicos e árbitros participantes.
A12: 3. Deverão ser respeitados intervalos de dez minutos de uma rodada para a outra. Antes do encerramento desses dez minutos, todos os envolvidos na rodada deverão se dirigir às suas mesas.
A13: Para o início das partidas será dado aviso de 1 (um) minuto, ao fim do qual o cronômetro será acionado. Neste momento os técnicos devem estar prontos para o início do jogo.
A15: 4. Caso não estejam presentes técnicos e árbitros, serão aplicadas as seguintes punições:
A17: a) Para o técnico: uma falta técnica a cada 30 segundos ausente; o árbitro deverá comunicar a expulsão de um jogador a cada três faltas técnicas; Caso seja completado os cinco minutos e o técnico ainda não compareceu à mesa, será aplicado o WO.
A19: b) Para o árbitro: caberá aos técnicos presentes, a comunicação que está faltando o árbitro; este, terá o tempo de ausência controlado pela mesa coordenadora. Caso passe de um minuto a sua ausência, será comunicado que terá um ponto descontado em sua classificação final.
A21: 5. Aos técnicos que se atrasarem para o início da rodada pós-almoço, será aplicado WO com o resultado de 3 x 0 a favor do seu adversário.
A23: 6. O técnico que perder três partidas da Primeira Fase por WO, terá todos os seus jogos computados como WO.
... A60: BOA PARTICIPAÇÃO!

Sheet CF
A1: FEDERAÇÃO BRASILIENSE DE FUTEBOL DE MESA - 3 Toques
A2: ='Classif da Seg Fase'!A2:K2 -> IX Copa Centro-Oeste Individual
A3: CLASSIFICAÇÃO FINAL DA PRIMEIRA FASE
A5: CF | B5: TÉCNICOS | C5: J | D5: V | E5: E | F5: D | G5: GF | H5: GC | I5: SG | J5: PG | K5: Aprov. | L5: PR.
A7: 1º | B7: ALCIDES | C7: =D7+E7+F7 -> 10 | D7: 8 | E7: 2 | F7: 0 | G7: 26 | H7: 6 | I7: =G7-H7 -> 20 | J7: =(3*D7)+E7 -> 26 | K7: =IF(ISERR((J7/(C7*3))),0,((J7/(C7*3)))) -> 0.86666667 | L7: 66
A8: 2º | B8: TONINHO | C8: =D8+E8+F8 -> 10 | D8: 6 | E8: 3 | F8: 1 | G8: 19 | H8: 8 | I8: =G8-H8 -> 11 | J8: =(3*D8)+E8 -> 21 | K8: =IF(ISERR((J8/(C8*3))),0,((J8/(C8*3)))) -> 0.7 | L8: 56
A9: 3º | B9: LUIZ CLAUDIO | C9: =D9+E9+F9 -> 9 | D9: 6 | E9: 1 | F9: 2 | G9: 15 | H9: 5 | I9: =G9-H9 -> 10 | J9: =(3*D9)+E9 -> 19 | K9: =IF(ISERR((J9/(C9*3))),0,((J9/(C9*3)))) -> 0.7037037 | L9: 52
A10: 4º | B10: BETO | C10: =D10+E10+F10 -> 9 | D10: 5 | E10: 3 | F10: 1 | G10: 15 | H10: 7 | I10: =G10-H10 -> 8 | J10: =(3*D10)+E10 -> 18 | K10: =IF(ISERR((J10/(C10*3))),0,((J10/(C10*3)))) -> 0.66666667 | L10: *
A11: 5º | B11: VANDER | C11: =D11+E11+F11 -> 8 | D11: 4 | E11: 3 | F11: 1 | G11: 10 | H11: 5 | I11: =G11-H11 -> 5 | J11: =(3*D11)+E11 -> 15 | K11: =IF(ISERR((J11/(C11*3))),0,((J11/(C11*3)))) -> 0.625 | L11: *
A12: 6º | B12: THIAGO | C12: =D12+E12+F12 -> 8 | D12: 4 | E12: 2 | F12: 2 | G12: 8 | H12: 9 | I12: =G12-H12 -> -1 | J12: =(3*D12)+E12 -> 14 | K12: =IF(ISERR((J12/(C12*3))),0,((J12/(C12*3)))) -> 0.58333333 | L12: *
A13: 7º | B13: JUNIOR | C13: =D13+E13+F13 -> 8 | D13: 4 | E13: 1 | F13: 3 | G13: 9 | H13: 9 | I13: =G13-H13 -> 0 | J13: =(3*D13)+E13 -> 13 | K13: =IF(ISERR((J13/(C13*3))),0,((J13/(C13*3)))) -> 0.54166667 | L13: 44
A14: 8º | B14: RODRIGO BARROS | C14: =D14+E14+F14 -> 8 | D14: 3 | E14: 3 | F14: 2 | G14: 12 | H14: 5 | I14: =G14-H14 -> 7 | J14: =(3*D14)+E14 -> 12 | K14: =IF(ISERR((J14/(C14*3))),0,((J14/(C14*3)))) -> 0.5 | L14: 42
A15: 9º | B15: JULIANO | C15: =D15+E15+F15 -> 8 | D15: 3 | E15: 3 | F15: 2 | G15: 10 | H15: 9 | I15: =G15-H15 -> 1 | J15: =(3*D15)+E15 -> 12 | K15: =IF(ISERR((J15/(C15*3))),0,((J15/(C15*3)))) -> 0.5 | L15: *
A16: 10º | B16: JORGE DIAS | C16: =D16+E16+F16 -> 8 | D16: 2 | E16: 6 | F16: 0 | G16: 10 | H16: 6 | I16: =G16-H16 -> 4 | J16: =(3*D16)+E16 -> 12 | K16: =IF(ISERR((J16/(C16*3))),0,((J16/(C16*3)))) -> 0.5 | L16: *
A17: 11º | B17: MAGNO | C17: =D17+E17+F17 -> 8 | D17: 3 | E17: 1 | F17: 4 | G17: 13 | H17: 9 | I17: =G17-H17 -> 4 | J17: =(3*D17)+E17 -> 10 | K17: =IF(ISERR((J17/(C17*3))),0,((J17/(C17*3)))) -> 0.41666667 | L17: 36
A18: 12º | B18: VASQUES | C18: =D18+E18+F18 -> 8 | D18: 2 | E18: 3 | F18: 3 | G18: 7 | H18: 13 | I18: =G18-H18 -> -6 | J18: =(3*D18)+E18 -> 9 | K18: =IF(ISERR((J18/(C18*3))),0,((J18/(C18*3)))) -> 0.375 | L18: 34
A19: 13º | B19: MARCELO PORTO | C19: =D19+E19+F19 -> 9 | D19: 5 | E19: 2 | F19: 2 | G19: 13 | H19: 10 | I19: =G19-H19 -> 3 | J19: =(3*D19)+E19 -> 17 | K19: =IF(ISERR((J19/(C19*3))),0,((J19/(C19*3)))) -> 0.62962963 | L19: 32
A20: 14º | B20: HÉLIO | C20: =D20+E20+F20 -> 9 | D20: 2 | E20: 3 | F20: 4 | G20: 9 | H20: 11 | I20: =G20-H20 -> -2 | J20: =(3*D20)+E20 -> 9 | K20: =IF(ISERR((J20/(C20*3))),0,((J20/(C20*3)))) -> 0.33333333 | L20: *
A21: 15º | B21: ANDRÉ BRANDÃO | C21: =D21+E21+F21 -> 8 | D21: 3 | E21: 1 | F21: 4 | G21: 10 | H21: 12 | I21: =G21-H21 -> -2 | J21: =(3*D21)+E21 -> 10 | K21: =IF(ISERR((J21/(C21*3))),0,((J21/(C21*3)))) -> 0.41666667 | L21: 28
A22: 16º | B22: AÉCIO | C22: =D22+E22+F22 -> 8 | D22: 2 | E22: 3 | F22: 3 | G22: 7 | H22: 9 | I22: =G22-H22 -> -2 | J22: =(3*D22)+E22 -> 9 | K22: =IF(ISERR((J22/(C22*3))),0,((J22/(C22*3)))) -> 0.375 | L22: 26
A23: 17º | B23: AMAURI | C23: =D23+E23+F23 -> 7 | D23: 2 | E23: 2 | F23: 3 | G23: 6 | H23: 7 | I23: =G23-H23 -> -1 | J23: =(3*D23)+E23 -> 8 | K23: =IF(ISERR((J23/(C23*3))),0,((J23/(C23*3)))) -> 0.38095238 | L23: 24
A24: 18º | B24: JEAN | C24: =D24+E24+F24 -> 7 | D24: 2 | E24: 2 | F24: 3 | G24: 7 | H24: 9 | I24: =G24-H24 -> -2 | J24: =(3*D24)+E24 -> 8 | K24: =IF(ISERR((J24/(C24*3))),0,((J24/(C24*3)))) -> 0.38095238 | L24: *
A25: 19º | B25: HEAVY | C25: =D25+E25+F25 -> 7 | D25: 1 | E25: 5 | F25: 1 | G25: 7 | H25: 6 | I25: =G25-H25 -> 1 | J25: =(3*D25)+E25 -> 8 | K25: =IF(ISERR((J25/(C25*3))),0,((J25/(C25*3)))) -> 0.38095238 | L25: *
A26: 20º | B26: MARQUINHOS | C26: =D26+E26+F26 -> 7 | D26: 1 | E26: 2 | F26: 4 | G26: 4 | H26: 9 | I26: =G26-H26 -> -5 | J26: =(3*D26)+E26 -> 5 | K26: =IF(ISERR((J26/(C26*3))),0,((J26/(C26*3)))) -> 0.23809524 | L26: *
A27: 21º | B27: FRANCISCO | C27: =D27+E27+F27 -> 9 | D27: 3 | E27: 5 | F27: 1 | G27: 7 | H27: 8 | I27: =G27-H27 -> -1 | J27: =(3*D27)+E27 -> 14 | K27: =IF(ISERR((J27/(C27*3))),0,((J27/(C27*3)))) -> 0.51851852 | L27: *
A28: 22º | B28: WILLIAM MOREIRA | C28: =D28+E28+F28 -> 9 | D28: 3 | E28: 3 | F28: 3 | G28: 11 | H28: 11 | I28: =G28-H28 -> 0 | J28: =(3*D28)+E28 -> 12 | K28: =IF(ISERR((J28/(C28*3))),0,((J28/(C28*3)))) -> 0.44444444 | L28: 14
A29: 23º | B29: IZALCI | C29: =D29+E29+F29 -> 8 | D29: 1 | E29: 4 | F29: 3 | G29: 8 | H29: 11 | I29: =G29-H29 -> -3 | J29: =(3*D29)+E29 -> 7 | K29: =IF(ISERR((J29/(C29*3))),0,((J29/(C29*3)))) -> 0.29166667 | L29: 12
A30: 24º | B30: FELIPE | C30: =D30+E30+F30 -> 8 | D30: 1 | E30: 3 | F30: 4 | G30: 7 | H30: 14 | I30: =G30-H30 -> -7 | J30: =(3*D30)+E30 -> 6 | K30: =IF(ISERR((J30/(C30*3))),0,((J30/(C30*3)))) -> 0.25 | L30: 10
A31: 25º | B31: MALCHER | C31: =D31+E31+F31 -> 7 | D31: 1 | E31: 1 | F31: 5 | G31: 4 | H31: 14 | I31: =G31-H31 -> -10 | J31: =(3*D31)+E31 -> 4 | K31: =IF(ISERR((J31/(C31*3))),0,((J31/(C31*3)))) -> 0.19047619 | L31: 8
A32: 26º | B32: PAULO CÉSAR | C32: =D32+E32+F32 -> 7 | D32: 0 | E32: 3 | F32: 4 | G32: 3 | H32: 13 | I32: =G32-H32 -> -10 | J32: =(3*D32)+E32 -> 3 | K32: =IF(ISERR((J32/(C32*3))),0,((J32/(C32*3)))) -> 0.14285714 | L32: 6
A33: 27º | B33: LUIZ GOMES | C33: =D33+E33+F33 -> 7 | D33: 0 | E33: 1 | F33: 6 | G33: 2 | H33: 10 | I33: =G33-H33 -> -8 | J33: =(3*D33)+E33 -> 1 | K33: =IF(ISERR((J33/(C33*3))),0,((J33/(C33*3)))) -> 0.047619048 | L33: 4
A34: 28º | B34: RODRIGO GUIMARÃES | C34: =D34+E34+F34 -> 7 | D34: 0 | E34: 1 | F34: 6 | G34: 1 | H34: 15 | I34: =G34-H34 -> -14 | J34: =(3*D34)+E34 -> 1 | K34: =IF(ISERR((J34/(C34*3))),0,((J34/(C34*3)))) -> 0.047619048 | L34: 2
