Workbook

Sheet Auxiliar
A1: ='Tabela da Primeira Fase'!M8 -> VASCO DA GAMA - Pim | B1: =IF('Tabela da Primeira Fase'!N8<'Tabela da Primeira Fase'!P8,0,IF('Tabela da Primeira Fase'!N8='Tabela da Primeira Fase'!P8,1,IF('Tabela da Primeira Fase'!N8>'Tabela da Primeira Fase'!P8,2))) -> 0 | C1: ='Tabela da Primeira Fase'!Q8 -> ATLÉTICO MG - RoB | D1: =IF('Tabela da Primeira Fase'!N8>'Tabela da Primeira Fase'!P8,0,IF('Tabela da Primeira Fase'!N8='Tabela da Primeira Fase'!P8,1,IF('Tabela da Primeira Fase'!N8<'Tabela da Primeira Fase'!P8,2))) -> 2 | E1: =IF(ISNUMBER('Tabela da Primeira Fase'!N8),1,0) -> 1 | F1: =IF(B1*E1=2,1,0) -> 0 | G1: =IF(B1*E1=1,1,0) -> 0 | H1: =IF(B1=0,IF(E1=1,1,0),0) -> 1 | I1: =IF(E1*D1=2,1,0) -> 1 | J1: =IF(E1*D1=1,1,0) -> 0 | K1: =IF(D1=0,IF(E1=1,1,0),0) -> 0 | L1: TIMES | M1: V | N1: E | O1: D | P1: GP | Q1: GC | W1: L | X1: M | Y1: N | Z1: O | AA1: P | AB1: Q
A2: ='Tabela da Primeira Fase'!M9 -> COLO COLO CHI - Mal | B2: =IF('Tabela da Primeira Fase'!N9<'Tabela da Primeira Fase'!P9,0,IF('Tabela da Primeira Fase'!N9='Tabela da Primeira Fase'!P9,1,IF('Tabela da Primeira Fase'!N9>'Tabela da Primeira Fase'!P9,2))) -> 0 | C2: ='Tabela da Primeira Fase'!Q9 -> FLUMINENSE - Sim | D2: =IF('Tabela da Primeira Fase'!N9>'Tabela da Primeira Fase'!P9,0,IF('Tabela da Primeira Fase'!N9='Tabela da Primeira Fase'!P9,1,IF('Tabela da Primeira Fase'!N9<'Tabela da Primeira Fase'!P9,2))) -> 2 | E2: =IF(ISNUMBER('Tabela da Primeira Fase'!N9),1,0) -> 1 | F2: =IF(B2*E2=2,1,0) -> 0 | G2: =IF(B2*E2=1,1,0) -> 0 | H2: =IF(B2=0,IF(E2=1,1,0),0) -> 1 | I2: =IF(E2*D2=2,1,0) -> 1 | J2: =IF(E2*D2=1,1,0) -> 0 | K2: =IF(D2=0,IF(E2=1,1,0),0) -> 0 | L2: ATLÉTICO MG - RoB | M2: =SUMIF($A$1:$A$780,L2,$F$1:$F$780)+SUMIF($C$1:$C$780,L2,$I$1:$I$780) -> 1 | N2: =SUMIF($A$1:$A$780,L2,$G$1:$G$780)+SUMIF($C$1:$C$780,L2,$J$1:$J$780) -> 0 | O2: =SUMIF($A$1:$A$780,L2,$H$1:$H$780)+SUMIF($C$1:$C$780,L2,$K$1:$K$780) -> 1 | P2: =SUMIF('Tabela da Primeira Fase'!$M$8:$M$753,L2,'Tabela da Primeira Fase'!$N$8:$N$753)+SUMIF('Tabela da Primeira Fase'!$Q$8:$Q$753,L2,'Tabela da Primeira Fase'!$P$8:$P$753) -> 4 | Q2: =SUMIF('Tabela da Primeira Fase'!$M$8:$M$753,L2,'Tabela da Primeira Fase'!$P$8:$P$753)+SUMIF('Tabela da Primeira Fase'!$Q$8:$Q$753,L2,'Tabela da Primeira Fase'!$N$8:$N$753) -> 5 | R2: =(1000000*((3*M2)+N2))+(10000*M2)+(100*(P2-Q2))+P2+(0.001*(30-T2)) -> 3009904 | S2: =RANK(R2,$R$2:$R$5) -> 2 | T2: 1 | U2: =IF($S$2=T2,2,0)+IF($S$3=T2,3,0)+IF($S$4=T2,4,0)+IF($S$5=T2,5,0) -> 3 | W2: =CONCATENATE("'Auxiliar'!",W$1,$U2) -> 'Auxiliar'!L3 | X2: =CONCATENATE("'Auxiliar'!",X$1,$U2) -> 'Auxiliar'!M3 | Y2: =CONCATENATE("'Auxiliar'!",Y$1,$U2) -> 'Auxiliar'!N3 | Z2: =CONCATENATE("'Auxiliar'!",Z$1,$U2) -> 'Auxiliar'!O3 | AA2: =CONCATENATE("'Auxiliar'!",AA$1,$U2) -> 'Auxiliar'!P3 | AB2: =CONCATENATE("'Auxiliar'!",AB$1,$U2) -> 'Auxiliar'!Q3 | AC2: 1
A3: ='Tabela da Primeira Fase'!M10 -> NÁUTICO - Jea | B3: =IF('Tabela da Primeira Fase'!N10<'Tabela da Primeira Fase'!P10,0,IF('Tabela da Primeira Fase'!N10='Tabela da Primeira Fase'!P10,1,IF('Tabela da Primeira Fase'!N10>'Tabela da Primeira Fase'!P10,2))) -> 0 | C3: ='Tabela da Primeira Fase'!Q10 -> NACIONAL URU - Ton | D3: =IF('Tabela da Primeira Fase'!N10>'Tabela da Primeira Fase'!P10,0,IF('Tabela da Primeira Fase'!N10='Tabela da Primeira Fase'!P10,1,IF('Tabela da Primeira Fase'!N10<'Tabela da Primeira Fase'!P10,2))) -> 2 | E3: =IF(ISNUMBER('Tabela da Primeira Fase'!N10),1,0) -> 1 | F3: =IF(B3*E3=2,1,0) -> 0 | G3: =IF(B3*E3=1,1,0) -> 0 | H3: =IF(B3=0,IF(E3=1,1,0),0) -> 1 | I3: =IF(E3*D3=2,1,0) -> 1 | J3: =IF(E3*D3=1,1,0) -> 0 | K3: =IF(D3=0,IF(E3=1,1,0),0) -> 0 | L3: BOLIVAR BOL - AnB | M3: =SUMIF($A$1:$A$780,L3,$F$1:$F$780)+SUMIF($C$1:$C$780,L3,$I$1:$I$780) -> 1 | N3: =SUMIF($A$1:$A$780,L3,$G$1:$G$780)+SUMIF($C$1:$C$780,L3,$J$1:$J$780) -> 1 | O3: =SUMIF($A$1:$A$780,L3,$H$1:$H$780)+SUMIF($C$1:$C$780,L3,$K$1:$K$780) -> 0 | P3: =SUMIF('Tabela da Primeira Fase'!$M$8:$M$753,L3,'Tabela da Primeira Fase'!$N$8:$N$753)+SUMIF('Tabela da Primeira Fase'!$Q$8:$Q$753,L3,'Tabela da Primeira Fase'!$P$8:$P$753) -> 7 | Q3: =SUMIF('Tabela da Primeira Fase'!$M$8:$M$753,L3,'Tabela da Primeira Fase'!$P$8:$P$753)+SUMIF('Tabela da Primeira Fase'!$Q$8:$Q$753,L3,'Tabela da Primeira Fase'!$N$8:$N$753) -> 2 | R3: =(1000000*((3*M3)+N3))+(10000*M3)+(100*(P3-Q3))+P3+(0.001*(30-T3)) -> 4010507 | S3: =RANK(R3,$R$2:$R$5) -> 1 | T3: 2 | U3: =IF($S$2=T3,2,0)+IF($S$3=T3,3,0)+IF($S$4=T3,4,0)+IF($S$5=T3,5,0) -> 2 | W3: =CONCATENATE("'Auxiliar'!",W$1,$U3) -> 'Auxiliar'!L2 | X3: =CONCATENATE("'Auxiliar'!",X$1,$U3) -> 'Auxiliar'!M2 | Y3: =CONCATENATE("'Auxiliar'!",Y$1,$U3) -> 'Auxiliar'!N2 | Z3: =CONCATENATE("'Auxiliar'!",Z$1,$U3) -> 'Auxiliar'!O2 | AA3: =CONCATENATE("'Auxiliar'!",AA$1,$U3) -> 'Auxiliar'!P2 | AB3: =CONCATENATE("'Auxiliar'!",AB$1,$U3) -> 'Auxiliar'!Q2 | AC3: 2
A4: ='Tabela da Primeira Fase'!M11 -> BOCA JUNIORS ARG - Aéc | B4: =IF('Tabela da Primeira Fase'!N11<'Tabela da Primeira Fase'!P11,0,IF('Tabela da Primeira Fase'!N11='Tabela da Primeira Fase'!P11,1,IF('Tabela da Primeira Fase'!N11>'Tabela da Primeira Fase'!P11,2))) -> 0 | C4: ='Tabela da Primeira Fase'!Q11 -> GRÊMIO - MaF | D4: =IF('Tabela da Primeira Fase'!N11>'Tabela da Primeira Fase'!P11,0,IF('Tabela da Primeira Fase'!N11='Tabela da Primeira Fase'!P11,1,IF('Tabela da Primeira Fase'!N11<'Tabela da Primeira Fase'!P11,2))) -> 2 | E4: =IF(ISNUMBER('Tabela da Primeira Fase'!N11),1,0) -> 1 | F4: =IF(B4*E4=2,1,0) -> 0 | G4: =IF(B4*E4=1,1,0) -> 0 | H4: =IF(B4=0,IF(E4=1,1,0),0) -> 1 | I4: =IF(E4*D4=2,1,0) -> 1 | J4: =IF(E4*D4=1,1,0) -> 0 | K4: =IF(D4=0,IF(E4=1,1,0),0) -> 0 | L4: VASCO DA GAMA - Pim | M4: =SUMIF($A$1:$A$780,L4,$F$1:$F$780)+SUMIF($C$1:$C$780,L4,$I$1:$I$780) -> 0 | N4: =SUMIF($A$1:$A$780,L4,$G$1:$G$780)+SUMIF($C$1:$C$780,L4,$J$1:$J$780) -> 1 | O4: =SUMIF($A$1:$A$780,L4,$H$1:$H$780)+SUMIF($C$1:$C$780,L4,$K$1:$K$780) -> 1 | P4: =SUMIF('Tabela da Primeira Fase'!$M$8:$M$753,L4,'Tabela da Primeira Fase'!$N$8:$N$753)+SUMIF('Tabela da Primeira Fase'!$Q$8:$Q$753,L4,'Tabela da Primeira Fase'!$P$8:$P$753) -> 2 | Q4: =SUMIF('Tabela da Primeira Fase'!$M$8:$M$753,L4,'Tabela da Primeira Fase'!$P$8:$P$753)+SUMIF('Tabela da Primeira Fase'!$Q$8:$Q$753,L4,'Tabela da Primeira Fase'!$N$8:$N$753) -> 6 | R4: =(1000000*((3*M4)+N4))+(10000*M4)+(100*(P4-Q4))+P4+(0.001*(30-T4)) -> 999602.03 | S4: =RANK(R4,$R$2:$R$5) -> 3 | T4: 3 | U4: =IF($S$2=T4,2,0)+IF($S$3=T4,3,0)+IF($S$4=T4,4,0)+IF($S$5=T4,5,0) -> 4 | W4: =CONCATENATE("'Auxiliar'!",W$1,$U4) -> 'Auxiliar'!L4 | X4: =CONCATENATE("'Auxiliar'!",X$1,$U4) -> 'Auxiliar'!M4 | Y4: =CONCATENATE("'Auxiliar'!",Y$1,$U4) -> 'Auxiliar'!N4 | Z4: =CONCATENATE("'Auxiliar'!",Z$1,$U4) -> 'Auxiliar'!O4 | AA4: =CONCATENATE("'Auxiliar'!",AA$1,$U4) -> 'Auxiliar'!P4 | AB4: =CONCATENATE("'Auxiliar'!",AB$1,$U4) -> 'Auxiliar'!Q4 | AC4: 3
A5: ='Tabela da Primeira Fase'!M12 -> RACING ARG - RoG | B5: =IF('Tabela da Primeira Fase'!N12<'Tabela da Primeira Fase'!P12,0,IF('Tabela da Primeira Fase'!N12='Tabela da Primeira Fase'!P12,1,IF('Tabela da Primeira Fase'!N12>'Tabela da Primeira Fase'!P12,2))) -> 0 | C5: ='Tabela da Primeira Fase'!Q12 -> INDEPENDIENTE ARG - Mar | D5: =IF('Tabela da Primeira Fase'!N12>'Tabela da Primeira Fase'!P12,0,IF('Tabela da Primeira Fase'!N12='Tabela da Primeira Fase'!P12,1,IF('Tabela da Primeira Fase'!N12<'Tabela da Primeira Fase'!P12,2))) -> 2 | E5: =IF(ISNUMBER('Tabela da Primeira Fase'!N12),1,0) -> 1 | F5: =IF(B5*E5=2,1,0) -> 0 | G5: =IF(B5*E5=1,1,0) -> 0 | H5: =IF(B5=0,IF(E5=1,1,0),0) -> 1 | I5: =IF(E5*D5=2,1,0) -> 1 | J5: =IF(E5*D5=1,1,0) -> 0 | K5: =IF(D5=0,IF(E5=1,1,0),0) -> 0
A6: ='Tabela da Primeira Fase'!M13 -> OLIMPIA PAR - Ama | B6: =IF('Tabela da Primeira Fase'!N13<'Tabela da Primeira Fase'!P13,0,IF('Tabela da Primeira Fase'!N13='Tabela da Primeira Fase'!P13,1,IF('Tabela da Primeira Fase'!N13>'Tabela da Primeira Fase'!P13,2))) -> 0 | C6: ='Tabela da Primeira Fase'!Q13 -> CRUZEIRO - PC | D6: =IF('Tabela da Primeira Fase'!N13>'Tabela da Primeira Fase'!P13,0,IF('Tabela da Primeira Fase'!N13='Tabela da Primeira Fase'!P13,1,IF('Tabela da Primeira Fase'!N13<'Tabela da Primeira Fase'!P13,2))) -> 2 | E6: =IF(ISNUMBER('Tabela da Primeira Fase'!N13),1,0) -> 1 | F6: =IF(B6*E6=2,1,0) -> 0 | G6: =IF(B6*E6=1,1,0) -> 0 | H6: =IF(B6=0,IF(E6=1,1,0),0) -> 1 | I6: =IF(E6*D6=2,1,0) -> 1 | J6: =IF(E6*D6=1,1,0) -> 0 | K6: =IF(D6=0,IF(E6=1,1,0),0) -> 0
A7: ='Tabela da Primeira Fase'!M14 -> PALMEIRAS - Alc | B7: =IF('Tabela da Primeira Fase'!N14<'Tabela da Primeira Fase'!P14,0,IF('Tabela da Primeira Fase'!N14='Tabela da Primeira Fase'!P14,1,IF('Tabela da Primeira Fase'!N14>'Tabela da Primeira Fase'!P14,2))) -> 2 | C7: ='Tabela da Primeira Fase'!Q14 -> OLIMPIA PAR - Ama | D7: =IF('Tabela da Primeira Fase'!N14>'Tabela da Primeira Fase'!P14,0,IF('Tabela da Primeira Fase'!N14='Tabela da Primeira Fase'!P14,1,IF('Tabela da Primeira Fase'!N14<'Tabela da Primeira Fase'!P14,2))) -> 0 | E7: =IF(ISNUMBER('Tabela da Primeira Fase'!N14),1,0) -> 1 | F7: =IF(B7*E7=2,1,0) -> 1 | G7: =IF(B7*E7=1,1,0) -> 0 | H7: =IF(B7=0,IF(E7=1,1,0),0) -> 0 | I7: =IF(E7*D7=2,1,0) -> 0 | J7: =IF(E7*D7=1,1,0) -> 0 | K7: =IF(D7=0,IF(E7=1,1,0),0) -> 1 | L7: FLUMINENSE - Sim | M7: =SUMIF($A$1:$A$780,L7,$F$1:$F$780)+SUMIF($C$1:$C$780,L7,$I$1:$I$780) -> 1 | N7: =SUMIF($A$1:$A$780,L7,$G$1:$G$780)+SUMIF($C$1:$C$780,L7,$J$1:$J$780) -> 0 | O7: =SUMIF($A$1:$A$780,L7,$H$1:$H$780)+SUMIF($C$1:$C$780,L7,$K$1:$K$780) -> 1 | P7: =SUMIF('Tabela da Primeira Fase'!$M$8:$M$753,L7,'Tabela da Primeira Fase'!$N$8:$N$753)+SUMIF('Tabela da Primeira Fase'!$Q$8:$Q$753,L7,'Tabela da Primeira Fase'!$P$8:$P$753) -> 3 | Q7: =SUMIF('Tabela da Primeira Fase'!$M$8:$M$753,L7,'Tabela da Primeira Fase'!$P$8:$P$753)+SUMIF('Tabela da Primeira Fase'!$Q$8:$Q$753,L7,'Tabela da Primeira Fase'!$N$8:$N$753) -> 2 | R7: =(1000000*((3*M7)+N7))+(10000*M7)+(100*(P7-Q7))+P7+(0.001*(30-T7)) -> 3010103 | S7: =RANK(R7,$R$7:$R$10) -> 2 | T7: 1 | U7: =IF($S$7=T7,7,0)+IF($S$8=T7,8,0)+IF($S$9=T7,9,0)+IF($S$10=T7,10,0) -> 8 | W7: =CONCATENATE("'Auxiliar'!",W$1,$U7) -> 'Auxiliar'!L8 | X7: =CONCATENATE("'Auxiliar'!",X$1,$U7) -> 'Auxiliar'!M8 | Y7: =CONCATENATE("'Auxiliar'!",Y$1,$U7) -> 'Auxiliar'!N8 | Z7: =CONCATENATE("'Auxiliar'!",Z$1,$U7) -> 'Auxiliar'!O8 | AA7: =CONCATENATE("'Auxiliar'!",AA$1,$U7) -> 'Auxiliar'!P8 | AB7: =CONCATENATE("'Auxiliar'!",AB$1,$U7) -> 'Auxiliar'!Q8 | AC7: 4
A8: ='Tabela da Primeira Fase'!M15 -> BOLIVAR BOL - AnB | B8: =IF('Tabela da Primeira Fase'!N15<'Tabela da Primeira Fase'!P15,0,IF('Tabela da Primeira Fase'!N15='Tabela da Primeira Fase'!P15,1,IF('Tabela da Primeira Fase'!N15>'Tabela da Primeira Fase'!P15,2))) -> 1 | C8: ='Tabela da Primeira Fase'!Q15 -> VASCO DA GAMA - Pim | D8: =IF('Tabela da Primeira Fase'!N15>'Tabela da Primeira Fase'!P15,0,IF('Tabela da Primeira Fase'!N15='Tabela da Primeira Fase'!P15,1,IF('Tabela da Primeira Fase'!N15<'Tabela da Primeira Fase'!P15,2))) -> 1 | E8: =IF(ISNUMBER('Tabela da Primeira Fase'!N15),1,0) -> 1 | F8: =IF(B8*E8=2,1,0) -> 0 | G8: =IF(B8*E8=1,1,0) -> 1 | H8: =IF(B8=0,IF(E8=1,1,0),0) -> 0 | I8: =IF(E8*D8=2,1,0) -> 0 | J8: =IF(E8*D8=1,1,0) -> 1 | K8: =IF(D8=0,IF(E8=1,1,0),0) -> 0 | L8: FLAMENGO - Vas | M8: =SUMIF($A$1:$A$780,L8,$F$1:$F$780)+SUMIF($C$1:$C$780,L8,$I$1:$I$780) -> 2 | N8: =SUMIF($A$1:$A$780,L8,$G$1:$G$780)+SUMIF($C$1:$C$780,L8,$J$1:$J$780) -> 0 | O8: =SUMIF($A$1:$A$780,L8,$H$1:$H$780)+SUMIF($C$1:$C$780,L8,$K$1:$K$780) -> 0 | P8: =SUMIF('Tabela da Primeira Fase'!$M$8:$M$753,L8,'Tabela da Primeira Fase'!$N$8:$N$753)+SUMIF('Tabela da Primeira Fase'!$Q$8:$Q$753,L8,'Tabela da Primeira Fase'!$P$8:$P$753) -> 4 | Q8: =SUMIF('Tabela da Primeira Fase'!$M$8:$M$753,L8,'Tabela da Primeira Fase'!$P$8:$P$753)+SUMIF('Tabela da Primeira Fase'!$Q$8:$Q$753,L8,'Tabela da Primeira Fase'!$N$8:$N$753) -> 0 | R8: =(1000000*((3*M8)+N8))+(10000*M8)+(100*(P8-Q8))+P8+(0.001*(30-T8)) -> 6020404 | S8: =RANK(R8,$R$7:$R$10) -> 1 | T8: 2 | U8: =IF($S$7=T8,7,0)+IF($S$8=T8,8,0)+IF($S$9=T8,9,0)+IF($S$10=T8,10,0) -> 7 | W8: =CONCATENATE("'Auxiliar'!",W$1,$U8) -> 'Auxiliar'!L7 | X8: =CONCATENATE("'Auxiliar'!",X$1,$U8) -> 'Auxiliar'!M7 | Y8: =CONCATENATE("'Auxiliar'!",Y$1,$U8) -> 'Auxiliar'!N7 | Z8: =CONCATENATE("'Auxiliar'!",Z$1,$U8) -> 'Auxiliar'!O7 | AA8: =CONCATENATE("'Auxiliar'!",AA$1,$U8) -> 'Auxiliar'!P7 | AB8: =CONCATENATE("'Auxiliar'!",AB$1,$U8) -> 'Auxiliar'!Q7 | AC8: 5
A9: ='Tabela da Primeira Fase'!M16 -> FLAMENGO - Vas | B9: =IF('Tabela da Primeira Fase'!N16<'Tabela da Primeira Fase'!P16,0,IF('Tabela da Primeira Fase'!N16='Tabela da Primeira Fase'!P16,1,IF('Tabela da Primeira Fase'!N16>'Tabela da Primeira Fase'!P16,2))) -> 2 | C9: ='Tabela da Primeira Fase'!Q16 -> COLO COLO CHI - Mal | D9: =IF('Tabela da Primeira Fase'!N16>'Tabela da Primeira Fase'!P16,0,IF('Tabela da Primeira Fase'!N16='Tabela da Primeira Fase'!P16,1,IF('Tabela da Primeira Fase'!N16<'Tabela da Primeira Fase'!P16,2))) -> 0 | E9: =IF(ISNUMBER('Tabela da Primeira Fase'!N16),1,0) -> 1 | F9: =IF(B9*E9=2,1,0) -> 1 | G9: =IF(B9*E9=1,1,0) -> 0 | H9: =IF(B9=0,IF(E9=1,1,0),0) -> 0 | I9: =IF(E9*D9=2,1,0) -> 0 | J9: =IF(E9*D9=1,1,0) -> 0 | K9: =IF(D9=0,IF(E9=1,1,0),0) -> 1 | L9: COLO COLO CHI - Mal | M9: =SUMIF($A$1:$A$780,L9,$F$1:$F$780)+SUMIF($C$1:$C$780,L9,$I$1:$I$780) -> 0 | N9: =SUMIF($A$1:$A$780,L9,$G$1:$G$780)+SUMIF($C$1:$C$780,L9,$J$1:$J$780) -> 0 | O9: =SUMIF($A$1:$A$780,L9,$H$1:$H$780)+SUMIF($C$1:$C$780,L9,$K$1:$K$780) -> 2 | P9: =SUMIF('Tabela da Primeira Fase'!$M$8:$M$753,L9,'Tabela da Primeira Fase'!$N$8:$N$753)+SUMIF('Tabela da Primeira Fase'!$Q$8:$Q$753,L9,'Tabela da Primeira Fase'!$P$8:$P$753) -> 1 | Q9: =SUMIF('Tabela da Primeira Fase'!$M$8:$M$753,L9,'Tabela da Primeira Fase'!$P$8:$P$753)+SUMIF('Tabela da Primeira Fase'!$Q$8:$Q$753,L9,'Tabela da Primeira Fase'!$N$8:$N$753) -> 6 | R9: =(1000000*((3*M9)+N9))+(10000*M9)+(100*(P9-Q9))+P9+(0.001*(30-T9)) -> -498.973 | S9: =RANK(R9,$R$7:$R$10) -> 3 | T9: 3 | U9: =IF($S$7=T9,7,0)+IF($S$8=T9,8,0)+IF($S$9=T9,9,0)+IF($S$10=T9,10,0) -> 9 | W9: =CONCATENATE("'Auxiliar'!",W$1,$U9) -> 'Auxiliar'!L9 | X9: =CONCATENATE("'Auxiliar'!",X$1,$U9) -> 'Auxiliar'!M9 | Y9: =CONCATENATE("'Auxiliar'!",Y$1,$U9) -> 'Auxiliar'!N9 | Z9: =CONCATENATE("'Auxiliar'!",Z$1,$U9) -> 'Auxiliar'!O9 | AA9: =CONCATENATE("'Auxiliar'!",AA$1,$U9) -> 'Auxiliar'!P9 | AB9: =CONCATENATE("'Auxiliar'!",AB$1,$U9) -> 'Auxiliar'!Q9 | AC9: 6
A10: ='Tabela da Primeira Fase'!M17 -> BOTAFOGO - JoR | B10: =IF('Tabela da Primeira Fase'!N17<'Tabela da Primeira Fase'!P17,0,IF('Tabela da Primeira Fase'!N17='Tabela da Primeira Fase'!P17,1,IF('Tabela da Primeira Fase'!N17>'Tabela da Primeira Fase'!P17,2))) -> 2 | C10: ='Tabela da Primeira Fase'!Q17 -> NÁUTICO - Jea | D10: =IF('Tabela da Primeira Fase'!N17>'Tabela da Primeira Fase'!P17,0,IF('Tabela da Primeira Fase'!N17='Tabela da Primeira Fase'!P17,1,IF('Tabela da Primeira Fase'!N17<'Tabela da Primeira Fase'!P17,2))) -> 0 | E10: =IF(ISNUMBER('Tabela da Primeira Fase'!N17),1,0) -> 1 | F10: =IF(B10*E10=2,1,0) -> 1 | G10: =IF(B10*E10=1,1,0) -> 0 | H10: =IF(B10=0,IF(E10=1,1,0),0) -> 0 | I10: =IF(E10*D10=2,1,0) -> 0 | J10: =IF(E10*D10=1,1,0) -> 0 | K10: =IF(D10=0,IF(E10=1,1,0),0) -> 1
A11: ='Tabela da Primeira Fase'!M18 -> THE STRONGEST BOL - Jun | B11: =IF('Tabela da Primeira Fase'!N18<'Tabela da Primeira Fase'!P18,0,IF('Tabela da Primeira Fase'!N18='Tabela da Primeira Fase'!P18,1,IF('Tabela da Primeira Fase'!N18>'Tabela da Primeira Fase'!P18,2))) -> 1 | C11: ='Tabela da Primeira Fase'!Q18 -> BOCA JUNIORS ARG - Aéc | D11: =IF('Tabela da Primeira Fase'!N18>'Tabela da Primeira Fase'!P18,0,IF('Tabela da Primeira Fase'!N18='Tabela da Primeira Fase'!P18,1,IF('Tabela da Primeira Fase'!N18<'Tabela da Primeira Fase'!P18,2))) -> 1 | E11: =IF(ISNUMBER('Tabela da Primeira Fase'!N18),1,0) -> 1 | F11: =IF(B11*E11=2,1,0) -> 0 | G11: =IF(B11*E11=1,1,0) -> 1 | H11: =IF(B11=0,IF(E11=1,1,0),0) -> 0 | I11: =IF(E11*D11=2,1,0) -> 0 | J11: =IF(E11*D11=1,1,0) -> 1 | K11: =IF(D11=0,IF(E11=1,1,0),0) -> 0
A12: ='Tabela da Primeira Fase'!M19 -> INTERNACIONAL - MaS | B12: =IF('Tabela da Primeira Fase'!N19<'Tabela da Primeira Fase'!P19,0,IF('Tabela da Primeira Fase'!N19='Tabela da Primeira Fase'!P19,1,IF('Tabela da Primeira Fase'!N19>'Tabela da Primeira Fase'!P19,2))) -> 2 | C12: ='Tabela da Primeira Fase'!Q19 -> RACING ARG - RoG | D12: =IF('Tabela da Primeira Fase'!N19>'Tabela da Primeira Fase'!P19,0,IF('Tabela da Primeira Fase'!N19='Tabela da Primeira Fase'!P19,1,IF('Tabela da Primeira Fase'!N19<'Tabela da Primeira Fase'!P19,2))) -> 0 | E12: =IF(ISNUMBER('Tabela da Primeira Fase'!N19),1,0) -> 1 | F12: =IF(B12*E12=2,1,0) -> 1 | G12: =IF(B12*E12=1,1,0) -> 0 | H12: =IF(B12=0,IF(E12=1,1,0),0) -> 0 | I12: =IF(E12*D12=2,1,0) -> 0 | J12: =IF(E12*D12=1,1,0) -> 0 | K12: =IF(D12=0,IF(E12=1,1,0),0) -> 1 | L12: NACIONAL URU - Ton | M12: =SUMIF($A$1:$A$780,L12,$F$1:$F$780)+SUMIF($C$1:$C$780,L12,$I$1:$I$780) -> 1 | N12: =SUMIF($A$1:$A$780,L12,$G$1:$G$780)+SUMIF($C$1:$C$780,L12,$J$1:$J$780) -> 1 | O12: =SUMIF($A$1:$A$780,L12,$H$1:$H$780)+SUMIF($C$1:$C$780,L12,$K$1:$K$780) -> 0 | P12: =SUMIF('Tabela da Primeira Fase'!$M$8:$M$753,L12,'Tabela da Primeira Fase'!$N$8:$N$753)+SUMIF('Tabela da Primeira Fase'!$Q$8:$Q$753,L12,'Tabela da Primeira Fase'!$P$8:$P$753) -> 5 | Q12: =SUMIF('Tabela da Primeira Fase'!$M$8:$M$753,L12,'Tabela da Primeira Fase'!$P$8:$P$753)+SUMIF('Tabela da Primeira Fase'!$Q$8:$Q$753,L12,'Tabela da Primeira Fase'!$N$8:$N$753) -> 0 | R12: =(1000000*((3*M12)+N12))+(10000*M12)+(100*(P12-Q12))+P12+(0.001*(30-T12)) -> 4010505 | S12: =RANK(R12,$R$12:$R$15) -> 1 | T12: 1 | U12: =IF($S$12=T12,12,0)+IF($S$13=T12,13,0)+IF($S$14=T12,14,0)+IF($S$15=T12,15,0) -> 12 | W12: =CONCATENATE("'Auxiliar'!",W$1,$U12) -> 'Auxiliar'!L12 | X12: =CONCATENATE("'Auxiliar'!",X$1,$U12) -> 'Auxiliar'!M12 | Y12: =CONCATENATE("'Auxiliar'!",Y$1,$U12) -> 'Auxiliar'!N12 | Z12: =CONCATENATE("'Auxiliar'!",Z$1,$U12) -> 'Auxiliar'!O12 | AA12: =CONCATENATE("'Auxiliar'!",AA$1,$U12) -> 'Auxiliar'!P12 | AB12: =CONCATENATE("'Auxiliar'!",AB$1,$U12) -> 'Auxiliar'!Q12 | AC12: 7
A13: ='Tabela da Primeira Fase'!M20 -> INDEPENDIENTE ARG - Mar | B13: =IF('Tabela da Primeira Fase'!N20<'Tabela da Primeira Fase'!P20,0,IF('Tabela da Primeira Fase'!N20='Tabela da Primeira Fase'!P20,1,IF('Tabela da Primeira Fase'!N20>'Tabela da Primeira Fase'!P20,2))) -> 1 | C13: ='Tabela da Primeira Fase'!Q20 -> INTERNACIONAL - MaS | D13: =IF('Tabela da Primeira Fase'!N20>'Tabela da Primeira Fase'!P20,0,IF('Tabela da Primeira Fase'!N20='Tabela da Primeira Fase'!P20,1,IF('Tabela da Primeira Fase'!N20<'Tabela da Primeira Fase'!P20,2))) -> 1 | E13: =IF(ISNUMBER('Tabela da Primeira Fase'!N20),1,0) -> 1 | F13: =IF(B13*E13=2,1,0) -> 0 | G13: =IF(B13*E13=1,1,0) -> 1 | H13: =IF(B13=0,IF(E13=1,1,0),0) -> 0 | I13: =IF(E13*D13=2,1,0) -> 0 | J13: =IF(E13*D13=1,1,0) -> 1 | K13: =IF(D13=0,IF(E13=1,1,0),0) -> 0 | L13: BOTAFOGO - JoR | M13: =SUMIF($A$1:$A$780,L13,$F$1:$F$780)+SUMIF($C$1:$C$780,L13,$I$1:$I$780) -> 1 | N13: =SUMIF($A$1:$A$780,L13,$G$1:$G$780)+SUMIF($C$1:$C$780,L13,$J$1:$J$780) -> 1 | O13: =SUMIF($A$1:$A$780,L13,$H$1:$H$780)+SUMIF($C$1:$C$780,L13,$K$1:$K$780) -> 0 | P13: =SUMIF('Tabela da Primeira Fase'!$M$8:$M$753,L13,'Tabela da Primeira Fase'!$N$8:$N$753)+SUMIF('Tabela da Primeira Fase'!$Q$8:$Q$753,L13,'Tabela da Primeira Fase'!$P$8:$P$753) -> 2 | Q13: =SUMIF('Tabela da Primeira Fase'!$M$8:$M$753,L13,'Tabela da Primeira Fase'!$P$8:$P$753)+SUMIF('Tabela da Primeira Fase'!$Q$8:$Q$753,L13,'Tabela da Primeira Fase'!$N$8:$N$753) -> 0 | R13: =(1000000*((3*M13)+N13))+(10000*M13)+(100*(P13-Q13))+P13+(0.001*(30-T13)) -> 4010202 | S13: =RANK(R13,$R$12:$R$15) -> 2 | T13: 2 | U13: =IF($S$12=T13,12,0)+IF($S$13=T13,13,0)+IF($S$14=T13,14,0)+IF($S$15=T13,15,0) -> 13 | W13: =CONCATENATE("'Auxiliar'!",W$1,$U13) -> 'Auxiliar'!L13 | X13: =CONCATENATE("'Auxiliar'!",X$1,$U13) -> 'Auxiliar'!M13 | Y13: =CONCATENATE("'Auxiliar'!",Y$1,$U13) -> 'Auxiliar'!N13 | Z13: =CONCATENATE("'Auxiliar'!",Z$1,$U13) -> 'Auxiliar'!O13 | AA13: =CONCATENATE("'Auxiliar'!",AA$1,$U13) -> 'Auxiliar'!P13 | AB13: =CONCATENATE("'Auxiliar'!",AB$1,$U13) -> 'Auxiliar'!Q13 | AC13: 8
A14: ='Tabela da Primeira Fase'!M21 -> CRUZEIRO - PC | B14: =IF('Tabela da Primeira Fase'!N21<'Tabela da Primeira Fase'!P21,0,IF('Tabela da Primeira Fase'!N21='Tabela da Primeira Fase'!P21,1,IF('Tabela da Primeira Fase'!N21>'Tabela da Primeira Fase'!P21,2))) -> 1 | C14: ='Tabela da Primeira Fase'!Q21 -> PALMEIRAS - Alc | D14: =IF('Tabela da Primeira Fase'!N21>'Tabela da Primeira Fase'!P21,0,IF('Tabela da Primeira Fase'!N21='Tabela da Primeira Fase'!P21,1,IF('Tabela da Primeira Fase'!N21<'Tabela da Primeira Fase'!P21,2))) -> 1 | E14: =IF(ISNUMBER('Tabela da Primeira Fase'!N21),1,0) -> 1 | F14: =IF(B14*E14=2,1,0) -> 0 | G14: =IF(B14*E14=1,1,0) -> 1 | H14: =IF(B14=0,IF(E14=1,1,0),0) -> 0 | I14: =IF(E14*D14=2,1,0) -> 0 | J14: =IF(E14*D14=1,1,0) -> 1 | K14: =IF(D14=0,IF(E14=1,1,0),0) -> 0 | L14: NÁUTICO - Jea | M14: =SUMIF($A$1:$A$780,L14,$F$1:$F$780)+SUMIF($C$1:$C$780,L14,$I$1:$I$780) -> 0 | N14: =SUMIF($A$1:$A$780,L14,$G$1:$G$780)+SUMIF($C$1:$C$780,L14,$J$1:$J$780) -> 0 | O14: =SUMIF($A$1:$A$780,L14,$H$1:$H$780)+SUMIF($C$1:$C$780,L14,$K$1:$K$780) -> 2 | P14: =SUMIF('Tabela da Primeira Fase'!$M$8:$M$753,L14,'Tabela da Primeira Fase'!$N$8:$N$753)+SUMIF('Tabela da Primeira Fase'!$Q$8:$Q$753,L14,'Tabela da Primeira Fase'!$P$8:$P$753) -> 0 | Q14: =SUMIF('Tabela da Primeira Fase'!$M$8:$M$753,L14,'Tabela da Primeira Fase'!$P$8:$P$753)+SUMIF('Tabela da Primeira Fase'!$Q$8:$Q$753,L14,'Tabela da Primeira Fase'!$N$8:$N$753) -> 7 | R14: =(1000000*((3*M14)+N14))+(10000*M14)+(100*(P14-Q14))+P14+(0.001*(30-T14)) -> -699.973 | S14: =RANK(R14,$R$12:$R$15) -> 3 | T14: 3 | U14: =IF($S$12=T14,12,0)+IF($S$13=T14,13,0)+IF($S$14=T14,14,0)+IF($S$15=T14,15,0) -> 14 | W14: =CONCATENATE("'Auxiliar'!",W$1,$U14) -> 'Auxiliar'!L14 | X14: =CONCATENATE("'Auxiliar'!",X$1,$U14) -> 'Auxiliar'!M14 | Y14: =CONCATENATE("'Auxiliar'!",Y$1,$U14) -> 'Auxiliar'!N14 | Z14: =CONCATENATE("'Auxiliar'!",Z$1,$U14) -> 'Auxiliar'!O14 | AA14: =CONCATENATE("'Auxiliar'!",AA$1,$U14) -> 'Auxiliar'!P14 | AB14: =CONCATENATE("'Auxiliar'!",AB$1,$U14) -> 'Auxiliar'!Q14 | AC14: 9
A15: ='Tabela da Primeira Fase'!M22 -> ATLÉTICO MG - RoB | B15: =IF('Tabela da Primeira Fase'!N22<'Tabela da Primeira Fase'!P22,0,IF('Tabela da Primeira Fase'!N22='Tabela da Primeira Fase'!P22,1,IF('Tabela da Primeira Fase'!N22>'Tabela da Primeira Fase'!P22,2))) -> 0 | C15: ='Tabela da Primeira Fase'!Q22 -> BOLIVAR BOL - AnB | D15: =IF('Tabela da Primeira Fase'!N22>'Tabela da Primeira Fase'!P22,0,IF('Tabela da Primeira Fase'!N22='Tabela da Primeira Fase'!P22,1,IF('Tabela da Primeira Fase'!N22<'Tabela da Primeira Fase'!P22,2))) -> 2 | E15: =IF(ISNUMBER('Tabela da Primeira Fase'!N22),1,0) -> 1 | F15: =IF(B15*E15=2,1,0) -> 0 | G15: =IF(B15*E15=1,1,0) -> 0 | H15: =IF(B15=0,IF(E15=1,1,0),0) -> 1 | I15: =IF(E15*D15=2,1,0) -> 1 | J15: =IF(E15*D15=1,1,0) -> 0 | K15: =IF(D15=0,IF(E15=1,1,0),0) -> 0
A16: ='Tabela da Primeira Fase'!M23 -> FLUMINENSE - Sim | B16: =IF('Tabela da Primeira Fase'!N23<'Tabela da Primeira Fase'!P23,0,IF('Tabela da Primeira Fase'!N23='Tabela da Primeira Fase'!P23,1,IF('Tabela da Primeira Fase'!N23>'Tabela da Primeira Fase'!P23,2))) -> 0 | C16: ='Tabela da Primeira Fase'!Q23 -> FLAMENGO - Vas | D16: =IF('Tabela da Primeira Fase'!N23>'Tabela da Primeira Fase'!P23,0,IF('Tabela da Primeira Fase'!N23='Tabela da Primeira Fase'!P23,1,IF('Tabela da Primeira Fase'!N23<'Tabela da Primeira Fase'!P23,2))) -> 2 | E16: =IF(ISNUMBER('Tabela da Primeira Fase'!N23),1,0) -> 1 | F16: =IF(B16*E16=2,1,0) -> 0 | G16: =IF(B16*E16=1,1,0) -> 0 | H16: =IF(B16=0,IF(E16=1,1,0),0) -> 1 | I16: =IF(E16*D16=2,1,0) -> 1 | J16: =IF(E16*D16=1,1,0) -> 0 | K16: =IF(D16=0,IF(E16=1,1,0),0) -> 0
A17: ='Tabela da Primeira Fase'!M24 -> NACIONAL URU - Ton | B17: =IF('Tabela da Primeira Fase'!N24<'Tabela da Primeira Fase'!P24,0,IF('Tabela da Primeira Fase'!N24='Tabela da Primeira Fase'!P24,1,IF('Tabela da Primeira Fase'!N24>'Tabela da Primeira Fase'!P24,2))) -> 1 | C17: ='Tabela da Primeira Fase'!Q24 -> BOTAFOGO - JoR | D17: =IF('Tabela da Primeira Fase'!N24>'Tabela da Primeira Fase'!P24,0,IF('Tabela da Primeira Fase'!N24='Tabela da Primeira Fase'!P24,1,IF('Tabela da Primeira Fase'!N24<'Tabela da Primeira Fase'!P24,2))) -> 1 | E17: =IF(ISNUMBER('Tabela da Primeira Fase'!N24),1,0) -> 1 | F17: =IF(B17*E17=2,1,0) -> 0 | G17: =IF(B17*E17=1,1,0) -> 1 | H17: =IF(B17=0,IF(E17=1,1,0),0) -> 0 | I17: =IF(E17*D17=2,1,0) -> 0 | J17: =IF(E17*D17=1,1,0) -> 1 | K17: =IF(D17=0,IF(E17=1,1,0),0) -> 0 | L17: GRÊMIO - MaF | M17: =SUMIF($A$1:$A$780,L17,$F$1:$F$780)+SUMIF($C$1:$C$780,L17,$I$1:$I$780) -> 2 | N17: =SUMIF($A$1:$A$780,L17,$G$1:$G$780)+SUMIF($C$1:$C$780,L17,$J$1:$J$780) -> 0 | O17: =SUMIF($A$1:$A$780,L17,$H$1:$H$780)+SUMIF($C$1:$C$780,L17,$K$1:$K$780) -> 0 | P17: =SUMIF('Tabela da Primeira Fase'!$M$8:$M$753,L17,'Tabela da Primeira Fase'!$N$8:$N$753)+SUMIF('Tabela da Primeira Fase'!$Q$8:$Q$753,L17,'Tabela da Primeira Fase'!$P$8:$P$753) -> 5 | Q17: =SUMIF('Tabela da Primeira Fase'!$M$8:$M$753,L17,'Tabela da Primeira Fase'!$P$8:$P$753)+SUMIF('Tabela da Primeira Fase'!$Q$8:$Q$753,L17,'Tabela da Primeira Fase'!$N$8:$N$753) -> 0 | R17: =(1000000*((3*M17)+N17))+(10000*M17)+(100*(P17-Q17))+P17+(0.001*(30-T17)) -> 6020505 | S17: =RANK(R17,$R$17:$R$20) -> 1 | T17: 1 | U17: =IF($S$17=T17,17,0)+IF($S$18=T17,18,0)+IF($S$19=T17,19,0)+IF($S$20=T17,20,0) -> 17 | W17: =CONCATENATE("'Auxiliar'!",W$1,$U17) -> 'Auxiliar'!L17 | X17: =CONCATENATE("'Auxiliar'!",X$1,$U17) -> 'Auxiliar'!M17 | Y17: =CONCATENATE("'Auxiliar'!",Y$1,$U17) -> 'Auxiliar'!N17 | Z17: =CONCATENATE("'Auxiliar'!",Z$1,$U17) -> 'Auxiliar'!O17 | AA17: =CONCATENATE("'Auxiliar'!",AA$1,$U17) -> 'Auxiliar'!P17 | AB17: =CONCATENATE("'Auxiliar'!",AB$1,$U17) -> 'Auxiliar'!Q17 | AC17: 10
A18: ='Tabela da Primeira Fase'!M25 -> GRÊMIO - MaF | B18: =IF('Tabela da Primeira Fase'!N25<'Tabela da Primeira Fase'!P25,0,IF('Tabela da Primeira Fase'!N25='Tabela da Primeira Fase'!P25,1,IF('Tabela da Primeira Fase'!N25>'Tabela da Primeira Fase'!P25,2))) -> 2 | C18: ='Tabela da Primeira Fase'!Q25 -> THE STRONGEST BOL - Jun | D18: =IF('Tabela da Primeira Fase'!N25>'Tabela da Primeira Fase'!P25,0,IF('Tabela da Primeira Fase'!N25='Tabela da Primeira Fase'!P25,1,IF('Tabela da Primeira Fase'!N25<'Tabela da Primeira Fase'!P25,2))) -> 0 | E18: =IF(ISNUMBER('Tabela da Primeira Fase'!N25),1,0) -> 1 | F18: =IF(B18*E18=2,1,0) -> 1 | G18: =IF(B18*E18=1,1,0) -> 0 | H18: =IF(B18=0,IF(E18=1,1,0),0) -> 0 | I18: =IF(E18*D18=2,1,0) -> 0 | J18: =IF(E18*D18=1,1,0) -> 0 | K18: =IF(D18=0,IF(E18=1,1,0),0) -> 1 | L18: THE STRONGEST BOL - Jun | M18: =SUMIF($A$1:$A$780,L18,$F$1:$F$780)+SUMIF($C$1:$C$780,L18,$I$1:$I$780) -> 0 | N18: =SUMIF($A$1:$A$780,L18,$G$1:$G$780)+SUMIF($C$1:$C$780,L18,$J$1:$J$780) -> 1 | O18: =SUMIF($A$1:$A$780,L18,$H$1:$H$780)+SUMIF($C$1:$C$780,L18,$K$1:$K$780) -> 1 | P18: =SUMIF('Tabela da Primeira Fase'!$M$8:$M$753,L18,'Tabela da Primeira Fase'!$N$8:$N$753)+SUMIF('Tabela da Primeira Fase'!$Q$8:$Q$753,L18,'Tabela da Primeira Fase'!$P$8:$P$753) -> 0 | Q18: =SUMIF('Tabela da Primeira Fase'!$M$8:$M$753,L18,'Tabela da Primeira Fase'!$P$8:$P$753)+SUMIF('Tabela da Primeira Fase'!$Q$8:$Q$753,L18,'Tabela da Primeira Fase'!$N$8:$N$753) -> 2 | R18: =(1000000*((3*M18)+N18))+(10000*M18)+(100*(P18-Q18))+P18+(0.001*(30-T18)) -> 999800.03 | S18: =RANK(R18,$R$17:$R$20) -> 2 | T18: 2 | U18: =IF($S$17=T18,17,0)+IF($S$18=T18,18,0)+IF($S$19=T18,19,0)+IF($S$20=T18,20,0) -> 18 | W18: =CONCATENATE("'Auxiliar'!",W$1,$U18) -> 'Auxiliar'!L18 | X18: =CONCATENATE("'Auxiliar'!",X$1,$U18) -> 'Auxiliar'!M18 | Y18: =CONCATENATE("'Auxiliar'!",Y$1,$U18) -> 'Auxiliar'!N18 | Z18: =CONCATENATE("'Auxiliar'!",Z$1,$U18) -> 'Auxiliar'!O18 | AA18: =CONCATENATE("'Auxiliar'!",AA$1,$U18) -> 'Auxiliar'!P18 | AB18: =CONCATENATE("'Auxiliar'!",AB$1,$U18) -> 'Auxiliar'!Q18 | AC18: 11
L19: BOCA JUNIORS ARG - Aéc | M19: =SUMIF($A$1:$A$780,L19,$F$1:$F$780)+SUMIF($C$1:$C$780,L19,$I$1:$I$780) -> 0 | N19: =SUMIF($A$1:$A$780,L19,$G$1:$G$780)+SUMIF($C$1:$C$780,L19,$J$1:$J$780) -> 1 | O19: =SUMIF($A$1:$A$780,L19,$H$1:$H$780)+SUMIF($C$1:$C$780,L19,$K$1:$K$780) -> 1 | P19: =SUMIF('Tabela da Primeira Fase'!$M$8:$M$753,L19,'Tabela da Primeira Fase'!$N$8:$N$753)+SUMIF('Tabela da Primeira Fase'!$Q$8:$Q$753,L19,'Tabela da Primeira Fase'!$P$8:$P$753) -> 0 | Q19: =SUMIF('Tabela da Primeira Fase'!$M$8:$M$753,L19,'Tabela da Primeira Fase'!$P$8:$P$753)+SUMIF('Tabela da Primeira Fase'!$Q$8:$Q$753,L19,'Tabela da Primeira Fase'!$N$8:$N$753) -> 3 | R19: =(1000000*((3*M19)+N19))+(10000*M19)+(100*(P19-Q19))+P19+(0.001*(30-T19)) -> 999700.03 | S19: =RANK(R19,$R$17:$R$20) -> 3 | T19: 3 | U19: =IF($S$17=T19,17,0)+IF($S$18=T19,18,0)+IF($S$19=T19,19,0)+IF($S$20=T19,20,0) -> 19 | W19: =CONCATENATE("'Auxiliar'!",W$1,$U19) -> 'Auxiliar'!L19 | X19: =CONCATENATE("'Auxiliar'!",X$1,$U19) -> 'Auxiliar'!M19 | Y19: =CONCATENATE("'Auxiliar'!",Y$1,$U19) -> 'Auxiliar'!N19 | Z19: =CONCATENATE("'Auxiliar'!",Z$1,$U19) -> 'Auxiliar'!O19 | AA19: =CONCATENATE("'Auxiliar'!",AA$1,$U19) -> 'Auxiliar'!P19 | AB19: =CONCATENATE("'Auxiliar'!",AB$1,$U19) -> 'Auxiliar'!Q19 | AC19: 12
L22: INDEPENDIENTE ARG - Mar | M22: =SUMIF($A$1:$A$780,L22,$F$1:$F$780)+SUMIF($C$1:$C$780,L22,$I$1:$I$780) -> 1 | N22: =SUMIF($A$1:$A$780,L22,$G$1:$G$780)+SUMIF($C$1:$C$780,L22,$J$1:$J$780) -> 1 | O22: =SUMIF($A$1:$A$780,L22,$H$1:$H$780)+SUMIF($C$1:$C$780,L22,$K$1:$K$780) -> 0 | P22: =SUMIF('Tabela da Primeira Fase'!$M$8:$M$753,L22,'Tabela da Primeira Fase'!$N$8:$N$753)+SUMIF('Tabela da Primeira Fase'!$Q$8:$Q$753,L22,'Tabela da Primeira Fase'!$P$8:$P$753) -> 2 | Q22: =SUMIF('Tabela da Primeira Fase'!$M$8:$M$753,L22,'Tabela da Primeira Fase'!$P$8:$P$753)+SUMIF('Tabela da Primeira Fase'!$Q$8:$Q$753,L22,'Tabela da Primeira Fase'!$N$8:$N$753) -> 1 | R22: =(1000000*((3*M22)+N22))+(10000*M22)+(100*(P22-Q22))+P22+(0.001*(30-T22)) -> 4010102 | S22: =RANK(R22,$R$22:$R$25) -> 2 | T22: 1 | U22: =IF($S$22=T22,22,0)+IF($S$23=T22,23,0)+IF($S$24=T22,24,0)+IF($S$25=T22,25,0) -> 23 | W22: =CONCATENATE("'Auxiliar'!",W$1,$U22) -> 'Auxiliar'!L23 | X22: =CONCATENATE("'Auxiliar'!",X$1,$U22) -> 'Auxiliar'!M23 | Y22: =CONCATENATE("'Auxiliar'!",Y$1,$U22) -> 'Auxiliar'!N23 | Z22: =CONCATENATE("'Auxiliar'!",Z$1,$U22) -> 'Auxiliar'!O23 | AA22: =CONCATENATE("'Auxiliar'!",AA$1,$U22) -> 'Auxiliar'!P23 | AB22: =CONCATENATE("'Auxiliar'!",AB$1,$U22) -> 'Auxiliar'!Q23 | AC22: 13
L23: INTERNACIONAL - MaS | M23: =SUMIF($A$1:$A$780,L23,$F$1:$F$780)+SUMIF($C$1:$C$780,L23,$I$1:$I$780) -> 1 | N23: =SUMIF($A$1:$A$780,L23,$G$1:$G$780)+SUMIF($C$1:$C$780,L23,$J$1:$J$780) -> 1 | O23: =SUMIF($A$1:$A$780,L23,$H$1:$H$780)+SUMIF($C$1:$C$780,L23,$K$1:$K$780) -> 0 | P23: =SUMIF('Tabela da Primeira Fase'!$M$8:$M$753,L23,'Tabela da Primeira Fase'!$N$8:$N$753)+SUMIF('Tabela da Primeira Fase'!$Q$8:$Q$753,L23,'Tabela da Primeira Fase'!$P$8:$P$753) -> 3 | Q23: =SUMIF('Tabela da Primeira Fase'!$M$8:$M$753,L23,'Tabela da Primeira Fase'!$P$8:$P$753)+SUMIF('Tabela da Primeira Fase'!$Q$8:$Q$753,L23,'Tabela da Primeira Fase'!$N$8:$N$753) -> 1 | R23: =(1000000*((3*M23)+N23))+(10000*M23)+(100*(P23-Q23))+P23+(0.001*(30-T23)) -> 4010203 | S23: =RANK(R23,$R$22:$R$25) -> 1 | T23: 2 | U23: =IF($S$22=T23,22,0)+IF($S$23=T23,23,0)+IF($S$24=T23,24,0)+IF($S$25=T23,25,0) -> 22 | W23: =CONCATENATE("'Auxiliar'!",W$1,$U23) -> 'Auxiliar'!L22 | X23: =CONCATENATE("'Auxiliar'!",X$1,$U23) -> 'Auxiliar'!M22 | Y23: =CONCATENATE("'Auxiliar'!",Y$1,$U23) -> 'Auxiliar'!N22 | Z23: =CONCATENATE("'Auxiliar'!",Z$1,$U23) -> 'Auxiliar'!O22 | AA23: =CONCATENATE("'Auxiliar'!",AA$1,$U23) -> 'Auxiliar'!P22 | AB23: =CONCATENATE("'Auxiliar'!",AB$1,$U23) -> 'Auxiliar'!Q22 | AC23: 14
L24: RACING ARG - RoG | M24: =SUMIF($A$1:$A$780,L24,$F$1:$F$780)+SUMIF($C$1:$C$780,L24,$I$1:$I$780) -> 0 | N24: =SUMIF($A$1:$A$780,L24,$G$1:$G$780)+SUMIF($C$1:$C$780,L24,$J$1:$J$780) -> 0 | O24: =SUMIF($A$1:$A$780,L24,$H$1:$H$780)+SUMIF($C$1:$C$780,L24,$K$1:$K$780) -> 2 | P24: =SUMIF('Tabela da Primeira Fase'!$M$8:$M$753,L24,'Tabela da Primeira Fase'!$N$8:$N$753)+SUMIF('Tabela da Primeira Fase'!$Q$8:$Q$753,L24,'Tabela da Primeira Fase'!$P$8:$P$753) -> 0 | Q24: =SUMIF('Tabela da Primeira Fase'!$M$8:$M$753,L24,'Tabela da Primeira Fase'!$P$8:$P$753)+SUMIF('Tabela da Primeira Fase'!$Q$8:$Q$753,L24,'Tabela da Primeira Fase'!$N$8:$N$753) -> 3 | R24: =(1000000*((3*M24)+N24))+(10000*M24)+(100*(P24-Q24))+P24+(0.001*(30-T24)) -> -299.973 | S24: =RANK(R24,$R$22:$R$25) -> 3 | T24: 3 | U24: =IF($S$22=T24,22,0)+IF($S$23=T24,23,0)+IF($S$24=T24,24,0)+IF($S$25=T24,25,0) -> 24 | W24: =CONCATENATE("'Auxiliar'!",W$1,$U24) -> 'Auxiliar'!L24 | X24: =CONCATENATE("'Auxiliar'!",X$1,$U24) -> 'Auxiliar'!M24 | Y24: =CONCATENATE("'Auxiliar'!",Y$1,$U24) -> 'Auxiliar'!N24 | Z24: =CONCATENATE("'Auxiliar'!",Z$1,$U24) -> 'Auxiliar'!O24 | AA24: =CONCATENATE("'Auxiliar'!",AA$1,$U24) -> 'Auxiliar'!P24 | AB24: =CONCATENATE("'Auxiliar'!",AB$1,$U24) -> 'Auxiliar'!Q24 | AC24: 15
L27: CRUZEIRO - PC | M27: =SUMIF($A$1:$A$780,L27,$F$1:$F$780)+SUMIF($C$1:$C$780,L27,$I$1:$I$780) -> 1 | N27: =SUMIF($A$1:$A$780,L27,$G$1:$G$780)+SUMIF($C$1:$C$780,L27,$J$1:$J$780) -> 1 | O27: =SUMIF($A$1:$A$780,L27,$H$1:$H$780)+SUMIF($C$1:$C$780,L27,$K$1:$K$780) -> 0 | P27: =SUMIF('Tabela da Primeira Fase'!$M$8:$M$753,L27,'Tabela da Primeira Fase'!$N$8:$N$753)+SUMIF('Tabela da Primeira Fase'!$Q$8:$Q$753,L27,'Tabela da Primeira Fase'!$P$8:$P$753) -> 3 | Q27: =SUMIF('Tabela da Primeira Fase'!$M$8:$M$753,L27,'Tabela da Primeira Fase'!$P$8:$P$753)+SUMIF('Tabela da Primeira Fase'!$Q$8:$Q$753,L27,'Tabela da Primeira Fase'!$N$8:$N$753) -> 0 | R27: =(1000000*((3*M27)+N27))+(10000*M27)+(100*(P27-Q27))+P27+(0.001*(30-T27)) -> 4010303 | S27: =RANK(R27,$R$27:$R$30) -> 1 | T27: 1 | U27: =IF($S$27=T27,27,0)+IF($S$28=T27,28,0)+IF($S$29=T27,29,0)+IF($S$30=T27,30,0) -> 27 | W27: =CONCATENATE("'Auxiliar'!",W$1,$U27) -> 'Auxiliar'!L27 | X27: =CONCATENATE("'Auxiliar'!",X$1,$U27) -> 'Auxiliar'!M27 | Y27: =CONCATENATE("'Auxiliar'!",Y$1,$U27) -> 'Auxiliar'!N27 | Z27: =CONCATENATE("'Auxiliar'!",Z$1,$U27) -> 'Auxiliar'!O27 | AA27: =CONCATENATE("'Auxiliar'!",AA$1,$U27) -> 'Auxiliar'!P27 | AB27: =CONCATENATE("'Auxiliar'!",AB$1,$U27) -> 'Auxiliar'!Q27 | AC27: 16
L28: PALMEIRAS - Alc | M28: =SUMIF($A$1:$A$780,L28,$F$1:$F$780)+SUMIF($C$1:$C$780,L28,$I$1:$I$780) -> 1 | N28: =SUMIF($A$1:$A$780,L28,$G$1:$G$780)+SUMIF($C$1:$C$780,L28,$J$1:$J$780) -> 1 | O28: =SUMIF($A$1:$A$780,L28,$H$1:$H$780)+SUMIF($C$1:$C$780,L28,$K$1:$K$780) -> 0 | P28: =SUMIF('Tabela da Primeira Fase'!$M$8:$M$753,L28,'Tabela da Primeira Fase'!$N$8:$N$753)+SUMIF('Tabela da Primeira Fase'!$Q$8:$Q$753,L28,'Tabela da Primeira Fase'!$P$8:$P$753) -> 3 | Q28: =SUMIF('Tabela da Primeira Fase'!$M$8:$M$753,L28,'Tabela da Primeira Fase'!$P$8:$P$753)+SUMIF('Tabela da Primeira Fase'!$Q$8:$Q$753,L28,'Tabela da Primeira Fase'!$N$8:$N$753) -> 1 | R28: =(1000000*((3*M28)+N28))+(10000*M28)+(100*(P28-Q28))+P28+(0.001*(30-T28)) -> 4010203 | S28: =RANK(R28,$R$27:$R$30) -> 2 | T28: 2 | U28: =IF($S$27=T28,27,0)+IF($S$28=T28,28,0)+IF($S$29=T28,29,0)+IF($S$30=T28,30,0) -> 28 | W28: =CONCATENATE("'Auxiliar'!",W$1,$U28) -> 'Auxiliar'!L28 | X28: =CONCATENATE("'Auxiliar'!",X$1,$U28) -> 'Auxiliar'!M28 | Y28: =CONCATENATE("'Auxiliar'!",Y$1,$U28) -> 'Auxiliar'!N28 | Z28: =CONCATENATE("'Auxiliar'!",Z$1,$U28) -> 'Auxiliar'!O28 | AA28: =CONCATENATE("'Auxiliar'!",AA$1,$U28) -> 'Auxiliar'!P28 | AB28: =CONCATENATE("'Auxiliar'!",AB$1,$U28) -> 'Auxiliar'!Q28 | AC28: 17
L29: OLIMPIA PAR - Ama | M29: =SUMIF($A$1:$A$780,L29,$F$1:$F$780)+SUMIF($C$1:$C$780,L29,$I$1:$I$780) -> 0 | N29: =SUMIF($A$1:$A$780,L29,$G$1:$G$780)+SUMIF($C$1:$C$780,L29,$J$1:$J$780) -> 0 | O29: =SUMIF($A$1:$A$780,L29,$H$1:$H$780)+SUMIF($C$1:$C$780,L29,$K$1:$K$780) -> 2 | P29: =SUMIF('Tabela da Primeira Fase'!$M$8:$M$753,L29,'Tabela da Primeira Fase'!$N$8:$N$753)+SUMIF('Tabela da Primeira Fase'!$Q$8:$Q$753,L29,'Tabela da Primeira Fase'!$P$8:$P$753) -> 1 | Q29: =SUMIF('Tabela da Primeira Fase'!$M$8:$M$753,L29,'Tabela da Primeira Fase'!$P$8:$P$753)+SUMIF('Tabela da Primeira Fase'!$Q$8:$Q$753,L29,'Tabela da Primeira Fase'!$N$8:$N$753) -> 6 | R29: =(1000000*((3*M29)+N29))+(10000*M29)+(100*(P29-Q29))+P29+(0.001*(30-T29)) -> -498.973 | S29: =RANK(R29,$R$27:$R$30) -> 3 | T29: 3 | U29: =IF($S$27=T29,27,0)+IF($S$28=T29,28,0)+IF($S$29=T29,29,0)+IF($S$30=T29,30,0) -> 29 | W29: =CONCATENATE("'Auxiliar'!",W$1,$U29) -> 'Auxiliar'!L29 | X29: =CONCATENATE("'Auxiliar'!",X$1,$U29) -> 'Auxiliar'!M29 | Y29: =CONCATENATE("'Auxiliar'!",Y$1,$U29) -> 'Auxiliar'!N29 | Z29: =CONCATENATE("'Auxiliar'!",Z$1,$U29) -> 'Auxiliar'!O29 | AA29: =CONCATENATE("'Auxiliar'!",AA$1,$U29) -> 'Auxiliar'!P29 | AB29: =CONCATENATE("'Auxiliar'!",AB$1,$U29) -> 'Auxiliar'!Q29 | AC29: 18
L32: ÁRBITROS
K33: 1 | L33: ATLÉTICO MG - RoB
K34: 2 | L34: BOLIVAR BOL - AnB
K35: 3 | L35: VASCO DA GAMA - Pim
K36: 4 | L36: FLUMINENSE - Sim
K37: 5 | L37: FLAMENGO - Vas
K38: 6 | L38: COLO COLO CHI - Mal
K39: 7 | L39: NACIONAL URU - Ton
K40: 8 | L40: BOTAFOGO - JoR
K41: 9 | L41: NÁUTICO - Jea
K42: 10 | L42: GRÊMIO - MaF
K43: 11 | L43: THE STRONGEST BOL - Jun
K44: 12 | L44: BOCA JUNIORS ARG - Aéc
... K50: 18 | L50: OLIMPIA PAR - Ama

Sheet Tabela da Primeira Fase
A1: FEDERAÇÃO DE FUTEBOL DE MESA DO DISTRITO FEDERAL
A2: LIBERTADORES 2024
A3: Tabela da Primeira Fase
A5: DATA: | B5: 20.04.2024
A7: ROD | B7: M | C7: ARTILHEIROS | N7: JOGOS | R7: ARTILHEIROS | AB7: ÁRBITROS
A8: 1 | B8: 6 | M8: =Auxiliar!L4 -> VASCO DA GAMA - Pim | N8: 0 | O8: x | P8: 4 | Q8: =Auxiliar!L2 -> ATLÉTICO MG - RoB | AB8: =Auxiliar!L37 -> FLAMENGO - Vas
B9: 7 | M9: =Auxiliar!L9 -> COLO COLO CHI - Mal | N9: 1 | O9: x | P9: 3 | Q9: =Auxiliar!L7 -> FLUMINENSE - Sim | AB9: =Auxiliar!L40 -> BOTAFOGO - JoR
B10: 8 | M10: =Auxiliar!L14 -> NÁUTICO - Jea | N10: 0 | O10: x | P10: 5 | Q10: =Auxiliar!L12 -> NACIONAL URU - Ton | AB10: =Auxiliar!L43 -> THE STRONGEST BOL - Jun
B11: 9 | M11: =Auxiliar!L19 -> BOCA JUNIORS ARG - Aéc | N11: 0 | O11: x | P11: 3 | Q11: =Auxiliar!L17 -> GRÊMIO - MaF | AB11: =Auxiliar!L46 -> INTERNACIONAL - MaS
B12: 11 | M12: =Auxiliar!L24 -> RACING ARG - RoG | N12: 0 | O12: x | P12: 1 | Q12: =Auxiliar!L22 -> INDEPENDIENTE ARG - Mar | AB12: =Auxiliar!L49 -> PALMEIRAS - Alc
B13: 12 | M13: =Auxiliar!L29 -> OLIMPIA PAR - Ama | N13: 0 | O13: x | P13: 3 | Q13: =Auxiliar!L27 -> CRUZEIRO - PC | AB13: =Auxiliar!L34 -> BOLIVAR BOL - AnB
A14: 2 | B14: 6 | M14: =Auxiliar!L28 -> PALMEIRAS - Alc | N14: 3 | O14: x | P14: 1 | Q14: =Auxiliar!L29 -> OLIMPIA PAR - Ama | AB14: =Auxiliar!L36 -> FLUMINENSE - Sim
B15: 7 | M15: =Auxiliar!L3 -> BOLIVAR BOL - AnB | N15: 2 | O15: x | P15: 2 | Q15: =Auxiliar!L4 -> VASCO DA GAMA - Pim | AB15: =Auxiliar!L39 -> NACIONAL URU - Ton
B16: 8 | M16: =Auxiliar!L8 -> FLAMENGO - Vas | N16: 3 | O16: x | P16: 0 | Q16: =Auxiliar!L9 -> COLO COLO CHI - Mal | AB16: =Auxiliar!L42 -> GRÊMIO - MaF
B17: 9 | M17: =Auxiliar!L13 -> BOTAFOGO - JoR | N17: 2 | O17: x | P17: 0 | Q17: =Auxiliar!L14 -> NÁUTICO - Jea | AB17: =Auxiliar!L45 -> INDEPENDIENTE ARG - Mar
B18: 11 | M18: =Auxiliar!L18 -> THE STRONGEST BOL - Jun | N18: 0 | O18: x | P18: 0 | Q18: =Auxiliar!L19 -> BOCA JUNIORS ARG - Aéc | AB18: =Auxiliar!L48 -> CRUZEIRO - PC
B19: 12 | M19: =Auxiliar!L23 -> INTERNACIONAL - MaS | N19: 2 | O19: x | P19: 0 | Q19: =Auxiliar!L24 -> RACING ARG - RoG | AB19: =Auxiliar!L33 -> ATLÉTICO MG - RoB
A20: 3 | B20: 6 | M20: =Auxiliar!L22 -> INDEPENDIENTE ARG - Mar | N20: 1 | O20: x | P20: 1 | Q20: =Auxiliar!L23 -> INTERNACIONAL - MaS | AB20: =Auxiliar!L38 -> COLO COLO CHI - Mal
B21: 7 | M21: =Auxiliar!L27 -> CRUZEIRO - PC | N21: 0 | O21: x | P21: 0 | Q21: =Auxiliar!L28 -> PALMEIRAS - Alc | AB21: =Auxiliar!L41 -> NÁUTICO - Jea
B22: 8 | M22: =Auxiliar!L2 -> ATLÉTICO MG - RoB | N22: 0 | O22: x | P22: 5 | Q22: =Auxiliar!L3 -> BOLIVAR BOL - AnB | AB22: =Auxiliar!L44 -> BOCA JUNIORS ARG - Aéc
B23: 9 | M23: =Auxiliar!L7 -> FLUMINENSE - Sim | N23: 0 | O23: x | P23: 1 | Q23: =Auxiliar!L8 -> FLAMENGO - Vas | AB23: =Auxiliar!L47 -> RACING ARG - RoG
B24: 11 | M24: =Auxiliar!L12 -> NACIONAL URU - Ton | N24: 0 | O24: x | P24: 0 | Q24: =Auxiliar!L13 -> BOTAFOGO - JoR | AB24: =Auxiliar!L50 -> OLIMPIA PAR - Ama
B25: 12 | M25: =Auxiliar!L17 -> GRÊMIO - MaF | N25: 2 | O25: x | P25: 0 | Q25: =Auxiliar!L18 -> THE STRONGEST BOL - Jun | AB25: =Auxiliar!L35 -> VASCO DA GAMA - Pim
P26: =IF(R26="","",IF(R26=0,0,COUNT(R26:AA26)))

Sheet Classif Prim Fase
A1: ='Tabela da Primeira Fase'!A1:AB1 -> FEDERAÇÃO DE FUTEBOL DE MESA DO DISTRITO FEDERAL
A2: ='Tabela da Primeira Fase'!A2:AB2 -> LIBERTADORES 2024
A3: CLASSIFICAÇÃO FINAL DA PRIMEIRA FASE
A5: GRUPO | B5: CF | C5: TIMES | D5: J | E5: V | F5: E | G5: D | H5: GF | I5: GC | J5: SG | K5: PG | L5: Aprov.
A6: A | B6: 1º | C6: =INDIRECT(Auxiliar!W2) -> BOLIVAR BOL - AnB | D6: =E6+F6+G6 -> 2 | E6: =INDIRECT(Auxiliar!X2) -> 1 | F6: =INDIRECT(Auxiliar!Y2) -> 1 | G6: =INDIRECT(Auxiliar!Z2) -> 0 | H6: =INDIRECT(Auxiliar!AA2) -> 7 | I6: =INDIRECT(Auxiliar!AB2) -> 2 | J6: =H6-I6 -> 5 | K6: =(3*E6)+F6 -> 4 | L6: =IF(ISERR((K6/(D6*3))),0,((K6/(D6*3)))) -> 0.66666667
B7: 2º | C7: =INDIRECT(Auxiliar!W3) -> ATLÉTICO MG - RoB | D7: =E7+F7+G7 -> 2 | E7: =INDIRECT(Auxiliar!X3) -> 1 | F7: =INDIRECT(Auxiliar!Y3) -> 0 | G7: =INDIRECT(Auxiliar!Z3) -> 1 | H7: =INDIRECT(Auxiliar!AA3) -> 4 | I7: =INDIRECT(Auxiliar!AB3) -> 5 | J7: =H7-I7 -> -1 | K7: =(3*E7)+F7 -> 3 | L7: =IF(ISERR((K7/(D7*3))),0,((K7/(D7*3)))) -> 0.5
B8: 3º | C8: =INDIRECT(Auxiliar!W4) -> VASCO DA GAMA - Pim | D8: =E8+F8+G8 -> 2 | E8: =INDIRECT(Auxiliar!X4) -> 0 | F8: =INDIRECT(Auxiliar!Y4) -> 1 | G8: =INDIRECT(Auxiliar!Z4) -> 1 | H8: =INDIRECT(Auxiliar!AA4) -> 2 | I8: =INDIRECT(Auxiliar!AB4) -> 6 | J8: =H8-I8 -> -4 | K8: =(3*E8)+F8 -> 1 | L8: =IF(ISERR((K8/(D8*3))),0,((K8/(D8*3)))) -> 0.16666667
A10: GRUPO | B10: CF | C10: TIMES | D10: J | E10: V | F10: E | G10: D | H10: GF | I10: GC | J10: SG | K10: PG | L10: Aprov.
A11: B | B11: 1º | C11: =INDIRECT(Auxiliar!W7) -> FLAMENGO - Vas | D11: =E11+F11+G11 -> 2 | E11: =INDIRECT(Auxiliar!X7) -> 2 | F11: =INDIRECT(Auxiliar!Y7) -> 0 | G11: =INDIRECT(Auxiliar!Z7) -> 0 | H11: =INDIRECT(Auxiliar!AA7) -> 4 | I11: =INDIRECT(Auxiliar!AB7) -> 0 | J11: =H11-I11 -> 4 | K11: =(3*E11)+F11 -> 6 | L11: =IF(ISERR((K11/(D11*3))),0,((K11/(D11*3)))) -> 1
B12: 2º | C12: =INDIRECT(Auxiliar!W8) -> FLUMINENSE - Sim | D12: =E12+F12+G12 -> 2 | E12: =INDIRECT(Auxiliar!X8) -> 1 | F12: =INDIRECT(Auxiliar!Y8) -> 0 | G12: =INDIRECT(Auxiliar!Z8) -> 1 | H12: =INDIRECT(Auxiliar!AA8) -> 3 | I12: =INDIRECT(Auxiliar!AB8) -> 2 | J12: =H12-I12 -> 1 | K12: =(3*E12)+F12 -> 3 | L12: =IF(ISERR((K12/(D12*3))),0,((K12/(D12*3)))) -> 0.5
B13: 3º | C13: =INDIRECT(Auxiliar!W9) -> COLO COLO CHI - Mal | D13: =E13+F13+G13 -> 2 | E13: =INDIRECT(Auxiliar!X9) -> 0 | F13: =INDIRECT(Auxiliar!Y9) -> 0 | G13: =INDIRECT(Auxiliar!Z9) -> 2 | H13: =INDIRECT(Auxiliar!AA9) -> 1 | I13: =INDIRECT(Auxiliar!AB9) -> 6 | J13: =H13-I13 -> -5 | K13: =(3*E13)+F13 -> 0 | L13: =IF(ISERR((K13/(D13*3))),0,((K13/(D13*3)))) -> 0
A15: GRUPO | B15: CF | C15: TIMES | D15: J | E15: V | F15: E | G15: D | H15: GF | I15: GC | J15: SG | K15: PG | L15: Aprov.
A16: C | B16: 1º | C16: =INDIRECT(Auxiliar!W12) -> NACIONAL URU - Ton | D16: =E16+F16+G16 -> 2 | E16: =INDIRECT(Auxiliar!X12) -> 1 | F16: =INDIRECT(Auxiliar!Y12) -> 1 | G16: =INDIRECT(Auxiliar!Z12) -> 0 | H16: =INDIRECT(Auxiliar!AA12) -> 5 | I16: =INDIRECT(Auxiliar!AB12) -> 0 | J16: =H16-I16 -> 5 | K16: =(3*E16)+F16 -> 4 | L16: =IF(ISERR((K16/(D16*3))),0,((K16/(D16*3)))) -> 0.66666667
B17: 2º | C17: =INDIRECT(Auxiliar!W13) -> BOTAFOGO - JoR | D17: =E17+F17+G17 -> 2 | E17: =INDIRECT(Auxiliar!X13) -> 1 | F17: =INDIRECT(Auxiliar!Y13) -> 1 | G17: =INDIRECT(Auxiliar!Z13) -> 0 | H17: =INDIRECT(Auxiliar!AA13) -> 2 | I17: =INDIRECT(Auxiliar!AB13) -> 0 | J17: =H17-I17 -> 2 | K17: =(3*E17)+F17 -> 4 | L17: =IF(ISERR((K17/(D17*3))),0,((K17/(D17*3)))) -> 0.66666667
B18: 3º | C18: =INDIRECT(Auxiliar!W14) -> NÁUTICO - Jea | D18: =E18+F18+G18 -> 2 | E18: =INDIRECT(Auxiliar!X14) -> 0 | F18: =INDIRECT(Auxiliar!Y14) -> 0 | G18: =INDIRECT(Auxiliar!Z14) -> 2 | H18: =INDIRECT(Auxiliar!AA14) -> 0 | I18: =INDIRECT(Auxiliar!AB14) -> 7 | J18: =H18-I18 -> -7 | K18: =(3*E18)+F18 -> 0 | L18: =IF(ISERR((K18/(D18*3))),0,((K18/(D18*3)))) -> 0
A20: GRUPO | B20: CF | C20: TIMES | D20: J | E20: V | F20: E | G20: D | H20: GF | I20: GC | J20: SG | K20: PG | L20: Aprov.
A21: D | B21: 1º | C21: =INDIRECT(Auxiliar!W17) -> GRÊMIO - MaF | D21: =E21+F21+G21 -> 2 | E21: =INDIRECT(Auxiliar!X17) -> 2 | F21: =INDIRECT(Auxiliar!Y17) -> 0 | G21: =INDIRECT(Auxiliar!Z17) -> 0 | H21: =INDIRECT(Auxiliar!AA17) -> 5 | I21: =INDIRECT(Auxiliar!AB17) -> 0 | J21: =H21-I21 -> 5 | K21: =(3*E21)+F21 -> 6 | L21: =IF(ISERR((K21/(D21*3))),0,((K21/(D21*3)))) -> 1
B22: 2º | C22: =INDIRECT(Auxiliar!W18) -> THE STRONGEST BOL - Jun | D22: =E22+F22+G22 -> 2 | E22: =INDIRECT(Auxiliar!X18) -> 0 | F22: =INDIRECT(Auxiliar!Y18) -> 1 | G22: =INDIRECT(Auxiliar!Z18) -> 1 | H22: =INDIRECT(Auxiliar!AA18) -> 0 | I22: =INDIRECT(Auxiliar!AB18) -> 2 | J22: =H22-I22 -> -2 | K22: =(3*E22)+F22 -> 1 | L22: =IF(ISERR((K22/(D22*3))),0,((K22/(D22*3)))) -> 0.16666667
B23: 3º | C23: =INDIRECT(Auxiliar!W19) -> BOCA JUNIORS ARG - Aéc | D23: =E23+F23+G23 -> 2 | E23: =INDIRECT(Auxiliar!X19) -> 0 | F23: =INDIRECT(Auxiliar!Y19) -> 1 | G23: =INDIRECT(Auxiliar!Z19) -> 1 | H23: =INDIRECT(Auxiliar!AA19) -> 0 | I23: =INDIRECT(Auxiliar!AB19) -> 3 | J23: =H23-I23 -> -3 | K23: =(3*E23)+F23 -> 1 | L23: =IF(ISERR((K23/(D23*3))),0,((K23/(D23*3)))) -> 0.16666667
A25: GRUPO | B25: CF | C25: TIMES | D25: J | E25: V | F25: E | G25: D | H25: GF | I25: GC | J25: SG | K25: PG | L25: Aprov.
A26: E | B26: 1º | C26: =INDIRECT(Auxiliar!W22) -> INTERNACIONAL - MaS | D26: =E26+F26+G26 -> 2 | E26: =INDIRECT(Auxiliar!X22) -> 1 | F26: =INDIRECT(Auxiliar!Y22) -> 1 | G26: =INDIRECT(Auxiliar!Z22) -> 0 | H26: =INDIRECT(Auxiliar!AA22) -> 3 | I26: =INDIRECT(Auxiliar!AB22) -> 1 | J26: =H26-I26 -> 2 | K26: =(3*E26)+F26 -> 4 | L26: =IF(ISERR((K26/(D26*3))),0,((K26/(D26*3)))) -> 0.66666667
B27: 2º | C27: =INDIRECT(Auxiliar!W23) -> INDEPENDIENTE ARG - Mar | D27: =E27+F27+G27 -> 2 | E27: =INDIRECT(Auxiliar!X23) -> 1 | F27: =INDIRECT(Auxiliar!Y23) -> 1 | G27: =INDIRECT(Auxiliar!Z23) -> 0 | H27: =INDIRECT(Auxiliar!AA23) -> 2 | I27: =INDIRECT(Auxiliar!AB23) -> 1 | J27: =H27-I27 -> 1 | K27: =(3*E27)+F27 -> 4 | L27: =IF(ISERR((K27/(D27*3))),0,((K27/(D27*3)))) -> 0.66666667
B28: 3º | C28: =INDIRECT(Auxiliar!W24) -> RACING ARG - RoG | D28: =E28+F28+G28 -> 2 | E28: =INDIRECT(Auxiliar!X24) -> 0 | F28: =INDIRECT(Auxiliar!Y24) -> 0 | G28: =INDIRECT(Auxiliar!Z24) -> 2 | H28: =INDIRECT(Auxiliar!AA24) -> 0 | I28: =INDIRECT(Auxiliar!AB24) -> 3 | J28: =H28-I28 -> -3 | K28: =(3*E28)+F28 -> 0 | L28: =IF(ISERR((K28/(D28*3))),0,((K28/(D28*3)))) -> 0
A30: GRUPO | B30: CF | C30: TIMES | D30: J | E30: V | F30: E | G30: D | H30: GF | I30: GC | J30: SG | K30: PG | L30: Aprov.
A31: F | B31: 1º | C31: =INDIRECT(Auxiliar!W27) -> CRUZEIRO - PC | D31: =E31+F31+G31 -> 2 | E31: =INDIRECT(Auxiliar!X27) -> 1 | F31: =INDIRECT(Auxiliar!Y27) -> 1 | G31: =INDIRECT(Auxiliar!Z27) -> 0 | H31: =INDIRECT(Auxiliar!AA27) -> 3 | I31: =INDIRECT(Auxiliar!AB27) -> 0 | J31: =H31-I31 -> 3 | K31: =(3*E31)+F31 -> 4 | L31: =IF(ISERR((K31/(D31*3))),0,((K31/(D31*3)))) -> 0.66666667
B32: 2º | C32: =INDIRECT(Auxiliar!W28) -> PALMEIRAS - Alc | D32: =E32+F32+G32 -> 2 | E32: =INDIRECT(Auxiliar!X28) -> 1 | F32: =INDIRECT(Auxiliar!Y28) -> 1 | G32: =INDIRECT(Auxiliar!Z28) -> 0 | H32: =INDIRECT(Auxiliar!AA28) -> 3 | I32: =INDIRECT(Auxiliar!AB28) -> 1 | J32: =H32-I32 -> 2 | K32: =(3*E32)+F32 -> 4 | L32: =IF(ISERR((K32/(D32*3))),0,((K32/(D32*3)))) -> 0.66666667
B33: 3º | C33: =INDIRECT(Auxiliar!W29) -> OLIMPIA PAR - Ama | D33: =E33+F33+G33 -> 2 | E33: =INDIRECT(Auxiliar!X29) -> 0 | F33: =INDIRECT(Auxiliar!Y29) -> 0 | G33: =INDIRECT(Auxiliar!Z29) -> 2 | H33: =INDIRECT(Auxiliar!AA29) -> 1 | I33: =INDIRECT(Auxiliar!AB29) -> 6 | J33: =H33-I33 -> -5 | K33: =(3*E33)+F33 -> 0 | L33: =IF(ISERR((K33/(D33*3))),0,((K33/(D33*3)))) -> 0

Sheet Auxiliar (2)
A1: ='Tabela da Segunda Fase'!M8 -> BOTAFOGO - JoR | B1: =IF('Tabela da Segunda Fase'!N8<'Tabela da Segunda Fase'!P8,0,IF('Tabela da Segunda Fase'!N8='Tabela da Segunda Fase'!P8,1,IF('Tabela da Segunda Fase'!N8>'Tabela da Segunda Fase'!P8,2))) -> 1 | C1: ='Tabela da Segunda Fase'!Q8 -> BOLIVAR BOL - AnB | D1: =IF('Tabela da Segunda Fase'!N8>'Tabela da Segunda Fase'!P8,0,IF('Tabela da Segunda Fase'!N8='Tabela da Segunda Fase'!P8,1,IF('Tabela da Segunda Fase'!N8<'Tabela da Segunda Fase'!P8,2))) -> 1 | E1: =IF(ISNUMBER('Tabela da Segunda Fase'!N8),1,0) -> 1 | F1: =IF(B1*E1=2,1,0) -> 0 | G1: =IF(B1*E1=1,1,0) -> 1 | H1: =IF(B1=0,IF(E1=1,1,0),0) -> 0 | I1: =IF(E1*D1=2,1,0) -> 0 | J1: =IF(E1*D1=1,1,0) -> 1 | K1: =IF(D1=0,IF(E1=1,1,0),0) -> 0 | L1: SELEÇÕES | M1: V | N1: E | O1: D | P1: GP | Q1: GC | W1: L | X1: M | Y1: N | Z1: O | AA1: P | AB1: Q | AX1: GRUPOS DA SEGUNDA FASE
A2: ='Tabela da Segunda Fase'!M9 -> THE STRONGEST BOL - Jun | B2: =IF('Tabela da Segunda Fase'!N9<'Tabela da Segunda Fase'!P9,0,IF('Tabela da Segunda Fase'!N9='Tabela da Segunda Fase'!P9,1,IF('Tabela da Segunda Fase'!N9>'Tabela da Segunda Fase'!P9,2))) -> 0 | C2: ='Tabela da Segunda Fase'!Q9 -> FLAMENGO - Vas | D2: =IF('Tabela da Segunda Fase'!N9>'Tabela da Segunda Fase'!P9,0,IF('Tabela da Segunda Fase'!N9='Tabela da Segunda Fase'!P9,1,IF('Tabela da Segunda Fase'!N9<'Tabela da Segunda Fase'!P9,2))) -> 2 | E2: =IF(ISNUMBER('Tabela da Segunda Fase'!N9),1,0) -> 1 | F2: =IF(B2*E2=2,1,0) -> 0 | G2: =IF(B2*E2=1,1,0) -> 0 | H2: =IF(B2=0,IF(E2=1,1,0),0) -> 1 | I2: =IF(E2*D2=2,1,0) -> 1 | J2: =IF(E2*D2=1,1,0) -> 0 | K2: =IF(D2=0,IF(E2=1,1,0),0) -> 0 | L2: ='Classif Prim Fase'!C6 -> BOLIVAR BOL - AnB | M2: =SUMIF($A$1:$A$18,L2,$F$1:$F$18)+SUMIF($C$1:$C$18,L2,$I$1:$I$18) -> 0 | N2: =SUMIF($A$1:$A$18,L2,$G$1:$G$18)+SUMIF($C$1:$C$18,L2,$J$1:$J$18) -> 1 | O2: =SUMIF($A$1:$A$18,L2,$H$1:$H$18)+SUMIF($C$1:$C$18,L2,$K$1:$K$18) -> 1 | P2: =SUMIF('Tabela da Segunda Fase'!$M$8:$M$25,L2,'Tabela da Segunda Fase'!$N$8:$N$25)+SUMIF('Tabela da Segunda Fase'!$Q$8:$Q$25,L2,'Tabela da Segunda Fase'!$P$8:$P$25) -> 1 | Q2: =SUMIF('Tabela da Segunda Fase'!$M$8:$M$25,L2,'Tabela da Segunda Fase'!$P$8:$P$25)+SUMIF('Tabela da Segunda Fase'!$Q$8:$Q$25,L2,'Tabela da Segunda Fase'!$N$8:$N$25) -> 4 | R2: =(1000000*((3*M2)+N2))+(10000*M2)+(100*(P2-Q2))+P2+(0.001*(30-T2)) -> 999701.03 | S2: =RANK(R2,$R$2:$R$4) -> 3 | T2: 1 | U2: =IF($S$2=T2,2,0)+IF($S$3=T2,3,0)+IF($S$4=T2,4,0) -> 4 | W2: =CONCATENATE("'Auxiliar (2)'!",W$1,$U2) -> 'Auxiliar (2)'!L4 | X2: =CONCATENATE("'Auxiliar (2)'!",X$1,$U2) -> 'Auxiliar (2)'!M4 | Y2: =CONCATENATE("'Auxiliar (2)'!",Y$1,$U2) -> 'Auxiliar (2)'!N4 | Z2: =CONCATENATE("'Auxiliar (2)'!",Z$1,$U2) -> 'Auxiliar (2)'!O4 | AA2: =CONCATENATE("'Auxiliar (2)'!",AA$1,$U2) -> 'Auxiliar (2)'!P4 | AB2: =CONCATENATE("'Auxiliar (2)'!",AB$1,$U2) -> 'Auxiliar (2)'!Q4 | AC2: OURO | AD2: 1A | AE2: 1B | AF2: 1C | AG2: 1D | AI2: 3A | AJ2: 3B | AX2: H | AY2: I | AZ2: J | BA2: K
A3: ='Tabela da Segunda Fase'!M10 -> ATLÉTICO MG - RoB | B3: =IF('Tabela da Segunda Fase'!N10<'Tabela da Segunda Fase'!P10,0,IF('Tabela da Segunda Fase'!N10='Tabela da Segunda Fase'!P10,1,IF('Tabela da Segunda Fase'!N10>'Tabela da Segunda Fase'!P10,2))) -> 0 | C3: ='Tabela da Segunda Fase'!Q10 -> NACIONAL URU - Ton | D3: =IF('Tabela da Segunda Fase'!N10>'Tabela da Segunda Fase'!P10,0,IF('Tabela da Segunda Fase'!N10='Tabela da Segunda Fase'!P10,1,IF('Tabela da Segunda Fase'!N10<'Tabela da Segunda Fase'!P10,2))) -> 2 | E3: =IF(ISNUMBER('Tabela da Segunda Fase'!N10),1,0) -> 1 | F3: =IF(B3*E3=2,1,0) -> 0 | G3: =IF(B3*E3=1,1,0) -> 0 | H3: =IF(B3=0,IF(E3=1,1,0),0) -> 1 | I3: =IF(E3*D3=2,1,0) -> 1 | J3: =IF(E3*D3=1,1,0) -> 0 | K3: =IF(D3=0,IF(E3=1,1,0),0) -> 0 | L3: ='Classif Prim Fase'!C32 -> PALMEIRAS - Alc | M3: =SUMIF($A$1:$A$18,L3,$F$1:$F$18)+SUMIF($C$1:$C$18,L3,$I$1:$I$18) -> 1 | N3: =SUMIF($A$1:$A$18,L3,$G$1:$G$18)+SUMIF($C$1:$C$18,L3,$J$1:$J$18) -> 0 | O3: =SUMIF($A$1:$A$18,L3,$H$1:$H$18)+SUMIF($C$1:$C$18,L3,$K$1:$K$18) -> 1 | P3: =SUMIF('Tabela da Segunda Fase'!$M$8:$M$25,L3,'Tabela da Segunda Fase'!$N$8:$N$25)+SUMIF('Tabela da Segunda Fase'!$Q$8:$Q$25,L3,'Tabela da Segunda Fase'!$P$8:$P$25) -> 3 | Q3: =SUMIF('Tabela da Segunda Fase'!$M$8:$M$25,L3,'Tabela da Segunda Fase'!$P$8:$P$25)+SUMIF('Tabela da Segunda Fase'!$Q$8:$Q$25,L3,'Tabela da Segunda Fase'!$N$8:$N$25) -> 2 | R3: =(1000000*((3*M3)+N3))+(10000*M3)+(100*(P3-Q3))+P3+(0.001*(30-T3)) -> 3010103 | S3: =RANK(R3,$R$2:$R$4) -> 2 | T3: 2 | U3: =IF($S$2=T3,2,0)+IF($S$3=T3,3,0)+IF($S$4=T3,4,0) -> 3 | W3: =CONCATENATE("'Auxiliar (2)'!",W$1,$U3) -> 'Auxiliar (2)'!L3 | X3: =CONCATENATE("'Auxiliar (2)'!",X$1,$U3) -> 'Auxiliar (2)'!M3 | Y3: =CONCATENATE("'Auxiliar (2)'!",Y$1,$U3) -> 'Auxiliar (2)'!N3 | Z3: =CONCATENATE("'Auxiliar (2)'!",Z$1,$U3) -> 'Auxiliar (2)'!O3 | AA3: =CONCATENATE("'Auxiliar (2)'!",AA$1,$U3) -> 'Auxiliar (2)'!P3 | AB3: =CONCATENATE("'Auxiliar (2)'!",AB$1,$U3) -> 'Auxiliar (2)'!Q3 | AD3: 2F | AE3: 2E | AF3: 1F | AG3: 1E | AI3: 3D | AJ3: 3C | AX3: 1º A | AY3: 1º B | AZ3: 1º C | BA3: 1º D
A4: ='Tabela da Segunda Fase'!M11 -> FLUMINENSE - Sim | B4: =IF('Tabela da Segunda Fase'!N11<'Tabela da Segunda Fase'!P11,0,IF('Tabela da Segunda Fase'!N11='Tabela da Segunda Fase'!P11,1,IF('Tabela da Segunda Fase'!N11>'Tabela da Segunda Fase'!P11,2))) -> 0 | C4: ='Tabela da Segunda Fase'!Q11 -> GRÊMIO - MaF | D4: =IF('Tabela da Segunda Fase'!N11>'Tabela da Segunda Fase'!P11,0,IF('Tabela da Segunda Fase'!N11='Tabela da Segunda Fase'!P11,1,IF('Tabela da Segunda Fase'!N11<'Tabela da Segunda Fase'!P11,2))) -> 2 | E4: =IF(ISNUMBER('Tabela da Segunda Fase'!N11),1,0) -> 1 | F4: =IF(B4*E4=2,1,0) -> 0 | G4: =IF(B4*E4=1,1,0) -> 0 | H4: =IF(B4=0,IF(E4=1,1,0),0) -> 1 | I4: =IF(E4*D4=2,1,0) -> 1 | J4: =IF(E4*D4=1,1,0) -> 0 | K4: =IF(D4=0,IF(E4=1,1,0),0) -> 0 | L4: ='Classif Prim Fase'!C17 -> BOTAFOGO - JoR | M4: =SUMIF($A$1:$A$18,L4,$F$1:$F$18)+SUMIF($C$1:$C$18,L4,$I$1:$I$18) -> 1 | N4: =SUMIF($A$1:$A$18,L4,$G$1:$G$18)+SUMIF($C$1:$C$18,L4,$J$1:$J$18) -> 1 | O4: =SUMIF($A$1:$A$18,L4,$H$1:$H$18)+SUMIF($C$1:$C$18,L4,$K$1:$K$18) -> 0 | P4: =SUMIF('Tabela da Segunda Fase'!$M$8:$M$25,L4,'Tabela da Segunda Fase'!$N$8:$N$25)+SUMIF('Tabela da Segunda Fase'!$Q$8:$Q$25,L4,'Tabela da Segunda Fase'!$P$8:$P$25) -> 3 | Q4: =SUMIF('Tabela da Segunda Fase'!$M$8:$M$25,L4,'Tabela da Segunda Fase'!$P$8:$P$25)+SUMIF('Tabela da Segunda Fase'!$Q$8:$Q$25,L4,'Tabela da Segunda Fase'!$N$8:$N$25) -> 1 | R4: =(1000000*((3*M4)+N4))+(10000*M4)+(100*(P4-Q4))+P4+(0.001*(30-T4)) -> 4010203 | S4: =RANK(R4,$R$2:$R$4) -> 1 | T4: 3 | U4: =IF($S$2=T4,2,0)+IF($S$3=T4,3,0)+IF($S$4=T4,4,0) -> 2 | W4: =CONCATENATE("'Auxiliar (2)'!",W$1,$U4) -> 'Auxiliar (2)'!L2 | X4: =CONCATENATE("'Auxiliar (2)'!",X$1,$U4) -> 'Auxiliar (2)'!M2 | Y4: =CONCATENATE("'Auxiliar (2)'!",Y$1,$U4) -> 'Auxiliar (2)'!N2 | Z4: =CONCATENATE("'Auxiliar (2)'!",Z$1,$U4) -> 'Auxiliar (2)'!O2 | AA4: =CONCATENATE("'Auxiliar (2)'!",AA$1,$U4) -> 'Auxiliar (2)'!P2 | AB4: =CONCATENATE("'Auxiliar (2)'!",AB$1,$U4) -> 'Auxiliar (2)'!Q2 | AD4: 2C | AE4: 2D | AF4: 2A | AG4: 2B | AI4: 3E | AJ4: 3F | AX4: 1º mel. 2º | AY4: 1º G | AZ4: 1º F | BA4: 1º E
A5: ='Tabela da Segunda Fase'!M12 -> RACING ARG - RoG | B5: =IF('Tabela da Segunda Fase'!N12<'Tabela da Segunda Fase'!P12,0,IF('Tabela da Segunda Fase'!N12='Tabela da Segunda Fase'!P12,1,IF('Tabela da Segunda Fase'!N12>'Tabela da Segunda Fase'!P12,2))) -> 1 | C5: ='Tabela da Segunda Fase'!Q12 -> VASCO DA GAMA - Pim | D5: =IF('Tabela da Segunda Fase'!N12>'Tabela da Segunda Fase'!P12,0,IF('Tabela da Segunda Fase'!N12='Tabela da Segunda Fase'!P12,1,IF('Tabela da Segunda Fase'!N12<'Tabela da Segunda Fase'!P12,2))) -> 1 | E5: =IF(ISNUMBER('Tabela da Segunda Fase'!N12),1,0) -> 1 | F5: =IF(B5*E5=2,1,0) -> 0 | G5: =IF(B5*E5=1,1,0) -> 1 | H5: =IF(B5=0,IF(E5=1,1,0),0) -> 0 | I5: =IF(E5*D5=2,1,0) -> 0 | J5: =IF(E5*D5=1,1,0) -> 1 | K5: =IF(D5=0,IF(E5=1,1,0),0) -> 0 | AX5: 2º mel. 2º | AY5: 3º mel. 2º | AZ5: 4º mel. 2º | BA5: 5º mel. 2º
A6: ='Tabela da Segunda Fase'!M13 -> OLIMPIA PAR - Ama | B6: =IF('Tabela da Segunda Fase'!N13<'Tabela da Segunda Fase'!P13,0,IF('Tabela da Segunda Fase'!N13='Tabela da Segunda Fase'!P13,1,IF('Tabela da Segunda Fase'!N13>'Tabela da Segunda Fase'!P13,2))) -> 2 | C6: ='Tabela da Segunda Fase'!Q13 -> COLO COLO CHI - Mal | D6: =IF('Tabela da Segunda Fase'!N13>'Tabela da Segunda Fase'!P13,0,IF('Tabela da Segunda Fase'!N13='Tabela da Segunda Fase'!P13,1,IF('Tabela da Segunda Fase'!N13<'Tabela da Segunda Fase'!P13,2))) -> 0 | E6: =IF(ISNUMBER('Tabela da Segunda Fase'!N13),1,0) -> 1 | F6: =IF(B6*E6=2,1,0) -> 1 | G6: =IF(B6*E6=1,1,0) -> 0 | H6: =IF(B6=0,IF(E6=1,1,0),0) -> 0 | I6: =IF(E6*D6=2,1,0) -> 0 | J6: =IF(E6*D6=1,1,0) -> 0 | K6: =IF(D6=0,IF(E6=1,1,0),0) -> 1 | L6: ='Classif Prim Fase'!C11 -> FLAMENGO - Vas | M6: =SUMIF($A$1:$A$18,L6,$F$1:$F$18)+SUMIF($C$1:$C$18,L6,$I$1:$I$18) -> 2 | N6: =SUMIF($A$1:$A$18,L6,$G$1:$G$18)+SUMIF($C$1:$C$18,L6,$J$1:$J$18) -> 0 | O6: =SUMIF($A$1:$A$18,L6,$H$1:$H$18)+SUMIF($C$1:$C$18,L6,$K$1:$K$18) -> 0 | P6: =SUMIF('Tabela da Segunda Fase'!$M$8:$M$25,L6,'Tabela da Segunda Fase'!$N$8:$N$25)+SUMIF('Tabela da Segunda Fase'!$Q$8:$Q$25,L6,'Tabela da Segunda Fase'!$P$8:$P$25) -> 4 | Q6: =SUMIF('Tabela da Segunda Fase'!$M$8:$M$25,L6,'Tabela da Segunda Fase'!$P$8:$P$25)+SUMIF('Tabela da Segunda Fase'!$Q$8:$Q$25,L6,'Tabela da Segunda Fase'!$N$8:$N$25) -> 0 | R6: =(1000000*((3*M6)+N6))+(10000*M6)+(100*(P6-Q6))+P6+(0.001*(30-T6)) -> 6020404 | S6: =RANK(R6,$R$6:$R$8) -> 1 | T6: 1 | U6: =IF($S$6=T6,6,0)+IF($S$7=T6,7,0)+IF($S$8=T6,8,0) -> 6 | W6: =CONCATENATE("'Auxiliar (2)'!",W$1,$U6) -> 'Auxiliar (2)'!L6 | X6: =CONCATENATE("'Auxiliar (2)'!",X$1,$U6) -> 'Auxiliar (2)'!M6 | Y6: =CONCATENATE("'Auxiliar (2)'!",Y$1,$U6) -> 'Auxiliar (2)'!N6 | Z6: =CONCATENATE("'Auxiliar (2)'!",Z$1,$U6) -> 'Auxiliar (2)'!O6 | AA6: =CONCATENATE("'Auxiliar (2)'!",AA$1,$U6) -> 'Auxiliar (2)'!P6 | AB6: =CONCATENATE("'Auxiliar (2)'!",AB$1,$U6) -> 'Auxiliar (2)'!Q6
A7: ='Tabela da Segunda Fase'!M14 -> PALMEIRAS - Alc | B7: =IF('Tabela da Segunda Fase'!N14<'Tabela da Segunda Fase'!P14,0,IF('Tabela da Segunda Fase'!N14='Tabela da Segunda Fase'!P14,1,IF('Tabela da Segunda Fase'!N14>'Tabela da Segunda Fase'!P14,2))) -> 0 | C7: ='Tabela da Segunda Fase'!Q14 -> BOTAFOGO - JoR | D7: =IF('Tabela da Segunda Fase'!N14>'Tabela da Segunda Fase'!P14,0,IF('Tabela da Segunda Fase'!N14='Tabela da Segunda Fase'!P14,1,IF('Tabela da Segunda Fase'!N14<'Tabela da Segunda Fase'!P14,2))) -> 2 | E7: =IF(ISNUMBER('Tabela da Segunda Fase'!N14),1,0) -> 1 | F7: =IF(B7*E7=2,1,0) -> 0 | G7: =IF(B7*E7=1,1,0) -> 0 | H7: =IF(B7=0,IF(E7=1,1,0),0) -> 1 | I7: =IF(E7*D7=2,1,0) -> 1 | J7: =IF(E7*D7=1,1,0) -> 0 | K7: =IF(D7=0,IF(E7=1,1,0),0) -> 0 | L7: ='Classif Prim Fase'!C27 -> INDEPENDIENTE ARG - Mar | M7: =SUMIF($A$1:$A$18,L7,$F$1:$F$18)+SUMIF($C$1:$C$18,L7,$I$1:$I$18) -> 0 | N7: =SUMIF($A$1:$A$18,L7,$G$1:$G$18)+SUMIF($C$1:$C$18,L7,$J$1:$J$18) -> 0 | O7: =SUMIF($A$1:$A$18,L7,$H$1:$H$18)+SUMIF($C$1:$C$18,L7,$K$1:$K$18) -> 2 | P7: =SUMIF('Tabela da Segunda Fase'!$M$8:$M$25,L7,'Tabela da Segunda Fase'!$N$8:$N$25)+SUMIF('Tabela da Segunda Fase'!$Q$8:$Q$25,L7,'Tabela da Segunda Fase'!$P$8:$P$25) -> 0 | Q7: =SUMIF('Tabela da Segunda Fase'!$M$8:$M$25,L7,'Tabela da Segunda Fase'!$P$8:$P$25)+SUMIF('Tabela da Segunda Fase'!$Q$8:$Q$25,L7,'Tabela da Segunda Fase'!$N$8:$N$25) -> 5 | R7: =(1000000*((3*M7)+N7))+(10000*M7)+(100*(P7-Q7))+P7+(0.001*(30-T7)) -> -499.972 | S7: =RANK(R7,$R$6:$R$8) -> 3 | T7: 2 | U7: =IF($S$6=T7,6,0)+IF($S$7=T7,7,0)+IF($S$8=T7,8,0) -> 8 | W7: =CONCATENATE("'Auxiliar (2)'!",W$1,$U7) -> 'Auxiliar (2)'!L8 | X7: =CONCATENATE("'Auxiliar (2)'!",X$1,$U7) -> 'Auxiliar (2)'!M8 | Y7: =CONCATENATE("'Auxiliar (2)'!",Y$1,$U7) -> 'Auxiliar (2)'!N8 | Z7: =CONCATENATE("'Auxiliar (2)'!",Z$1,$U7) -> 'Auxiliar (2)'!O8 | AA7: =CONCATENATE("'Auxiliar (2)'!",AA$1,$U7) -> 'Auxiliar (2)'!P8 | AB7: =CONCATENATE("'Auxiliar (2)'!",AB$1,$U7) -> 'Auxiliar (2)'!Q8
A8: ='Tabela da Segunda Fase'!M15 -> INDEPENDIENTE ARG - Mar | B8: =IF('Tabela da Segunda Fase'!N15<'Tabela da Segunda Fase'!P15,0,IF('Tabela da Segunda Fase'!N15='Tabela da Segunda Fase'!P15,1,IF('Tabela da Segunda Fase'!N15>'Tabela da Segunda Fase'!P15,2))) -> 0 | C8: ='Tabela da Segunda Fase'!Q15 -> THE STRONGEST BOL - Jun | D8: =IF('Tabela da Segunda Fase'!N15>'Tabela da Segunda Fase'!P15,0,IF('Tabela da Segunda Fase'!N15='Tabela da Segunda Fase'!P15,1,IF('Tabela da Segunda Fase'!N15<'Tabela da Segunda Fase'!P15,2))) -> 2 | E8: =IF(ISNUMBER('Tabela da Segunda Fase'!N15),1,0) -> 1 | F8: =IF(B8*E8=2,1,0) -> 0 | G8: =IF(B8*E8=1,1,0) -> 0 | H8: =IF(B8=0,IF(E8=1,1,0),0) -> 1 | I8: =IF(E8*D8=2,1,0) -> 1 | J8: =IF(E8*D8=1,1,0) -> 0 | K8: =IF(D8=0,IF(E8=1,1,0),0) -> 0 | L8: ='Classif Prim Fase'!C22 -> THE STRONGEST BOL - Jun | M8: =SUMIF($A$1:$A$18,L8,$F$1:$F$18)+SUMIF($C$1:$C$18,L8,$I$1:$I$18) -> 1 | N8: =SUMIF($A$1:$A$18,L8,$G$1:$G$18)+SUMIF($C$1:$C$18,L8,$J$1:$J$18) -> 0 | O8: =SUMIF($A$1:$A$18,L8,$H$1:$H$18)+SUMIF($C$1:$C$18,L8,$K$1:$K$18) -> 1 | P8: =SUMIF('Tabela da Segunda Fase'!$M$8:$M$25,L8,'Tabela da Segunda Fase'!$N$8:$N$25)+SUMIF('Tabela da Segunda Fase'!$Q$8:$Q$25,L8,'Tabela da Segunda Fase'!$P$8:$P$25) -> 2 | Q8: =SUMIF('Tabela da Segunda Fase'!$M$8:$M$25,L8,'Tabela da Segunda Fase'!$P$8:$P$25)+SUMIF('Tabela da Segunda Fase'!$Q$8:$Q$25,L8,'Tabela da Segunda Fase'!$N$8:$N$25) -> 1 | R8: =(1000000*((3*M8)+N8))+(10000*M8)+(100*(P8-Q8))+P8+(0.001*(30-T8)) -> 3010102 | S8: =RANK(R8,$R$6:$R$8) -> 2 | T8: 3 | U8: =IF($S$6=T8,6,0)+IF($S$7=T8,7,0)+IF($S$8=T8,8,0) -> 7 | W8: =CONCATENATE("'Auxiliar (2)'!",W$1,$U8) -> 'Auxiliar (2)'!L7 | X8: =CONCATENATE("'Auxiliar (2)'!",X$1,$U8) -> 'Auxiliar (2)'!M7 | Y8: =CONCATENATE("'Auxiliar (2)'!",Y$1,$U8) -> 'Auxiliar (2)'!N7 | Z8: =CONCATENATE("'Auxiliar (2)'!",Z$1,$U8) -> 'Auxiliar (2)'!O7 | AA8: =CONCATENATE("'Auxiliar (2)'!",AA$1,$U8) -> 'Auxiliar (2)'!P7 | AB8: =CONCATENATE("'Auxiliar (2)'!",AB$1,$U8) -> 'Auxiliar (2)'!Q7
A9: ='Tabela da Segunda Fase'!M16 -> CRUZEIRO - PC | B9: =IF('Tabela da Segunda Fase'!N16<'Tabela da Segunda Fase'!P16,0,IF('Tabela da Segunda Fase'!N16='Tabela da Segunda Fase'!P16,1,IF('Tabela da Segunda Fase'!N16>'Tabela da Segunda Fase'!P16,2))) -> 2 | C9: ='Tabela da Segunda Fase'!Q16 -> ATLÉTICO MG - RoB | D9: =IF('Tabela da Segunda Fase'!N16>'Tabela da Segunda Fase'!P16,0,IF('Tabela da Segunda Fase'!N16='Tabela da Segunda Fase'!P16,1,IF('Tabela da Segunda Fase'!N16<'Tabela da Segunda Fase'!P16,2))) -> 0 | E9: =IF(ISNUMBER('Tabela da Segunda Fase'!N16),1,0) -> 1 | F9: =IF(B9*E9=2,1,0) -> 1 | G9: =IF(B9*E9=1,1,0) -> 0 | H9: =IF(B9=0,IF(E9=1,1,0),0) -> 0 | I9: =IF(E9*D9=2,1,0) -> 0 | J9: =IF(E9*D9=1,1,0) -> 0 | K9: =IF(D9=0,IF(E9=1,1,0),0) -> 1
A10: ='Tabela da Segunda Fase'!M17 -> INTERNACIONAL - MaS | B10: =IF('Tabela da Segunda Fase'!N17<'Tabela da Segunda Fase'!P17,0,IF('Tabela da Segunda Fase'!N17='Tabela da Segunda Fase'!P17,1,IF('Tabela da Segunda Fase'!N17>'Tabela da Segunda Fase'!P17,2))) -> 2 | C10: ='Tabela da Segunda Fase'!Q17 -> FLUMINENSE - Sim | D10: =IF('Tabela da Segunda Fase'!N17>'Tabela da Segunda Fase'!P17,0,IF('Tabela da Segunda Fase'!N17='Tabela da Segunda Fase'!P17,1,IF('Tabela da Segunda Fase'!N17<'Tabela da Segunda Fase'!P17,2))) -> 0 | E10: =IF(ISNUMBER('Tabela da Segunda Fase'!N17),1,0) -> 1 | F10: =IF(B10*E10=2,1,0) -> 1 | G10: =IF(B10*E10=1,1,0) -> 0 | H10: =IF(B10=0,IF(E10=1,1,0),0) -> 0 | I10: =IF(E10*D10=2,1,0) -> 0 | J10: =IF(E10*D10=1,1,0) -> 0 | K10: =IF(D10=0,IF(E10=1,1,0),0) -> 1 | L10: ='Classif Prim Fase'!C16 -> NACIONAL URU - Ton | M10: =SUMIF($A$1:$A$18,L10,$F$1:$F$18)+SUMIF($C$1:$C$18,L10,$I$1:$I$18) -> 2 | N10: =SUMIF($A$1:$A$18,L10,$G$1:$G$18)+SUMIF($C$1:$C$18,L10,$J$1:$J$18) -> 0 | O10: =SUMIF($A$1:$A$18,L10,$H$1:$H$18)+SUMIF($C$1:$C$18,L10,$K$1:$K$18) -> 0 | P10: =SUMIF('Tabela da Segunda Fase'!$M$8:$M$25,L10,'Tabela da Segunda Fase'!$N$8:$N$25)+SUMIF('Tabela da Segunda Fase'!$Q$8:$Q$25,L10,'Tabela da Segunda Fase'!$P$8:$P$25) -> 7 | Q10: =SUMIF('Tabela da Segunda Fase'!$M$8:$M$25,L10,'Tabela da Segunda Fase'!$P$8:$P$25)+SUMIF('Tabela da Segunda Fase'!$Q$8:$Q$25,L10,'Tabela da Segunda Fase'!$N$8:$N$25) -> 0 | R10: =(1000000*((3*M10)+N10))+(10000*M10)+(100*(P10-Q10))+P10+(0.001*(30-T10)) -> 6020707 | S10: =RANK(R10,$R$10:$R$13) -> 1 | T10: 1 | U10: =IF($S$10=T10,10,0)+IF($S$11=T10,11,0)+IF($S$12=T10,12,0) -> 10 | W10: =CONCATENATE("'Auxiliar (2)'!",W$1,$U10) -> 'Auxiliar (2)'!L10 | X10: =CONCATENATE("'Auxiliar (2)'!",X$1,$U10) -> 'Auxiliar (2)'!M10 | Y10: =CONCATENATE("'Auxiliar (2)'!",Y$1,$U10) -> 'Auxiliar (2)'!N10 | Z10: =CONCATENATE("'Auxiliar (2)'!",Z$1,$U10) -> 'Auxiliar (2)'!O10 | AA10: =CONCATENATE("'Auxiliar (2)'!",AA$1,$U10) -> 'Auxiliar (2)'!P10 | AB10: =CONCATENATE("'Auxiliar (2)'!",AB$1,$U10) -> 'Auxiliar (2)'!Q10
A11: ='Tabela da Segunda Fase'!M18 -> BOCA JUNIORS ARG - Aéc | B11: =IF('Tabela da Segunda Fase'!N18<'Tabela da Segunda Fase'!P18,0,IF('Tabela da Segunda Fase'!N18='Tabela da Segunda Fase'!P18,1,IF('Tabela da Segunda Fase'!N18>'Tabela da Segunda Fase'!P18,2))) -> 1 | C11: ='Tabela da Segunda Fase'!Q18 -> RACING ARG - RoG | D11: =IF('Tabela da Segunda Fase'!N18>'Tabela da Segunda Fase'!P18,0,IF('Tabela da Segunda Fase'!N18='Tabela da Segunda Fase'!P18,1,IF('Tabela da Segunda Fase'!N18<'Tabela da Segunda Fase'!P18,2))) -> 1 | E11: =IF(ISNUMBER('Tabela da Segunda Fase'!N18),1,0) -> 1 | F11: =IF(B11*E11=2,1,0) -> 0 | G11: =IF(B11*E11=1,1,0) -> 1 | H11: =IF(B11=0,IF(E11=1,1,0),0) -> 0 | I11: =IF(E11*D11=2,1,0) -> 0 | J11: =IF(E11*D11=1,1,0) -> 1 | K11: =IF(D11=0,IF(E11=1,1,0),0) -> 0 | L11: ='Classif Prim Fase'!C31 -> CRUZEIRO - PC | M11: =SUMIF($A$1:$A$18,L11,$F$1:$F$18)+SUMIF($C$1:$C$18,L11,$I$1:$I$18) -> 1 | N11: =SUMIF($A$1:$A$18,L11,$G$1:$G$18)+SUMIF($C$1:$C$18,L11,$J$1:$J$18) -> 0 | O11: =SUMIF($A$1:$A$18,L11,$H$1:$H$18)+SUMIF($C$1:$C$18,L11,$K$1:$K$18) -> 1 | P11: =SUMIF('Tabela da Segunda Fase'!$M$8:$M$25,L11,'Tabela da Segunda Fase'!$N$8:$N$25)+SUMIF('Tabela da Segunda Fase'!$Q$8:$Q$25,L11,'Tabela da Segunda Fase'!$P$8:$P$25) -> 3 | Q11: =SUMIF('Tabela da Segunda Fase'!$M$8:$M$25,L11,'Tabela da Segunda Fase'!$P$8:$P$25)+SUMIF('Tabela da Segunda Fase'!$Q$8:$Q$25,L11,'Tabela da Segunda Fase'!$N$8:$N$25) -> 3 | R11: =(1000000*((3*M11)+N11))+(10000*M11)+(100*(P11-Q11))+P11+(0.001*(30-T11)) -> 3010003 | S11: =RANK(R11,$R$10:$R$13) -> 2 | T11: 2 | U11: =IF($S$10=T11,10,0)+IF($S$11=T11,11,0)+IF($S$12=T11,12,0) -> 11 | W11: =CONCATENATE("'Auxiliar (2)'!",W$1,$U11) -> 'Auxiliar (2)'!L11 | X11: =CONCATENATE("'Auxiliar (2)'!",X$1,$U11) -> 'Auxiliar (2)'!M11 | Y11: =CONCATENATE("'Auxiliar (2)'!",Y$1,$U11) -> 'Auxiliar (2)'!N11 | Z11: =CONCATENATE("'Auxiliar (2)'!",Z$1,$U11) -> 'Auxiliar (2)'!O11 | AA11: =CONCATENATE("'Auxiliar (2)'!",AA$1,$U11) -> 'Auxiliar (2)'!P11 | AB11: =CONCATENATE("'Auxiliar (2)'!",AB$1,$U11) -> 'Auxiliar (2)'!Q11
A12: ='Tabela da Segunda Fase'!M19 -> NÁUTICO - Jea | B12: =IF('Tabela da Segunda Fase'!N19<'Tabela da Segunda Fase'!P19,0,IF('Tabela da Segunda Fase'!N19='Tabela da Segunda Fase'!P19,1,IF('Tabela da Segunda Fase'!N19>'Tabela da Segunda Fase'!P19,2))) -> 2 | C12: ='Tabela da Segunda Fase'!Q19 -> COLO COLO CHI - Mal | D12: =IF('Tabela da Segunda Fase'!N19>'Tabela da Segunda Fase'!P19,0,IF('Tabela da Segunda Fase'!N19='Tabela da Segunda Fase'!P19,1,IF('Tabela da Segunda Fase'!N19<'Tabela da Segunda Fase'!P19,2))) -> 0 | E12: =IF(ISNUMBER('Tabela da Segunda Fase'!N19),1,0) -> 1 | F12: =IF(B12*E12=2,1,0) -> 1 | G12: =IF(B12*E12=1,1,0) -> 0 | H12: =IF(B12=0,IF(E12=1,1,0),0) -> 0 | I12: =IF(E12*D12=2,1,0) -> 0 | J12: =IF(E12*D12=1,1,0) -> 0 | K12: =IF(D12=0,IF(E12=1,1,0),0) -> 1 | L12: ='Classif Prim Fase'!C7 -> ATLÉTICO MG - RoB | M12: =SUMIF($A$1:$A$18,L12,$F$1:$F$18)+SUMIF($C$1:$C$18,L12,$I$1:$I$18) -> 0 | N12: =SUMIF($A$1:$A$18,L12,$G$1:$G$18)+SUMIF($C$1:$C$18,L12,$J$1:$J$18) -> 0 | O12: =SUMIF($A$1:$A$18,L12,$H$1:$H$18)+SUMIF($C$1:$C$18,L12,$K$1:$K$18) -> 2 | P12: =SUMIF('Tabela da Segunda Fase'!$M$8:$M$25,L12,'Tabela da Segunda Fase'!$N$8:$N$25)+SUMIF('Tabela da Segunda Fase'!$Q$8:$Q$25,L12,'Tabela da Segunda Fase'!$P$8:$P$25) -> 1 | Q12: =SUMIF('Tabela da Segunda Fase'!$M$8:$M$25,L12,'Tabela da Segunda Fase'!$P$8:$P$25)+SUMIF('Tabela da Segunda Fase'!$Q$8:$Q$25,L12,'Tabela da Segunda Fase'!$N$8:$N$25) -> 8 | R12: =(1000000*((3*M12)+N12))+(10000*M12)+(100*(P12-Q12))+P12+(0.001*(30-T12)) -> -698.973 | S12: =RANK(R12,$R$10:$R$13) -> 3 | T12: 3 | U12: =IF($S$10=T12,10,0)+IF($S$11=T12,11,0)+IF($S$12=T12,12,0) -> 12 | W12: =CONCATENATE("'Auxiliar (2)'!",W$1,$U12) -> 'Auxiliar (2)'!L12 | X12: =CONCATENATE("'Auxiliar (2)'!",X$1,$U12) -> 'Auxiliar (2)'!M12 | Y12: =CONCATENATE("'Auxiliar (2)'!",Y$1,$U12) -> 'Auxiliar (2)'!N12 | Z12: =CONCATENATE("'Auxiliar (2)'!",Z$1,$U12) -> 'Auxiliar (2)'!O12 | AA12: =CONCATENATE("'Auxiliar (2)'!",AA$1,$U12) -> 'Auxiliar (2)'!P12 | AB12: =CONCATENATE("'Auxiliar (2)'!",AB$1,$U12) -> 'Auxiliar (2)'!Q12
A13: ='Tabela da Segunda Fase'!M20 -> BOLIVAR BOL - AnB | B13: =IF('Tabela da Segunda Fase'!N20<'Tabela da Segunda Fase'!P20,0,IF('Tabela da Segunda Fase'!N20='Tabela da Segunda Fase'!P20,1,IF('Tabela da Segunda Fase'!N20>'Tabela da Segunda Fase'!P20,2))) -> 0 | C13: ='Tabela da Segunda Fase'!Q20 -> PALMEIRAS - Alc | D13: =IF('Tabela da Segunda Fase'!N20>'Tabela da Segunda Fase'!P20,0,IF('Tabela da Segunda Fase'!N20='Tabela da Segunda Fase'!P20,1,IF('Tabela da Segunda Fase'!N20<'Tabela da Segunda Fase'!P20,2))) -> 2 | E13: =IF(ISNUMBER('Tabela da Segunda Fase'!N20),1,0) -> 1 | F13: =IF(B13*E13=2,1,0) -> 0 | G13: =IF(B13*E13=1,1,0) -> 0 | H13: =IF(B13=0,IF(E13=1,1,0),0) -> 1 | I13: =IF(E13*D13=2,1,0) -> 1 | J13: =IF(E13*D13=1,1,0) -> 0 | K13: =IF(D13=0,IF(E13=1,1,0),0) -> 0
A14: ='Tabela da Segunda Fase'!M21 -> FLAMENGO - Vas | B14: =IF('Tabela da Segunda Fase'!N21<'Tabela da Segunda Fase'!P21,0,IF('Tabela da Segunda Fase'!N21='Tabela da Segunda Fase'!P21,1,IF('Tabela da Segunda Fase'!N21>'Tabela da Segunda Fase'!P21,2))) -> 2 | C14: ='Tabela da Segunda Fase'!Q21 -> INDEPENDIENTE ARG - Mar | D14: =IF('Tabela da Segunda Fase'!N21>'Tabela da Segunda Fase'!P21,0,IF('Tabela da Segunda Fase'!N21='Tabela da Segunda Fase'!P21,1,IF('Tabela da Segunda Fase'!N21<'Tabela da Segunda Fase'!P21,2))) -> 0 | E14: =IF(ISNUMBER('Tabela da Segunda Fase'!N21),1,0) -> 1 | F14: =IF(B14*E14=2,1,0) -> 1 | G14: =IF(B14*E14=1,1,0) -> 0 | H14: =IF(B14=0,IF(E14=1,1,0),0) -> 0 | I14: =IF(E14*D14=2,1,0) -> 0 | J14: =IF(E14*D14=1,1,0) -> 0 | K14: =IF(D14=0,IF(E14=1,1,0),0) -> 1 | L14: ='Classif Prim Fase'!C21 -> GRÊMIO - MaF | M14: =SUMIF($A$1:$A$18,L14,$F$1:$F$18)+SUMIF($C$1:$C$18,L14,$I$1:$I$18) -> 2 | N14: =SUMIF($A$1:$A$18,L14,$G$1:$G$18)+SUMIF($C$1:$C$18,L14,$J$1:$J$18) -> 0 | O14: =SUMIF($A$1:$A$18,L14,$H$1:$H$18)+SUMIF($C$1:$C$18,L14,$K$1:$K$18) -> 0 | P14: =SUMIF('Tabela da Segunda Fase'!$M$8:$M$25,L14,'Tabela da Segunda Fase'!$N$8:$N$25)+SUMIF('Tabela da Segunda Fase'!$Q$8:$Q$25,L14,'Tabela da Segunda Fase'!$P$8:$P$25) -> 7 | Q14: =SUMIF('Tabela da Segunda Fase'!$M$8:$M$25,L14,'Tabela da Segunda Fase'!$P$8:$P$25)+SUMIF('Tabela da Segunda Fase'!$Q$8:$Q$25,L14,'Tabela da Segunda Fase'!$N$8:$N$25) -> 2 | R14: =(1000000*((3*M14)+N14))+(10000*M14)+(100*(P14-Q14))+P14+(0.001*(30-T14)) -> 6020507 | S14: =RANK(R14,$R$14:$R$16) -> 1 | T14: 1 | U14: =IF($S$14=T14,14,0)+IF($S$15=T14,15,0)+IF($S$16=T14,16,0) -> 14 | W14: =CONCATENATE("'Auxiliar (2)'!",W$1,$U14) -> 'Auxiliar (2)'!L14 | X14: =CONCATENATE("'Auxiliar (2)'!",X$1,$U14) -> 'Auxiliar (2)'!M14 | Y14: =CONCATENATE("'Auxiliar (2)'!",Y$1,$U14) -> 'Auxiliar (2)'!N14 | Z14: =CONCATENATE("'Auxiliar (2)'!",Z$1,$U14) -> 'Auxiliar (2)'!O14 | AA14: =CONCATENATE("'Auxiliar (2)'!",AA$1,$U14) -> 'Auxiliar (2)'!P14 | AB14: =CONCATENATE("'Auxiliar (2)'!",AB$1,$U14) -> 'Auxiliar (2)'!Q14
A15: ='Tabela da Segunda Fase'!M22 -> NACIONAL URU - Ton | B15: =IF('Tabela da Segunda Fase'!N22<'Tabela da Segunda Fase'!P22,0,IF('Tabela da Segunda Fase'!N22='Tabela da Segunda Fase'!P22,1,IF('Tabela da Segunda Fase'!N22>'Tabela da Segunda Fase'!P22,2))) -> 2 | C15: ='Tabela da Segunda Fase'!Q22 -> CRUZEIRO - PC | D15: =IF('Tabela da Segunda Fase'!N22>'Tabela da Segunda Fase'!P22,0,IF('Tabela da Segunda Fase'!N22='Tabela da Segunda Fase'!P22,1,IF('Tabela da Segunda Fase'!N22<'Tabela da Segunda Fase'!P22,2))) -> 0 | E15: =IF(ISNUMBER('Tabela da Segunda Fase'!N22),1,0) -> 1 | F15: =IF(B15*E15=2,1,0) -> 1 | G15: =IF(B15*E15=1,1,0) -> 0 | H15: =IF(B15=0,IF(E15=1,1,0),0) -> 0 | I15: =IF(E15*D15=2,1,0) -> 0 | J15: =IF(E15*D15=1,1,0) -> 0 | K15: =IF(D15=0,IF(E15=1,1,0),0) -> 1 | L15: ='Classif Prim Fase'!C26 -> INTERNACIONAL - MaS | M15: =SUMIF($A$1:$A$18,L15,$F$1:$F$18)+SUMIF($C$1:$C$18,L15,$I$1:$I$18) -> 1 | N15: =SUMIF($A$1:$A$18,L15,$G$1:$G$18)+SUMIF($C$1:$C$18,L15,$J$1:$J$18) -> 0 | O15: =SUMIF($A$1:$A$18,L15,$H$1:$H$18)+SUMIF($C$1:$C$18,L15,$K$1:$K$18) -> 1 | P15: =SUMIF('Tabela da Segunda Fase'!$M$8:$M$25,L15,'Tabela da Segunda Fase'!$N$8:$N$25)+SUMIF('Tabela da Segunda Fase'!$Q$8:$Q$25,L15,'Tabela da Segunda Fase'!$P$8:$P$25) -> 3 | Q15: =SUMIF('Tabela da Segunda Fase'!$M$8:$M$25,L15,'Tabela da Segunda Fase'!$P$8:$P$25)+SUMIF('Tabela da Segunda Fase'!$Q$8:$Q$25,L15,'Tabela da Segunda Fase'!$N$8:$N$25) -> 4 | R15: =(1000000*((3*M15)+N15))+(10000*M15)+(100*(P15-Q15))+P15+(0.001*(30-T15)) -> 3009903 | S15: =RANK(R15,$R$14:$R$16) -> 2 | T15: 2 | U15: =IF($S$14=T15,14,0)+IF($S$15=T15,15,0)+IF($S$16=T15,16,0) -> 15 | W15: =CONCATENATE("'Auxiliar (2)'!",W$1,$U15) -> 'Auxiliar (2)'!L15 | X15: =CONCATENATE("'Auxiliar (2)'!",X$1,$U15) -> 'Auxiliar (2)'!M15 | Y15: =CONCATENATE("'Auxiliar (2)'!",Y$1,$U15) -> 'Auxiliar (2)'!N15 | Z15: =CONCATENATE("'Auxiliar (2)'!",Z$1,$U15) -> 'Auxiliar (2)'!O15 | AA15: =CONCATENATE("'Auxiliar (2)'!",AA$1,$U15) -> 'Auxiliar (2)'!P15 | AB15: =CONCATENATE("'Auxiliar (2)'!",AB$1,$U15) -> 'Auxiliar (2)'!Q15
A16: ='Tabela da Segunda Fase'!M23 -> GRÊMIO - MaF | B16: =IF('Tabela da Segunda Fase'!N23<'Tabela da Segunda Fase'!P23,0,IF('Tabela da Segunda Fase'!N23='Tabela da Segunda Fase'!P23,1,IF('Tabela da Segunda Fase'!N23>'Tabela da Segunda Fase'!P23,2))) -> 2 | C16: ='Tabela da Segunda Fase'!Q23 -> INTERNACIONAL - MaS | D16: =IF('Tabela da Segunda Fase'!N23>'Tabela da Segunda Fase'!P23,0,IF('Tabela da Segunda Fase'!N23='Tabela da Segunda Fase'!P23,1,IF('Tabela da Segunda Fase'!N23<'Tabela da Segunda Fase'!P23,2))) -> 0 | E16: =IF(ISNUMBER('Tabela da Segunda Fase'!N23),1,0) -> 1 | F16: =IF(B16*E16=2,1,0) -> 1 | G16: =IF(B16*E16=1,1,0) -> 0 | H16: =IF(B16=0,IF(E16=1,1,0),0) -> 0 | I16: =IF(E16*D16=2,1,0) -> 0 | J16: =IF(E16*D16=1,1,0) -> 0 | K16: =IF(D16=0,IF(E16=1,1,0),0) -> 1 | L16: ='Classif Prim Fase'!C12 -> FLUMINENSE - Sim | M16: =SUMIF($A$1:$A$18,L16,$F$1:$F$18)+SUMIF($C$1:$C$18,L16,$I$1:$I$18) -> 0 | N16: =SUMIF($A$1:$A$18,L16,$G$1:$G$18)+SUMIF($C$1:$C$18,L16,$J$1:$J$18) -> 0 | O16: =SUMIF($A$1:$A$18,L16,$H$1:$H$18)+SUMIF($C$1:$C$18,L16,$K$1:$K$18) -> 2 | P16: =SUMIF('Tabela da Segunda Fase'!$M$8:$M$25,L16,'Tabela da Segunda Fase'!$N$8:$N$25)+SUMIF('Tabela da Segunda Fase'!$Q$8:$Q$25,L16,'Tabela da Segunda Fase'!$P$8:$P$25) -> 0 | Q16: =SUMIF('Tabela da Segunda Fase'!$M$8:$M$25,L16,'Tabela da Segunda Fase'!$P$8:$P$25)+SUMIF('Tabela da Segunda Fase'!$Q$8:$Q$25,L16,'Tabela da Segunda Fase'!$N$8:$N$25) -> 4 | R16: =(1000000*((3*M16)+N16))+(10000*M16)+(100*(P16-Q16))+P16+(0.001*(30-T16)) -> -399.973 | S16: =RANK(R16,$R$14:$R$16) -> 3 | T16: 3 | U16: =IF($S$14=T16,14,0)+IF($S$15=T16,15,0)+IF($S$16=T16,16,0) -> 16 | W16: =CONCATENATE("'Auxiliar (2)'!",W$1,$U16) -> 'Auxiliar (2)'!L16 | X16: =CONCATENATE("'Auxiliar (2)'!",X$1,$U16) -> 'Auxiliar (2)'!M16 | Y16: =CONCATENATE("'Auxiliar (2)'!",Y$1,$U16) -> 'Auxiliar (2)'!N16 | Z16: =CONCATENATE("'Auxiliar (2)'!",Z$1,$U16) -> 'Auxiliar (2)'!O16 | AA16: =CONCATENATE("'Auxiliar (2)'!",AA$1,$U16) -> 'Auxiliar (2)'!P16 | AB16: =CONCATENATE("'Auxiliar (2)'!",AB$1,$U16) -> 'Auxiliar (2)'!Q16
A17: ='Tabela da Segunda Fase'!M24 -> VASCO DA GAMA - Pim | B17: =IF('Tabela da Segunda Fase'!N24<'Tabela da Segunda Fase'!P24,0,IF('Tabela da Segunda Fase'!N24='Tabela da Segunda Fase'!P24,1,IF('Tabela da Segunda Fase'!N24>'Tabela da Segunda Fase'!P24,2))) -> 0 | C17: ='Tabela da Segunda Fase'!Q24 -> BOCA JUNIORS ARG - Aéc | D17: =IF('Tabela da Segunda Fase'!N24>'Tabela da Segunda Fase'!P24,0,IF('Tabela da Segunda Fase'!N24='Tabela da Segunda Fase'!P24,1,IF('Tabela da Segunda Fase'!N24<'Tabela da Segunda Fase'!P24,2))) -> 2 | E17: =IF(ISNUMBER('Tabela da Segunda Fase'!N24),1,0) -> 1 | F17: =IF(B17*E17=2,1,0) -> 0 | G17: =IF(B17*E17=1,1,0) -> 0 | H17: =IF(B17=0,IF(E17=1,1,0),0) -> 1 | I17: =IF(E17*D17=2,1,0) -> 1 | J17: =IF(E17*D17=1,1,0) -> 0 | K17: =IF(D17=0,IF(E17=1,1,0),0) -> 0
A18: ='Tabela da Segunda Fase'!M25 -> OLIMPIA PAR - Ama | B18: =IF('Tabela da Segunda Fase'!N25<'Tabela da Segunda Fase'!P25,0,IF('Tabela da Segunda Fase'!N25='Tabela da Segunda Fase'!P25,1,IF('Tabela da Segunda Fase'!N25>'Tabela da Segunda Fase'!P25,2))) -> 0 | C18: ='Tabela da Segunda Fase'!Q25 -> NÁUTICO - Jea | D18: =IF('Tabela da Segunda Fase'!N25>'Tabela da Segunda Fase'!P25,0,IF('Tabela da Segunda Fase'!N25='Tabela da Segunda Fase'!P25,1,IF('Tabela da Segunda Fase'!N25<'Tabela da Segunda Fase'!P25,2))) -> 2 | E18: =IF(ISNUMBER('Tabela da Segunda Fase'!N25),1,0) -> 1 | F18: =IF(B18*E18=2,1,0) -> 0 | G18: =IF(B18*E18=1,1,0) -> 0 | H18: =IF(B18=0,IF(E18=1,1,0),0) -> 1 | I18: =IF(E18*D18=2,1,0) -> 1 | J18: =IF(E18*D18=1,1,0) -> 0 | K18: =IF(D18=0,IF(E18=1,1,0),0) -> 0 | L18: ='Classif Prim Fase'!C8 -> VASCO DA GAMA - Pim | M18: =SUMIF($A$1:$A$18,L18,$F$1:$F$18)+SUMIF($C$1:$C$18,L18,$I$1:$I$18) -> 0 | N18: =SUMIF($A$1:$A$18,L18,$G$1:$G$18)+SUMIF($C$1:$C$18,L18,$J$1:$J$18) -> 1 | O18: =SUMIF($A$1:$A$18,L18,$H$1:$H$18)+SUMIF($C$1:$C$18,L18,$K$1:$K$18) -> 1 | P18: =SUMIF('Tabela da Segunda Fase'!$M$8:$M$25,L18,'Tabela da Segunda Fase'!$N$8:$N$25)+SUMIF('Tabela da Segunda Fase'!$Q$8:$Q$25,L18,'Tabela da Segunda Fase'!$P$8:$P$25) -> 1 | Q18: =SUMIF('Tabela da Segunda Fase'!$M$8:$M$25,L18,'Tabela da Segunda Fase'!$P$8:$P$25)+SUMIF('Tabela da Segunda Fase'!$Q$8:$Q$25,L18,'Tabela da Segunda Fase'!$N$8:$N$25) -> 2 | R18: =(1000000*((3*M18)+N18))+(10000*M18)+(100*(P18-Q18))+P18+(0.001*(30-T18)) -> 999901.03 | S18: =RANK(R18,$R$18:$R$20) -> 3 | T18: 1 | U18: =IF($S$18=T18,18,0)+IF($S$19=T18,19,0)+IF($S$20=T18,20,0) -> 19 | W18: =CONCATENATE("'Auxiliar (2)'!",W$1,$U18) -> 'Auxiliar (2)'!L19 | X18: =CONCATENATE("'Auxiliar (2)'!",X$1,$U18) -> 'Auxiliar (2)'!M19 | Y18: =CONCATENATE("'Auxiliar (2)'!",Y$1,$U18) -> 'Auxiliar (2)'!N19 | Z18: =CONCATENATE("'Auxiliar (2)'!",Z$1,$U18) -> 'Auxiliar (2)'!O19 | AA18: =CONCATENATE("'Auxiliar (2)'!",AA$1,$U18) -> 'Auxiliar (2)'!P19 | AB18: =CONCATENATE("'Auxiliar (2)'!",AB$1,$U18) -> 'Auxiliar (2)'!Q19 | AC18: PRATA
L19: ='Classif Prim Fase'!C23 -> BOCA JUNIORS ARG - Aéc | M19: =SUMIF($A$1:$A$18,L19,$F$1:$F$18)+SUMIF($C$1:$C$18,L19,$I$1:$I$18) -> 1 | N19: =SUMIF($A$1:$A$18,L19,$G$1:$G$18)+SUMIF($C$1:$C$18,L19,$J$1:$J$18) -> 1 | O19: =SUMIF($A$1:$A$18,L19,$H$1:$H$18)+SUMIF($C$1:$C$18,L19,$K$1:$K$18) -> 0 | P19: =SUMIF('Tabela da Segunda Fase'!$M$8:$M$25,L19,'Tabela da Segunda Fase'!$N$8:$N$25)+SUMIF('Tabela da Segunda Fase'!$Q$8:$Q$25,L19,'Tabela da Segunda Fase'!$P$8:$P$25) -> 2 | Q19: =SUMIF('Tabela da Segunda Fase'!$M$8:$M$25,L19,'Tabela da Segunda Fase'!$P$8:$P$25)+SUMIF('Tabela da Segunda Fase'!$Q$8:$Q$25,L19,'Tabela da Segunda Fase'!$N$8:$N$25) -> 1 | R19: =(1000000*((3*M19)+N19))+(10000*M19)+(100*(P19-Q19))+P19+(0.001*(30-T19)) -> 4010102 | S19: =RANK(R19,$R$18:$R$20) -> 1 | T19: 2 | U19: =IF($S$18=T19,18,0)+IF($S$19=T19,19,0)+IF($S$20=T19,20,0) -> 20 | W19: =CONCATENATE("'Auxiliar (2)'!",W$1,$U19) -> 'Auxiliar (2)'!L20 | X19: =CONCATENATE("'Auxiliar (2)'!",X$1,$U19) -> 'Auxiliar (2)'!M20 | Y19: =CONCATENATE("'Auxiliar (2)'!",Y$1,$U19) -> 'Auxiliar (2)'!N20 | Z19: =CONCATENATE("'Auxiliar (2)'!",Z$1,$U19) -> 'Auxiliar (2)'!O20 | AA19: =CONCATENATE("'Auxiliar (2)'!",AA$1,$U19) -> 'Auxiliar (2)'!P20 | AB19: =CONCATENATE("'Auxiliar (2)'!",AB$1,$U19) -> 'Auxiliar (2)'!Q20
L20: ='Classif Prim Fase'!C28 -> RACING ARG - RoG | M20: =SUMIF($A$1:$A$18,L20,$F$1:$F$18)+SUMIF($C$1:$C$18,L20,$I$1:$I$18) -> 0 | N20: =SUMIF($A$1:$A$18,L20,$G$1:$G$18)+SUMIF($C$1:$C$18,L20,$J$1:$J$18) -> 2 | O20: =SUMIF($A$1:$A$18,L20,$H$1:$H$18)+SUMIF($C$1:$C$18,L20,$K$1:$K$18) -> 0 | P20: =SUMIF('Tabela da Segunda Fase'!$M$8:$M$25,L20,'Tabela da Segunda Fase'!$N$8:$N$25)+SUMIF('Tabela da Segunda Fase'!$Q$8:$Q$25,L20,'Tabela da Segunda Fase'!$P$8:$P$25) -> 2 | Q20: =SUMIF('Tabela da Segunda Fase'!$M$8:$M$25,L20,'Tabela da Segunda Fase'!$P$8:$P$25)+SUMIF('Tabela da Segunda Fase'!$Q$8:$Q$25,L20,'Tabela da Segunda Fase'!$N$8:$N$25) -> 2 | R20: =(1000000*((3*M20)+N20))+(10000*M20)+(100*(P20-Q20))+P20+(0.001*(30-T20)) -> 2000002 | S20: =RANK(R20,$R$18:$R$20) -> 2 | T20: 3 | U20: =IF($S$18=T20,18,0)+IF($S$19=T20,19,0)+IF($S$20=T20,20,0) -> 18 | W20: =CONCATENATE("'Auxiliar (2)'!",W$1,$U20) -> 'Auxiliar (2)'!L18 | X20: =CONCATENATE("'Auxiliar (2)'!",X$1,$U20) -> 'Auxiliar (2)'!M18 | Y20: =CONCATENATE("'Auxiliar (2)'!",Y$1,$U20) -> 'Auxiliar (2)'!N18 | Z20: =CONCATENATE("'Auxiliar (2)'!",Z$1,$U20) -> 'Auxiliar (2)'!O18 | AA20: =CONCATENATE("'Auxiliar (2)'!",AA$1,$U20) -> 'Auxiliar (2)'!P18 | AB20: =CONCATENATE("'Auxiliar (2)'!",AB$1,$U20) -> 'Auxiliar (2)'!Q18
L22: ='Classif Prim Fase'!C13 -> COLO COLO CHI - Mal | M22: =SUMIF($A$1:$A$18,L22,$F$1:$F$18)+SUMIF($C$1:$C$18,L22,$I$1:$I$18) -> 0 | N22: =SUMIF($A$1:$A$18,L22,$G$1:$G$18)+SUMIF($C$1:$C$18,L22,$J$1:$J$18) -> 0 | O22: =SUMIF($A$1:$A$18,L22,$H$1:$H$18)+SUMIF($C$1:$C$18,L22,$K$1:$K$18) -> 2 | P22: =SUMIF('Tabela da Segunda Fase'!$M$8:$M$25,L22,'Tabela da Segunda Fase'!$N$8:$N$25)+SUMIF('Tabela da Segunda Fase'!$Q$8:$Q$25,L22,'Tabela da Segunda Fase'!$P$8:$P$25) -> 1 | Q22: =SUMIF('Tabela da Segunda Fase'!$M$8:$M$25,L22,'Tabela da Segunda Fase'!$P$8:$P$25)+SUMIF('Tabela da Segunda Fase'!$Q$8:$Q$25,L22,'Tabela da Segunda Fase'!$N$8:$N$25) -> 5 | R22: =(1000000*((3*M22)+N22))+(10000*M22)+(100*(P22-Q22))+P22+(0.001*(30-T22)) -> -398.971 | S22: =RANK(R22,$R$22:$R$24) -> 3 | T22: 1 | U22: =IF($S$22=T22,22,0)+IF($S$23=T22,23,0)+IF($S$24=T22,24,0) -> 23 | W22: =CONCATENATE("'Auxiliar (2)'!",W$1,$U22) -> 'Auxiliar (2)'!L23 | X22: =CONCATENATE("'Auxiliar (2)'!",X$1,$U22) -> 'Auxiliar (2)'!M23 | Y22: =CONCATENATE("'Auxiliar (2)'!",Y$1,$U22) -> 'Auxiliar (2)'!N23 | Z22: =CONCATENATE("'Auxiliar (2)'!",Z$1,$U22) -> 'Auxiliar (2)'!O23 | AA22: =CONCATENATE("'Auxiliar (2)'!",AA$1,$U22) -> 'Auxiliar (2)'!P23 | AB22: =CONCATENATE("'Auxiliar (2)'!",AB$1,$U22) -> 'Auxiliar (2)'!Q23
L23: ='Classif Prim Fase'!C18 -> NÁUTICO - Jea | M23: =SUMIF($A$1:$A$18,L23,$F$1:$F$18)+SUMIF($C$1:$C$18,L23,$I$1:$I$18) -> 2 | N23: =SUMIF($A$1:$A$18,L23,$G$1:$G$18)+SUMIF($C$1:$C$18,L23,$J$1:$J$18) -> 0 | O23: =SUMIF($A$1:$A$18,L23,$H$1:$H$18)+SUMIF($C$1:$C$18,L23,$K$1:$K$18) -> 0 | P23: =SUMIF('Tabela da Segunda Fase'!$M$8:$M$25,L23,'Tabela da Segunda Fase'!$N$8:$N$25)+SUMIF('Tabela da Segunda Fase'!$Q$8:$Q$25,L23,'Tabela da Segunda Fase'!$P$8:$P$25) -> 4 | Q23: =SUMIF('Tabela da Segunda Fase'!$M$8:$M$25,L23,'Tabela da Segunda Fase'!$P$8:$P$25)+SUMIF('Tabela da Segunda Fase'!$Q$8:$Q$25,L23,'Tabela da Segunda Fase'!$N$8:$N$25) -> 0 | R23: =(1000000*((3*M23)+N23))+(10000*M23)+(100*(P23-Q23))+P23+(0.001*(30-T23)) -> 6020404 | S23: =RANK(R23,$R$22:$R$24) -> 1 | T23: 2 | U23: =IF($S$22=T23,22,0)+IF($S$23=T23,23,0)+IF($S$24=T23,24,0) -> 24 | W23: =CONCATENATE("'Auxiliar (2)'!",W$1,$U23) -> 'Auxiliar (2)'!L24 | X23: =CONCATENATE("'Auxiliar (2)'!",X$1,$U23) -> 'Auxiliar (2)'!M24 | Y23: =CONCATENATE("'Auxiliar (2)'!",Y$1,$U23) -> 'Auxiliar (2)'!N24 | Z23: =CONCATENATE("'Auxiliar (2)'!",Z$1,$U23) -> 'Auxiliar (2)'!O24 | AA23: =CONCATENATE("'Auxiliar (2)'!",AA$1,$U23) -> 'Auxiliar (2)'!P24 | AB23: =CONCATENATE("'Auxiliar (2)'!",AB$1,$U23) -> 'Auxiliar (2)'!Q24
L24: ='Classif Prim Fase'!C33 -> OLIMPIA PAR - Ama | M24: =SUMIF($A$1:$A$18,L24,$F$1:$F$18)+SUMIF($C$1:$C$18,L24,$I$1:$I$18) -> 1 | N24: =SUMIF($A$1:$A$18,L24,$G$1:$G$18)+SUMIF($C$1:$C$18,L24,$J$1:$J$18) -> 0 | O24: =SUMIF($A$1:$A$18,L24,$H$1:$H$18)+SUMIF($C$1:$C$18,L24,$K$1:$K$18) -> 1 | P24: =SUMIF('Tabela da Segunda Fase'!$M$8:$M$25,L24,'Tabela da Segunda Fase'!$N$8:$N$25)+SUMIF('Tabela da Segunda Fase'!$Q$8:$Q$25,L24,'Tabela da Segunda Fase'!$P$8:$P$25) -> 3 | Q24: =SUMIF('Tabela da Segunda Fase'!$M$8:$M$25,L24,'Tabela da Segunda Fase'!$P$8:$P$25)+SUMIF('Tabela da Segunda Fase'!$Q$8:$Q$25,L24,'Tabela da Segunda Fase'!$N$8:$N$25) -> 3 | R24: =(1000000*((3*M24)+N24))+(10000*M24)+(100*(P24-Q24))+P24+(0.001*(30-T24)) -> 3010003 | S24: =RANK(R24,$R$22:$R$24) -> 2 | T24: 3 | U24: =IF($S$22=T24,22,0)+IF($S$23=T24,23,0)+IF($S$24=T24,24,0) -> 22 | W24: =CONCATENATE("'Auxiliar (2)'!",W$1,$U24) -> 'Auxiliar (2)'!L22 | X24: =CONCATENATE("'Auxiliar (2)'!",X$1,$U24) -> 'Auxiliar (2)'!M22 | Y24: =CONCATENATE("'Auxiliar (2)'!",Y$1,$U24) -> 'Auxiliar (2)'!N22 | Z24: =CONCATENATE("'Auxiliar (2)'!",Z$1,$U24) -> 'Auxiliar (2)'!O22 | AA24: =CONCATENATE("'Auxiliar (2)'!",AA$1,$U24) -> 'Auxiliar (2)'!P22 | AB24: =CONCATENATE("'Auxiliar (2)'!",AB$1,$U24) -> 'Auxiliar (2)'!Q22
L26: ÁRBITROS
L27: Alcides
L28: Toninho
L29: André Brandão
L30: Simplício
L31: Digão
L32: Pimentel
L33: Luiz Cláudio
L34: Marcelo Silva
L35: William Moreira
L36: Rodrigo Galo
L37: Magno
... L44: Felipe

Sheet Tabela da Segunda Fase
A1: FEDERAÇÃO DE FUTEBOL DE MESA DO DISTRITO FEDERAL
A2: ='Tabela da Primeira Fase'!A2:AB2 -> LIBERTADORES 2024
A3: Tabela da Segunda Fase
A5: DATA: | B5: 20.04.2024
A7: ROD | B7: M | C7: ARTILHEIROS | N7: JOGOS | R7: ARTILHEIROS | AB7: ÁRBITROS
A8: 4 | B8: 9 | M8: ='Auxiliar (2)'!L4 -> BOTAFOGO - JoR | N8: 1 | O8: x | P8: 1 | Q8: ='Auxiliar (2)'!L2 -> BOLIVAR BOL - AnB | AB8: ='Auxiliar (2)'!L7 -> INDEPENDIENTE ARG - Mar
B9: 11 | M9: ='Auxiliar (2)'!L8 -> THE STRONGEST BOL - Jun | N9: 0 | O9: x | P9: 1 | Q9: ='Auxiliar (2)'!L6 -> FLAMENGO - Vas | AB9: ='Auxiliar (2)'!L11 -> CRUZEIRO - PC
B10: 12 | M10: ='Auxiliar (2)'!L12 -> ATLÉTICO MG - RoB | N10: 0 | O10: x | P10: 5 | Q10: ='Auxiliar (2)'!L10 -> NACIONAL URU - Ton | AB10: ='Auxiliar (2)'!L15 -> INTERNACIONAL - MaS
B11: 6 | M11: ='Auxiliar (2)'!L16 -> FLUMINENSE - Sim | N11: 0 | O11: x | P11: 3 | Q11: ='Auxiliar (2)'!L14 -> GRÊMIO - MaF | AB11: ='Auxiliar (2)'!L3 -> PALMEIRAS - Alc
B12: 7 | M12: ='Auxiliar (2)'!L20 -> RACING ARG - RoG | N12: 1 | O12: x | P12: 1 | Q12: ='Auxiliar (2)'!L18 -> VASCO DA GAMA - Pim | AB12: ='Auxiliar (2)'!L23 -> NÁUTICO - Jea
B13: 8 | M13: ='Auxiliar (2)'!L24 -> OLIMPIA PAR - Ama | N13: 3 | O13: x | P13: 1 | Q13: ='Auxiliar (2)'!L22 -> COLO COLO CHI - Mal | AB13: ='Auxiliar (2)'!L19 -> BOCA JUNIORS ARG - Aéc
A14: 5 | B14: 11 | M14: ='Auxiliar (2)'!L3 -> PALMEIRAS - Alc | N14: 0 | O14: x | P14: 2 | Q14: ='Auxiliar (2)'!L4 -> BOTAFOGO - JoR | AB14: ='Auxiliar (2)'!L10 -> NACIONAL URU - Ton
B15: 12 | M15: ='Auxiliar (2)'!L7 -> INDEPENDIENTE ARG - Mar | N15: 0 | O15: x | P15: 2 | Q15: ='Auxiliar (2)'!L8 -> THE STRONGEST BOL - Jun | AB15: ='Auxiliar (2)'!L14 -> GRÊMIO - MaF
B16: 6 | M16: ='Auxiliar (2)'!L11 -> CRUZEIRO - PC | N16: 3 | O16: x | P16: 1 | Q16: ='Auxiliar (2)'!L12 -> ATLÉTICO MG - RoB | AB16: ='Auxiliar (2)'!L2 -> BOLIVAR BOL - AnB
B17: 7 | M17: ='Auxiliar (2)'!L15 -> INTERNACIONAL - MaS | N17: 1 | O17: x | P17: 0 | Q17: ='Auxiliar (2)'!L16 -> FLUMINENSE - Sim | AB17: ='Auxiliar (2)'!L6 -> FLAMENGO - Vas
B18: 8 | M18: ='Auxiliar (2)'!L19 -> BOCA JUNIORS ARG - Aéc | N18: 1 | O18: x | P18: 1 | Q18: ='Auxiliar (2)'!L20 -> RACING ARG - RoG | AB18: ='Auxiliar (2)'!L24 -> OLIMPIA PAR - Ama
B19: 9 | M19: ='Auxiliar (2)'!L23 -> NÁUTICO - Jea | N19: 2 | O19: x | P19: 0 | Q19: ='Auxiliar (2)'!L22 -> COLO COLO CHI - Mal | AB19: ='Auxiliar (2)'!L18 -> VASCO DA GAMA - Pim
A20: 6 | B20: 12 | M20: ='Auxiliar (2)'!L2 -> BOLIVAR BOL - AnB | N20: 0 | O20: x | P20: 3 | Q20: ='Auxiliar (2)'!L3 -> PALMEIRAS - Alc | AB20: ='Auxiliar (2)'!L16 -> FLUMINENSE - Sim
B21: 6 | M21: ='Auxiliar (2)'!L6 -> FLAMENGO - Vas | N21: 3 | O21: x | P21: 0 | Q21: ='Auxiliar (2)'!L7 -> INDEPENDIENTE ARG - Mar | AB21: ='Auxiliar (2)'!L4 -> BOTAFOGO - JoR
B22: 7 | M22: ='Auxiliar (2)'!L10 -> NACIONAL URU - Ton | N22: 2 | O22: x | P22: 0 | Q22: ='Auxiliar (2)'!L11 -> CRUZEIRO - PC | AB22: ='Auxiliar (2)'!L8 -> THE STRONGEST BOL - Jun
B23: 8 | M23: ='Auxiliar (2)'!L14 -> GRÊMIO - MaF | N23: 4 | O23: x | P23: 2 | Q23: ='Auxiliar (2)'!L15 -> INTERNACIONAL - MaS | AB23: ='Auxiliar (2)'!L12 -> ATLÉTICO MG - RoB
B24: 9 | M24: ='Auxiliar (2)'!L18 -> VASCO DA GAMA - Pim | N24: 0 | O24: x | P24: 1 | Q24: ='Auxiliar (2)'!L19 -> BOCA JUNIORS ARG - Aéc | AB24: ='Auxiliar (2)'!L22 -> COLO COLO CHI - Mal
B25: 11 | M25: ='Auxiliar (2)'!L24 -> OLIMPIA PAR - Ama | N25: 0 | O25: x | P25: 2 | Q25: ='Auxiliar (2)'!L23 -> NÁUTICO - Jea | AB25: ='Auxiliar (2)'!L20 -> RACING ARG - RoG
N26: =IF(C26="","",IF(C26=0,0,COUNT(C26:L26)))
A27: SEMIFINAIS DA LIBERTADORES E FINAL DA SULAMERICANA
A29: 7 | B29: 11 | M29: ='Classif da Seg Fase'!B7 -> BOTAFOGO - JoR | N29: 0 | O29: x | P29: 0 | Q29: ='Classif da Seg Fase'!B25 -> GRÊMIO - MaF | AB29: ='Classif da Seg Fase'!B14 -> THE STRONGEST BOL - Jun
B30: 12 | M30: ='Classif da Seg Fase'!B13 -> FLAMENGO - Vas | N30: 1 | O30: x | P30: 2 | Q30: ='Classif da Seg Fase'!B19 -> NACIONAL URU - Ton | AB30: ='Classif da Seg Fase'!B8 -> PALMEIRAS - Alc
B31: 7 | M31: ='Classif da Seg Fase'!B31 -> BOCA JUNIORS ARG - Aéc | N31: 0 | O31: x | P31: 2 | Q31: ='Classif da Seg Fase'!B37 -> NÁUTICO - Jea | AB31: ='Classif da Seg Fase'!B32 -> RACING ARG - RoG
A33: FINAL LIBERTADORES
A35: 8 | B35: 9 | M35: =Q29 -> GRÊMIO - MaF | N35: 0 | O35: x | P35: 1 | Q35: =Q30 -> NACIONAL URU - Ton | AB35: Quarto

Sheet Classif da Seg Fase
A1: FEDERAÇÃO DE FUTEBOL DE MESA DO DISTRITO FEDERAL
A2: ='Tabela da Primeira Fase'!A2:AB2 -> LIBERTADORES 2024
A3: CLASSIFICAÇÃO FINAL DA SEGUNDA FASE
A5: G | B5: CLUBES | C5: J | D5: V | E5: E | F5: D | G5: GF | H5: GC | I5: SG | J5: PG | K5: Aprov.
A7: 1º | B7: =INDIRECT('Auxiliar (2)'!W2) -> BOTAFOGO - JoR | C7: =D7+E7+F7 -> 2 | D7: =INDIRECT('Auxiliar (2)'!X2) -> 1 | E7: =INDIRECT('Auxiliar (2)'!Y2) -> 1 | F7: =INDIRECT('Auxiliar (2)'!Z2) -> 0 | G7: =INDIRECT('Auxiliar (2)'!AA2) -> 3 | H7: =INDIRECT('Auxiliar (2)'!AB2) -> 1 | I7: =G7-H7 -> 2 | J7: =(3*D7)+E7 -> 4 | K7: =IF(ISERR((J7/(C7*3))),0,((J7/(C7*3)))) -> 0.66666667
A8: 2º | B8: =INDIRECT('Auxiliar (2)'!W3) -> PALMEIRAS - Alc | C8: =D8+E8+F8 -> 2 | D8: =INDIRECT('Auxiliar (2)'!X3) -> 1 | E8: =INDIRECT('Auxiliar (2)'!Y3) -> 0 | F8: =INDIRECT('Auxiliar (2)'!Z3) -> 1 | G8: =INDIRECT('Auxiliar (2)'!AA3) -> 3 | H8: =INDIRECT('Auxiliar (2)'!AB3) -> 2 | I8: =G8-H8 -> 1 | J8: =(3*D8)+E8 -> 3 | K8: =IF(ISERR((J8/(C8*3))),0,((J8/(C8*3)))) -> 0.5
A9: 3º | B9: =INDIRECT('Auxiliar (2)'!W4) -> BOLIVAR BOL - AnB | C9: =D9+E9+F9 -> 2 | D9: =INDIRECT('Auxiliar (2)'!X4) -> 0 | E9: =INDIRECT('Auxiliar (2)'!Y4) -> 1 | F9: =INDIRECT('Auxiliar (2)'!Z4) -> 1 | G9: =INDIRECT('Auxiliar (2)'!AA4) -> 1 | H9: =INDIRECT('Auxiliar (2)'!AB4) -> 4 | I9: =G9-H9 -> -3 | J9: =(3*D9)+E9 -> 1 | K9: =IF(ISERR((J9/(C9*3))),0,((J9/(C9*3)))) -> 0.16666667
A11: H | B11: CLUBES | C11: J | D11: V | E11: E | F11: D | G11: GF | H11: GC | I11: SG | J11: PG | K11: Aprov.
A13: 1º | B13: =INDIRECT('Auxiliar (2)'!W6) -> FLAMENGO - Vas | C13: =D13+E13+F13 -> 2 | D13: =INDIRECT('Auxiliar (2)'!X6) -> 2 | E13: =INDIRECT('Auxiliar (2)'!Y6) -> 0 | F13: =INDIRECT('Auxiliar (2)'!Z6) -> 0 | G13: =INDIRECT('Auxiliar (2)'!AA6) -> 4 | H13: =INDIRECT('Auxiliar (2)'!AB6) -> 0 | I13: =G13-H13 -> 4 | J13: =(3*D13)+E13 -> 6 | K13: =IF(ISERR((J13/(C13*3))),0,((J13/(C13*3)))) -> 1
A14: 2º | B14: =INDIRECT('Auxiliar (2)'!W7) -> THE STRONGEST BOL - Jun | C14: =D14+E14+F14 -> 2 | D14: =INDIRECT('Auxiliar (2)'!X7) -> 1 | E14: =INDIRECT('Auxiliar (2)'!Y7) -> 0 | F14: =INDIRECT('Auxiliar (2)'!Z7) -> 1 | G14: =INDIRECT('Auxiliar (2)'!AA7) -> 2 | H14: =INDIRECT('Auxiliar (2)'!AB7) -> 1 | I14: =G14-H14 -> 1 | J14: =(3*D14)+E14 -> 3 | K14: =IF(ISERR((J14/(C14*3))),0,((J14/(C14*3)))) -> 0.5
A15: 3º | B15: =INDIRECT('Auxiliar (2)'!W8) -> INDEPENDIENTE ARG - Mar | C15: =D15+E15+F15 -> 2 | D15: =INDIRECT('Auxiliar (2)'!X8) -> 0 | E15: =INDIRECT('Auxiliar (2)'!Y8) -> 0 | F15: =INDIRECT('Auxiliar (2)'!Z8) -> 2 | G15: =INDIRECT('Auxiliar (2)'!AA8) -> 0 | H15: =INDIRECT('Auxiliar (2)'!AB8) -> 5 | I15: =G15-H15 -> -5 | J15: =(3*D15)+E15 -> 0 | K15: =IF(ISERR((J15/(C15*3))),0,((J15/(C15*3)))) -> 0
A17: I | B17: CLUBES | C17: J | D17: V | E17: E | F17: D | G17: GF | H17: GC | I17: SG | J17: PG | K17: Aprov.
A19: 1º | B19: =INDIRECT('Auxiliar (2)'!W10) -> NACIONAL URU - Ton | C19: =D19+E19+F19 -> 2 | D19: =INDIRECT('Auxiliar (2)'!X10) -> 2 | E19: =INDIRECT('Auxiliar (2)'!Y10) -> 0 | F19: =INDIRECT('Auxiliar (2)'!Z10) -> 0 | G19: =INDIRECT('Auxiliar (2)'!AA10) -> 7 | H19: =INDIRECT('Auxiliar (2)'!AB10) -> 0 | I19: =G19-H19 -> 7 | J19: =(3*D19)+E19 -> 6 | K19: =IF(ISERR((J19/(C19*3))),0,((J19/(C19*3)))) -> 1
A20: 2º | B20: =INDIRECT('Auxiliar (2)'!W11) -> CRUZEIRO - PC | C20: =D20+E20+F20 -> 2 | D20: =INDIRECT('Auxiliar (2)'!X11) -> 1 | E20: =INDIRECT('Auxiliar (2)'!Y11) -> 0 | F20: =INDIRECT('Auxiliar (2)'!Z11) -> 1 | G20: =INDIRECT('Auxiliar (2)'!AA11) -> 3 | H20: =INDIRECT('Auxiliar (2)'!AB11) -> 3 | I20: =G20-H20 -> 0 | J20: =(3*D20)+E20 -> 3 | K20: =IF(ISERR((J20/(C20*3))),0,((J20/(C20*3)))) -> 0.5
A21: 3º | B21: =INDIRECT('Auxiliar (2)'!W12) -> ATLÉTICO MG - RoB | C21: =D21+E21+F21 -> 2 | D21: =INDIRECT('Auxiliar (2)'!X12) -> 0 | E21: =INDIRECT('Auxiliar (2)'!Y12) -> 0 | F21: =INDIRECT('Auxiliar (2)'!Z12) -> 2 | G21: =INDIRECT('Auxiliar (2)'!AA12) -> 1 | H21: =INDIRECT('Auxiliar (2)'!AB12) -> 8 | I21: =G21-H21 -> -7 | J21: =(3*D21)+E21 -> 0 | K21: =IF(ISERR((J21/(C21*3))),0,((J21/(C21*3)))) -> 0
A23: J | B23: CLUBES | C23: J | D23: V | E23: E | F23: D | G23: GF | H23: GC | I23: SG | J23: PG | K23: Aprov.
A25: 1º | B25: =INDIRECT('Auxiliar (2)'!W14) -> GRÊMIO - MaF | C25: =D25+E25+F25 -> 2 | D25: =INDIRECT('Auxiliar (2)'!X14) -> 2 | E25: =INDIRECT('Auxiliar (2)'!Y14) -> 0 | F25: =INDIRECT('Auxiliar (2)'!Z14) -> 0 | G25: =INDIRECT('Auxiliar (2)'!AA14) -> 7 | H25: =INDIRECT('Auxiliar (2)'!AB14) -> 2 | I25: =G25-H25 -> 5 | J25: =(3*D25)+E25 -> 6 | K25: =IF(ISERR((J25/(C25*3))),0,((J25/(C25*3)))) -> 1
A26: 2º | B26: =INDIRECT('Auxiliar (2)'!W15) -> INTERNACIONAL - MaS | C26: =D26+E26+F26 -> 2 | D26: =INDIRECT('Auxiliar (2)'!X15) -> 1 | E26: =INDIRECT('Auxiliar (2)'!Y15) -> 0 | F26: =INDIRECT('Auxiliar (2)'!Z15) -> 1 | G26: =INDIRECT('Auxiliar (2)'!AA15) -> 3 | H26: =INDIRECT('Auxiliar (2)'!AB15) -> 4 | I26: =G26-H26 -> -1 | J26: =(3*D26)+E26 -> 3 | K26: =IF(ISERR((J26/(C26*3))),0,((J26/(C26*3)))) -> 0.5
A27: 3º | B27: =INDIRECT('Auxiliar (2)'!W16) -> FLUMINENSE - Sim | C27: =D27+E27+F27 -> 2 | D27: =INDIRECT('Auxiliar (2)'!X16) -> 0 | E27: =INDIRECT('Auxiliar (2)'!Y16) -> 0 | F27: =INDIRECT('Auxiliar (2)'!Z16) -> 2 | G27: =INDIRECT('Auxiliar (2)'!AA16) -> 0 | H27: =INDIRECT('Auxiliar (2)'!AB16) -> 4 | I27: =G27-H27 -> -4 | J27: =(3*D27)+E27 -> 0 | K27: =IF(ISERR((J27/(C27*3))),0,((J27/(C27*3)))) -> 0
A29: K | B29: CLUBES | C29: J | D29: V | E29: E | F29: D | G29: GF | H29: GC | I29: SG | J29: PG | K29: Aprov.
A31: 1º | B31: =INDIRECT('Auxiliar (2)'!W18) -> BOCA JUNIORS ARG - Aéc | C31: =D31+E31+F31 -> 2 | D31: =INDIRECT('Auxiliar (2)'!X18) -> 1 | E31: =INDIRECT('Auxiliar (2)'!Y18) -> 1 | F31: =INDIRECT('Auxiliar (2)'!Z18) -> 0 | G31: =INDIRECT('Auxiliar (2)'!AA18) -> 2 | H31: =INDIRECT('Auxiliar (2)'!AB18) -> 1 | I31: =G31-H31 -> 1 | J31: =(3*D31)+E31 -> 4 | K31: =IF(ISERR((J31/(C31*3))),0,((J31/(C31*3)))) -> 0.66666667
A32: 2º | B32: =INDIRECT('Auxiliar (2)'!W19) -> RACING ARG - RoG | C32: =D32+E32+F32 -> 2 | D32: =INDIRECT('Auxiliar (2)'!X19) -> 0 | E32: =INDIRECT('Auxiliar (2)'!Y19) -> 2 | F32: =INDIRECT('Auxiliar (2)'!Z19) -> 0 | G32: =INDIRECT('Auxiliar (2)'!AA19) -> 2 | H32: =INDIRECT('Auxiliar (2)'!AB19) -> 2 | I32: =G32-H32 -> 0 | J32: =(3*D32)+E32 -> 2 | K32: =IF(ISERR((J32/(C32*3))),0,((J32/(C32*3)))) -> 0.33333333
A33: 3º | B33: =INDIRECT('Auxiliar (2)'!W20) -> VASCO DA GAMA - Pim | C33: =D33+E33+F33 -> 2 | D33: =INDIRECT('Auxiliar (2)'!X20) -> 0 | E33: =INDIRECT('Auxiliar (2)'!Y20) -> 1 | F33: =INDIRECT('Auxiliar (2)'!Z20) -> 1 | G33: =INDIRECT('Auxiliar (2)'!AA20) -> 1 | H33: =INDIRECT('Auxiliar (2)'!AB20) -> 2 | I33: =G33-H33 -> -1 | J33: =(3*D33)+E33 -> 1 | K33: =IF(ISERR((J33/(C33*3))),0,((J33/(C33*3)))) -> 0.16666667
A35: L | B35: CLUBES | C35: J | D35: V | E35: E | F35: D | G35: GF | H35: GC | I35: SG | J35: PG | K35: Aprov.
A37: 1º | B37: =INDIRECT('Auxiliar (2)'!W22) -> NÁUTICO - Jea | C37: =D37+E37+F37 -> 2 | D37: =INDIRECT('Auxiliar (2)'!X22) -> 2 | E37: =INDIRECT('Auxiliar (2)'!Y22) -> 0 | F37: =INDIRECT('Auxiliar (2)'!Z22) -> 0 | G37: =INDIRECT('Auxiliar (2)'!AA22) -> 4 | H37: =INDIRECT('Auxiliar (2)'!AB22) -> 0 | I37: =G37-H37 -> 4 | J37: =(3*D37)+E37 -> 6 | K37: =IF(ISERR((J37/(C37*3))),0,((J37/(C37*3)))) -> 1
A38: 2º | B38: =INDIRECT('Auxiliar (2)'!W23) -> OLIMPIA PAR - Ama | C38: =D38+E38+F38 -> 2 | D38: =INDIRECT('Auxiliar (2)'!X23) -> 1 | E38: =INDIRECT('Auxiliar (2)'!Y23) -> 0 | F38: =INDIRECT('Auxiliar (2)'!Z23) -> 1 | G38: =INDIRECT('Auxiliar (2)'!AA23) -> 3 | H38: =INDIRECT('Auxiliar (2)'!AB23) -> 3 | I38: =G38-H38 -> 0 | J38: =(3*D38)+E38 -> 3 | K38: =IF(ISERR((J38/(C38*3))),0,((J38/(C38*3)))) -> 0.5
A39: 3º | B39: =INDIRECT('Auxiliar (2)'!W24) -> COLO COLO CHI - Mal | C39: =D39+E39+F39 -> 2 | D39: =INDIRECT('Auxiliar (2)'!X24) -> 0 | E39: =INDIRECT('Auxiliar (2)'!Y24) -> 0 | F39: =INDIRECT('Auxiliar (2)'!Z24) -> 2 | G39: =INDIRECT('Auxiliar (2)'!AA24) -> 1 | H39: =INDIRECT('Auxiliar (2)'!AB24) -> 5 | I39: =G39-H39 -> -4 | J39: =(3*D39)+E39 -> 0 | K39: =IF(ISERR((J39/(C39*3))),0,((J39/(C39*3)))) -> 0

Sheet Auxiliar (3)
A1: =Jogos!C8 -> VASCO DA GAMA - Pim | B1: =IF(Jogos!D8<Jogos!F8,0,IF(Jogos!D8=Jogos!F8,1,IF(Jogos!D8>Jogos!F8,2))) -> 0 | C1: =Jogos!G8 -> ATLÉTICO MG - RoB | D1: =IF(Jogos!D8>Jogos!F8,0,IF(Jogos!D8=Jogos!F8,1,IF(Jogos!D8<Jogos!F8,2))) -> 2 | E1: =IF(ISNUMBER(Jogos!D8),1,0) -> 1 | F1: =IF(B1*E1=2,1,0) -> 0 | G1: =IF(B1*E1=1,1,0) -> 0 | H1: =IF(B1=0,IF(E1=1,1,0),0) -> 1 | I1: =IF(E1*D1=2,1,0) -> 1 | J1: =IF(E1*D1=1,1,0) -> 0 | K1: =IF(D1=0,IF(E1=1,1,0),0) -> 0 | L1: SELEÇÕES | M1: V | N1: E | O1: D | P1: GP | Q1: GC | W1: L | X1: M | Y1: N | Z1: O | AA1: P | AB1: Q | AX1: GRUPOS DA SEGUNDA FASE
A2: =Jogos!C9 -> COLO COLO CHI - Mal | B2: =IF(Jogos!D9<Jogos!F9,0,IF(Jogos!D9=Jogos!F9,1,IF(Jogos!D9>Jogos!F9,2))) -> 0 | C2: =Jogos!G9 -> FLUMINENSE - Sim | D2: =IF(Jogos!D9>Jogos!F9,0,IF(Jogos!D9=Jogos!F9,1,IF(Jogos!D9<Jogos!F9,2))) -> 2 | E2: =IF(ISNUMBER(Jogos!D9),1,0) -> 1 | F2: =IF(B2*E2=2,1,0) -> 0 | G2: =IF(B2*E2=1,1,0) -> 0 | H2: =IF(B2=0,IF(E2=1,1,0),0) -> 1 | I2: =IF(E2*D2=2,1,0) -> 1 | J2: =IF(E2*D2=1,1,0) -> 0 | K2: =IF(D2=0,IF(E2=1,1,0),0) -> 0 | L2: ='Classif Prim Fase'!C6 -> BOLIVAR BOL - AnB | M2: =SUMIF($A$1:$A$55,L2,$F$1:$F$55)+SUMIF($C$1:$C$55,L2,$I$1:$I$55) -> 1 | N2: =SUMIF($A$1:$A$55,L2,$G$1:$G$55)+SUMIF($C$1:$C$55,L2,$J$1:$J$55) -> 2 | O2: =SUMIF($A$1:$A$55,L2,$H$1:$H$55)+SUMIF($C$1:$C$55,L2,$K$1:$K$55) -> 1 | P2: =SUMIF(Jogos!$C$8:$C$55,L2,Jogos!$D$8:$D$55)+SUMIF(Jogos!$G$8:$G$55,L2,Jogos!$F$8:$F$55) -> 8 | Q2: =SUMIF(Jogos!$C$8:$C$55,L2,Jogos!$F$8:$F$55)+SUMIF(Jogos!$G$8:$G$55,L2,Jogos!$D$8:$D$55) -> 6 | R2: =(1000000*((3*M2)+N2))+(10000*M2)+(100*(P2-Q2))+P2+(0.001*(30-T2)) -> 5010208 | S2: =RANK(R2,$R$2:$R$19) -> 9 | T2: 1 | U2: =IF($S$2=T2,2,0)+IF($S$3=T2,3,0)+IF($S$4=T2,4,0)+IF($S$5=T2,5,0)+IF($S$6=T2,6,0)+IF($S$7=T2,7,0)+IF($S$8=T2,8,0)+IF($S$9=T2,9,0)+IF($S$10=T2,10,0)+IF($S$11=T2,11,0)+IF($S$12=T2,12,0)+IF($S$13=T2,13,0)+IF($S$14=T2,14,0)+IF($S$15=T2,15,0)+IF($S$16=T2,16,0)+IF($S$17=T2,17,0)+IF($S$18=T2,18,0)+IF($S$19=T2,19,0) -> 8 | W2: =CONCATENATE("'Auxiliar (3)'!",W$1,$U2) -> 'Auxiliar (3)'!L8 | X2: =CONCATENATE("'Auxiliar (3)'!",X$1,$U2) -> 'Auxiliar (3)'!M8 | Y2: =CONCATENATE("'Auxiliar (3)'!",Y$1,$U2) -> 'Auxiliar (3)'!N8 | Z2: =CONCATENATE("'Auxiliar (3)'!",Z$1,$U2) -> 'Auxiliar (3)'!O8 | AA2: =CONCATENATE("'Auxiliar (3)'!",AA$1,$U2) -> 'Auxiliar (3)'!P8 | AB2: =CONCATENATE("'Auxiliar (3)'!",AB$1,$U2) -> 'Auxiliar (3)'!Q8 | AC2: OURO | AD2: 1A | AE2: 1B | AF2: 1C | AG2: 1D | AI2: 3A | AJ2: 3B | AX2: H | AY2: I | AZ2: J | BA2: K
A3: =Jogos!C10 -> NÁUTICO - Jea | B3: =IF(Jogos!D10<Jogos!F10,0,IF(Jogos!D10=Jogos!F10,1,IF(Jogos!D10>Jogos!F10,2))) -> 0 | C3: =Jogos!G10 -> NACIONAL URU - Ton | D3: =IF(Jogos!D10>Jogos!F10,0,IF(Jogos!D10=Jogos!F10,1,IF(Jogos!D10<Jogos!F10,2))) -> 2 | E3: =IF(ISNUMBER(Jogos!D10),1,0) -> 1 | F3: =IF(B3*E3=2,1,0) -> 0 | G3: =IF(B3*E3=1,1,0) -> 0 | H3: =IF(B3=0,IF(E3=1,1,0),0) -> 1 | I3: =IF(E3*D3=2,1,0) -> 1 | J3: =IF(E3*D3=1,1,0) -> 0 | K3: =IF(D3=0,IF(E3=1,1,0),0) -> 0 | L3: ='Classif Prim Fase'!C7 -> ATLÉTICO MG - RoB | M3: =SUMIF($A$1:$A$55,L3,$F$1:$F$55)+SUMIF($C$1:$C$55,L3,$I$1:$I$55) -> 1 | N3: =SUMIF($A$1:$A$55,L3,$G$1:$G$55)+SUMIF($C$1:$C$55,L3,$J$1:$J$55) -> 0 | O3: =SUMIF($A$1:$A$48,L3,$H$1:$H$48)+SUMIF($C$1:$C$48,L3,$K$1:$K$48) -> 3 | P3: =SUMIF(Jogos!$C$8:$C$55,L3,Jogos!$D$8:$D$55)+SUMIF(Jogos!$G$8:$G$55,L3,Jogos!$F$8:$F$55) -> 5 | Q3: =SUMIF(Jogos!$C$8:$C$55,L3,Jogos!$F$8:$F$55)+SUMIF(Jogos!$G$8:$G$55,L3,Jogos!$D$8:$D$55) -> 13 | R3: =(1000000*((3*M3)+N3))+(10000*M3)+(100*(P3-Q3))+P3+(0.001*(30-T3)) -> 3009205 | S3: =RANK(R3,$R$2:$R$19) -> 15 | T3: 2 | U3: =IF($S$2=T3,2,0)+IF($S$3=T3,3,0)+IF($S$4=T3,4,0)+IF($S$5=T3,5,0)+IF($S$6=T3,6,0)+IF($S$7=T3,7,0)+IF($S$8=T3,8,0)+IF($S$9=T3,9,0)+IF($S$10=T3,10,0)+IF($S$11=T3,11,0)+IF($S$12=T3,12,0)+IF($S$13=T3,13,0)+IF($S$14=T3,14,0)+IF($S$15=T3,15,0)+IF($S$16=T3,16,0)+IF($S$17=T3,17,0)+IF($S$18=T3,18,0)+IF($S$19=T3,19,0) -> 11 | W3: =CONCATENATE("'Auxiliar (3)'!",W$1,$U3) -> 'Auxiliar (3)'!L11 | X3: =CONCATENATE("'Auxiliar (3)'!",X$1,$U3) -> 'Auxiliar (3)'!M11 | Y3: =CONCATENATE("'Auxiliar (3)'!",Y$1,$U3) -> 'Auxiliar (3)'!N11 | Z3: =CONCATENATE("'Auxiliar (3)'!",Z$1,$U3) -> 'Auxiliar (3)'!O11 | AA3: =CONCATENATE("'Auxiliar (3)'!",AA$1,$U3) -> 'Auxiliar (3)'!P11 | AB3: =CONCATENATE("'Auxiliar (3)'!",AB$1,$U3) -> 'Auxiliar (3)'!Q11 | AD3: 2F | AE3: 2E | AF3: 1F | AG3: 1E | AI3: 3D | AJ3: 3C | AX3: 1º A | AY3: 1º B | AZ3: 1º C | BA3: 1º D
A4: =Jogos!C11 -> BOCA JUNIORS ARG - Aéc | B4: =IF(Jogos!D11<Jogos!F11,0,IF(Jogos!D11=Jogos!F11,1,IF(Jogos!D11>Jogos!F11,2))) -> 0 | C4: =Jogos!G11 -> GRÊMIO - MaF | D4: =IF(Jogos!D11>Jogos!F11,0,IF(Jogos!D11=Jogos!F11,1,IF(Jogos!D11<Jogos!F11,2))) -> 2 | E4: =IF(ISNUMBER(Jogos!D11),1,0) -> 1 | F4: =IF(B4*E4=2,1,0) -> 0 | G4: =IF(B4*E4=1,1,0) -> 0 | H4: =IF(B4=0,IF(E4=1,1,0),0) -> 1 | I4: =IF(E4*D4=2,1,0) -> 1 | J4: =IF(E4*D4=1,1,0) -> 0 | K4: =IF(D4=0,IF(E4=1,1,0),0) -> 0 | L4: ='Classif Prim Fase'!C8 -> VASCO DA GAMA - Pim | M4: =SUMIF($A$1:$A$55,L4,$F$1:$F$55)+SUMIF($C$1:$C$55,L4,$I$1:$I$55) -> 0 | N4: =SUMIF($A$1:$A$55,L4,$G$1:$G$55)+SUMIF($C$1:$C$55,L4,$J$1:$J$55) -> 2 | O4: =SUMIF($A$1:$A$48,L4,$H$1:$H$48)+SUMIF($C$1:$C$48,L4,$K$1:$K$48) -> 2 | P4: =SUMIF(Jogos!$C$8:$C$55,L4,Jogos!$D$8:$D$55)+SUMIF(Jogos!$G$8:$G$55,L4,Jogos!$F$8:$F$55) -> 3 | Q4: =SUMIF(Jogos!$C$8:$C$55,L4,Jogos!$F$8:$F$55)+SUMIF(Jogos!$G$8:$G$55,L4,Jogos!$D$8:$D$55) -> 8 | R4: =(1000000*((3*M4)+N4))+(10000*M4)+(100*(P4-Q4))+P4+(0.001*(30-T4)) -> 1999503 | S4: =RANK(R4,$R$2:$R$19) -> 17 | T4: 3 | U4: =IF($S$2=T4,2,0)+IF($S$3=T4,3,0)+IF($S$4=T4,4,0)+IF($S$5=T4,5,0)+IF($S$6=T4,6,0)+IF($S$7=T4,7,0)+IF($S$8=T4,8,0)+IF($S$9=T4,9,0)+IF($S$10=T4,10,0)+IF($S$11=T4,11,0)+IF($S$12=T4,12,0)+IF($S$13=T4,13,0)+IF($S$14=T4,14,0)+IF($S$15=T4,15,0)+IF($S$16=T4,16,0)+IF($S$17=T4,17,0)+IF($S$18=T4,18,0)+IF($S$19=T4,19,0) -> 5 | W4: =CONCATENATE("'Auxiliar (3)'!",W$1,$U4) -> 'Auxiliar (3)'!L5 | X4: =CONCATENATE("'Auxiliar (3)'!",X$1,$U4) -> 'Auxiliar (3)'!M5 | Y4: =CONCATENATE("'Auxiliar (3)'!",Y$1,$U4) -> 'Auxiliar (3)'!N5 | Z4: =CONCATENATE("'Auxiliar (3)'!",Z$1,$U4) -> 'Auxiliar (3)'!O5 | AA4: =CONCATENATE("'Auxiliar (3)'!",AA$1,$U4) -> 'Auxiliar (3)'!P5 | AB4: =CONCATENATE("'Auxiliar (3)'!",AB$1,$U4) -> 'Auxiliar (3)'!Q5 | AD4: 2C | AE4: 2D | AF4: 2A | AG4: 2B | AI4: 3E | AJ4: 3F | AX4: 1º mel. 2º | AY4: 1º G | AZ4: 1º F | BA4: 1º E
A5: =Jogos!C12 -> RACING ARG - RoG | B5: =IF(Jogos!D12<Jogos!F12,0,IF(Jogos!D12=Jogos!F12,1,IF(Jogos!D12>Jogos!F12,2))) -> 0 | C5: =Jogos!G12 -> INDEPENDIENTE ARG - Mar | D5: =IF(Jogos!D12>Jogos!F12,0,IF(Jogos!D12=Jogos!F12,1,IF(Jogos!D12<Jogos!F12,2))) -> 2 | E5: =IF(ISNUMBER(Jogos!D12),1,0) -> 1 | F5: =IF(B5*E5=2,1,0) -> 0 | G5: =IF(B5*E5=1,1,0) -> 0 | H5: =IF(B5=0,IF(E5=1,1,0),0) -> 1 | I5: =IF(E5*D5=2,1,0) -> 1 | J5: =IF(E5*D5=1,1,0) -> 0 | K5: =IF(D5=0,IF(E5=1,1,0),0) -> 0 | L5: ='Classif Prim Fase'!C11 -> FLAMENGO - Vas | M5: =SUMIF($A$1:$A$55,L5,$F$1:$F$55)+SUMIF($C$1:$C$55,L5,$I$1:$I$55) -> 4 | N5: =SUMIF($A$1:$A$55,L5,$G$1:$G$55)+SUMIF($C$1:$C$55,L5,$J$1:$J$55) -> 0 | O5: =SUMIF($A$1:$A$48,L5,$H$1:$H$48)+SUMIF($C$1:$C$48,L5,$K$1:$K$48) -> 1 | P5: =SUMIF(Jogos!$C$8:$C$55,L5,Jogos!$D$8:$D$55)+SUMIF(Jogos!$G$8:$G$55,L5,Jogos!$F$8:$F$55) -> 9 | Q5: =SUMIF(Jogos!$C$8:$C$55,L5,Jogos!$F$8:$F$55)+SUMIF(Jogos!$G$8:$G$55,L5,Jogos!$D$8:$D$55) -> 2 | R5: =(1000000*((3*M5)+N5))+(10000*M5)+(100*(P5-Q5))+P5+(0.001*(30-T5)) -> 12040709 | S5: =RANK(R5,$R$2:$R$19) -> 3 | T5: 4 | U5: =IF($S$2=T5,2,0)+IF($S$3=T5,3,0)+IF($S$4=T5,4,0)+IF($S$5=T5,5,0)+IF($S$6=T5,6,0)+IF($S$7=T5,7,0)+IF($S$8=T5,8,0)+IF($S$9=T5,9,0)+IF($S$10=T5,10,0)+IF($S$11=T5,11,0)+IF($S$12=T5,12,0)+IF($S$13=T5,13,0)+IF($S$14=T5,14,0)+IF($S$15=T5,15,0)+IF($S$16=T5,16,0)+IF($S$17=T5,17,0)+IF($S$18=T5,18,0)+IF($S$19=T5,19,0) -> 10 | W5: =CONCATENATE("'Auxiliar (3)'!",W$1,$U5) -> 'Auxiliar (3)'!L10 | X5: =CONCATENATE("'Auxiliar (3)'!",X$1,$U5) -> 'Auxiliar (3)'!M10 | Y5: =CONCATENATE("'Auxiliar (3)'!",Y$1,$U5) -> 'Auxiliar (3)'!N10 | Z5: =CONCATENATE("'Auxiliar (3)'!",Z$1,$U5) -> 'Auxiliar (3)'!O10 | AA5: =CONCATENATE("'Auxiliar (3)'!",AA$1,$U5) -> 'Auxiliar (3)'!P10 | AB5: =CONCATENATE("'Auxiliar (3)'!",AB$1,$U5) -> 'Auxiliar (3)'!Q10 | AX5: 2º mel. 2º | AY5: 3º mel. 2º | AZ5: 4º mel. 2º | BA5: 5º mel. 2º
A6: =Jogos!C13 -> OLIMPIA PAR - Ama | B6: =IF(Jogos!D13<Jogos!F13,0,IF(Jogos!D13=Jogos!F13,1,IF(Jogos!D13>Jogos!F13,2))) -> 0 | C6: =Jogos!G13 -> CRUZEIRO - PC | D6: =IF(Jogos!D13>Jogos!F13,0,IF(Jogos!D13=Jogos!F13,1,IF(Jogos!D13<Jogos!F13,2))) -> 2 | E6: =IF(ISNUMBER(Jogos!D13),1,0) -> 1 | F6: =IF(B6*E6=2,1,0) -> 0 | G6: =IF(B6*E6=1,1,0) -> 0 | H6: =IF(B6=0,IF(E6=1,1,0),0) -> 1 | I6: =IF(E6*D6=2,1,0) -> 1 | J6: =IF(E6*D6=1,1,0) -> 0 | K6: =IF(D6=0,IF(E6=1,1,0),0) -> 0 | L6: ='Classif Prim Fase'!C12 -> FLUMINENSE - Sim | M6: =SUMIF($A$1:$A$55,L6,$F$1:$F$55)+SUMIF($C$1:$C$55,L6,$I$1:$I$55) -> 1 | N6: =SUMIF($A$1:$A$55,L6,$G$1:$G$55)+SUMIF($C$1:$C$55,L6,$J$1:$J$55) -> 0 | O6: =SUMIF($A$1:$A$48,L6,$H$1:$H$48)+SUMIF($C$1:$C$48,L6,$K$1:$K$48) -> 3 | P6: =SUMIF(Jogos!$C$8:$C$55,L6,Jogos!$D$8:$D$55)+SUMIF(Jogos!$G$8:$G$55,L6,Jogos!$F$8:$F$55) -> 3 | Q6: =SUMIF(Jogos!$C$8:$C$55,L6,Jogos!$F$8:$F$55)+SUMIF(Jogos!$G$8:$G$55,L6,Jogos!$D$8:$D$55) -> 6 | R6: =(1000000*((3*M6)+N6))+(10000*M6)+(100*(P6-Q6))+P6+(0.001*(30-T6)) -> 3009703 | S6: =RANK(R6,$R$2:$R$19) -> 13 | T6: 5 | U6: =IF($S$2=T6,2,0)+IF($S$3=T6,3,0)+IF($S$4=T6,4,0)+IF($S$5=T6,5,0)+IF($S$6=T6,6,0)+IF($S$7=T6,7,0)+IF($S$8=T6,8,0)+IF($S$9=T6,9,0)+IF($S$10=T6,10,0)+IF($S$11=T6,11,0)+IF($S$12=T6,12,0)+IF($S$13=T6,13,0)+IF($S$14=T6,14,0)+IF($S$15=T6,15,0)+IF($S$16=T6,16,0)+IF($S$17=T6,17,0)+IF($S$18=T6,18,0)+IF($S$19=T6,19,0) -> 9 | W6: =CONCATENATE("'Auxiliar (3)'!",W$1,$U6) -> 'Auxiliar (3)'!L9 | X6: =CONCATENATE("'Auxiliar (3)'!",X$1,$U6) -> 'Auxiliar (3)'!M9 | Y6: =CONCATENATE("'Auxiliar (3)'!",Y$1,$U6) -> 'Auxiliar (3)'!N9 | Z6: =CONCATENATE("'Auxiliar (3)'!",Z$1,$U6) -> 'Auxiliar (3)'!O9 | AA6: =CONCATENATE("'Auxiliar (3)'!",AA$1,$U6) -> 'Auxiliar (3)'!P9 | AB6: =CONCATENATE("'Auxiliar (3)'!",AB$1,$U6) -> 'Auxiliar (3)'!Q9
A7: =Jogos!C14 -> PALMEIRAS - Alc | B7: =IF(Jogos!D14<Jogos!F14,0,IF(Jogos!D14=Jogos!F14,1,IF(Jogos!D14>Jogos!F14,2))) -> 2 | C7: =Jogos!G14 -> OLIMPIA PAR - Ama | D7: =IF(Jogos!D14>Jogos!F14,0,IF(Jogos!D14=Jogos!F14,1,IF(Jogos!D14<Jogos!F14,2))) -> 0 | E7: =IF(ISNUMBER(Jogos!D14),1,0) -> 1 | F7: =IF(B7*E7=2,1,0) -> 1 | G7: =IF(B7*E7=1,1,0) -> 0 | H7: =IF(B7=0,IF(E7=1,1,0),0) -> 0 | I7: =IF(E7*D7=2,1,0) -> 0 | J7: =IF(E7*D7=1,1,0) -> 0 | K7: =IF(D7=0,IF(E7=1,1,0),0) -> 1 | L7: ='Classif Prim Fase'!C13 -> COLO COLO CHI - Mal | M7: =SUMIF($A$1:$A$55,L7,$F$1:$F$55)+SUMIF($C$1:$C$55,L7,$I$1:$I$55) -> 0 | N7: =SUMIF($A$1:$A$55,L7,$G$1:$G$55)+SUMIF($C$1:$C$55,L7,$J$1:$J$55) -> 0 | O7: =SUMIF($A$1:$A$48,L7,$H$1:$H$48)+SUMIF($C$1:$C$48,L7,$K$1:$K$48) -> 4 | P7: =SUMIF(Jogos!$C$8:$C$55,L7,Jogos!$D$8:$D$55)+SUMIF(Jogos!$G$8:$G$55,L7,Jogos!$F$8:$F$55) -> 2 | Q7: =SUMIF(Jogos!$C$8:$C$55,L7,Jogos!$F$8:$F$55)+SUMIF(Jogos!$G$8:$G$55,L7,Jogos!$D$8:$D$55) -> 11 | R7: =(1000000*((3*M7)+N7))+(10000*M7)+(100*(P7-Q7))+P7+(0.001*(30-T7)) -> -897.976 | S7: =RANK(R7,$R$2:$R$19) -> 18 | T7: 6 | U7: =IF($S$2=T7,2,0)+IF($S$3=T7,3,0)+IF($S$4=T7,4,0)+IF($S$5=T7,5,0)+IF($S$6=T7,6,0)+IF($S$7=T7,7,0)+IF($S$8=T7,8,0)+IF($S$9=T7,9,0)+IF($S$10=T7,10,0)+IF($S$11=T7,11,0)+IF($S$12=T7,12,0)+IF($S$13=T7,13,0)+IF($S$14=T7,14,0)+IF($S$15=T7,15,0)+IF($S$16=T7,16,0)+IF($S$17=T7,17,0)+IF($S$18=T7,18,0)+IF($S$19=T7,19,0) -> 17 | W7: =CONCATENATE("'Auxiliar (3)'!",W$1,$U7) -> 'Auxiliar (3)'!L17 | X7: =CONCATENATE("'Auxiliar (3)'!",X$1,$U7) -> 'Auxiliar (3)'!M17 | Y7: =CONCATENATE("'Auxiliar (3)'!",Y$1,$U7) -> 'Auxiliar (3)'!N17 | Z7: =CONCATENATE("'Auxiliar (3)'!",Z$1,$U7) -> 'Auxiliar (3)'!O17 | AA7: =CONCATENATE("'Auxiliar (3)'!",AA$1,$U7) -> 'Auxiliar (3)'!P17 | AB7: =CONCATENATE("'Auxiliar (3)'!",AB$1,$U7) -> 'Auxiliar (3)'!Q17
A8: =Jogos!C15 -> BOLIVAR BOL - AnB | B8: =IF(Jogos!D15<Jogos!F15,0,IF(Jogos!D15=Jogos!F15,1,IF(Jogos!D15>Jogos!F15,2))) -> 1 | C8: =Jogos!G15 -> VASCO DA GAMA - Pim | D8: =IF(Jogos!D15>Jogos!F15,0,IF(Jogos!D15=Jogos!F15,1,IF(Jogos!D15<Jogos!F15,2))) -> 1 | E8: =IF(ISNUMBER(Jogos!D15),1,0) -> 1 | F8: =IF(B8*E8=2,1,0) -> 0 | G8: =IF(B8*E8=1,1,0) -> 1 | H8: =IF(B8=0,IF(E8=1,1,0),0) -> 0 | I8: =IF(E8*D8=2,1,0) -> 0 | J8: =IF(E8*D8=1,1,0) -> 1 | K8: =IF(D8=0,IF(E8=1,1,0),0) -> 0 | L8: ='Classif Prim Fase'!C16 -> NACIONAL URU - Ton | M8: =SUMIF($A$1:$A$55,L8,$F$1:$F$55)+SUMIF($C$1:$C$55,L8,$I$1:$I$55) -> 5 | N8: =SUMIF($A$1:$A$55,L8,$G$1:$G$55)+SUMIF($C$1:$C$55,L8,$J$1:$J$55) -> 1 | O8: =SUMIF($A$1:$A$48,L8,$H$1:$H$48)+SUMIF($C$1:$C$48,L8,$K$1:$K$48) -> 0 | P8: =SUMIF(Jogos!$C$8:$C$55,L8,Jogos!$D$8:$D$55)+SUMIF(Jogos!$G$8:$G$55,L8,Jogos!$F$8:$F$55) -> 15 | Q8: =SUMIF(Jogos!$C$8:$C$55,L8,Jogos!$F$8:$F$55)+SUMIF(Jogos!$G$8:$G$55,L8,Jogos!$D$8:$D$55) -> 1 | R8: =(1000000*((3*M8)+N8))+(10000*M8)+(100*(P8-Q8))+P8+(0.001*(30-T8)) -> 16051415 | S8: =RANK(R8,$R$2:$R$19) -> 1 | T8: 7 | U8: =IF($S$2=T8,2,0)+IF($S$3=T8,3,0)+IF($S$4=T8,4,0)+IF($S$5=T8,5,0)+IF($S$6=T8,6,0)+IF($S$7=T8,7,0)+IF($S$8=T8,8,0)+IF($S$9=T8,9,0)+IF($S$10=T8,10,0)+IF($S$11=T8,11,0)+IF($S$12=T8,12,0)+IF($S$13=T8,13,0)+IF($S$14=T8,14,0)+IF($S$15=T8,15,0)+IF($S$16=T8,16,0)+IF($S$17=T8,17,0)+IF($S$18=T8,18,0)+IF($S$19=T8,19,0) -> 18 | W8: =CONCATENATE("'Auxiliar (3)'!",W$1,$U8) -> 'Auxiliar (3)'!L18 | X8: =CONCATENATE("'Auxiliar (3)'!",X$1,$U8) -> 'Auxiliar (3)'!M18 | Y8: =CONCATENATE("'Auxiliar (3)'!",Y$1,$U8) -> 'Auxiliar (3)'!N18 | Z8: =CONCATENATE("'Auxiliar (3)'!",Z$1,$U8) -> 'Auxiliar (3)'!O18 | AA8: =CONCATENATE("'Auxiliar (3)'!",AA$1,$U8) -> 'Auxiliar (3)'!P18 | AB8: =CONCATENATE("'Auxiliar (3)'!",AB$1,$U8) -> 'Auxiliar (3)'!Q18
A9: =Jogos!C16 -> FLAMENGO - Vas | B9: =IF(Jogos!D16<Jogos!F16,0,IF(Jogos!D16=Jogos!F16,1,IF(Jogos!D16>Jogos!F16,2))) -> 2 | C9: =Jogos!G16 -> COLO COLO CHI - Mal | D9: =IF(Jogos!D16>Jogos!F16,0,IF(Jogos!D16=Jogos!F16,1,IF(Jogos!D16<Jogos!F16,2))) -> 0 | E9: =IF(ISNUMBER(Jogos!D16),1,0) -> 1 | F9: =IF(B9*E9=2,1,0) -> 1 | G9: =IF(B9*E9=1,1,0) -> 0 | H9: =IF(B9=0,IF(E9=1,1,0),0) -> 0 | I9: =IF(E9*D9=2,1,0) -> 0 | J9: =IF(E9*D9=1,1,0) -> 0 | K9: =IF(D9=0,IF(E9=1,1,0),0) -> 1 | L9: ='Classif Prim Fase'!C17 -> BOTAFOGO - JoR | M9: =SUMIF($A$1:$A$55,L9,$F$1:$F$55)+SUMIF($C$1:$C$55,L9,$I$1:$I$55) -> 2 | N9: =SUMIF($A$1:$A$55,L9,$G$1:$G$55)+SUMIF($C$1:$C$55,L9,$J$1:$J$55) -> 3 | O9: =SUMIF($A$1:$A$48,L9,$H$1:$H$48)+SUMIF($C$1:$C$48,L9,$K$1:$K$48) -> 0 | P9: =SUMIF(Jogos!$C$8:$C$55,L9,Jogos!$D$8:$D$55)+SUMIF(Jogos!$G$8:$G$55,L9,Jogos!$F$8:$F$55) -> 5 | Q9: =SUMIF(Jogos!$C$8:$C$55,L9,Jogos!$F$8:$F$55)+SUMIF(Jogos!$G$8:$G$55,L9,Jogos!$D$8:$D$55) -> 1 | R9: =(1000000*((3*M9)+N9))+(10000*M9)+(100*(P9-Q9))+P9+(0.001*(30-T9)) -> 9020405 | S9: =RANK(R9,$R$2:$R$19) -> 5 | T9: 8 | U9: =IF($S$2=T9,2,0)+IF($S$3=T9,3,0)+IF($S$4=T9,4,0)+IF($S$5=T9,5,0)+IF($S$6=T9,6,0)+IF($S$7=T9,7,0)+IF($S$8=T9,8,0)+IF($S$9=T9,9,0)+IF($S$10=T9,10,0)+IF($S$11=T9,11,0)+IF($S$12=T9,12,0)+IF($S$13=T9,13,0)+IF($S$14=T9,14,0)+IF($S$15=T9,15,0)+IF($S$16=T9,16,0)+IF($S$17=T9,17,0)+IF($S$18=T9,18,0)+IF($S$19=T9,19,0) -> 14 | W9: =CONCATENATE("'Auxiliar (3)'!",W$1,$U9) -> 'Auxiliar (3)'!L14 | X9: =CONCATENATE("'Auxiliar (3)'!",X$1,$U9) -> 'Auxiliar (3)'!M14 | Y9: =CONCATENATE("'Auxiliar (3)'!",Y$1,$U9) -> 'Auxiliar (3)'!N14 | Z9: =CONCATENATE("'Auxiliar (3)'!",Z$1,$U9) -> 'Auxiliar (3)'!O14 | AA9: =CONCATENATE("'Auxiliar (3)'!",AA$1,$U9) -> 'Auxiliar (3)'!P14 | AB9: =CONCATENATE("'Auxiliar (3)'!",AB$1,$U9) -> 'Auxiliar (3)'!Q14
A10: =Jogos!C17 -> BOTAFOGO - JoR | B10: =IF(Jogos!D17<Jogos!F17,0,IF(Jogos!D17=Jogos!F17,1,IF(Jogos!D17>Jogos!F17,2))) -> 2 | C10: =Jogos!G17 -> NÁUTICO - Jea | D10: =IF(Jogos!D17>Jogos!F17,0,IF(Jogos!D17=Jogos!F17,1,IF(Jogos!D17<Jogos!F17,2))) -> 0 | E10: =IF(ISNUMBER(Jogos!D17),1,0) -> 1 | F10: =IF(B10*E10=2,1,0) -> 1 | G10: =IF(B10*E10=1,1,0) -> 0 | H10: =IF(B10=0,IF(E10=1,1,0),0) -> 0 | I10: =IF(E10*D10=2,1,0) -> 0 | J10: =IF(E10*D10=1,1,0) -> 0 | K10: =IF(D10=0,IF(E10=1,1,0),0) -> 1 | L10: ='Classif Prim Fase'!C18 -> NÁUTICO - Jea | M10: =SUMIF($A$1:$A$55,L10,$F$1:$F$55)+SUMIF($C$1:$C$55,L10,$I$1:$I$55) -> 3 | N10: =SUMIF($A$1:$A$55,L10,$G$1:$G$55)+SUMIF($C$1:$C$55,L10,$J$1:$J$55) -> 0 | O10: =SUMIF($A$1:$A$48,L10,$H$1:$H$48)+SUMIF($C$1:$C$48,L10,$K$1:$K$48) -> 2 | P10: =SUMIF(Jogos!$C$8:$C$55,L10,Jogos!$D$8:$D$55)+SUMIF(Jogos!$G$8:$G$55,L10,Jogos!$F$8:$F$55) -> 6 | Q10: =SUMIF(Jogos!$C$8:$C$55,L10,Jogos!$F$8:$F$55)+SUMIF(Jogos!$G$8:$G$55,L10,Jogos!$D$8:$D$55) -> 7 | R10: =(1000000*((3*M10)+N10))+(10000*M10)+(100*(P10-Q10))+P10+(0.001*(30-T10)) -> 9029906 | S10: =RANK(R10,$R$2:$R$19) -> 4 | T10: 9 | U10: =IF($S$2=T10,2,0)+IF($S$3=T10,3,0)+IF($S$4=T10,4,0)+IF($S$5=T10,5,0)+IF($S$6=T10,6,0)+IF($S$7=T10,7,0)+IF($S$8=T10,8,0)+IF($S$9=T10,9,0)+IF($S$10=T10,10,0)+IF($S$11=T10,11,0)+IF($S$12=T10,12,0)+IF($S$13=T10,13,0)+IF($S$14=T10,14,0)+IF($S$15=T10,15,0)+IF($S$16=T10,16,0)+IF($S$17=T10,17,0)+IF($S$18=T10,18,0)+IF($S$19=T10,19,0) -> 2 | W10: =CONCATENATE("'Auxiliar (3)'!",W$1,$U10) -> 'Auxiliar (3)'!L2 | X10: =CONCATENATE("'Auxiliar (3)'!",X$1,$U10) -> 'Auxiliar (3)'!M2 | Y10: =CONCATENATE("'Auxiliar (3)'!",Y$1,$U10) -> 'Auxiliar (3)'!N2 | Z10: =CONCATENATE("'Auxiliar (3)'!",Z$1,$U10) -> 'Auxiliar (3)'!O2 | AA10: =CONCATENATE("'Auxiliar (3)'!",AA$1,$U10) -> 'Auxiliar (3)'!P2 | AB10: =CONCATENATE("'Auxiliar (3)'!",AB$1,$U10) -> 'Auxiliar (3)'!Q2
A11: =Jogos!C18 -> THE STRONGEST BOL - Jun | B11: =IF(Jogos!D18<Jogos!F18,0,IF(Jogos!D18=Jogos!F18,1,IF(Jogos!D18>Jogos!F18,2))) -> 1 | C11: =Jogos!G18 -> BOCA JUNIORS ARG - Aéc | D11: =IF(Jogos!D18>Jogos!F18,0,IF(Jogos!D18=Jogos!F18,1,IF(Jogos!D18<Jogos!F18,2))) -> 1 | E11: =IF(ISNUMBER(Jogos!D18),1,0) -> 1 | F11: =IF(B11*E11=2,1,0) -> 0 | G11: =IF(B11*E11=1,1,0) -> 1 | H11: =IF(B11=0,IF(E11=1,1,0),0) -> 0 | I11: =IF(E11*D11=2,1,0) -> 0 | J11: =IF(E11*D11=1,1,0) -> 1 | K11: =IF(D11=0,IF(E11=1,1,0),0) -> 0 | L11: ='Classif Prim Fase'!C21 -> GRÊMIO - MaF | M11: =SUMIF($A$1:$A$55,L11,$F$1:$F$55)+SUMIF($C$1:$C$55,L11,$I$1:$I$55) -> 4 | N11: =SUMIF($A$1:$A$55,L11,$G$1:$G$55)+SUMIF($C$1:$C$55,L11,$J$1:$J$55) -> 1 | O11: =SUMIF($A$1:$A$48,L11,$H$1:$H$48)+SUMIF($C$1:$C$48,L11,$K$1:$K$48) -> 1 | P11: =SUMIF(Jogos!$C$8:$C$55,L11,Jogos!$D$8:$D$55)+SUMIF(Jogos!$G$8:$G$55,L11,Jogos!$F$8:$F$55) -> 12 | Q11: =SUMIF(Jogos!$C$8:$C$55,L11,Jogos!$F$8:$F$55)+SUMIF(Jogos!$G$8:$G$55,L11,Jogos!$D$8:$D$55) -> 3 | R11: =(1000000*((3*M11)+N11))+(10000*M11)+(100*(P11-Q11))+P11+(0.001*(30-T11)) -> 13040912 | S11: =RANK(R11,$R$2:$R$19) -> 2 | T11: 10 | U11: =IF($S$2=T11,2,0)+IF($S$3=T11,3,0)+IF($S$4=T11,4,0)+IF($S$5=T11,5,0)+IF($S$6=T11,6,0)+IF($S$7=T11,7,0)+IF($S$8=T11,8,0)+IF($S$9=T11,9,0)+IF($S$10=T11,10,0)+IF($S$11=T11,11,0)+IF($S$12=T11,12,0)+IF($S$13=T11,13,0)+IF($S$14=T11,14,0)+IF($S$15=T11,15,0)+IF($S$16=T11,16,0)+IF($S$17=T11,17,0)+IF($S$18=T11,18,0)+IF($S$19=T11,19,0) -> 13 | W11: =CONCATENATE("'Auxiliar (3)'!",W$1,$U11) -> 'Auxiliar (3)'!L13 | X11: =CONCATENATE("'Auxiliar (3)'!",X$1,$U11) -> 'Auxiliar (3)'!M13 | Y11: =CONCATENATE("'Auxiliar (3)'!",Y$1,$U11) -> 'Auxiliar (3)'!N13 | Z11: =CONCATENATE("'Auxiliar (3)'!",Z$1,$U11) -> 'Auxiliar (3)'!O13 | AA11: =CONCATENATE("'Auxiliar (3)'!",AA$1,$U11) -> 'Auxiliar (3)'!P13 | AB11: =CONCATENATE("'Auxiliar (3)'!",AB$1,$U11) -> 'Auxiliar (3)'!Q13
A12: =Jogos!C19 -> INTERNACIONAL - MaS | B12: =IF(Jogos!D19<Jogos!F19,0,IF(Jogos!D19=Jogos!F19,1,IF(Jogos!D19>Jogos!F19,2))) -> 2 | C12: =Jogos!G19 -> RACING ARG - RoG | D12: =IF(Jogos!D19>Jogos!F19,0,IF(Jogos!D19=Jogos!F19,1,IF(Jogos!D19<Jogos!F19,2))) -> 0 | E12: =IF(ISNUMBER(Jogos!D19),1,0) -> 1 | F12: =IF(B12*E12=2,1,0) -> 1 | G12: =IF(B12*E12=1,1,0) -> 0 | H12: =IF(B12=0,IF(E12=1,1,0),0) -> 0 | I12: =IF(E12*D12=2,1,0) -> 0 | J12: =IF(E12*D12=1,1,0) -> 0 | K12: =IF(D12=0,IF(E12=1,1,0),0) -> 1 | L12: ='Classif Prim Fase'!C22 -> THE STRONGEST BOL - Jun | M12: =SUMIF($A$1:$A$55,L12,$F$1:$F$55)+SUMIF($C$1:$C$55,L12,$I$1:$I$55) -> 1 | N12: =SUMIF($A$1:$A$55,L12,$G$1:$G$55)+SUMIF($C$1:$C$55,L12,$J$1:$J$55) -> 1 | O12: =SUMIF($A$1:$A$48,L12,$H$1:$H$48)+SUMIF($C$1:$C$48,L12,$K$1:$K$48) -> 2 | P12: =SUMIF(Jogos!$C$8:$C$55,L12,Jogos!$D$8:$D$55)+SUMIF(Jogos!$G$8:$G$55,L12,Jogos!$F$8:$F$55) -> 2 | Q12: =SUMIF(Jogos!$C$8:$C$55,L12,Jogos!$F$8:$F$55)+SUMIF(Jogos!$G$8:$G$55,L12,Jogos!$D$8:$D$55) -> 3 | R12: =(1000000*((3*M12)+N12))+(10000*M12)+(100*(P12-Q12))+P12+(0.001*(30-T12)) -> 4009902 | S12: =RANK(R12,$R$2:$R$19) -> 11 | T12: 11 | U12: =IF($S$2=T12,2,0)+IF($S$3=T12,3,0)+IF($S$4=T12,4,0)+IF($S$5=T12,5,0)+IF($S$6=T12,6,0)+IF($S$7=T12,7,0)+IF($S$8=T12,8,0)+IF($S$9=T12,9,0)+IF($S$10=T12,10,0)+IF($S$11=T12,11,0)+IF($S$12=T12,12,0)+IF($S$13=T12,13,0)+IF($S$14=T12,14,0)+IF($S$15=T12,15,0)+IF($S$16=T12,16,0)+IF($S$17=T12,17,0)+IF($S$18=T12,18,0)+IF($S$19=T12,19,0) -> 12 | W12: =CONCATENATE("'Auxiliar (3)'!",W$1,$U12) -> 'Auxiliar (3)'!L12 | X12: =CONCATENATE("'Auxiliar (3)'!",X$1,$U12) -> 'Auxiliar (3)'!M12 | Y12: =CONCATENATE("'Auxiliar (3)'!",Y$1,$U12) -> 'Auxiliar (3)'!N12 | Z12: =CONCATENATE("'Auxiliar (3)'!",Z$1,$U12) -> 'Auxiliar (3)'!O12 | AA12: =CONCATENATE("'Auxiliar (3)'!",AA$1,$U12) -> 'Auxiliar (3)'!P12 | AB12: =CONCATENATE("'Auxiliar (3)'!",AB$1,$U12) -> 'Auxiliar (3)'!Q12
A13: =Jogos!C20 -> INDEPENDIENTE ARG - Mar | B13: =IF(Jogos!D20<Jogos!F20,0,IF(Jogos!D20=Jogos!F20,1,IF(Jogos!D20>Jogos!F20,2))) -> 1 | C13: =Jogos!G20 -> INTERNACIONAL - MaS | D13: =IF(Jogos!D20>Jogos!F20,0,IF(Jogos!D20=Jogos!F20,1,IF(Jogos!D20<Jogos!F20,2))) -> 1 | E13: =IF(ISNUMBER(Jogos!D20),1,0) -> 1 | F13: =IF(B13*E13=2,1,0) -> 0 | G13: =IF(B13*E13=1,1,0) -> 1 | H13: =IF(B13=0,IF(E13=1,1,0),0) -> 0 | I13: =IF(E13*D13=2,1,0) -> 0 | J13: =IF(E13*D13=1,1,0) -> 1 | K13: =IF(D13=0,IF(E13=1,1,0),0) -> 0 | L13: ='Classif Prim Fase'!C23 -> BOCA JUNIORS ARG - Aéc | M13: =SUMIF($A$1:$A$55,L13,$F$1:$F$55)+SUMIF($C$1:$C$55,L13,$I$1:$I$55) -> 1 | N13: =SUMIF($A$1:$A$55,L13,$G$1:$G$55)+SUMIF($C$1:$C$55,L13,$J$1:$J$55) -> 2 | O13: =SUMIF($A$1:$A$48,L13,$H$1:$H$48)+SUMIF($C$1:$C$48,L13,$K$1:$K$48) -> 2 | P13: =SUMIF(Jogos!$C$8:$C$55,L13,Jogos!$D$8:$D$55)+SUMIF(Jogos!$G$8:$G$55,L13,Jogos!$F$8:$F$55) -> 2 | Q13: =SUMIF(Jogos!$C$8:$C$55,L13,Jogos!$F$8:$F$55)+SUMIF(Jogos!$G$8:$G$55,L13,Jogos!$D$8:$D$55) -> 6 | R13: =(1000000*((3*M13)+N13))+(10000*M13)+(100*(P13-Q13))+P13+(0.001*(30-T13)) -> 5009602 | S13: =RANK(R13,$R$2:$R$19) -> 10 | T13: 12 | U13: =IF($S$2=T13,2,0)+IF($S$3=T13,3,0)+IF($S$4=T13,4,0)+IF($S$5=T13,5,0)+IF($S$6=T13,6,0)+IF($S$7=T13,7,0)+IF($S$8=T13,8,0)+IF($S$9=T13,9,0)+IF($S$10=T13,10,0)+IF($S$11=T13,11,0)+IF($S$12=T13,12,0)+IF($S$13=T13,13,0)+IF($S$14=T13,14,0)+IF($S$15=T13,15,0)+IF($S$16=T13,16,0)+IF($S$17=T13,17,0)+IF($S$18=T13,18,0)+IF($S$19=T13,19,0) -> 15 | W13: =CONCATENATE("'Auxiliar (3)'!",W$1,$U13) -> 'Auxiliar (3)'!L15 | X13: =CONCATENATE("'Auxiliar (3)'!",X$1,$U13) -> 'Auxiliar (3)'!M15 | Y13: =CONCATENATE("'Auxiliar (3)'!",Y$1,$U13) -> 'Auxiliar (3)'!N15 | Z13: =CONCATENATE("'Auxiliar (3)'!",Z$1,$U13) -> 'Auxiliar (3)'!O15 | AA13: =CONCATENATE("'Auxiliar (3)'!",AA$1,$U13) -> 'Auxiliar (3)'!P15 | AB13: =CONCATENATE("'Auxiliar (3)'!",AB$1,$U13) -> 'Auxiliar (3)'!Q15
A14: =Jogos!C21 -> CRUZEIRO - PC | B14: =IF(Jogos!D21<Jogos!F21,0,IF(Jogos!D21=Jogos!F21,1,IF(Jogos!D21>Jogos!F21,2))) -> 1 | C14: =Jogos!G21 -> PALMEIRAS - Alc | D14: =IF(Jogos!D21>Jogos!F21,0,IF(Jogos!D21=Jogos!F21,1,IF(Jogos!D21<Jogos!F21,2))) -> 1 | E14: =IF(ISNUMBER(Jogos!D21),1,0) -> 1 | F14: =IF(B14*E14=2,1,0) -> 0 | G14: =IF(B14*E14=1,1,0) -> 1 | H14: =IF(B14=0,IF(E14=1,1,0),0) -> 0 | I14: =IF(E14*D14=2,1,0) -> 0 | J14: =IF(E14*D14=1,1,0) -> 1 | K14: =IF(D14=0,IF(E14=1,1,0),0) -> 0 | L14: ='Classif Prim Fase'!C26 -> INTERNACIONAL - MaS | M14: =SUMIF($A$1:$A$55,L14,$F$1:$F$55)+SUMIF($C$1:$C$55,L14,$I$1:$I$55) -> 2 | N14: =SUMIF($A$1:$A$55,L14,$G$1:$G$55)+SUMIF($C$1:$C$55,L14,$J$1:$J$55) -> 1 | O14: =SUMIF($A$1:$A$48,L14,$H$1:$H$48)+SUMIF($C$1:$C$48,L14,$K$1:$K$48) -> 1 | P14: =SUMIF(Jogos!$C$8:$C$55,L14,Jogos!$D$8:$D$55)+SUMIF(Jogos!$G$8:$G$55,L14,Jogos!$F$8:$F$55) -> 6 | Q14: =SUMIF(Jogos!$C$8:$C$55,L14,Jogos!$F$8:$F$55)+SUMIF(Jogos!$G$8:$G$55,L14,Jogos!$D$8:$D$55) -> 5 | R14: =(1000000*((3*M14)+N14))+(10000*M14)+(100*(P14-Q14))+P14+(0.001*(30-T14)) -> 7020106 | S14: =RANK(R14,$R$2:$R$19) -> 8 | T14: 13 | U14: =IF($S$2=T14,2,0)+IF($S$3=T14,3,0)+IF($S$4=T14,4,0)+IF($S$5=T14,5,0)+IF($S$6=T14,6,0)+IF($S$7=T14,7,0)+IF($S$8=T14,8,0)+IF($S$9=T14,9,0)+IF($S$10=T14,10,0)+IF($S$11=T14,11,0)+IF($S$12=T14,12,0)+IF($S$13=T14,13,0)+IF($S$14=T14,14,0)+IF($S$15=T14,15,0)+IF($S$16=T14,16,0)+IF($S$17=T14,17,0)+IF($S$18=T14,18,0)+IF($S$19=T14,19,0) -> 6 | W14: =CONCATENATE("'Auxiliar (3)'!",W$1,$U14) -> 'Auxiliar (3)'!L6 | X14: =CONCATENATE("'Auxiliar (3)'!",X$1,$U14) -> 'Auxiliar (3)'!M6 | Y14: =CONCATENATE("'Auxiliar (3)'!",Y$1,$U14) -> 'Auxiliar (3)'!N6 | Z14: =CONCATENATE("'Auxiliar (3)'!",Z$1,$U14) -> 'Auxiliar (3)'!O6 | AA14: =CONCATENATE("'Auxiliar (3)'!",AA$1,$U14) -> 'Auxiliar (3)'!P6 | AB14: =CONCATENATE("'Auxiliar (3)'!",AB$1,$U14) -> 'Auxiliar (3)'!Q6 | AC14: PRATA
A15: =Jogos!C22 -> ATLÉTICO MG - RoB | B15: =IF(Jogos!D22<Jogos!F22,0,IF(Jogos!D22=Jogos!F22,1,IF(Jogos!D22>Jogos!F22,2))) -> 0 | C15: =Jogos!G22 -> BOLIVAR BOL - AnB | D15: =IF(Jogos!D22>Jogos!F22,0,IF(Jogos!D22=Jogos!F22,1,IF(Jogos!D22<Jogos!F22,2))) -> 2 | E15: =IF(ISNUMBER(Jogos!D22),1,0) -> 1 | F15: =IF(B15*E15=2,1,0) -> 0 | G15: =IF(B15*E15=1,1,0) -> 0 | H15: =IF(B15=0,IF(E15=1,1,0),0) -> 1 | I15: =IF(E15*D15=2,1,0) -> 1 | J15: =IF(E15*D15=1,1,0) -> 0 | K15: =IF(D15=0,IF(E15=1,1,0),0) -> 0 | L15: ='Classif Prim Fase'!C27 -> INDEPENDIENTE ARG - Mar | M15: =SUMIF($A$1:$A$55,L15,$F$1:$F$55)+SUMIF($C$1:$C$55,L15,$I$1:$I$55) -> 1 | N15: =SUMIF($A$1:$A$55,L15,$G$1:$G$55)+SUMIF($C$1:$C$55,L15,$J$1:$J$55) -> 1 | O15: =SUMIF($A$1:$A$48,L15,$H$1:$H$48)+SUMIF($C$1:$C$48,L15,$K$1:$K$48) -> 2 | P15: =SUMIF(Jogos!$C$8:$C$55,L15,Jogos!$D$8:$D$55)+SUMIF(Jogos!$G$8:$G$55,L15,Jogos!$F$8:$F$55) -> 2 | Q15: =SUMIF(Jogos!$C$8:$C$55,L15,Jogos!$F$8:$F$55)+SUMIF(Jogos!$G$8:$G$55,L15,Jogos!$D$8:$D$55) -> 6 | R15: =(1000000*((3*M15)+N15))+(10000*M15)+(100*(P15-Q15))+P15+(0.001*(30-T15)) -> 4009602 | S15: =RANK(R15,$R$2:$R$19) -> 12 | T15: 14 | U15: =IF($S$2=T15,2,0)+IF($S$3=T15,3,0)+IF($S$4=T15,4,0)+IF($S$5=T15,5,0)+IF($S$6=T15,6,0)+IF($S$7=T15,7,0)+IF($S$8=T15,8,0)+IF($S$9=T15,9,0)+IF($S$10=T15,10,0)+IF($S$11=T15,11,0)+IF($S$12=T15,12,0)+IF($S$13=T15,13,0)+IF($S$14=T15,14,0)+IF($S$15=T15,15,0)+IF($S$16=T15,16,0)+IF($S$17=T15,17,0)+IF($S$18=T15,18,0)+IF($S$19=T15,19,0) -> 19 | W15: =CONCATENATE("'Auxiliar (3)'!",W$1,$U15) -> 'Auxiliar (3)'!L19 | X15: =CONCATENATE("'Auxiliar (3)'!",X$1,$U15) -> 'Auxiliar (3)'!M19 | Y15: =CONCATENATE("'Auxiliar (3)'!",Y$1,$U15) -> 'Auxiliar (3)'!N19 | Z15: =CONCATENATE("'Auxiliar (3)'!",Z$1,$U15) -> 'Auxiliar (3)'!O19 | AA15: =CONCATENATE("'Auxiliar (3)'!",AA$1,$U15) -> 'Auxiliar (3)'!P19 | AB15: =CONCATENATE("'Auxiliar (3)'!",AB$1,$U15) -> 'Auxiliar (3)'!Q19
A16: =Jogos!C23 -> FLUMINENSE - Sim | B16: =IF(Jogos!D23<Jogos!F23,0,IF(Jogos!D23=Jogos!F23,1,IF(Jogos!D23>Jogos!F23,2))) -> 0 | C16: =Jogos!G23 -> FLAMENGO - Vas | D16: =IF(Jogos!D23>Jogos!F23,0,IF(Jogos!D23=Jogos!F23,1,IF(Jogos!D23<Jogos!F23,2))) -> 2 | E16: =IF(ISNUMBER(Jogos!D23),1,0) -> 1 | F16: =IF(B16*E16=2,1,0) -> 0 | G16: =IF(B16*E16=1,1,0) -> 0 | H16: =IF(B16=0,IF(E16=1,1,0),0) -> 1 | I16: =IF(E16*D16=2,1,0) -> 1 | J16: =IF(E16*D16=1,1,0) -> 0 | K16: =IF(D16=0,IF(E16=1,1,0),0) -> 0 | L16: ='Classif Prim Fase'!C28 -> RACING ARG - RoG | M16: =SUMIF($A$1:$A$55,L16,$F$1:$F$55)+SUMIF($C$1:$C$55,L16,$I$1:$I$55) -> 0 | N16: =SUMIF($A$1:$A$55,L16,$G$1:$G$55)+SUMIF($C$1:$C$55,L16,$J$1:$J$55) -> 2 | O16: =SUMIF($A$1:$A$48,L16,$H$1:$H$48)+SUMIF($C$1:$C$48,L16,$K$1:$K$48) -> 2 | P16: =SUMIF(Jogos!$C$8:$C$55,L16,Jogos!$D$8:$D$55)+SUMIF(Jogos!$G$8:$G$55,L16,Jogos!$F$8:$F$55) -> 2 | Q16: =SUMIF(Jogos!$C$8:$C$55,L16,Jogos!$F$8:$F$55)+SUMIF(Jogos!$G$8:$G$55,L16,Jogos!$D$8:$D$55) -> 5 | R16: =(1000000*((3*M16)+N16))+(10000*M16)+(100*(P16-Q16))+P16+(0.001*(30-T16)) -> 1999702 | S16: =RANK(R16,$R$2:$R$19) -> 16 | T16: 15 | U16: =IF($S$2=T16,2,0)+IF($S$3=T16,3,0)+IF($S$4=T16,4,0)+IF($S$5=T16,5,0)+IF($S$6=T16,6,0)+IF($S$7=T16,7,0)+IF($S$8=T16,8,0)+IF($S$9=T16,9,0)+IF($S$10=T16,10,0)+IF($S$11=T16,11,0)+IF($S$12=T16,12,0)+IF($S$13=T16,13,0)+IF($S$14=T16,14,0)+IF($S$15=T16,15,0)+IF($S$16=T16,16,0)+IF($S$17=T16,17,0)+IF($S$18=T16,18,0)+IF($S$19=T16,19,0) -> 3 | W16: =CONCATENATE("'Auxiliar (3)'!",W$1,$U16) -> 'Auxiliar (3)'!L3 | X16: =CONCATENATE("'Auxiliar (3)'!",X$1,$U16) -> 'Auxiliar (3)'!M3 | Y16: =CONCATENATE("'Auxiliar (3)'!",Y$1,$U16) -> 'Auxiliar (3)'!N3 | Z16: =CONCATENATE("'Auxiliar (3)'!",Z$1,$U16) -> 'Auxiliar (3)'!O3 | AA16: =CONCATENATE("'Auxiliar (3)'!",AA$1,$U16) -> 'Auxiliar (3)'!P3 | AB16: =CONCATENATE("'Auxiliar (3)'!",AB$1,$U16) -> 'Auxiliar (3)'!Q3
A17: =Jogos!C24 -> NACIONAL URU - Ton | B17: =IF(Jogos!D24<Jogos!F24,0,IF(Jogos!D24=Jogos!F24,1,IF(Jogos!D24>Jogos!F24,2))) -> 1 | C17: =Jogos!G24 -> BOTAFOGO - JoR | D17: =IF(Jogos!D24>Jogos!F24,0,IF(Jogos!D24=Jogos!F24,1,IF(Jogos!D24<Jogos!F24,2))) -> 1 | E17: =IF(ISNUMBER(Jogos!D24),1,0) -> 1 | F17: =IF(B17*E17=2,1,0) -> 0 | G17: =IF(B17*E17=1,1,0) -> 1 | H17: =IF(B17=0,IF(E17=1,1,0),0) -> 0 | I17: =IF(E17*D17=2,1,0) -> 0 | J17: =IF(E17*D17=1,1,0) -> 1 | K17: =IF(D17=0,IF(E17=1,1,0),0) -> 0 | L17: ='Classif Prim Fase'!C31 -> CRUZEIRO - PC | M17: =SUMIF($A$1:$A$55,L17,$F$1:$F$55)+SUMIF($C$1:$C$55,L17,$I$1:$I$55) -> 2 | N17: =SUMIF($A$1:$A$55,L17,$G$1:$G$55)+SUMIF($C$1:$C$55,L17,$J$1:$J$55) -> 1 | O17: =SUMIF($A$1:$A$48,L17,$H$1:$H$48)+SUMIF($C$1:$C$48,L17,$K$1:$K$48) -> 1 | P17: =SUMIF(Jogos!$C$8:$C$55,L17,Jogos!$D$8:$D$55)+SUMIF(Jogos!$G$8:$G$55,L17,Jogos!$F$8:$F$55) -> 6 | Q17: =SUMIF(Jogos!$C$8:$C$55,L17,Jogos!$F$8:$F$55)+SUMIF(Jogos!$G$8:$G$55,L17,Jogos!$D$8:$D$55) -> 3 | R17: =(1000000*((3*M17)+N17))+(10000*M17)+(100*(P17-Q17))+P17+(0.001*(30-T17)) -> 7020306 | S17: =RANK(R17,$R$2:$R$19) -> 6 | T17: 16 | U17: =IF($S$2=T17,2,0)+IF($S$3=T17,3,0)+IF($S$4=T17,4,0)+IF($S$5=T17,5,0)+IF($S$6=T17,6,0)+IF($S$7=T17,7,0)+IF($S$8=T17,8,0)+IF($S$9=T17,9,0)+IF($S$10=T17,10,0)+IF($S$11=T17,11,0)+IF($S$12=T17,12,0)+IF($S$13=T17,13,0)+IF($S$14=T17,14,0)+IF($S$15=T17,15,0)+IF($S$16=T17,16,0)+IF($S$17=T17,17,0)+IF($S$18=T17,18,0)+IF($S$19=T17,19,0) -> 16 | W17: =CONCATENATE("'Auxiliar (3)'!",W$1,$U17) -> 'Auxiliar (3)'!L16 | X17: =CONCATENATE("'Auxiliar (3)'!",X$1,$U17) -> 'Auxiliar (3)'!M16 | Y17: =CONCATENATE("'Auxiliar (3)'!",Y$1,$U17) -> 'Auxiliar (3)'!N16 | Z17: =CONCATENATE("'Auxiliar (3)'!",Z$1,$U17) -> 'Auxiliar (3)'!O16 | AA17: =CONCATENATE("'Auxiliar (3)'!",AA$1,$U17) -> 'Auxiliar (3)'!P16 | AB17: =CONCATENATE("'Auxiliar (3)'!",AB$1,$U17) -> 'Auxiliar (3)'!Q16
A18: =Jogos!C25 -> GRÊMIO - MaF | B18: =IF(Jogos!D25<Jogos!F25,0,IF(Jogos!D25=Jogos!F25,1,IF(Jogos!D25>Jogos!F25,2))) -> 2 | C18: =Jogos!G25 -> THE STRONGEST BOL - Jun | D18: =IF(Jogos!D25>Jogos!F25,0,IF(Jogos!D25=Jogos!F25,1,IF(Jogos!D25<Jogos!F25,2))) -> 0 | E18: =IF(ISNUMBER(Jogos!D25),1,0) -> 1 | F18: =IF(B18*E18=2,1,0) -> 1 | G18: =IF(B18*E18=1,1,0) -> 0 | H18: =IF(B18=0,IF(E18=1,1,0),0) -> 0 | I18: =IF(E18*D18=2,1,0) -> 0 | J18: =IF(E18*D18=1,1,0) -> 0 | K18: =IF(D18=0,IF(E18=1,1,0),0) -> 1 | L18: ='Classif Prim Fase'!C32 -> PALMEIRAS - Alc | M18: =SUMIF($A$1:$A$55,L18,$F$1:$F$55)+SUMIF($C$1:$C$55,L18,$I$1:$I$55) -> 2 | N18: =SUMIF($A$1:$A$55,L18,$G$1:$G$55)+SUMIF($C$1:$C$55,L18,$J$1:$J$55) -> 1 | O18: =SUMIF($A$1:$A$48,L18,$H$1:$H$48)+SUMIF($C$1:$C$48,L18,$K$1:$K$48) -> 1 | P18: =SUMIF(Jogos!$C$8:$C$55,L18,Jogos!$D$8:$D$55)+SUMIF(Jogos!$G$8:$G$55,L18,Jogos!$F$8:$F$55) -> 6 | Q18: =SUMIF(Jogos!$C$8:$C$55,L18,Jogos!$F$8:$F$55)+SUMIF(Jogos!$G$8:$G$55,L18,Jogos!$D$8:$D$55) -> 3 | R18: =(1000000*((3*M18)+N18))+(10000*M18)+(100*(P18-Q18))+P18+(0.001*(30-T18)) -> 7020306 | S18: =RANK(R18,$R$2:$R$19) -> 7 | T18: 17 | U18: =IF($S$2=T18,2,0)+IF($S$3=T18,3,0)+IF($S$4=T18,4,0)+IF($S$5=T18,5,0)+IF($S$6=T18,6,0)+IF($S$7=T18,7,0)+IF($S$8=T18,8,0)+IF($S$9=T18,9,0)+IF($S$10=T18,10,0)+IF($S$11=T18,11,0)+IF($S$12=T18,12,0)+IF($S$13=T18,13,0)+IF($S$14=T18,14,0)+IF($S$15=T18,15,0)+IF($S$16=T18,16,0)+IF($S$17=T18,17,0)+IF($S$18=T18,18,0)+IF($S$19=T18,19,0) -> 4 | W18: =CONCATENATE("'Auxiliar (3)'!",W$1,$U18) -> 'Auxiliar (3)'!L4 | X18: =CONCATENATE("'Auxiliar (3)'!",X$1,$U18) -> 'Auxiliar (3)'!M4 | Y18: =CONCATENATE("'Auxiliar (3)'!",Y$1,$U18) -> 'Auxiliar (3)'!N4 | Z18: =CONCATENATE("'Auxiliar (3)'!",Z$1,$U18) -> 'Auxiliar (3)'!O4 | AA18: =CONCATENATE("'Auxiliar (3)'!",AA$1,$U18) -> 'Auxiliar (3)'!P4 | AB18: =CONCATENATE("'Auxiliar (3)'!",AB$1,$U18) -> 'Auxiliar (3)'!Q4
L19: ='Classif Prim Fase'!C33 -> OLIMPIA PAR - Ama | M19: =SUMIF($A$1:$A$55,L19,$F$1:$F$55)+SUMIF($C$1:$C$55,L19,$I$1:$I$55) -> 1 | N19: =SUMIF($A$1:$A$55,L19,$G$1:$G$55)+SUMIF($C$1:$C$55,L19,$J$1:$J$55) -> 0 | O19: =SUMIF($A$1:$A$48,L19,$H$1:$H$48)+SUMIF($C$1:$C$48,L19,$K$1:$K$48) -> 3 | P19: =SUMIF(Jogos!$C$8:$C$55,L19,Jogos!$D$8:$D$55)+SUMIF(Jogos!$G$8:$G$55,L19,Jogos!$F$8:$F$55) -> 4 | Q19: =SUMIF(Jogos!$C$8:$C$55,L19,Jogos!$F$8:$F$55)+SUMIF(Jogos!$G$8:$G$55,L19,Jogos!$D$8:$D$55) -> 9 | R19: =(1000000*((3*M19)+N19))+(10000*M19)+(100*(P19-Q19))+P19+(0.001*(30-T19)) -> 3009504 | S19: =RANK(R19,$R$2:$R$19) -> 14 | T19: 18 | U19: =IF($S$2=T19,2,0)+IF($S$3=T19,3,0)+IF($S$4=T19,4,0)+IF($S$5=T19,5,0)+IF($S$6=T19,6,0)+IF($S$7=T19,7,0)+IF($S$8=T19,8,0)+IF($S$9=T19,9,0)+IF($S$10=T19,10,0)+IF($S$11=T19,11,0)+IF($S$12=T19,12,0)+IF($S$13=T19,13,0)+IF($S$14=T19,14,0)+IF($S$15=T19,15,0)+IF($S$16=T19,16,0)+IF($S$17=T19,17,0)+IF($S$18=T19,18,0)+IF($S$19=T19,19,0) -> 7 | W19: =CONCATENATE("'Auxiliar (3)'!",W$1,$U19) -> 'Auxiliar (3)'!L7 | X19: =CONCATENATE("'Auxiliar (3)'!",X$1,$U19) -> 'Auxiliar (3)'!M7 | Y19: =CONCATENATE("'Auxiliar (3)'!",Y$1,$U19) -> 'Auxiliar (3)'!N7 | Z19: =CONCATENATE("'Auxiliar (3)'!",Z$1,$U19) -> 'Auxiliar (3)'!O7 | AA19: =CONCATENATE("'Auxiliar (3)'!",AA$1,$U19) -> 'Auxiliar (3)'!P7 | AB19: =CONCATENATE("'Auxiliar (3)'!",AB$1,$U19) -> 'Auxiliar (3)'!Q7
P20: =SUM(P2:P19) -> 98 | Q20: =SUM(Q2:Q19) -> 98
A21: =Jogos!C28 -> BOTAFOGO - JoR | B21: =IF(Jogos!D28<Jogos!F28,0,IF(Jogos!D28=Jogos!F28,1,IF(Jogos!D28>Jogos!F28,2))) -> 1 | C21: =Jogos!G28 -> BOLIVAR BOL - AnB | D21: =IF(Jogos!D28>Jogos!F28,0,IF(Jogos!D28=Jogos!F28,1,IF(Jogos!D28<Jogos!F28,2))) -> 1 | E21: =IF(ISNUMBER(Jogos!D28),1,0) -> 1 | F21: =IF(B21*E21=2,1,0) -> 0 | G21: =IF(B21*E21=1,1,0) -> 1 | H21: =IF(B21=0,IF(E21=1,1,0),0) -> 0 | I21: =IF(E21*D21=2,1,0) -> 0 | J21: =IF(E21*D21=1,1,0) -> 1 | K21: =IF(D21=0,IF(E21=1,1,0),0) -> 0
A22: =Jogos!C29 -> THE STRONGEST BOL - Jun | B22: =IF(Jogos!D29<Jogos!F29,0,IF(Jogos!D29=Jogos!F29,1,IF(Jogos!D29>Jogos!F29,2))) -> 0 | C22: =Jogos!G29 -> FLAMENGO - Vas | D22: =IF(Jogos!D29>Jogos!F29,0,IF(Jogos!D29=Jogos!F29,1,IF(Jogos!D29<Jogos!F29,2))) -> 2 | E22: =IF(ISNUMBER(Jogos!D29),1,0) -> 1 | F22: =IF(B22*E22=2,1,0) -> 0 | G22: =IF(B22*E22=1,1,0) -> 0 | H22: =IF(B22=0,IF(E22=1,1,0),0) -> 1 | I22: =IF(E22*D22=2,1,0) -> 1 | J22: =IF(E22*D22=1,1,0) -> 0 | K22: =IF(D22=0,IF(E22=1,1,0),0) -> 0
A23: =Jogos!C30 -> ATLÉTICO MG - RoB | B23: =IF(Jogos!D30<Jogos!F30,0,IF(Jogos!D30=Jogos!F30,1,IF(Jogos!D30>Jogos!F30,2))) -> 0 | C23: =Jogos!G30 -> NACIONAL URU - Ton | D23: =IF(Jogos!D30>Jogos!F30,0,IF(Jogos!D30=Jogos!F30,1,IF(Jogos!D30<Jogos!F30,2))) -> 2 | E23: =IF(ISNUMBER(Jogos!D30),1,0) -> 1 | F23: =IF(B23*E23=2,1,0) -> 0 | G23: =IF(B23*E23=1,1,0) -> 0 | H23: =IF(B23=0,IF(E23=1,1,0),0) -> 1 | I23: =IF(E23*D23=2,1,0) -> 1 | J23: =IF(E23*D23=1,1,0) -> 0 | K23: =IF(D23=0,IF(E23=1,1,0),0) -> 0
A24: =Jogos!C31 -> FLUMINENSE - Sim | B24: =IF(Jogos!D31<Jogos!F31,0,IF(Jogos!D31=Jogos!F31,1,IF(Jogos!D31>Jogos!F31,2))) -> 0 | C24: =Jogos!G31 -> GRÊMIO - MaF | D24: =IF(Jogos!D31>Jogos!F31,0,IF(Jogos!D31=Jogos!F31,1,IF(Jogos!D31<Jogos!F31,2))) -> 2 | E24: =IF(ISNUMBER(Jogos!D31),1,0) -> 1 | F24: =IF(B24*E24=2,1,0) -> 0 | G24: =IF(B24*E24=1,1,0) -> 0 | H24: =IF(B24=0,IF(E24=1,1,0),0) -> 1 | I24: =IF(E24*D24=2,1,0) -> 1 | J24: =IF(E24*D24=1,1,0) -> 0 | K24: =IF(D24=0,IF(E24=1,1,0),0) -> 0
A25: =Jogos!C32 -> RACING ARG - RoG | B25: =IF(Jogos!D32<Jogos!F32,0,IF(Jogos!D32=Jogos!F32,1,IF(Jogos!D32>Jogos!F32,2))) -> 1 | C25: =Jogos!G32 -> VASCO DA GAMA - Pim | D25: =IF(Jogos!D32>Jogos!F32,0,IF(Jogos!D32=Jogos!F32,1,IF(Jogos!D32<Jogos!F32,2))) -> 1 | E25: =IF(ISNUMBER(Jogos!D32),1,0) -> 1 | F25: =IF(B25*E25=2,1,0) -> 0 | G25: =IF(B25*E25=1,1,0) -> 1 | H25: =IF(B25=0,IF(E25=1,1,0),0) -> 0 | I25: =IF(E25*D25=2,1,0) -> 0 | J25: =IF(E25*D25=1,1,0) -> 1 | K25: =IF(D25=0,IF(E25=1,1,0),0) -> 0
A26: =Jogos!C33 -> OLIMPIA PAR - Ama | B26: =IF(Jogos!D33<Jogos!F33,0,IF(Jogos!D33=Jogos!F33,1,IF(Jogos!D33>Jogos!F33,2))) -> 2 | C26: =Jogos!G33 -> COLO COLO CHI - Mal | D26: =IF(Jogos!D33>Jogos!F33,0,IF(Jogos!D33=Jogos!F33,1,IF(Jogos!D33<Jogos!F33,2))) -> 0 | E26: =IF(ISNUMBER(Jogos!D33),1,0) -> 1 | F26: =IF(B26*E26=2,1,0) -> 1 | G26: =IF(B26*E26=1,1,0) -> 0 | H26: =IF(B26=0,IF(E26=1,1,0),0) -> 0 | I26: =IF(E26*D26=2,1,0) -> 0 | J26: =IF(E26*D26=1,1,0) -> 0 | K26: =IF(D26=0,IF(E26=1,1,0),0) -> 1
A27: =Jogos!C34 -> PALMEIRAS - Alc | B27: =IF(Jogos!D34<Jogos!F34,0,IF(Jogos!D34=Jogos!F34,1,IF(Jogos!D34>Jogos!F34,2))) -> 0 | C27: =Jogos!G34 -> BOTAFOGO - JoR | D27: =IF(Jogos!D34>Jogos!F34,0,IF(Jogos!D34=Jogos!F34,1,IF(Jogos!D34<Jogos!F34,2))) -> 2 | E27: =IF(ISNUMBER(Jogos!D34),1,0) -> 1 | F27: =IF(B27*E27=2,1,0) -> 0 | G27: =IF(B27*E27=1,1,0) -> 0 | H27: =IF(B27=0,IF(E27=1,1,0),0) -> 1 | I27: =IF(E27*D27=2,1,0) -> 1 | J27: =IF(E27*D27=1,1,0) -> 0 | K27: =IF(D27=0,IF(E27=1,1,0),0) -> 0
A28: =Jogos!C35 -> INDEPENDIENTE ARG - Mar | B28: =IF(Jogos!D35<Jogos!F35,0,IF(Jogos!D35=Jogos!F35,1,IF(Jogos!D35>Jogos!F35,2))) -> 0 | C28: =Jogos!G35 -> THE STRONGEST BOL - Jun | D28: =IF(Jogos!D35>Jogos!F35,0,IF(Jogos!D35=Jogos!F35,1,IF(Jogos!D35<Jogos!F35,2))) -> 2 | E28: =IF(ISNUMBER(Jogos!D35),1,0) -> 1 | F28: =IF(B28*E28=2,1,0) -> 0 | G28: =IF(B28*E28=1,1,0) -> 0 | H28: =IF(B28=0,IF(E28=1,1,0),0) -> 1 | I28: =IF(E28*D28=2,1,0) -> 1 | J28: =IF(E28*D28=1,1,0) -> 0 | K28: =IF(D28=0,IF(E28=1,1,0),0) -> 0
A29: =Jogos!C36 -> CRUZEIRO - PC | B29: =IF(Jogos!D36<Jogos!F36,0,IF(Jogos!D36=Jogos!F36,1,IF(Jogos!D36>Jogos!F36,2))) -> 2 | C29: =Jogos!G36 -> ATLÉTICO MG - RoB | D29: =IF(Jogos!D36>Jogos!F36,0,IF(Jogos!D36=Jogos!F36,1,IF(Jogos!D36<Jogos!F36,2))) -> 0 | E29: =IF(ISNUMBER(Jogos!D36),1,0) -> 1 | F29: =IF(B29*E29=2,1,0) -> 1 | G29: =IF(B29*E29=1,1,0) -> 0 | H29: =IF(B29=0,IF(E29=1,1,0),0) -> 0 | I29: =IF(E29*D29=2,1,0) -> 0 | J29: =IF(E29*D29=1,1,0) -> 0 | K29: =IF(D29=0,IF(E29=1,1,0),0) -> 1
A30: =Jogos!C37 -> INTERNACIONAL - MaS | B30: =IF(Jogos!D37<Jogos!F37,0,IF(Jogos!D37=Jogos!F37,1,IF(Jogos!D37>Jogos!F37,2))) -> 2 | C30: =Jogos!G37 -> FLUMINENSE - Sim | D30: =IF(Jogos!D37>Jogos!F37,0,IF(Jogos!D37=Jogos!F37,1,IF(Jogos!D37<Jogos!F37,2))) -> 0 | E30: =IF(ISNUMBER(Jogos!D37),1,0) -> 1 | F30: =IF(B30*E30=2,1,0) -> 1 | G30: =IF(B30*E30=1,1,0) -> 0 | H30: =IF(B30=0,IF(E30=1,1,0),0) -> 0 | I30: =IF(E30*D30=2,1,0) -> 0 | J30: =IF(E30*D30=1,1,0) -> 0 | K30: =IF(D30=0,IF(E30=1,1,0),0) -> 1
A31: =Jogos!C38 -> BOCA JUNIORS ARG - Aéc | B31: =IF(Jogos!D38<Jogos!F38,0,IF(Jogos!D38=Jogos!F38,1,IF(Jogos!D38>Jogos!F38,2))) -> 1 | C31: =Jogos!G38 -> RACING ARG - RoG | D31: =IF(Jogos!D38>Jogos!F38,0,IF(Jogos!D38=Jogos!F38,1,IF(Jogos!D38<Jogos!F38,2))) -> 1 | E31: =IF(ISNUMBER(Jogos!D38),1,0) -> 1 | F31: =IF(B31*E31=2,1,0) -> 0 | G31: =IF(B31*E31=1,1,0) -> 1 | H31: =IF(B31=0,IF(E31=1,1,0),0) -> 0 | I31: =IF(E31*D31=2,1,0) -> 0 | J31: =IF(E31*D31=1,1,0) -> 1 | K31: =IF(D31=0,IF(E31=1,1,0),0) -> 0
A32: =Jogos!C39 -> NÁUTICO - Jea | B32: =IF(Jogos!D39<Jogos!F39,0,IF(Jogos!D39=Jogos!F39,1,IF(Jogos!D39>Jogos!F39,2))) -> 2 | C32: =Jogos!G39 -> COLO COLO CHI - Mal | D32: =IF(Jogos!D39>Jogos!F39,0,IF(Jogos!D39=Jogos!F39,1,IF(Jogos!D39<Jogos!F39,2))) -> 0 | E32: =IF(ISNUMBER(Jogos!D39),1,0) -> 1 | F32: =IF(B32*E32=2,1,0) -> 1 | G32: =IF(B32*E32=1,1,0) -> 0 | H32: =IF(B32=0,IF(E32=1,1,0),0) -> 0 | I32: =IF(E32*D32=2,1,0) -> 0 | J32: =IF(E32*D32=1,1,0) -> 0 | K32: =IF(D32=0,IF(E32=1,1,0),0) -> 1
... A48: =Jogos!C55 -> GRÊMIO - MaF | B48: =IF(Jogos!D55<Jogos!F55,0,IF(Jogos!D55=Jogos!F55,1,IF(Jogos!D55>Jogos!F55,2))) -> 0 | C48: =Jogos!G55 -> NACIONAL URU - Ton | D48: =IF(Jogos!D55>Jogos!F55,0,IF(Jogos!D55=Jogos!F55,1,IF(Jogos!D55<Jogos!F55,2))) -> 2 | E48: =IF(ISNUMBER(Jogos!D55),1,0) -> 1 | F48: =IF(B48*E48=2,1,0) -> 0 | G48: =IF(B48*E48=1,1,0) -> 0 | H48: =IF(B48=0,IF(E48=1,1,0),0) -> 1 | I48: =IF(E48*D48=2,1,0) -> 1 | J48: =IF(E48*D48=1,1,0) -> 0 | K48: =IF(D48=0,IF(E48=1,1,0),0) -> 0

Sheet Jogos
A1: FEDERAÇÃO DE FUTEBOL DE MESA DO DISTRITO FEDERAL
A2: BRASILEIRÃO 2024
A3: TABELÃO
A5: DATA: | B5: 09.03.2024
A7: ROD | B7: M | D7: JOGOS | H7: ÁRBITROS
A8: 1 | B8: 6 | C8: =Auxiliar!L4 -> VASCO DA GAMA - Pim | D8: ='Tabela da Primeira Fase'!N8 -> 0 | E8: x | F8: ='Tabela da Primeira Fase'!P8 -> 4 | G8: =Auxiliar!L2 -> ATLÉTICO MG - RoB | H8: =Auxiliar!L37 -> FLAMENGO - Vas
B9: 7 | C9: =Auxiliar!L9 -> COLO COLO CHI - Mal | D9: ='Tabela da Primeira Fase'!N9 -> 1 | E9: x | F9: ='Tabela da Primeira Fase'!P9 -> 3 | G9: =Auxiliar!L7 -> FLUMINENSE - Sim | H9: =Auxiliar!L40 -> BOTAFOGO - JoR
B10: 8 | C10: =Auxiliar!L14 -> NÁUTICO - Jea | D10: ='Tabela da Primeira Fase'!N10 -> 0 | E10: x | F10: ='Tabela da Primeira Fase'!P10 -> 5 | G10: =Auxiliar!L12 -> NACIONAL URU - Ton | H10: =Auxiliar!L43 -> THE STRONGEST BOL - Jun
B11: 9 | C11: =Auxiliar!L19 -> BOCA JUNIORS ARG - Aéc | D11: ='Tabela da Primeira Fase'!N11 -> 0 | E11: x | F11: ='Tabela da Primeira Fase'!P11 -> 3 | G11: =Auxiliar!L17 -> GRÊMIO - MaF | H11: =Auxiliar!L46 -> INTERNACIONAL - MaS
B12: 11 | C12: =Auxiliar!L24 -> RACING ARG - RoG | D12: ='Tabela da Primeira Fase'!N12 -> 0 | E12: x | F12: ='Tabela da Primeira Fase'!P12 -> 1 | G12: =Auxiliar!L22 -> INDEPENDIENTE ARG - Mar | H12: =Auxiliar!L49 -> PALMEIRAS - Alc
B13: 12 | C13: =Auxiliar!L29 -> OLIMPIA PAR - Ama | D13: ='Tabela da Primeira Fase'!N13 -> 0 | E13: x | F13: ='Tabela da Primeira Fase'!P13 -> 3 | G13: =Auxiliar!L27 -> CRUZEIRO - PC | H13: =Auxiliar!L34 -> BOLIVAR BOL - AnB
A14: 2 | B14: 6 | C14: =Auxiliar!L28 -> PALMEIRAS - Alc | D14: ='Tabela da Primeira Fase'!N14 -> 3 | E14: x | F14: ='Tabela da Primeira Fase'!P14 -> 1 | G14: =Auxiliar!L29 -> OLIMPIA PAR - Ama | H14: =Auxiliar!L36 -> FLUMINENSE - Sim
B15: 7 | C15: =Auxiliar!L3 -> BOLIVAR BOL - AnB | D15: ='Tabela da Primeira Fase'!N15 -> 2 | E15: x | F15: ='Tabela da Primeira Fase'!P15 -> 2 | G15: =Auxiliar!L4 -> VASCO DA GAMA - Pim | H15: =Auxiliar!L39 -> NACIONAL URU - Ton
B16: 8 | C16: =Auxiliar!L8 -> FLAMENGO - Vas | D16: ='Tabela da Primeira Fase'!N16 -> 3 | E16: x | F16: ='Tabela da Primeira Fase'!P16 -> 0 | G16: =Auxiliar!L9 -> COLO COLO CHI - Mal | H16: =Auxiliar!L42 -> GRÊMIO - MaF
B17: 9 | C17: =Auxiliar!L13 -> BOTAFOGO - JoR | D17: ='Tabela da Primeira Fase'!N17 -> 2 | E17: x | F17: ='Tabela da Primeira Fase'!P17 -> 0 | G17: =Auxiliar!L14 -> NÁUTICO - Jea | H17: =Auxiliar!L45 -> INDEPENDIENTE ARG - Mar
B18: 11 | C18: =Auxiliar!L18 -> THE STRONGEST BOL - Jun | D18: ='Tabela da Primeira Fase'!N18 -> 0 | E18: x | F18: ='Tabela da Primeira Fase'!P18 -> 0 | G18: =Auxiliar!L19 -> BOCA JUNIORS ARG - Aéc | H18: =Auxiliar!L48 -> CRUZEIRO - PC
B19: 12 | C19: =Auxiliar!L23 -> INTERNACIONAL - MaS | D19: ='Tabela da Primeira Fase'!N19 -> 2 | E19: x | F19: ='Tabela da Primeira Fase'!P19 -> 0 | G19: =Auxiliar!L24 -> RACING ARG - RoG | H19: =Auxiliar!L33 -> ATLÉTICO MG - RoB
A20: 3 | B20: 6 | C20: =Auxiliar!L22 -> INDEPENDIENTE ARG - Mar | D20: ='Tabela da Primeira Fase'!N20 -> 1 | E20: x | F20: ='Tabela da Primeira Fase'!P20 -> 1 | G20: =Auxiliar!L23 -> INTERNACIONAL - MaS | H20: =Auxiliar!L38 -> COLO COLO CHI - Mal
B21: 7 | C21: =Auxiliar!L27 -> CRUZEIRO - PC | D21: ='Tabela da Primeira Fase'!N21 -> 0 | E21: x | F21: ='Tabela da Primeira Fase'!P21 -> 0 | G21: =Auxiliar!L28 -> PALMEIRAS - Alc | H21: =Auxiliar!L41 -> NÁUTICO - Jea
B22: 8 | C22: =Auxiliar!L2 -> ATLÉTICO MG - RoB | D22: ='Tabela da Primeira Fase'!N22 -> 0 | E22: x | F22: ='Tabela da Primeira Fase'!P22 -> 5 | G22: =Auxiliar!L3 -> BOLIVAR BOL - AnB | H22: =Auxiliar!L44 -> BOCA JUNIORS ARG - Aéc
B23: 9 | C23: =Auxiliar!L7 -> FLUMINENSE - Sim | D23: ='Tabela da Primeira Fase'!N23 -> 0 | E23: x | F23: ='Tabela da Primeira Fase'!P23 -> 1 | G23: =Auxiliar!L8 -> FLAMENGO - Vas | H23: =Auxiliar!L47 -> RACING ARG - RoG
B24: 11 | C24: =Auxiliar!L12 -> NACIONAL URU - Ton | D24: ='Tabela da Primeira Fase'!N24 -> 0 | E24: x | F24: ='Tabela da Primeira Fase'!P24 -> 0 | G24: =Auxiliar!L13 -> BOTAFOGO - JoR | H24: =Auxiliar!L50 -> OLIMPIA PAR - Ama
B25: 12 | C25: =Auxiliar!L17 -> GRÊMIO - MaF | D25: ='Tabela da Primeira Fase'!N25 -> 2 | E25: x | F25: ='Tabela da Primeira Fase'!P25 -> 0 | G25: =Auxiliar!L18 -> THE STRONGEST BOL - Jun | H25: =Auxiliar!L35 -> VASCO DA GAMA - Pim
A27: ROD | B27: M | D27: JOGOS | H27: ÁRBITROS
A28: 4 | B28: 9 | C28: ='Tabela da Segunda Fase'!M8 -> BOTAFOGO - JoR | D28: ='Tabela da Segunda Fase'!N8 -> 1 | E28: x | F28: ='Tabela da Segunda Fase'!P8 -> 1 | G28: ='Tabela da Segunda Fase'!Q8 -> BOLIVAR BOL - AnB | H28: ='Tabela da Segunda Fase'!AB8 -> INDEPENDIENTE ARG - Mar
B29: 11 | C29: ='Tabela da Segunda Fase'!M9 -> THE STRONGEST BOL - Jun | D29: ='Tabela da Segunda Fase'!N9 -> 0 | E29: x | F29: ='Tabela da Segunda Fase'!P9 -> 1 | G29: ='Tabela da Segunda Fase'!Q9 -> FLAMENGO - Vas | H29: ='Tabela da Segunda Fase'!AB9 -> CRUZEIRO - PC
B30: 12 | C30: ='Tabela da Segunda Fase'!M10 -> ATLÉTICO MG - RoB | D30: ='Tabela da Segunda Fase'!N10 -> 0 | E30: x | F30: ='Tabela da Segunda Fase'!P10 -> 5 | G30: ='Tabela da Segunda Fase'!Q10 -> NACIONAL URU - Ton | H30: ='Tabela da Segunda Fase'!AB10 -> INTERNACIONAL - MaS
B31: 6 | C31: ='Tabela da Segunda Fase'!M11 -> FLUMINENSE - Sim | D31: ='Tabela da Segunda Fase'!N11 -> 0 | E31: x | F31: ='Tabela da Segunda Fase'!P11 -> 3 | G31: ='Tabela da Segunda Fase'!Q11 -> GRÊMIO - MaF | H31: ='Tabela da Segunda Fase'!AB11 -> PALMEIRAS - Alc
B32: 7 | C32: ='Tabela da Segunda Fase'!M12 -> RACING ARG - RoG | D32: ='Tabela da Segunda Fase'!N12 -> 1 | E32: x | F32: ='Tabela da Segunda Fase'!P12 -> 1 | G32: ='Tabela da Segunda Fase'!Q12 -> VASCO DA GAMA - Pim | H32: ='Tabela da Segunda Fase'!AB12 -> NÁUTICO - Jea
B33: 8 | C33: ='Tabela da Segunda Fase'!M13 -> OLIMPIA PAR - Ama | D33: ='Tabela da Segunda Fase'!N13 -> 3 | E33: x | F33: ='Tabela da Segunda Fase'!P13 -> 1 | G33: ='Tabela da Segunda Fase'!Q13 -> COLO COLO CHI - Mal | H33: ='Tabela da Segunda Fase'!AB13 -> BOCA JUNIORS ARG - Aéc
A34: 5 | B34: 11 | C34: ='Tabela da Segunda Fase'!M14 -> PALMEIRAS - Alc | D34: ='Tabela da Segunda Fase'!N14 -> 0 | E34: x | F34: ='Tabela da Segunda Fase'!P14 -> 2 | G34: ='Tabela da Segunda Fase'!Q14 -> BOTAFOGO - JoR | H34: ='Tabela da Segunda Fase'!AB14 -> NACIONAL URU - Ton
B35: 12 | C35: ='Tabela da Segunda Fase'!M15 -> INDEPENDIENTE ARG - Mar | D35: ='Tabela da Segunda Fase'!N15 -> 0 | E35: x | F35: ='Tabela da Segunda Fase'!P15 -> 2 | G35: ='Tabela da Segunda Fase'!Q15 -> THE STRONGEST BOL - Jun | H35: ='Tabela da Segunda Fase'!AB15 -> GRÊMIO - MaF
B36: 6 | C36: ='Tabela da Segunda Fase'!M16 -> CRUZEIRO - PC | D36: ='Tabela da Segunda Fase'!N16 -> 3 | E36: x | F36: ='Tabela da Segunda Fase'!P16 -> 1 | G36: ='Tabela da Segunda Fase'!Q16 -> ATLÉTICO MG - RoB | H36: ='Tabela da Segunda Fase'!AB16 -> BOLIVAR BOL - AnB
B37: 7 | C37: ='Tabela da Segunda Fase'!M17 -> INTERNACIONAL - MaS | D37: ='Tabela da Segunda Fase'!N17 -> 1 | E37: x | F37: ='Tabela da Segunda Fase'!P17 -> 0 | G37: ='Tabela da Segunda Fase'!Q17 -> FLUMINENSE - Sim | H37: ='Tabela da Segunda Fase'!AB17 -> FLAMENGO - Vas
B38: 8 | C38: ='Tabela da Segunda Fase'!M18 -> BOCA JUNIORS ARG - Aéc | D38: ='Tabela da Segunda Fase'!N18 -> 1 | E38: x | F38: ='Tabela da Segunda Fase'!P18 -> 1 | G38: ='Tabela da Segunda Fase'!Q18 -> RACING ARG - RoG | H38: ='Tabela da Segunda Fase'!AB18 -> OLIMPIA PAR - Ama
B39: 9 | C39: ='Tabela da Segunda Fase'!M19 -> NÁUTICO - Jea | D39: ='Tabela da Segunda Fase'!N19 -> 2 | E39: x | F39: ='Tabela da Segunda Fase'!P19 -> 0 | G39: ='Tabela da Segunda Fase'!Q19 -> COLO COLO CHI - Mal | H39: ='Tabela da Segunda Fase'!AB19 -> VASCO DA GAMA - Pim
A40: 6 | B40: 12 | C40: ='Tabela da Segunda Fase'!M20 -> BOLIVAR BOL - AnB | D40: ='Tabela da Segunda Fase'!N20 -> 0 | E40: x | F40: ='Tabela da Segunda Fase'!P20 -> 3 | G40: ='Tabela da Segunda Fase'!Q20 -> PALMEIRAS - Alc | H40: ='Tabela da Segunda Fase'!AB20 -> FLUMINENSE - Sim
B41: 6 | C41: ='Tabela da Segunda Fase'!M21 -> FLAMENGO - Vas | D41: ='Tabela da Segunda Fase'!N21 -> 3 | E41: x | F41: ='Tabela da Segunda Fase'!P21 -> 0 | G41: ='Tabela da Segunda Fase'!Q21 -> INDEPENDIENTE ARG - Mar | H41: ='Tabela da Segunda Fase'!AB21 -> BOTAFOGO - JoR
B42: 7 | C42: ='Tabela da Segunda Fase'!M22 -> NACIONAL URU - Ton | D42: ='Tabela da Segunda Fase'!N22 -> 2 | E42: x | F42: ='Tabela da Segunda Fase'!P22 -> 0 | G42: ='Tabela da Segunda Fase'!Q22 -> CRUZEIRO - PC | H42: ='Tabela da Segunda Fase'!AB22 -> THE STRONGEST BOL - Jun
B43: 8 | C43: ='Tabela da Segunda Fase'!M23 -> GRÊMIO - MaF | D43: ='Tabela da Segunda Fase'!N23 -> 4 | E43: x | F43: ='Tabela da Segunda Fase'!P23 -> 2 | G43: ='Tabela da Segunda Fase'!Q23 -> INTERNACIONAL - MaS | H43: ='Tabela da Segunda Fase'!AB23 -> ATLÉTICO MG - RoB
B44: 9 | C44: ='Tabela da Segunda Fase'!M24 -> VASCO DA GAMA - Pim | D44: ='Tabela da Segunda Fase'!N24 -> 0 | E44: x | F44: ='Tabela da Segunda Fase'!P24 -> 1 | G44: ='Tabela da Segunda Fase'!Q24 -> BOCA JUNIORS ARG - Aéc | H44: ='Tabela da Segunda Fase'!AB24 -> COLO COLO CHI - Mal
B45: 11 | C45: ='Tabela da Segunda Fase'!M25 -> OLIMPIA PAR - Ama | D45: ='Tabela da Segunda Fase'!N25 -> 0 | E45: x | F45: ='Tabela da Segunda Fase'!P25 -> 2 | G45: ='Tabela da Segunda Fase'!Q25 -> NÁUTICO - Jea | H45: ='Tabela da Segunda Fase'!AB25 -> RACING ARG - RoG
A47: SEMIFINAIS BRASILEIRÃO e FINAL SÉRIE PRATA
A49: 7 | B49: 11 | C49: ='Tabela da Segunda Fase'!M29 -> BOTAFOGO - JoR | D49: ='Tabela da Segunda Fase'!N29 -> 0 | E49: x | F49: ='Tabela da Segunda Fase'!P29 -> 0 | G49: ='Tabela da Segunda Fase'!Q29 -> GRÊMIO - MaF | H49: ='Tabela da Segunda Fase'!AB29 -> THE STRONGEST BOL - Jun
B50: 12 | C50: ='Tabela da Segunda Fase'!M30 -> FLAMENGO - Vas | D50: ='Tabela da Segunda Fase'!N30 -> 1 | E50: x | F50: ='Tabela da Segunda Fase'!P30 -> 2 | G50: ='Tabela da Segunda Fase'!Q30 -> NACIONAL URU - Ton | H50: ='Tabela da Segunda Fase'!AB30 -> PALMEIRAS - Alc
B51: 7 | C51: ='Tabela da Segunda Fase'!M31 -> BOCA JUNIORS ARG - Aéc | D51: ='Tabela da Segunda Fase'!N31 -> 0 | E51: x | F51: ='Tabela da Segunda Fase'!P31 -> 2 | G51: ='Tabela da Segunda Fase'!Q31 -> NÁUTICO - Jea | H51: ='Tabela da Segunda Fase'!AB31 -> RACING ARG - RoG
A53: FINAL BRASILEIRÃO
A55: 8 | B55: 9 | C55: ='Tabela da Segunda Fase'!M35 -> GRÊMIO - MaF | D55: ='Tabela da Segunda Fase'!N35 -> 0 | E55: x | F55: ='Tabela da Segunda Fase'!P35 -> 1 | G55: ='Tabela da Segunda Fase'!Q35 -> NACIONAL URU - Ton | H55: ='Tabela da Segunda Fase'!AB35 -> Quarto

Sheet CF
A1: FEDERAÇÃO DE FUTEBOL DE MESA DO DISTRITO FEDERAL
A2: ='Tabela da Primeira Fase'!A2:AB2 -> LIBERTADORES 2024
A3: CLASSIFICAÇÃO FINAL
A5: CF | B5: CLUBES | C5: J | D5: V | E5: E | F5: D | G5: GF | H5: GC | I5: SG | J5: PG | K5: Aprov.
A7: 1º | B7: =INDIRECT('Auxiliar (3)'!W2) -> NACIONAL URU - Ton | C7: =D7+E7+F7 -> 6 | D7: =INDIRECT('Auxiliar (3)'!X2) -> 5 | E7: =INDIRECT('Auxiliar (3)'!Y2) -> 1 | F7: =INDIRECT('Auxiliar (3)'!Z2) -> 0 | G7: =INDIRECT('Auxiliar (3)'!AA2) -> 15 | H7: =INDIRECT('Auxiliar (3)'!AB2) -> 1 | I7: =G7-H7 -> 14 | J7: =(3*D7)+E7 -> 16 | K7: =IF(ISERR((J7/(C7*3))),0,((J7/(C7*3)))) -> 0.88888889
A8: 2º | B8: =INDIRECT('Auxiliar (3)'!W3) -> GRÊMIO - MaF | C8: =D8+E8+F8 -> 6 | D8: =INDIRECT('Auxiliar (3)'!X3) -> 4 | E8: =INDIRECT('Auxiliar (3)'!Y3) -> 1 | F8: =INDIRECT('Auxiliar (3)'!Z3) -> 1 | G8: =INDIRECT('Auxiliar (3)'!AA3) -> 12 | H8: =INDIRECT('Auxiliar (3)'!AB3) -> 3 | I8: =G8-H8 -> 9 | J8: =(3*D8)+E8 -> 13 | K8: =IF(ISERR((J8/(C8*3))),0,((J8/(C8*3)))) -> 0.72222222
A9: 3º | B9: =INDIRECT('Auxiliar (3)'!W4) -> FLAMENGO - Vas | C9: =D9+E9+F9 -> 5 | D9: =INDIRECT('Auxiliar (3)'!X4) -> 4 | E9: =INDIRECT('Auxiliar (3)'!Y4) -> 0 | F9: =INDIRECT('Auxiliar (3)'!Z4) -> 1 | G9: =INDIRECT('Auxiliar (3)'!AA4) -> 9 | H9: =INDIRECT('Auxiliar (3)'!AB4) -> 2 | I9: =G9-H9 -> 7 | J9: =(3*D9)+E9 -> 12 | K9: =IF(ISERR((J9/(C9*3))),0,((J9/(C9*3)))) -> 0.8
A10: 4º | B10: =INDIRECT('Auxiliar (3)'!W5) -> NÁUTICO - Jea | C10: =D10+E10+F10 -> 5 | D10: =INDIRECT('Auxiliar (3)'!X5) -> 3 | E10: =INDIRECT('Auxiliar (3)'!Y5) -> 0 | F10: =INDIRECT('Auxiliar (3)'!Z5) -> 2 | G10: =INDIRECT('Auxiliar (3)'!AA5) -> 6 | H10: =INDIRECT('Auxiliar (3)'!AB5) -> 7 | I10: =G10-H10 -> -1 | J10: =(3*D10)+E10 -> 9 | K10: =IF(ISERR((J10/(C10*3))),0,((J10/(C10*3)))) -> 0.6
A11: 5º | B11: =INDIRECT('Auxiliar (3)'!W6) -> BOTAFOGO - JoR | C11: =D11+E11+F11 -> 5 | D11: =INDIRECT('Auxiliar (3)'!X6) -> 2 | E11: =INDIRECT('Auxiliar (3)'!Y6) -> 3 | F11: =INDIRECT('Auxiliar (3)'!Z6) -> 0 | G11: =INDIRECT('Auxiliar (3)'!AA6) -> 5 | H11: =INDIRECT('Auxiliar (3)'!AB6) -> 1 | I11: =G11-H11 -> 4 | J11: =(3*D11)+E11 -> 9 | K11: =IF(ISERR((J11/(C11*3))),0,((J11/(C11*3)))) -> 0.6
A12: 6º | B12: =INDIRECT('Auxiliar (3)'!W7) -> CRUZEIRO - PC | C12: =D12+E12+F12 -> 4 | D12: =INDIRECT('Auxiliar (3)'!X7) -> 2 | E12: =INDIRECT('Auxiliar (3)'!Y7) -> 1 | F12: =INDIRECT('Auxiliar (3)'!Z7) -> 1 | G12: =INDIRECT('Auxiliar (3)'!AA7) -> 6 | H12: =INDIRECT('Auxiliar (3)'!AB7) -> 3 | I12: =G12-H12 -> 3 | J12: =(3*D12)+E12 -> 7 | K12: =IF(ISERR((J12/(C12*3))),0,((J12/(C12*3)))) -> 0.58333333
A13: 7º | B13: =INDIRECT('Auxiliar (3)'!W8) -> PALMEIRAS - Alc | C13: =D13+E13+F13 -> 4 | D13: =INDIRECT('Auxiliar (3)'!X8) -> 2 | E13: =INDIRECT('Auxiliar (3)'!Y8) -> 1 | F13: =INDIRECT('Auxiliar (3)'!Z8) -> 1 | G13: =INDIRECT('Auxiliar (3)'!AA8) -> 6 | H13: =INDIRECT('Auxiliar (3)'!AB8) -> 3 | I13: =G13-H13 -> 3 | J13: =(3*D13)+E13 -> 7 | K13: =IF(ISERR((J13/(C13*3))),0,((J13/(C13*3)))) -> 0.58333333
A14: 8º | B14: =INDIRECT('Auxiliar (3)'!W9) -> INTERNACIONAL - MaS | C14: =D14+E14+F14 -> 4 | D14: =INDIRECT('Auxiliar (3)'!X9) -> 2 | E14: =INDIRECT('Auxiliar (3)'!Y9) -> 1 | F14: =INDIRECT('Auxiliar (3)'!Z9) -> 1 | G14: =INDIRECT('Auxiliar (3)'!AA9) -> 6 | H14: =INDIRECT('Auxiliar (3)'!AB9) -> 5 | I14: =G14-H14 -> 1 | J14: =(3*D14)+E14 -> 7 | K14: =IF(ISERR((J14/(C14*3))),0,((J14/(C14*3)))) -> 0.58333333
A15: 9º | B15: =INDIRECT('Auxiliar (3)'!W10) -> BOLIVAR BOL - AnB | C15: =D15+E15+F15 -> 4 | D15: =INDIRECT('Auxiliar (3)'!X10) -> 1 | E15: =INDIRECT('Auxiliar (3)'!Y10) -> 2 | F15: =INDIRECT('Auxiliar (3)'!Z10) -> 1 | G15: =INDIRECT('Auxiliar (3)'!AA10) -> 8 | H15: =INDIRECT('Auxiliar (3)'!AB10) -> 6 | I15: =G15-H15 -> 2 | J15: =(3*D15)+E15 -> 5 | K15: =IF(ISERR((J15/(C15*3))),0,((J15/(C15*3)))) -> 0.41666667
A16: 10º | B16: =INDIRECT('Auxiliar (3)'!W11) -> BOCA JUNIORS ARG - Aéc | C16: =D16+E16+F16 -> 5 | D16: =INDIRECT('Auxiliar (3)'!X11) -> 1 | E16: =INDIRECT('Auxiliar (3)'!Y11) -> 2 | F16: =INDIRECT('Auxiliar (3)'!Z11) -> 2 | G16: =INDIRECT('Auxiliar (3)'!AA11) -> 2 | H16: =INDIRECT('Auxiliar (3)'!AB11) -> 6 | I16: =G16-H16 -> -4 | J16: =(3*D16)+E16 -> 5 | K16: =IF(ISERR((J16/(C16*3))),0,((J16/(C16*3)))) -> 0.33333333
A17: 11º | B17: =INDIRECT('Auxiliar (3)'!W12) -> THE STRONGEST BOL - Jun | C17: =D17+E17+F17 -> 4 | D17: =INDIRECT('Auxiliar (3)'!X12) -> 1 | E17: =INDIRECT('Auxiliar (3)'!Y12) -> 1 | F17: =INDIRECT('Auxiliar (3)'!Z12) -> 2 | G17: =INDIRECT('Auxiliar (3)'!AA12) -> 2 | H17: =INDIRECT('Auxiliar (3)'!AB12) -> 3 | I17: =G17-H17 -> -1 | J17: =(3*D17)+E17 -> 4 | K17: =IF(ISERR((J17/(C17*3))),0,((J17/(C17*3)))) -> 0.33333333
A18: 12º | B18: =INDIRECT('Auxiliar (3)'!W13) -> INDEPENDIENTE ARG - Mar | C18: =D18+E18+F18 -> 4 | D18: =INDIRECT('Auxiliar (3)'!X13) -> 1 | E18: =INDIRECT('Auxiliar (3)'!Y13) -> 1 | F18: =INDIRECT('Auxiliar (3)'!Z13) -> 2 | G18: =INDIRECT('Auxiliar (3)'!AA13) -> 2 | H18: =INDIRECT('Auxiliar (3)'!AB13) -> 6 | I18: =G18-H18 -> -4 | J18: =(3*D18)+E18 -> 4 | K18: =IF(ISERR((J18/(C18*3))),0,((J18/(C18*3)))) -> 0.33333333
... A24: 18º | B24: =INDIRECT('Auxiliar (3)'!W19) -> COLO COLO CHI - Mal | C24: =D24+E24+F24 -> 4 | D24: =INDIRECT('Auxiliar (3)'!X19) -> 0 | E24: =INDIRECT('Auxiliar (3)'!Y19) -> 0 | F24: =INDIRECT('Auxiliar (3)'!Z19) -> 4 | G24: =INDIRECT('Auxiliar (3)'!AA19) -> 2 | H24: =INDIRECT('Auxiliar (3)'!AB19) -> 11 | I24: =G24-H24 -> -9 | J24: =(3*D24)+E24 -> 0 | K24: =IF(ISERR((J24/(C24*3))),0,((J24/(C24*3)))) -> 0
A26: FEDERAÇÃO DE FUTEBOL DE MESA DO DISTRITO FEDERAL
A27: =A2 -> LIBERTADORES 2024
A28: CLASSIFICAÇÃO FINAL
A30: CF | B30: CLUBES | C30: J | D30: V | E30: E | F30: D | G30: GF | H30: GC | I30: SG | J30: PG | K30: Aprov. | L30: PR
A32: 1º | B32: NACIONAL URU - Ton | C32: =D32+E32+F32 -> 6 | D32: 5 | E32: 1 | F32: 0 | G32: 15 | H32: 1 | I32: =G32-H32 -> 14 | J32: =(3*D32)+E32 -> 16 | K32: =IF(ISERR((J32/(C32*3))),0,((J32/(C32*3)))) -> 0.88888889 | L32: 23
A33: 2º | B33: GRÊMIO - MaF | C33: =D33+E33+F33 -> 6 | D33: 4 | E33: 1 | F33: 1 | G33: 12 | H33: 3 | I33: =G33-H33 -> 9 | J33: =(3*D33)+E33 -> 13 | K33: =IF(ISERR((J33/(C33*3))),0,((J33/(C33*3)))) -> 0.72222222 | L33: 18
A34: 3º | B34: FLAMENGO - Vas | C34: =D34+E34+F34 -> 5 | D34: 4 | E34: 0 | F34: 1 | G34: 9 | H34: 2 | I34: =G34-H34 -> 7 | J34: =(3*D34)+E34 -> 12 | K34: =IF(ISERR((J34/(C34*3))),0,((J34/(C34*3)))) -> 0.8 | L34: 16
A35: 4º | B35: BOTAFOGO - JoR | C35: =D35+E35+F35 -> 5 | D35: 2 | E35: 3 | F35: 0 | G35: 5 | H35: 1 | I35: =G35-H35 -> 4 | J35: =(3*D35)+E35 -> 9 | K35: =IF(ISERR((J35/(C35*3))),0,((J35/(C35*3)))) -> 0.6 | L35: 15
A36: 5º | B36: PALMEIRAS - Alc | C36: =D36+E36+F36 -> 4 | D36: 2 | E36: 1 | F36: 1 | G36: 6 | H36: 3 | I36: =G36-H36 -> 3 | J36: =(3*D36)+E36 -> 7 | K36: =IF(ISERR((J36/(C36*3))),0,((J36/(C36*3)))) -> 0.58333333 | L36: 14 | M36: Sorteio
A37: 6º | B37: CRUZEIRO - PC | C37: =D37+E37+F37 -> 4 | D37: 2 | E37: 1 | F37: 1 | G37: 6 | H37: 3 | I37: =G37-H37 -> 3 | J37: =(3*D37)+E37 -> 7 | K37: =IF(ISERR((J37/(C37*3))),0,((J37/(C37*3)))) -> 0.58333333 | L37: 13
A38: 7º | B38: INTERNACIONAL - MaS | C38: =D38+E38+F38 -> 4 | D38: 2 | E38: 1 | F38: 1 | G38: 6 | H38: 5 | I38: =G38-H38 -> 1 | J38: =(3*D38)+E38 -> 7 | K38: =IF(ISERR((J38/(C38*3))),0,((J38/(C38*3)))) -> 0.58333333 | L38: 12
A39: 8º | B39: BOLIVAR BOL - AnB | C39: =D39+E39+F39 -> 4 | D39: 1 | E39: 2 | F39: 1 | G39: 8 | H39: 6 | I39: =G39-H39 -> 2 | J39: =(3*D39)+E39 -> 5 | K39: =IF(ISERR((J39/(C39*3))),0,((J39/(C39*3)))) -> 0.41666667 | L39: 11
A40: 9º | B40: THE STRONGEST BOL - Jun | C40: =D40+E40+F40 -> 4 | D40: 1 | E40: 1 | F40: 2 | G40: 2 | H40: 3 | I40: =G40-H40 -> -1 | J40: =(3*D40)+E40 -> 4 | K40: =IF(ISERR((J40/(C40*3))),0,((J40/(C40*3)))) -> 0.33333333 | L40: 10
A41: 10º | B41: INDEPENDIENTE ARG - Mar | C41: =D41+E41+F41 -> 4 | D41: 1 | E41: 1 | F41: 2 | G41: 2 | H41: 6 | I41: =G41-H41 -> -4 | J41: =(3*D41)+E41 -> 4 | K41: =IF(ISERR((J41/(C41*3))),0,((J41/(C41*3)))) -> 0.33333333 | L41: *
A42: 11º | B42: FLUMINENSE - Sim | C42: =D42+E42+F42 -> 4 | D42: 1 | E42: 0 | F42: 3 | G42: 3 | H42: 6 | I42: =G42-H42 -> -3 | J42: =(3*D42)+E42 -> 3 | K42: =IF(ISERR((J42/(C42*3))),0,((J42/(C42*3)))) -> 0.25 | L42: 8
A43: 12º | B43: ATLÉTICO MG - RoB | C43: =D43+E43+F43 -> 4 | D43: 1 | E43: 0 | F43: 3 | G43: 5 | H43: 13 | I43: =G43-H43 -> -8 | J43: =(3*D43)+E43 -> 3 | K43: =IF(ISERR((J43/(C43*3))),0,((J43/(C43*3)))) -> 0.25 | L43: 7
A44: 13º | B44: NÁUTICO - Jea | C44: =D44+E44+F44 -> 5 | D44: 3 | E44: 0 | F44: 2 | G44: 6 | H44: 7 | I44: =G44-H44 -> -1 | J44: =(3*D44)+E44 -> 9 | K44: =IF(ISERR((J44/(C44*3))),0,((J44/(C44*3)))) -> 0.6 | L44: *
A45: 14º | B45: BOCA JUNIORS ARG - Aéc | C45: =D45+E45+F45 -> 5 | D45: 1 | E45: 2 | F45: 2 | G45: 2 | H45: 6 | I45: =G45-H45 -> -4 | J45: =(3*D45)+E45 -> 5 | K45: =IF(ISERR((J45/(C45*3))),0,((J45/(C45*3)))) -> 0.33333333 | L45: 5
A46: 15º | B46: OLIMPIA PAR - Ama | C46: =D46+E46+F46 -> 4 | D46: 1 | E46: 0 | F46: 3 | G46: 4 | H46: 9 | I46: =G46-H46 -> -5 | J46: =(3*D46)+E46 -> 3 | K46: =IF(ISERR((J46/(C46*3))),0,((J46/(C46*3)))) -> 0.25 | L46: 4
A47: 16º | B47: RACING ARG - RoG | C47: =D47+E47+F47 -> 4 | D47: 0 | E47: 2 | F47: 2 | G47: 2 | H47: 5 | I47: =G47-H47 -> -3 | J47: =(3*D47)+E47 -> 2 | K47: =IF(ISERR((J47/(C47*3))),0,((J47/(C47*3)))) -> 0.16666667 | L47: 3
A48: 17º | B48: VASCO DA GAMA - Pim | C48: =D48+E48+F48 -> 4 | D48: 0 | E48: 2 | F48: 2 | G48: 3 | H48: 8 | I48: =G48-H48 -> -5 | J48: =(3*D48)+E48 -> 2 | K48: =IF(ISERR((J48/(C48*3))),0,((J48/(C48*3)))) -> 0.16666667 | L48: 2
A49: 18º | B49: COLO COLO CHI - Mal | C49: =D49+E49+F49 -> 4 | D49: 0 | E49: 0 | F49: 4 | G49: 2 | H49: 11 | I49: =G49-H49 -> -9 | J49: =(3*D49)+E49 -> 0 | K49: =IF(ISERR((J49/(C49*3))),0,((J49/(C49*3)))) -> 0 | L49: 1
A51: * | B51: Não está refilado à FBFM
