Workbook

Sheet Auxiliar
A1: ='Tabela da Primeira Fase'!M8 -> VASCO DA GAMA - Pim | B1: =IF('Tabela da Primeira Fase'!N8<'Tabela da Primeira Fase'!P8,0,IF('Tabela da Primeira Fase'!N8='Tabela da Primeira Fase'!P8,1,IF('Tabela da Primeira Fase'!N8>'Tabela da Primeira Fase'!P8,2))) -> 0 | C1: ='Tabela da Primeira Fase'!Q8 -> ATLÉTICO MG - RoB | D1: =IF('Tabela da Primeira Fase'!N8>'Tabela da Primeira Fase'!P8,0,IF('Tabela da Primeira Fase'!N8='Tabela da Primeira Fase'!P8,1,IF('Tabela da Primeira Fase'!N8<'Tabela da Primeira Fase'!P8,2))) -> 2 | E1: =IF(ISNUMBER('Tabela da Primeira Fase'!N8),1,0) -> 1 | F1: =IF(B1*E1=2,1,0) -> 0 | G1: =IF(B1*E1=1,1,0) -> 0 | H1: =IF(B1=0,IF(E1=1,1,0),0) -> 1 | I1: =IF(E1*D1=2,1,0) -> 1 | J1: =IF(E1*D1=1,1,0) -> 0 | K1: =IF(D1=0,IF(E1=1,1,0),0) -> 0 | L1: TIMES | M1: V | N1: E | O1: D | P1: GP | Q1: GC | W1: L | X1: M | Y1: N | Z1: O | AA1: P | AB1: Q
A2: ='Tabela da Primeira Fase'!M9 -> COLO COLO CHI - Mal | B2: =IF('Tabela da Primeira Fase'!N9<'Tabela da Primeira Fase'!P9,0,IF('Tabela da Primeira Fase'!N9='Tabela da Primeira Fase'!P9,1,IF('Tabela da Primeira Fase'!N9>'Tabela da Primeira Fase'!P9,2))) -> 0 | C2: ='Tabela da Primeira Fase'!Q9 -> FLUMINENSE - Sim | D2: =IF('Tabela da Primeira Fase'!N9>'Tabela da Primeira Fase'!P9,0,IF('Tabela da Primeira Fase'!N9='Tabela da Primeira Fase'!P9,1,IF('Tabela da Primeira Fase'!N9<'Tabela da Primeira Fase'!P9,2))) -> 2 | E2: =IF(ISNUMBER('Tabela da Primeira Fase'!N9),1,0) -> 1 | F2: =IF(B2*E2=2,1,0) -> 0 | G2: =IF(B2*E2=1,1,0) -> 0 | H2: =IF(B2=0,IF(E2=1,1,0),0) -> 1 | I2: =IF(E2*D2=2,1,0) -> 1 | J2: =IF(E2*D2=1,1,0) -> 0 | K2: =IF(D2=0,IF(E2=1,1,0),0) -> 0 | L2: ATLÉTICO MG - RoB | M2: =SUMIF($A$1:$A$780,L2,$F$1:$F$780)+SUMIF($C$1:$C$780,L2,$I$1:$I$780) -> 1 | N2: =SUMIF($A$1:$A$780,L2,$G$1:$G$780)+SUMIF($C$1:$C$780,L2,$J$1:$J$780) -> 0 | O2: =SUMIF($A$1:$A$780,L2,$H$1:$H$780)+SUMIF($C$1:$C$780,L2,$K$1:$K$780) -> 1 | P2: =SUMIF('Tabela da Primeira Fase'!$M$8:$M$753,L2,'Tabela da Primeira Fase'!$N$8:$N$753)+SUMIF('Tabela da Primeira Fase'!$Q$8:$Q$753,L2,'Tabela da Primeira Fase'!$P$8:$P$753) -> 4 | Q2: =SUMIF('Tabela da Primeira Fase'!$M$8:$M$753,L2,'Tabela da Primeira Fase'!$P$8:$P$753)+SUMIF('Tabela da Primeira Fase'!$Q$8:$Q$753,L2,'Tabela da Primeira Fase'!$N$8:$N$753) -> 5 | R2: =(1000000*((3*M2)+N2))+(10000*M2)+(100*(P2-Q2))+P2+(0.001*(30-T2)) -> 3009904 | S2: =RANK(R2,$R$2:$R$5) -> 2 | T2: 1 | U2: =IF($S$2=T2,2,0)+IF($S$3=T2,3,0)+IF($S$4=T2,4,0)+IF($S$5=T2,5,0) -> 3 | W2: =CONCATENATE("'Auxiliar'!",W$1,$U2) -> 'Auxiliar'!L3 | X2: =CONCATENATE("'Auxiliar'!",X$1,$U2) -> 'Auxiliar'!M3 | Y2: =CONCATENATE("'Auxiliar'!",Y$1,$U2) -> 'Auxiliar'!N3 | Z2: =CONCATENATE("'Auxiliar'!",Z$1,$U2) -> 'Auxiliar'!O3 | AA2: =CONCATENATE("'Auxiliar'!",AA$1,$U2) -> 'Auxiliar'!P3 | AB2: =CONCATENATE("'Auxiliar'!",AB$1,$U2) -> 'Auxiliar'!Q3 | AC2: 1
A3: ='Tabela da Primeira Fase'!M10 -> NÁUTICO - Jea | B3: =IF('Tabela da Primeira Fase'!N10<'Tabela da Primeira Fase'!P10,0,IF('Tabela da Primeira Fase'!N10='Tabela da Primeira Fase'!P10,1,IF('Tabela da Primeira Fase'!N10>'Tabela da Primeira Fase'!P10,2))) -> 0 | C3: ='Tabela da Primeira Fase'!Q10 -> NACIONAL URU - Ton | D3: =IF('Tabela da Primeira Fase'!N10>'Tabela da Primeira Fase'!P10,0,IF('Tabela da Primeira Fase'!N10='Tabela da Primeira Fase'!P10,1,IF('Tabela da Primeira Fase'!N10<'Tabela da Primeira Fase'!P10,2))) -> 2 | E3: =IF(ISNUMBER('Tabela da Primeira Fase'!N10),1,0) -> 1 | F3: =IF(B3*E3=2,1,0) -> 0 | G3: =IF(B3*E3=1,1,0) -> 0 | H3: =IF(B3=0,IF(E3=1,1,0),0) -> 1 | I3: =IF(E3*D3=2,1,0) -> 1 | J3: =IF(E3*D3=1,1,0) -> 0 | K3: =IF(D3=0,IF(E3=1,1,0),0) -> 0 | L3: BOLIVAR BOL - AnB | M3: =SUMIF($A$1:$A$780,L3,$F$1:$F$780)+SUMIF($C$1:$C$780,L3,$I$1:$I$780) -> 1 | N3: =SUMIF($A$1:$A$780,L3,$G$1:$G$780)+SUMIF($C$1:$C$780,L3,$J$1:$J$780) -> 1 | O3: =SUMIF($A$1:$A$780,L3,$H$1:$H$780)+SUMIF($C$1:$C$780,L3,$K$1:$K$780) -> 0 | P3: =SUMIF('Tabela da Primeira Fase'!$M$8:$M$753,L3,'Tabela da Primeira Fase'!$N$8:$N$753)+SUMIF('Tabela da Primeira Fase'!$Q$8:$Q$753,L3,'Tabela da Primeira Fase'!$P$8:$P$753) -> 7 | Q3: =SUMIF('Tabela da Primeira Fase'!$M$8:$M$753,L3,'Tabela da Primeira Fase'!$P$8:$P$753)+SUMIF('Tabela da Primeira Fase'!$Q$8:$Q$753,L3,'Tabela da Primeira Fase'!$N$8:$N$753) -> 2 | R3: =(1000000*((3*M3)+N3))+(10000*M3)+(100*(P3-Q3))+P3+(0.001*(30-T3)) -> 4010507 | S3: =RANK(R3,$R$2:$R$5) -> 1 | T3: 2 | U3: =IF($S$2=T3,2,0)+IF($S$3=T3,3,0)+IF($S$4=T3,4,0)+IF($S$5=T3,5,0) -> 2 | W3: =CONCATENATE("'Auxiliar'!",W$1,$U3) -> 'Auxiliar'!L2 | X3: =CONCATENATE("'Auxiliar'!",X$1,$U3) -> 'Auxiliar'!M2 | Y3: =CONCATENATE("'Auxiliar'!",Y$1,$U3) -> 'Auxiliar'!N2 | Z3: =CONCATENATE("'Auxiliar'!",Z$1,$U3) -> 'Auxiliar'!O2 | AA3: =CONCATENATE("'Auxiliar'!",AA$1,$U3) -> 'Auxiliar'!P2 | AB3: =CONCATENATE("'Auxiliar'!",AB$1,$U3) -> 'Auxiliar'!Q2 | AC3: 2
A4: ='Tabela da Primeira Fase'!M11 -> BOCA JUNIORS ARG - Aéc | B4: =IF('Tabela da Primeira Fase'!N11<'Tabela da Primeira Fase'!P11,0,IF('Tabela da Primeira Fase'!N11='Tabela da Primeira Fase'!P11,1,IF('Tabela da Primeira Fase'!N11>'Tabela da Primeira Fase'!P11,2))) -> 0 | C4: ='Tabela da Primeira Fase'!Q11 -> GRÊMIO - MaF | D4: =IF('Tabela da Primeira Fase'!N11>'Tabela da Primeira Fase'!P11,0,IF('Tabela da Primeira Fase'!N11='Tabela da Primeira Fase'!P11,1,IF('Tabela da Primeira Fase'!N11<'Tabela da Primeira Fase'!P11,2))) -> 2 | E4: =IF(ISNUMBER('Tabela da Primeira Fase'!N11),1,0) -> 1 | F4: =IF(B4*E4=2,1,0) -> 0 | G4: =IF(B4*E4=1,1,0) -> 0 | H4: =IF(B4=0,IF(E4=1,1,0),0) -> 1 | I4: =IF(E4*D4=2,1,0) -> 1 | J4: =IF(E4*D4=1,1,0) -> 0 | K4: =IF(D4=0,IF(E4=1,1,0),0) -> 0 | L4: VASCO DA GAMA - Pim | M4: =SUMIF($A$1:$A$780,L4,$F$1:$F$780)+SUMIF($C$1:$C$780,L4,$I$1:$I$780) -> 0 | N4: =SUMIF($A$1:$A$780,L4,$G$1:$G$780)+SUMIF($C$1:$C$780,L4,$J$1:$J$780) -> 1 | O4: =SUMIF($A$1:$A$780,L4,$H$1:$H$780)+SUMIF($C$1:$C$780,L4,$K$1:$K$780) -> 1 | P4: =SUMIF('Tabela da Primeira Fase'!$M$8:$M$753,L4,'Tabela da Primeira Fase'!$N$8:$N$753)+SUMIF('Tabela da Primeira Fase'!$Q$8:$Q$753,L4,'Tabela da Primeira Fase'!$P$8:$P$753) -> 2 | Q4: =SUMIF('Tabela da Primeira Fase'!$M$8:$M$753,L4,'Tabela da Primeira Fase'!$P$8:$P$753)+SUMIF('Tabela da Primeira Fase'!$Q$8:$Q$753,L4,'Tabela da Primeira Fase'!$N$8:$N$753) -> 6 | R4: =(1000000*((3*M4)+N4))+(10000*M4)+(100*(P4-Q4))+P4+(0.001*(30-T4)) -> 999602.03 | S4: =RANK(R4,$R$2:$R$5) -> 3 | T4: 3 | U4: =IF($S$2=T4,2,0)+IF($S$3=T4,3,0)+IF($S$4=T4,4,0)+IF($S$5=T4,5,0) -> 4 | W4: =CONCATENATE("'Auxiliar'!",W$1,$U4) -> 'Auxiliar'!L4 | X4: =CONCATENATE("'Auxiliar'!",X$1,$U4) -> 'Auxiliar'!M4 | Y4: =CONCATENATE("'Auxiliar'!",Y$1,$U4) -> 'Auxiliar'!N4 | Z4: =CONCATENATE("'Auxiliar'!",Z$1,$U4) -> 'Auxiliar'!O4 | AA4: =CONCATENATE("'Auxiliar'!",AA$1,$U4) -> 'Auxiliar'!P4 | AB4: =CONCATENATE("'Auxiliar'!",AB$1,$U4) -> 'Auxiliar'!Q4 | AC4: 3
A5: ='Tabela da Primeira Fase'!M12 -> RACING ARG - RoG | B5: =IF('Tabela da Primeira Fase'!N12<'Tabela da Primeira Fase'!P12,0,IF('Tabela da Primeira Fase'!N12='Tabela da Primeira Fase'!P12,1,IF('Tabela da Primeira Fase'!N12>'Tabela da Primeira Fase'!P12,2))) -> 0 | C5: ='Tabela da Primeira Fase'!Q12 -> INDEPENDIENTE ARG - Mar | D5: =IF('Tabela da Primeira Fase'!N12>'Tabela da Primeira Fase'!P12,0,IF('Tabela da Primeira Fase'!N12='Tabela da Primeira Fase'!P12,1,IF('Tabela da Primeira Fase'!N12<'Tabela da Primeira Fase'!P12,2))) -> 2 | E5: =IF(ISNUMBER('Tabela da Primeira Fase'!N12),1,0) -> 1 | F5: =IF(B5*E5=2,1,0) -> 0 | G5: =IF(B5*E5=1,1,0) -> 0 | H5: =IF(B5=0,IF(E5=1,1,0),0) -> 1 | I5: =IF(E5*D5=2,1,0) -> 1 | J5: =IF(E5*D5=1,1,0) -> 0 | K5: =IF(D5=0,IF(E5=1,1,0),0) -> 0
A6: ='Tabela da Primeira Fase'!M13 -> OLIMPIA PAR - Ama | B6: =IF('Tabela da Primeira Fase'!N13<'Tabela da Primeira Fase'!P13,0,IF('Tabela da Primeira Fase'!N13='Tabela da Primeira Fase'!P13,1,IF('Tabela da Primeira Fase'!N13>'Tabela da Primeira Fase'!P13,2))) -> 0 | C6: ='Tabela da Primeira Fase'!Q13 -> CRUZEIRO - PC | D6: =IF('Tabela da Primeira Fase'!N13>'Tabela da Primeira Fase'!P13,0,IF('Tabela da Primeira Fase'!N13='Tabela da Primeira Fase'!P13,1,IF('Tabela da Primeira Fase'!N13<'Tabela da Primeira Fase'!P13,2))) -> 2 | E6: =IF(ISNUMBER('Tabela da Primeira Fase'!N13),1,0) -> 1 | F6: =IF(B6*E6=2,1,0) -> 0 | G6: =IF(B6*E6=1,1,0) -> 0 | H6: =IF(B6=0,IF(E6=1,1,0),0) -> 1 | I6: =IF(E6*D6=2,1,0) -> 1 | J6: =IF(E6*D6=1,1,0) -> 0 | K6: =IF(D6=0,IF(E6=1,1,0),0) -> 0
A7: ='Tabela da Primeira Fase'!M14 -> PALMEIRAS - Alc | B7: =IF('Tabela da Primeira Fase'!N14<'Tabela da Primeira Fase'!P14,0,IF('Tabela da Primeira Fase'!N14='Tabela da Primeira Fase'!P14,1,IF('Tabela da Primeira Fase'!N14>'Tabela da Primeira Fase'!P14,2))) -> 2 | C7: ='Tabela da Primeira Fase'!Q14 -> OLIMPIA PAR - Ama | D7: =IF('Tabela da Primeira Fase'!N14>'Tabela da Primeira Fase'!P14,0,IF('Tabela da Primeira Fase'!N14='Tabela da Primeira Fase'!P14,1,IF('Tabela da Primeira Fase'!N14<'Tabela da Primeira Fase'!P14,2))) -> 0 | E7: =IF(ISNUMBER('Tabela da Primeira Fase'!N14),1,0) -> 1 | F7: =IF(B7*E7=2,1,0) -> 1 | G7: =IF(B7*E7=1,1,0) -> 0 | H7: =IF(B7=0,IF(E7=1,1,0),0) -> 0 | I7: =IF(E7*D7=2,1,0) -> 0 | J7: =IF(E7*D7=1,1,0) -> 0 | K7: =IF(D7=0,IF(E7=1,1,0),0) -> 1 | L7: FLUMINENSE - Sim | M7: =SUMIF($A$1:$A$780,L7,$F$1:$F$780)+SUMIF($C$1:$C$780,L7,$I$1:$I$780) -> 1 | N7: =SUMIF($A$1:$A$780,L7,$G$1:$G$780)+SUMIF($C$1:$C$780,L7,$J$1:$J$780) -> 0 | O7: =SUMIF($A$1:$A$780,L7,$H$1:$H$780)+SUMIF($C$1:$C$780,L7,$K$1:$K$780) -> 1 | P7: =SUMIF('Tabela da Primeira Fase'!$M$8:$M$753,L7,'Tabela da Primeira Fase'!$N$8:$N$753)+SUMIF('Tabela da Primeira Fase'!$Q$8:$Q$753,L7,'Tabela da Primeira Fase'!$P$8:$P$753) -> 3 | Q7: =SUMIF('Tabela da Primeira Fase'!$M$8:$M$753,L7,'Tabela da Primeira Fase'!$P$8:$P$753)+SUMIF('Tabela da Primeira Fase'!$Q$8:$Q$753,L7,'Tabela da Primeira Fase'!$N$8:$N$753) -> 2 | R7: =(1000000*((3*M7)+N7))+(10000*M7)+(100*(P7-Q7))+P7+(0.001*(30-T7)) -> 3010103 | S7: =RANK(R7,$R$7:$R$10) -> 2 | T7: 1 | U7: =IF($S$7=T7,7,0)+IF($S$8=T7,8,0)+IF($S$9=T7,9,0)+IF($S$10=T7,10,0) -> 8 | W7: =CONCATENATE("'Auxiliar'!",W$1,$U7) -> 'Auxiliar'!L8 | X7: =CONCATENATE("'Auxiliar'!",X$1,$U7) -> 'Auxiliar'!M8 | Y7: =CONCATENATE("'Auxiliar'!",Y$1,$U7) -> 'Auxiliar'!N8 | Z7: =CONCATENATE("'Auxiliar'!",Z$1,$U7) -> 'Auxiliar'!O8 | AA7: =CONCATENATE("'Auxiliar'!",AA$1,$U7) -> 'Auxiliar'!P8 | AB7: =CONCATENATE("'Auxiliar'!",AB$1,$U7) -> 'Auxiliar'!Q8 | AC7: 4
A8: ='Tabela da Primeira Fase'!M15 -> BOLIVAR BOL - AnB | B8: =IF('Tabela da Primeira Fase'!N15<'Tabela da Primeira Fase'!P15,0,IF('Tabela da Primeira Fase'!N15='Tabela da Primeira Fase'!P15,1,IF('Tabela da Primeira Fase'!N15>'Tabela da Primeira Fase'!P15,2))) -> 1 | C8: ='Tabela da Primeira Fase'!Q15 -> VASCO DA GAMA - Pim | D8: =IF('Tabela da Primeira Fase'!N15>'Tabela da Primeira Fase'!P15,0,IF('Tabela da Primeira Fase'!N15='Tabela da Primeira Fase'!P15,1,IF('Tabela da Primeira Fase'!N15<'Tabela da Primeira Fase'!P15,2))) -> 1 | E8: =IF(ISNUMBER('Tabela da Primeira Fase'!N15),1,0) -> 1 | F8: =IF(B8*E8=2,1,0) -> 0 | G8: =IF(B8*E8=1,1,0) -> 1 | H8: =IF(B8=0,IF(E8=1,1,0),0) -> 0 | I8: =IF(E8*D8=2,1,0) -> 0 | J8: =IF(E8*D8=1,1,0) -> 1 | K8: =IF(D8=0,IF(E8=1,1,0),0) -> 0 | L8: FLAMENGO - Vas | M8: =SUMIF($A$1:$A$780,L8,$F$1:$F$780)+SUMIF($C$1:$C$780,L8,$I$1:$I$780) -> 2 | N8: =SUMIF($A$1:$A$780,L8,$G$1:$G$780)+SUMIF($C$1:$C$780,L8,$J$1:$J$780) -> 0 | O8: =SUMIF($A$1:$A$780,L8,$H$1:$H$780)+SUMIF($C$1:$C$780,L8,$K$1:$K$780) -> 0 | P8: =SUMIF('Tabela da Primeira Fase'!$M$8:$M$753,L8,'Tabela da Primeira Fase'!$N$8:$N$753)+SUMIF('Tabela da Primeira Fase'!$Q$8:$Q$753,L8,'Tabela da Primeira Fase'!$P$8:$P$753) -> 4 | Q8: =SUMIF('Tabela da Primeira Fase'!$M$8:$M$753,L8,'Tabela da Primeira Fase'!$P$8:$P$753)+SUMIF('Tabela da Primeira Fase'!$Q$8:$Q$753,L8,'Tabela da Primeira Fase'!$N$8:$N$753) -> 0 | R8: =(1000000*((3*M8)+N8))+(10000*M8)+(100*(P8-Q8))+P8+(0.001*(30-T8)) -> 6020404 | S8: =RANK(R8,$R$7:$R$10) -> 1 | T8: 2 | U8: =IF($S$7=T8,7,0)+IF($S$8=T8,8,0)+IF($S$9=T8,9,0)+IF($S$10=T8,10,0) -> 7 | W8: =CONCATENATE("'Auxiliar'!",W$1,$U8) -> 'Auxiliar'!L7 | X8: =CONCATENATE("'Auxiliar'!",X$1,$U8) -> 'Auxiliar'!M7 | Y8: =CONCATENATE("'Auxiliar'!",Y$1,$U8) -> 'Auxiliar'!N7 | Z8: =CONCATENATE("'Auxiliar'!",Z$1,$U8) -> 'Auxiliar'!O7 | AA8: =CONCATENATE("'Auxiliar'!",AA$1,$U8) -> 'Auxiliar'!P7 | AB8: =CONCATENATE("'Auxiliar'!",AB$1,$U8) -> 'Auxiliar'!Q7 | AC8: 5
A9: ='Tabela da Primeira Fase'!M16 -> FLAMENGO - Vas | B9: =IF('Tabela da Primeira Fase'!N16<'Tabela da Primeira Fase'!P16,0,IF('Tabela da Primeira Fase'!N16='Tabela da Primeira Fase'!P16,1,IF('Tabela da Primeira Fase'!N16>'Tabela da Primeira Fase'!P16,2))) -> 2 | C9: ='Tabela da Primeira Fase'!Q16 -> COLO COLO CHI - Mal | D9: =IF('Tabela da Primeira Fase'!N16>'Tabela da Primeira Fase'!P16,0,IF('Tabela da Primeira Fase'!N16='Tabela da Primeira Fase'!P16,1,IF('Tabela da Primeira Fase'!N16<'Tabela da Primeira Fase'!P16,2))) -> 0 | E9: =IF(ISNUMBER('Tabela da Primeira Fase'!N16),1,0) -> 1 | F9: =IF(B9*E9=2,1,0) -> 1 | G9: =IF(B9*E9=1,1,0) -> 0 | H9: =IF(B9=0,IF(E9=1,1,0),0) -> 0 | I9: =IF(E9*D9=2,1,0) -> 0 | J9: =IF(E9*D9=1,1,0) -> 0 | K9: =IF(D9=0,IF(E9=1,1,0),0) -> 1 | L9: COLO COLO CHI - Mal | M9: =SUMIF($A$1:$A$780,L9,$F$1:$F$780)+SUMIF($C$1:$C$780,L9,$I$1:$I$780) -> 0 | N9: =SUMIF($A$1:$A$780,L9,$G$1:$G$780)+SUMIF($C$1:$C$780,L9,$J$1:$J$780) -> 0 | O9: =SUMIF($A$1:$A$780,L9,$H$1:$H$780)+SUMIF($C$1:$C$780,L9,$K$1:$K$780) -> 2 | P9: =SUMIF('Tabela da Primeira Fase'!$M$8:$M$753,L9,'Tabela da Primeira Fase'!$N$8:$N$753)+SUMIF('Tabela da Primeira Fase'!$Q$8:$Q$753,L9,'Tabela da Primeira Fase'!$P$8:$P$753) -> 1 | Q9: =SUMIF('Tabela da Primeira Fase'!$M$8:$M$753,L9,'Tabela da Primeira Fase'!$P$8:$P$753)+SUMIF('Tabela da Primeira Fase'!$Q$8:$Q$753,L9,'Tabela da Primeira Fase'!$N$8:$N$753) -> 6 | R9: =(1000000*((3*M9)+N9))+(10000*M9)+(100*(P9-Q9))+P9+(0.001*(30-T9)) -> -498.973 | S9: =RANK(R9,$R$7:$R$10) -> 3 | T9: 3 | U9: =IF($S$7=T9,7,0)+IF($S$8=T9,8,0)+IF($S$9=T9,9,0)+IF($S$10=T9,10,0) -> 9 | W9: =CONCATENATE("'Auxiliar'!",W$1,$U9) -> 'Auxiliar'!L9 | X9: =CONCATENATE("'Auxiliar'!",X$1,$U9) -> 'Auxiliar'!M9 | Y9: =CONCATENATE("'Auxiliar'!",Y$1,$U9) -> 'Auxiliar'!N9 | Z9: =CONCATENATE("'Auxiliar'!",Z$1,$U9) -> 'Auxiliar'!O9 | AA9: =CONCATENATE("'Auxiliar'!",AA$1,$U9) -> 'Auxiliar'!P9 | AB9: =CONCATENATE("'Auxiliar'!",AB$1,$U9) -> 'Auxiliar'!Q9 | AC9: 6
A10: ='Tabela da Primeira Fase'!M17 -> BOTAFOGO - JoR | B10: =IF('Tabela da Primeira Fase'!N17<'Tabela da Primeira Fase'!P17,0,IF('Tabela da Primeira Fase'!N17='Tabela da Primeira Fase'!P17,1,IF('Tabela da Primeira Fase'!N17>'Tabela da Primeira Fase'!P17,2))) -> 2 | C10: ='Tabela da Primeira Fase'!Q17 -> NÁUTICO - Jea | D10: =IF('Tabela da Primeira Fase'!N17>'Tabela da Primeira Fase'!P17,0,IF('Tabela da Primeira Fase'!N17='Tabela da Primeira Fase'!P17,1,IF('Tabela da Primeira Fase'!N17<'Tabela da Primeira Fase'!P17,2))) -> 0 | E10: =IF(ISNUMBER('Tabela da Primeira Fase'!N17),1,0) -> 1 | F10: =IF(B10*E10=2,1,0) -> 1 | G10: =IF(B10*E10=1,1,0) -> 0 | H10: =IF(B10=0,IF(E10=1,1,0),0) -> 0 | I10: =IF(E10*D10=2,1,0) -> 0 | J10: =IF(E10*D10=1,1,0) -> 0 | K10: =IF(D10=0,IF(E10=1,1,0),0) -> 1
A11: ='Tabela da Primeira Fase'!M18 -> THE STRONGEST BOL - Jun | B11: =IF('Tabela da Primeira Fase'!N18<'Tabela da Primeira Fase'!P18,0,IF('Tabela da Primeira Fase'!N18='Tabela da Primeira Fase'!P18,1,IF('Tabela da Primeira Fase'!N18>'Tabela da Primeira Fase'!P18,2))) -> 1 | C11: ='Tabela da Primeira Fase'!Q18 -> BOCA JUNIORS ARG - Aéc | D11: =IF('Tabela da Primeira Fase'!N18>'Tabela da Primeira Fase'!P18,0,IF('Tabela da Primeira Fase'!N18='Tabela da Primeira Fase'!P18,1,IF('Tabela da Primeira Fase'!N18<'Tabela da Primeira Fase'!P18,2))) -> 1 | E11: =IF(ISNUMBER('Tabela da Primeira Fase'!N18),1,0) -> 1 | F11: =IF(B11*E11=2,1,0) -> 0 | G11: =IF(B11*E11=1,1,0) -> 1 | H11: =IF(B11=0,IF(E11=1,1,0),0) -> 0 | I11: =IF(E11*D11=2,1,0) -> 0 | J11: =IF(E11*D11=1,1,0) -> 1 | K11: =IF(D11=0,IF(E11=1,1,0),0) -> 0
A12: ='Tabela da Primeira Fase'!M19 -> INTERNACIONAL - MaS | B12: =IF('Tabela da Primeira Fase'!N19<'Tabela da Primeira Fase'!P19,0,IF('Tabela da Primeira Fase'!N19='Tabela da Primeira Fase'!P19,1,IF('Tabela da Primeira Fase'!N19>'Tabela da Primeira Fase'!P19,2))) -> 2 | C12: ='Tabela da Primeira Fase'!Q19 -> RACING ARG - RoG | D12: =IF('Tabela da Primeira Fase'!N19>'Tabela da Primeira Fase'!P19,0,IF('Tabela da Primeira Fase'!N19='Tabela da Primeira Fase'!P19,1,IF('Tabela da Primeira Fase'!N19<'Tabela da Primeira Fase'!P19,2))) -> 0 | E12: =IF(ISNUMBER('Tabela da Primeira Fase'!N19),1,0) -> 1 | F12: =IF(B12*E12=2,1,0) -> 1 | G12: =IF(B12*E12=1,1,0) -> 0 | H12: =IF(B12=0,IF(E12=1,1,0),0) -> 0 | I12: =IF(E12*D12=2,1,0) -> 0 | J12: =IF(E12*D12=1,1,0) -> 0 | K12: =IF(D12=0,IF(E12=1,1,0),0) -> 1 | L12: NACIONAL URU - Ton | M12: =SUMIF($A$1:$A$780,L12,$F$1:$F$780)+SUMIF($C$1:$C$780,L12,$I$1:$I$780) -> 1 | N12: =SUMIF($A$1:$A$780,L12,$G$1:$G$780)+SUMIF($C$1:$C$780,L12,$J$1:$J$780) -> 1 | O12: =SUMIF($A$1:$A$780,L12,$H$1:$H$780)+SUMIF($C$1:$C$780,L12,$K$1:$K$780) -> 0 | P12: =SUMIF('Tabela da Primeira Fase'!$M$8:$M$753,L12,'Tabela da Primeira Fase'!$N$8:$N$753)+SUMIF('Tabela da Primeira Fase'!$Q$8:$Q$753,L12,'Tabela da Primeira Fase'!$P$8:$P$753) -> 5 | Q12: =SUMIF('Tabela da Primeira Fase'!$M$8:$M$753,L12,'Tabela da Primeira Fase'!$P$8:$P$753)+SUMIF('Tabela da Primeira Fase'!$Q$8:$Q$753,L12,'Tabela da Primeira Fase'!$N$8:$N$753) -> 0 | R12: =(1000000*((3*M12)+N12))+(10000*M12)+(100*(P12-Q12))+P12+(0.001*(30-T12)) -> 4010505 | S12: =RANK(R12,$R$12:$R$15) -> 1 | T12: 1 | U12: =IF($S$12=T12,12,0)+IF($S$13=T12,13,0)+IF($S$14=T12,14,0)+IF($S$15=T12,15,0) -> 12 | W12: =CONCATENATE("'Auxiliar'!",W$1,$U12) -> 'Auxiliar'!L12 | X12: =CONCATENATE("'Auxiliar'!",X$1,$U12) -> 'Auxiliar'!M12 | Y12: =CONCATENATE("'Auxiliar'!",Y$1,$U12) -> 'Auxiliar'!N12 | Z12: =CONCATENATE("'Auxiliar'!",Z$1,$U12) -> 'Auxiliar'!O12 | AA12: =CONCATENATE("'Auxiliar'!",AA$1,$U12) -> 'Auxiliar'!P12 | AB12: =CONCATENATE("'Auxiliar'!",AB$1,$U12) -> 'Auxiliar'!Q12 | AC12: 7
A13: ='Tabela da Primeira Fase'!M20 -> INDEPENDIENTE ARG - Mar | B13: =IF('Tabela da Primeira Fase'!N20<'Tabela da Primeira Fase'!P20,0,IF('Tabela da Primeira Fase'!N20='Tabela da Primeira Fase'!P20,1,IF('Tabela da Primeira Fase'!N20>'Tabela da Primeira Fase'!P20,2))) -> 1 | C13: ='Tabela da Primeira Fase'!Q20 -> INTERNACIONAL - MaS | D13: =IF('Tabela da Primeira Fase'!N20>'Tabela da Primeira Fase'!P20,0,IF('Tabela da Primeira Fase'!N20='Tabela da Primeira Fase'!P20,1,IF('Tabela da Primeira Fase'!N20<'Tabela da Primeira Fase'!P20,2))) -> 1 | E13: =IF(ISNUMBER('Tabela da Primeira Fase'!N20),1,0) -> 1 | F13: =IF(B13*E13=2,1,0) -> 0 | G13: =IF(B13*E13=1,1,0) -> 1 | H13: =IF(B13=0,IF(E13=1,1,0),0) -> 0 | I13: =IF(E13*D13=2,1,0) -> 0 | J13: =IF(E13*D13=1,1,0) -> 1 | K13: =IF(D13=0,IF(E13=1,1,0),0) -> 0 | L13: BOTAFOGO - JoR | M13: =SUMIF($A$1:$A$780,L13,$F$1:$F$780)+SUMIF($C$1:$C$780,L13,$I$1:$I$780) -> 1 | N13: =SUMIF($A$1:$A$780,L13,$G$1:$G$780)+SUMIF($C$1:$C$780,L13,$J$1:$J$780) -> 1 | O13: =SUMIF($A$1:$A$780,L13,$H$1:$H$780)+SUMIF($C$1:$C$780,L13,$K$1:$K$780) -> 0 | P13: =SUMIF('Tabela da Primeira Fase'!$M$8:$M$753,L13,'Tabela da Primeira Fase'!$N$8:$N$753)+SUMIF('Tabela da Primeira Fase'!$Q$8:$Q$753,L13,'Tabela da Primeira Fase'!$P$8:$P$753) -> 2 | Q13: =SUMIF('Tabela da Primeira Fase'!$M$8:$M$753,L13,'Tabela da Primeira Fase'!$P$8:$P$753)+SUMIF('Tabela da Primeira Fase'!$Q$8:$Q$753,L13,'Tabela da Primeira Fase'!$N$8:$N$753) -> 0 | R13: =(1000000*((3*M13)+N13))+(10000*M13)+(100*(P13-Q13))+P13+(0.001*(30-T13)) -> 4010202 | S13: =RANK(R13,$R$12:$R$15) -> 2 | T13: 2 | U13: =IF($S$12=T13,12,0)+IF($S$13=T13,13,0)+IF($S$14=T13,14,0)+IF($S$15=T13,15,0) -> 13 | W13: =CONCATENATE("'Auxiliar'!",W$1,$U13) -> 'Auxiliar'!L13 | X13: =CONCATENATE("'Auxiliar'!",X$1,$U13) -> 'Auxiliar'!M13 | Y13: =CONCATENATE("'Auxiliar'!",Y$1,$U13) -> 'Auxiliar'!N13 | Z13: =CONCATENATE("'Auxiliar'!",Z$1,$U13) -> 'Auxiliar'!O13 | AA13: =CONCATENATE("'Auxiliar'!",AA$1,$U13) -> 'Auxiliar'!P13 | AB13: =CONCATENATE("'Auxiliar'!",AB$1,$U13) -> 'Auxiliar'!Q13 | AC13: 8
A14: ='Tabela da Primeira Fase'!M21 -> CRUZEIRO - PC | B14: =IF('Tabela da Primeira Fase'!N21<'Tabela da Primeira Fase'!P21,0,IF('Tabela da Primeira Fase'!N21='Tabela da Primeira Fase'!P21,1,IF('Tabela da Primeira Fase'!N21>'Tabela da Primeira Fase'!P21,2))) -> 1 | C14: ='Tabela da Primeira Fase'!Q21 -> PALMEIRAS - Alc | D14: =IF('Tabela da Primeira Fase'!N21>'Tabela da Primeira Fase'!P21,0,IF('Tabela da Primeira Fase'!N21='Tabela da Primeira Fase'!P21,1,IF('Tabela da Primeira Fase'!N21<'Tabela da Primeira Fase'!P21,2))) -> 1 | E14: =IF(ISNUMBER('Tabela da Primeira Fase'!N21),1,0) -> 1 | F14: =IF(B14*E14=2,1,0) -> 0 | G14: =IF(B14*E14=1,1,0) -> 1 | H14: =IF(B14=0,IF(E14=1,1,0),0) -> 0 | I14: =IF(E14*D14=2,1,0) -> 0 | J14: =IF(E14*D14=1,1,0) -> 1 | K14: =IF(D14=0,IF(E14=1,1,0),0) -> 0 | L14: NÁUTICO - Jea | M14: =SUMIF($A$1:$A$780,L14,$F$1:$F$780)+SUMIF($C$1:$C$780,L14,$I$1:$I$780) -> 0 | N14: =SUMIF($A$1:$A$780,L14,$G$1:$G$780)+SUMIF($C$1:$C$780,L14,$J$1:$J$780) -> 0 | O14: =SUMIF($A$1:$A$780,L14,$H$1:$H$780)+SUMIF($C$1:$C$780,L14,$K$1:$K$780) -> 2 | P14: =SUMIF('Tabela da Primeira Fase'!$M$8:$M$753,L14,'Tabela da Primeira Fase'!$N$8:$N$753)+SUMIF('Tabela da Primeira Fase'!$Q$8:$Q$753,L14,'Tabela da Primeira Fase'!$P$8:$P$753) -> 0 | Q14: =SUMIF('Tabela da Primeira Fase'!$M$8:$M$753,L14,'Tabela da Primeira Fase'!$P$8:$P$753)+SUMIF('Tabela da Primeira Fase'!$Q$8:$Q$753,L14,'Tabela da Primeira Fase'!$N$8:$N$753) -> 7 | R14: =(1000000*((3*M14)+N14))+(10000*M14)+(100*(P14-Q14))+P14+(0.001*(30-T14)) -> -699.973 | S14: =RANK(R14,$R$12:$R$15) -> 3 | T14: 3 | U14: =IF($S$12=T14,12,0)+IF($S$13=T14,13,0)+IF($S$14=T14,14,0)+IF($S$15=T14,15,0) -> 14 | W14: =CONCATENATE("'Auxiliar'!",W$1,$U14) -> 'Auxiliar'!L14 | X14: =CONCATENATE("'Auxiliar'!",X$1,$U14) -> 'Auxiliar'!M14 | Y14: =CONCATENATE("'Auxiliar'!",Y$1,$U14) -> 'Auxiliar'!N14 | Z14: =CONCATENATE("'Auxiliar'!",Z$1,$U14) -> 'Auxiliar'!O14 | AA14: =CONCATENATE("'Auxiliar'!",AA$1,$U14) -> 'Auxiliar'!P14 | AB14: =CONCATENATE("'Auxiliar'!",AB$1,$U14) -> 'Auxiliar'!Q14 | AC14: 9
A15: ='Tabela da Primeira Fase'!M22 -> ATLÉTICO MG - RoB | B15: =IF('Tabela da Primeira Fase'!N22<'Tabela da Primeira Fase'!P22,0,IF('Tabela da Primeira Fase'!N22='Tabela da Primeira Fase'!P22,1,IF('Tabela da Primeira Fase'!N22>'Tabela da Primeira Fase'!P22,2))) -> 0 | C15: ='Tabela da Primeira Fase'!Q22 -> BOLIVAR BOL - AnB | D15: =IF('Tabela da Primeira Fase'!N22>'Tabela da Primeira Fase'!P22,0,IF('Tabela da Primeira Fase'!N22='Tabela da Primeira Fase'!P22,1,IF('Tabela da Primeira Fase'!N22<'Tabela da Primeira Fase'!P22,2))) -> 2 | E15: =IF(ISNUMBER('Tabela da Primeira Fase'!N22),1,0) -> 1 | F15: =IF(B15*E15=2,1,0) -> 0 | G15: =IF(B15*E15=1,1,0) -> 0 | H15: =IF(B15=0,IF(E15=1,1,0),0) -> 1 | I15: =IF(E15*D15=2,1,0) -> 1 | J15: =IF(E15*D15=1,1,0) -> 0 | K15: =IF(D15=0,IF(E15=1,1,0),0) -> 0
A16: ='Tabela da Primeira Fase'!M23 -> FLUMINENSE - Sim | B16: =IF('Tabela da Primeira Fase'!N23<'Tabela da Primeira Fase'!P23,0,IF('Tabela da Primeira Fase'!N23='Tabela da Primeira Fase'!P23,1,IF('Tabela da Primeira Fase'!N23>'Tabela da Primeira Fase'!P23,2))) -> 0 | C16: ='Tabela da Primeira Fase'!Q23 -> FLAMENGO - Vas | D16: =IF('Tabela da Primeira Fase'!N23>'Tabela da Primeira Fase'!P23,0,IF('Tabela da Primeira Fase'!N23='Tabela da Primeira Fase'!P23,1,IF('Tabela da Primeira Fase'!N23<'Tabela da Primeira Fase'!P23,2))) -> 2 | E16: =IF(ISNUMBER('Tabela da Primeira Fase'!N23),1,0) -> 1 | F16: =IF(B16*E16=2,1,0) -> 0 | G16: =IF(B16*E16=1,1,0) -> 0 | H16: =IF(B16=0,IF(E16=1,1,0),0) -> 1 | I16: =IF(E16*D16=2,1,0) -> 1 | J16: =IF(E16*D16=1,1,0) -> 0 | K16: =IF(D16=0,IF(E16=1,1,0),0) -> 0
A17: ='Tabela da Primeira Fase'!M24 -> NACIONAL URU - Ton | B17: =IF('Tabela da Primeira Fase'!N24<'Tabela da Primeira Fase'!P24,0,IF('Tabela da Primeira Fase'!N24='Tabela da Primeira Fase'!P24,1,IF('Tabela da Primeira Fase'!N24>'Tabela da Primeira Fase'!P24,2))) -> 1 | C17: ='Tabela da Primeira Fase'!Q24 -> BOTAFOGO - JoR | D17: =IF('Tabela da Primeira Fase'!N24>'Tabela da Primeira Fase'!P24,0,IF('Tabela da Primeira Fase'!N24='Tabela da Primeira Fase'!P24,1,IF('Tabela da Primeira Fase'!N24<'Tabela da Primeira Fase'!P24,2))) -> 1 | E17: =IF(ISNUMBER('Tabela da Primeira Fase'!N24),1,0) -> 1 | F17: =IF(B17*E17=2,1,0) -> 0 | G17: =IF(B17*E17=1,1,0) -> 1 | H17: =IF(B17=0,IF(E17=1,1,0),0) -> 0 | I17: =IF(E17*D17=2,1,0) -> 0 | J17: =IF(E17*D17=1,1,0) -> 1 | K17: =IF(D17=0,IF(E17=1,1,0),0) -> 0 | L17: GRÊMIO - MaF | M17: =SUMIF($A$1:$A$780,L17,$F$1:$F$780)+SUMIF($C$1:$C$780,L17,$I$1:$I$780) -> 2 | N17: =SUMIF($A$1:$A$780,L17,$G$1:$G$780)+SUMIF($C$1:$C$780,L17,$J$1:$J$780) -> 0 | O17: =SUMIF($A$1:$A$780,L17,$H$1:$H$780)+SUMIF($C$1:$C$780,L17,$K$1:$K$780) -> 0 | P17: =SUMIF('Tabela da Primeira Fase'!$M$8:$M$753,L17,'Tabela da Primeira Fase'!$N$8:$N$753)+SUMIF('Tabela da Primeira Fase'!$Q$8:$Q$753,L17,'Tabela da Primeira Fase'!$P$8:$P$753) -> 5 | Q17: =SUMIF('Tabela da Primeira Fase'!$M$8:$M$753,L17,'Tabela da Primeira Fase'!$P$8:$P$753)+SUMIF('Tabela da Primeira Fase'!$Q$8:$Q$753,L17,'Tabela da Primeira Fase'!$N$8:$N$753) -> 0 | R17: =(1000000*((3*M17)+N17))+(10000*M17)+(100*(P17-Q17))+P17+(0.001*(30-T17)) -> 6020505 | S17: =RANK(R17,$R$17:$R$20) -> 1 | T17: 1 | U17: =IF($S$17=T17,17,0)+IF($S$18=T17,18,0)+IF($S$19=T17,19,0)+IF($S$20=T17,20,0) -> 17 | W17: =CONCATENATE("'Auxiliar'!",W$1,$U17) -> 'Auxiliar'!L17 | X17: =CONCATENATE("'Auxiliar'!",X$1,$U17) -> 'Auxiliar'!M17 | Y17: =CONCATENATE("'Auxiliar'!",Y$1,$U17) -> 'Auxiliar'!N17 | Z17: =CONCATENATE("'Auxiliar'!",Z$1,$U17) -> 'Auxiliar'!O17 | AA17: =CONCATENATE("'Auxiliar'!",AA$1,$U17) -> 'Auxiliar'!P17 | AB17: =CONCATENATE("'Auxiliar'!",AB$1,$U17) -> 'Auxiliar'!Q17 | AC17: 10
A18: ='Tabela da Primeira Fase'!M25 -> GRÊMIO - MaF | B18: =IF('Tabela da Primeira Fase'!N25<'Tabela da Primeira Fase'!P25,0,IF('Tabela da Primeira Fase'!N25='Tabela da Primeira Fase'!P25,1,IF('Tabela da Primeira Fase'!N25>'Tabela da Primeira Fase'!P25,2))) -> 2 | C18: ='Tabela da Primeira Fase'!Q25 -> THE STRONGEST BOL - Jun | D18: =IF('Tabela da Primeira Fase'!N25>'Tabela da Primeira Fase'!P25,0,IF('Tabela da Primeira Fase'!N25='Tabela da Primeira Fase'!P25,1,IF('Tabela da Primeira Fase'!N25<'Tabela da Primeira Fase'!P25,2))) -> 0 | E18: =IF(ISNUMBER('Tabela da Primeira Fase'!N25),1,0) -> 1 | F18: =IF(B18*E18=2,1,0) -> 1 | G18: =IF(B18*E18=1,1,0) -> 0 | H18: =IF(B18=0,IF(E18=1,1,0),0) -> 0 | I18: =IF(E18*D18=2,1,0) -> 0 | J18: =IF(E18*D18=1,1,0) -> 0 | K18: =IF(D18=0,IF(E18=1,1,0),0) -> 1 | L18: THE STRONGEST BOL - Jun | M18: =SUMIF($A$1:$A$780,L18,$F$1:$F$780)+SUMIF($C$1:$C$780,L18,$I$1:$I$780) -> 0 | N18: =SUMIF($A$1:$A$780,L18,$G$1:$G$780)+SUMIF($C$1:$C$780,L18,$J$1:$J$780) -> 1 | O18: =SUMIF($A$1:$A$780,L18,$H$1:$H$780)+SUMIF($C$1:$C$780,L18,$K$1:$K$780) -> 1 | P18: =SUMIF('Tabela da Primeira Fase'!$M$8:$M$753,L18,'Tabela da Primeira Fase'!$N$8:$N$753)+SUMIF('Tabela da Primeira Fase'!$Q$8:$Q$753,L18,'Tabela da Primeira Fase'!$P$8:$P$753) -> 0 | Q18: =SUMIF('Tabela da Primeira Fase'!$M$8:$M$753,L18,'Tabela da Primeira Fase'!$P$8:$P$753)+SUMIF('Tabela da Primeira Fase'!$Q$8:$Q$753,L18,'Tabela da Primeira Fase'!$N$8:$N$753) -> 2 | R18: =(1000000*((3*M18)+N18))+(10000*M18)+(100*(P18-Q18))+P18+(0.001*(30-T18)) -> 999800.03 | S18: =RANK(R18,$R$17:$R$20) -> 2 | T18: 2 | U18: =IF($S$17=T18,17,0)+IF($S$18=T18,18,0)+IF($S$19=T18,19,0)+IF($S$20=T18,20,0) -> 18 | W18: =CONCATENATE("'Auxiliar'!",W$1,$U18) -> 'Auxiliar'!L18 | X18: =CONCATENATE("'Auxiliar'!",X$1,$U18) -> 'Auxiliar'!M18 | Y18: =CONCATENATE("'Auxiliar'!",Y$1,$U18) -> 'Auxiliar'!N18 | Z18: =CONCATENATE("'Auxiliar'!",Z$1,$U18) -> 'Auxiliar'!O18 | AA18: =CONCATENATE("'Auxiliar'!",AA$1,$U18) -> 'Auxiliar'!P18 | AB18: =CONCATENATE("'Auxiliar'!",AB$1,$U18) -> 'Auxiliar'!Q18 | AC18: 11
L19: BOCA JUNIORS ARG - Aéc | M19: =SUMIF($A$1:$A$780,L19,$F$1:$F$780)+SUMIF($C$1:$C$780,L19,$I$1:$I$780) -> 0 | N19: =SUMIF($A$1:$A$780,L19,$G$1:$G$780)+SUMIF($C$1:$C$780,L19,$J$1:$J$780) -> 1 | O19: =SUMIF($A$1:$A$780,L19,$H$1:$H$780)+SUMIF($C$1:$C$780,L19,$K$1:$K$780) -> 1 | P19: =SUMIF('Tabela da Primeira Fase'!$M$8:$M$753,L19,'Tabela da Primeira Fase'!$N$8:$N$753)+SUMIF('Tabela da Primeira Fase'!$Q$8:$Q$753,L19,'Tabela da Primeira Fase'!$P$8:$P$753) -> 0 | Q19: =SUMIF('Tabela da Primeira Fase'!$M$8:$M$753,L19,'Tabela da Primeira Fase'!$P$8:$P$753)+SUMIF('Tabela da Primeira Fase'!$Q$8:$Q$753,L19,'Tabela da Primeira Fase'!$N$8:$N$753) -> 3 | R19: =(1000000*((3*M19)+N19))+(10000*M19)+(100*(P19-Q19))+P19+(0.001*(30-T19)) -> 999700.03 | S19: =RANK(R19,$R$17:$R$20) -> 3 | T19: 3 | U19: =IF($S$17=T19,17,0)+IF($S$18=T19,18,0)+IF($S$19=T19,19,0)+IF($S$20=T19,20,0) -> 19 | W19: =CONCATENATE("'Auxiliar'!",W$1,$U19) -> 'Auxiliar'!L19 | X19: =CONCATENATE("'Auxiliar'!",X$1,$U19) -> 'Auxiliar'!M19 | Y19: =CONCATENATE("'Auxiliar'!",Y$1,$U19) -> 'Auxiliar'!N19 | Z19: =CONCATENATE("'Auxiliar'!",Z$1,$U19) -> 'Auxiliar'!O19 | AA19: =CONCATENATE("'Auxiliar'!",AA$1,$U19) -> 'Auxiliar'!P19 | AB19: =CONCATENATE("'Auxiliar'!",AB$1,$U19) -> 'Auxiliar'!Q19 | AC19: 12
L22: INDEPENDIENTE ARG - Mar | M22: =SUMIF($A$1:$A$780,L22,$F$1:$F$780)+SUMIF($C$1:$C$780,L22,$I$1:$I$780) -> 1 | N22: =SUMIF($A$1:$A$780,L22,$G$1:$G$780)+SUMIF($C$1:$C$780,L22,$J$1:$J$780) -> 1 | O22: =SUMIF($A$1:$A$780,L22,$H$1:$H$780)+SUMIF($C$1:$C$780,L22,$K$1:$K$780) -> 0 | P22: =SUMIF('Tabela da Primeira Fase'!$M$8:$M$753,L22,'Tabela da Primeira Fase'!$N$8:$N$753)+SUMIF('Tabela da Primeira Fase'!$Q$8:$Q$753,L22,'Tabela da Primeira Fase'!$P$8:$P$753) -> 2 | Q22: =SUMIF('Tabela da Primeira Fase'!$M$8:$M$753,L22,'Tabela da Primeira Fase'!$P$8:$P$753)+SUMIF('Tabela da Primeira Fase'!$Q$8:$Q$753,L22,'Tabela da Primeira Fase'!$N$8:$N$753) -> 1 | R22: =(1000000*((3*M22)+N22))+(10000*M22)+(100*(P22-Q22))+P22+(0.001*(30-T22)) -> 4010102 | S22: =RANK(R22,$R$22:$R$25) -> 2 | T22: 1 | U22: =IF($S$22=T22,22,0)+IF($S$23=T22,23,0)+IF($S$24=T22,24,0)+IF($S$25=T22,25,0) -> 23 | W22: =CONCATENATE("'Auxiliar'!",W$1,$U22) -> 'Auxiliar'!L23 | X22: =CONCATENATE("'Auxiliar'!",X$1,$U22) -> 'Auxiliar'!M23 | Y22: =CONCATENATE("'Auxiliar'!",Y$1,$U22) -> 'Auxiliar'!N23 | Z22: =CONCATENATE("'Auxiliar'!",Z$1,$U22) -> 'Auxiliar'!O23 | AA22: =CONCATENATE("'Auxiliar'!",AA$1,$U22) -> 'Auxiliar'!P23 | AB22: =CONCATENATE("'Auxiliar'!",AB$1,$U22) -> 'Auxiliar'!Q23 | AC22: 13
L23: INTERNACIONAL - MaS | M23: =SUMIF($A$1:$A$780,L23,$F$1:$F$780)+SUMIF($C$1:$C$780,L23,$I$1:$I$780) -> 1 | N23: =SUMIF($A$1:$A$780,L23,$G$1:$G$780)+SUMIF($C$1:$C$780,L23,$J$1:$J$780) -> 1 | O23: =SUMIF($A$1:$A$780,L23,$H$1:$H$780)+SUMIF($C$1:$C$780,L23,$K$1:$K$780) -> 0 | P23: =SUMIF('Tabela da Primeira Fase'!$M$8:$M$753,L23,'Tabela da Primeira Fase'!$N$8:$N$753)+SUMIF('Tabela da Primeira Fase'!$Q$8:$Q$753,L23,'Tabela da Primeira Fase'!$P$8:$P$753) -> 3 | Q23: =SUMIF('Tabela da Primeira Fase'!$M$8:$M$753,L23,'Tabela da Primeira Fase'!$P$8:$P$753)+SUMIF('Tabela da Primeira Fase'!$Q$8:$Q$753,L23,'Tabela da Primeira Fase'!$N$8:$N$753) -> 1 | R23: =(1000000*((3*M23)+N23))+(10000*M23)+(100*(P23-Q23))+P23+(0.001*(30-T23)) -> 4010203 | S23: =RANK(R23,$R$22:$R$25) -> 1 | T23: 2 | U23: =IF($S$22=T23,22,0)+IF($S$23=T23,23,0)+IF($S$24=T23,24,0)+IF($S$25=T23,25,0) -> 22 | W23: =CONCATENATE("'Auxiliar'!",W$1,$U23) -> 'Auxiliar'!L22 | X23: =CONCATENATE("'Auxiliar'!",X$1,$U23) -> 'Auxiliar'!M22 | Y23: =CONCATENATE("'Auxiliar'!",Y$1,$U23) -> 'Auxiliar'!N22 | Z23: =CONCATENATE("'Auxiliar'!",Z$1,$U23) -> 'Auxiliar'!O22 | AA23: =CONCATENATE("'Auxiliar'!",AA$1,$U23) -> 'Auxiliar'!P22 | AB23: =CONCATENATE("'Auxiliar'!",AB$1,$U23) -> 'Auxiliar'!Q22 | AC23: 14
L24: RACING ARG - RoG | M24: =SUMIF($A$1:$A$780,L24,$F$1:$F$780)+SUMIF($C$1:$C$780,L24,$I$1:$I$780) -> 0 | N24: =SUMIF($A$1:$A$780,L24,$G$1:$G$780)+SUMIF($C$1:$C$780,L24,$J$1:$J$780) -> 0 | O24: =SUMIF($A$1:$A$780,L24,$H$1:$H$780)+SUMIF($C$1:$C$780,L24,$K$1:$K$780) -> 2 | P24: =SUMIF('Tabela da Primeira Fase'!$M$8:$M$753,L24,'Tabela da Primeira Fase'!$N$8:$N$753)+SUMIF('Tabela da Primeira Fase'!$Q$8:$Q$753,L24,'Tabela da Primeira Fase'!$P$8:$P$753) -> 0 | Q24: =SUMIF('Tabela da Primeira Fase'!$M$8:$M$753,L24,'Tabela da Primeira Fase'!$P$8:$P$753)+SUMIF('Tabela da Primeira Fase'!$Q$8:$Q$753,L24,'Tabela da Primeira Fase'!$N$8:$N$753) -> 3 | R24: =(1000000*((3*M24)+N24))+(10000*M24)+(100*(P24-Q24))+P24+(0.001*(30-T24)) -> -299.973 | S24: =RANK(R24,$R$22:$R$25) -> 3 | T24: 3 | U24: =IF($S$22=T24,22,0)+IF($S$23=T24,23,0)+IF($S$24=T24,24,0)+IF($S$25=T24,25,0) -> 24 | W24: =CONCATENATE("'Auxiliar'!",W$1,$U24) -> 'Auxiliar'!L24 | X24: =CONCATENATE("'Auxiliar'!",X$1,$U24) -> 'Auxiliar'!M24 | Y24: =CONCATENATE("'Auxiliar'!",Y$1,$U24) -> 'Auxiliar'!N24 | Z24: =CONCATENATE("'Auxiliar'!",Z$1,$U24) -> 'Auxiliar'!O24 | AA24: =CONCATENATE("'Auxiliar'!",AA$1,$U24) -> 'Auxiliar'!P24 | AB24: =CONCATENATE("'Auxiliar'!",AB$1,$U24) -> 'Auxiliar'!Q24 | AC24: 15
L27: CRUZEIRO - PC | M27: =SUMIF($A$1:$A$780,L27,$F$1:$F$780)+SUMIF($C$1:$C$780,L27,$I$1:$I$780) -> 1 | N27: =SUMIF($A$1:$A$780,L27,$G$1:$G$780)+SUMIF($C$1:$C$780,L27,$J$1:$J$780) -> 1 | O27: =SUMIF($A$1:$A$780,L27,$H$1:$H$780)+SUMIF($C$1:$C$780,L27,$K$1:$K$780) -> 0 | P27: =SUMIF('Tabela da Primeira Fase'!$M$8:$M$753,L27,'Tabela da Primeira Fase'!$N$8:$N$753)+SUMIF('Tabela da Primeira Fase'!$Q$8:$Q$753,L27,'Tabela da Primeira Fase'!$P$8:$P$753) -> 3 | Q27: =SUMIF('Tabela da Primeira Fase'!$M$8:$M$753,L27,'Tabela da Primeira Fase'!$P$8:$P$753)+SUMIF('Tabela da Primeira Fase'!$Q$8:$Q$753,L27,'Tabela da Primeira Fase'!$N$8:$N$753) -> 0 | R27: =(1000000*((3*M27)+N27))+(10000*M27)+(100*(P27-Q27))+P27+(0.001*(30-T27)) -> 4010303 | S27: =RANK(R27,$R$27:$R$30) -> 1 | T27: 1 | U27: =IF($S$27=T27,27,0)+IF($S$28=T27,28,0)+IF($S$29=T27,29,0)+IF($S$30=T27,30,0) -> 27 | W27: =CONCATENATE("'Auxiliar'!",W$1,$U27) -> 'Auxiliar'!L27 | X27: =CONCATENATE("'Auxiliar'!",X$1,$U27) -> 'Auxiliar'!M27 | Y27: =CONCATENATE("'Auxiliar'!",Y$1,$U27) -> 'Auxiliar'!N27 | Z27: =CONCATENATE("'Auxiliar'!",Z$1,$U27) -> 'Auxiliar'!O27 | AA27: =CONCATENATE("'Auxiliar'!",AA$1,$U27) -> 'Auxiliar'!P27 | AB27: =CONCATENATE("'Auxiliar'!",AB$1,$U27) -> 'Auxiliar'!Q27 | AC27: 16
L28: PALMEIRAS - Alc | M28: =SUMIF($A$1:$A$780,L28,$F$1:$F$780)+SUMIF($C$1:$C$780,L28,$I$1:$I$780) -> 1 | N28: =SUMIF($A$1:$A$780,L28,$G$1:$G$780)+SUMIF($C$1:$C$780,L28,$J$1:$J$780) -> 1 | O28: =SUMIF($A$1:$A$780,L28,$H$1:$H$780)+SUMIF($C$1:$C$780,L28,$K$1:$K$780) -> 0 | P28: =SUMIF('Tabela da Primeira Fase'!$M$8:$M$753,L28,'Tabela da Primeira Fase'!$N$8:$N$753)+SUMIF('Tabela da Primeira Fase'!$Q$8:$Q$753,L28,'Tabela da Primeira Fase'!$P$8:$P$753) -> 3 | Q28: =SUMIF('Tabela da Primeira Fase'!$M$8:$M$753,L28,'Tabela da Primeira Fase'!$P$8:$P$753)+SUMIF('Tabela da Primeira Fase'!$Q$8:$Q$753,L28,'Tabela da Primeira Fase'!$N$8:$N$753) -> 1 | R28: =(1000000*((3*M28)+N28))+(10000*M28)+(100*(P28-Q28))+P28+(0.001*(30-T28)) -> 4010203 | S28: =RANK(R28,$R$27:$R$30) -> 2 | T28: 2 | U28: =IF($S$27=T28,27,0)+IF($S$28=T28,28,0)+IF($S$29=T28,29,0)+IF($S$30=T28,30,0) -> 28 | W28: =CONCATENATE("'Auxiliar'!",W$1,$U28) -> 'Auxiliar'!L28 | X28: =CONCATENATE("'Auxiliar'!",X$1,$U28) -> 'Auxiliar'!M28 | Y28: =CONCATENATE("'Auxiliar'!",Y$1,$U28) -> 'Auxiliar'!N28 | Z28: =CONCATENATE("'Auxiliar'!",Z$1,$U28) -> 'Auxiliar'!O28 | AA28: =CONCATENATE("'Auxiliar'!",AA$1,$U28) -> 'Auxiliar'!P28 | AB28: =CONCATENATE("'Auxiliar'!",AB$1,$U28) -> 'Auxiliar'!Q28 | AC28: 17
L29: OLIMPIA PAR - Ama | M29: =SUMIF($A$1:$A$780,L29,$F$1:$F$780)+SUMIF($C$1:$C$780,L29,$I$1:$I$780) -> 0 | N29: =SUMIF($A$1:$A$780,L29,$G$1:$G$780)+SUMIF($C$1:$C$780,L29,$J$1:$J$780) -> 0 | O29: =SUMIF($A$1:$A$780,L29,$H$1:$H$780)+SUMIF($C$1:$C$780,L29,$K$1:$K$780) -> 2 | P29: =SUMIF('Tabela da Primeira Fase'!$M$8:$M$753,L29,'Tabela da Primeira Fase'!$N$8:$N$753)+SUMIF('Tabela da Primeira Fase'!$Q$8:$Q$753,L29,'Tabela da Primeira Fase'!$P$8:$P$753) -> 1 | Q29: =SUMIF('Tabela da Primeira Fase'!$M$8:$M$753,L29,'Tabela da Primeira Fase'!$P$8:$P$753)+SUMIF('Tabela da Primeira Fase'!$Q$8:$Q$753,L29,'Tabela da Primeira Fase'!$N$8:$N$753) -> 6 | R29: =(1000000*((3*M29)+N29))+(10000*M29)+(100*(P29-Q29))+P29+(0.001*(30-T29)) -> -498.973 | S29: =RANK(R29,$R$27:$R$30) -> 3 | T29: 3 | U29: =IF($S$27=T29,27,0)+IF($S$28=T29,28,0)+IF($S$29=T29,29,0)+IF($S$30=T29,30,0) -> 29 | W29: =CONCATENATE("'Auxiliar'!",W$1,$U29) -> 'Auxiliar'!L29 | X29: =CONCATENATE("'Auxiliar'!",X$1,$U29) -> 'Auxiliar'!M29 | Y29: =CONCATENATE("'Auxiliar'!",Y$1,$U29) -> 'Auxiliar'!N29 | Z29: =CONCATENATE("'Auxiliar'!",Z$1,$U29) -> 'Auxiliar'!O29 | AA29: =CONCATENATE("'Auxiliar'!",AA$1,$U29) -> 'Auxiliar'!P29 | AB29: =CONCATENATE("'Auxiliar'!",AB$1,$U29) -> 'Auxiliar'!Q29 | AC29: 18
L32: ÁRBITROS
K33: 1 | L33: ATLÉTICO MG - RoB
K34: 2 | L34: BOLIVAR BOL - AnB
K35: 3 | L35: VASCO DA GAMA - Pim
K36: 4 | L36: FLUMINENSE - Sim
K37: 5 | L37: FLAMENGO - Vas
K38: 6 | L38: COLO COLO CHI - Mal
K39: 7 | L39: NACIONAL URU - Ton
K40: 8 | L40: BOTAFOGO - JoR
K41: 9 | L41: NÁUTICO - Jea
K42: 10 | L42: GRÊMIO - MaF
K43: 11 | L43: THE STRONGEST BOL - Jun
K44: 12 | L44: BOCA JUNIORS ARG - Aéc
... K50: 18 | L50: OLIMPIA PAR - Ama

Sheet Tabela da Primeira Fase
A1: FEDERAÇÃO DE FUTEBOL DE MESA DO DISTRITO FEDERAL
A2: LIBERTADORES 2024
A3: Tabela da Primeira Fase
A5: DATA: | B5: 20.04.2024
A7: ROD | B7: M | C7: ARTILHEIROS | N7: JOGOS | R7: ARTILHEIROS | AB7: ÁRBITROS
A8: 1 | B8: 6 | M8: =Auxiliar!L4 -> VASCO DA GAMA - Pim | N8: 0 | O8: x | P8: 4 | Q8: =Auxiliar!L2 -> ATLÉTICO MG - RoB | AB8: =Auxiliar!L37 -> FLAMENGO - Vas
B9: 7 | M9: =Auxiliar!L9 -> COLO COLO CHI - Mal | N9: 1 | O9: x | P9: 3 | Q9: =Auxiliar!L7 -> FLUMINENSE - Sim | AB9: =Auxiliar!L40 -> BOTAFOGO - JoR
B10: 8 | M10: =Auxiliar!L14 -> NÁUTICO - Jea | N10: 0 | O10: x | P10: 5 | Q10: =Auxiliar!L12 -> NACIONAL URU - Ton | AB10: =Auxiliar!L43 -> THE STRONGEST BOL - Jun
B11: 9 | M11: =Auxiliar!L19 -> BOCA JUNIORS ARG - Aéc | N11: 0 | O11: x | P11: 3 | Q11: =Auxiliar!L17 -> GRÊMIO - MaF | AB11: =Auxiliar!L46 -> INTERNACIONAL - MaS
B12: 11 | M12: =Auxiliar!L24 -> RACING ARG - RoG | N12: 0 | O12: x | P12: 1 | Q12: =Auxiliar!L22 -> INDEPENDIENTE ARG - Mar | AB12: =Auxiliar!L49 -> PALMEIRAS - Alc
B13: 12 | M13: =Auxiliar!L29 -> OLIMPIA PAR - Ama | N13: 0 | O13: x | P13: 3 | Q13: =Auxiliar!L27 -> CRUZEIRO - PC | AB13: =Auxiliar!L34 -> BOLIVAR BOL - AnB
A14: 2 | B14: 6 | M14: =Auxiliar!L28 -> PALMEIRAS - Alc | N14: 3 | O14: x | P14: 1 | Q14: =Auxiliar!L29 -> OLIMPIA PAR - Ama | AB14: =Auxiliar!L36 -> FLUMINENSE - Sim
B15: 7 | M15: =Auxiliar!L3 -> BOLIVAR BOL - AnB | N15: 2 | O15: x | P15: 2 | Q15: =Auxiliar!L4 -> VASCO DA GAMA - Pim | AB15: =Auxiliar!L39 -> NACIONAL URU - Ton
B16: 8 | M16: =Auxiliar!L8 -> FLAMENGO - Vas | N16: 3 | O16: x | P16: 0 | Q16: =Auxiliar!L9 -> COLO COLO CHI - Mal | AB16: =Auxiliar!L42 -> GRÊMIO - MaF
B17: 9 | M17: =Auxiliar!L13 -> BOTAFOGO - JoR | N17: 2 | O17: x | P17: 0 | Q17: =Auxiliar!L14 -> NÁUTICO - Jea | AB17: =Auxiliar!L45 -> INDEPENDIENTE ARG - Mar
B18: 11 | M18: =Auxiliar!L18 -> THE STRONGEST BOL - Jun | N18: 0 | O18: x | P18: 0 | Q18: =Auxiliar!L19 -> BOCA JUNIORS ARG - Aéc | AB18: =Auxiliar!L48 -> CRUZEIRO - PC
B19: 12 | M19: =Auxiliar!L23 -> INTERNACIONAL - MaS | N19: 2 | O19: x | P19: 0 | Q19: =Auxiliar!L24 -> RACING ARG - RoG | AB19: =Auxiliar!L33 -> ATLÉTICO MG - RoB
A20: 3 | B20: 6 | M20: =Auxiliar!L22 -> INDEPENDIENTE ARG - Mar | N20: 1 | O20: x | P20: 1 | Q20: =Auxiliar!L23 -> INTERNACIONAL - MaS | AB20: =Auxiliar!L38 -> COLO COLO CHI - Mal
B21: 7 | M21: =Auxiliar!L27 -> CRUZEIRO - PC | N21: 0 | O21: x | P21: 0 | Q21: =Auxiliar!L28 -> PALMEIRAS - Alc | AB21: =Auxiliar!L41 -> NÁUTICO - Jea
B22: 8 | M22: =Auxiliar!L2 -> ATLÉTICO MG - RoB | N22: 0 | O22: x | P22: 5 | Q22: =Auxiliar!L3 -> BOLIVAR BOL - AnB | AB22: =Auxiliar!L44 -> BOCA JUNIORS ARG - Aéc
B23: 9 | M23: =Auxiliar!L7 -> FLUMINENSE - Sim | N23: 0 | O23: x | P23: 1 | Q23: =Auxiliar!L8 -> FLAMENGO - Vas | AB23: =Auxiliar!L47 -> RACING ARG - RoG
B24: 11 | M24: =Auxiliar!L12 -> NACIONAL URU - Ton | N24: 0 | O24: x | P24: 0 | Q24: =Auxiliar!L13 -> BOTAFOGO - JoR | AB24: =Auxiliar!L50 -> OLIMPIA PAR - Ama
B25: 12 | M25: =Auxiliar!L17 -> GRÊMIO - MaF | N25: 2 | O25: x | P25: 0 | Q25: =Auxiliar!L18 -> THE STRONGEST BOL - Jun | AB25: =Auxiliar!L35 -> VASCO DA GAMA - Pim
P26: =IF(R26="","",IF(R26=0,0,COUNT(R26:AA26)))

Sheet Classif Prim Fase
A1: ='Tabela da Primeira Fase'!A1:AB1 -> FEDERAÇÃO DE FUTEBOL DE MESA DO DISTRITO FEDERAL
A2: ='Tabela da Primeira Fase'!A2:AB2 -> LIBERTADORES 2024
A3: CLASSIFICAÇÃO FINAL DA PRIMEIRA FASE
A5: GRUPO | B5: CF | C5: TIMES | D5: J | E5: V | F5: E | G5: D | H5: GF | I5: GC | J5: SG | K5: PG | L5: Aprov.
A6: A | B6: 1º | C6: =INDIRECT(Auxiliar!W2) -> BOLIVAR BOL - AnB | D6: =E6+F6+G6 -> 2 | E6: =INDIRECT(Auxiliar!X2) -> 1 | F6: =INDIRECT(Auxiliar!Y2) -> 1 | G6: =INDIRECT(Auxiliar!Z2) -> 0 | H6: =INDIRECT(Auxiliar!AA2) -> 7 | I6: =INDIRECT(Auxiliar!AB2) -> 2 | J6: =H6-I6 -> 5 | K6: =(3*E6)+F6 -> 4 | L6: =IF(ISERR((K6/(D6*3))),0,((K6/(D6*3)))) -> 0.66666667
B7: 2º | C7: =INDIRECT(Auxiliar!W3) -> ATLÉTICO MG - RoB | D7: =E7+F7+G7 -> 2 | E7: =INDIRECT(Auxiliar!X3) -> 1 | F7: =INDIRECT(Auxiliar!Y3) -> 0 | G7: =INDIRECT(Auxiliar!Z3) -> 1 | H7: =INDIRECT(Auxiliar!AA3) -> 4 | I7: =INDIRECT(Auxiliar!AB3) -> 5 | J7: =H7-I7 -> -1 | K7: =(3*E7)+F7 -> 3 | L7: =IF(ISERR((K7/(D7*3))),0,((K7/(D7*3)))) -> 0.5
B8: 3º | C8: =INDIRECT(Auxiliar!W4) -> VASCO DA GAMA - Pim | D8: =E8+F8+G8 -> 2 | E8: =INDIRECT(Auxiliar!X4) -> 0 | F8: =INDIRECT(Auxiliar!Y4) -> 1 | G8: =INDIRECT(Auxiliar!Z4) -> 1 | H8: =INDIRECT(Auxiliar!AA4) -> 2 | I8: =INDIRECT(Auxiliar!AB4) -> 6 | J8: =H8-I8 -> -4 | K8: =(3*E8)+F8 -> 1 | L8: =IF(ISERR((K8/(D8*3))),0,((K8/(D8*3)))) -> 0.16666667
A10: GRUPO | B10: CF | C10: TIMES | D10: J | E10: V | F10: E | G10: D | H10: GF | I10: GC | J10: SG | K10: PG | L10: Aprov.
A11: B | B11: 1º | C11: =INDIRECT(Auxiliar!W7) -> FLAMENGO - Vas | D11: =E11+F11+G11 -> 2 | E11: =INDIRECT(Auxiliar!X7) -> 2 | F11: =INDIRECT(Auxiliar!Y7) -> 0 | G11: =INDIRECT(Auxiliar!Z7) -> 0 | H11: =INDIRECT(Auxiliar!AA7) -> 4 | I11: =INDIRECT(Auxiliar!AB7) -> 0 | J11: =H11-I11 -> 4 | K11: =(3*E11)+F11 -> 6 | L11: =IF(ISERR((K11/(D11*3))),0,((K11/(D11*3)))) -> 1
B12: 2º | C12: =INDIRECT(Auxiliar!W8) -> FLUMINENSE - Sim | D12: =E12+F12+G12 -> 2 | E12: =INDIRECT(Auxiliar!X8) -> 1 | F12: =INDIRECT(Auxiliar!Y8) -> 0 | G12: =INDIRECT(Auxiliar!Z8) -> 1 | H12: =INDIRECT(Auxiliar!AA8) -> 3 | I12: =INDIRECT(Auxiliar!AB8) -> 2 | J12: =H12-I12 -> 1 | K12: =(3*E12)+F12 -> 3 | L12: =IF(ISERR((K12/(D12*3))),0,((K12/(D12*3)))) -> 0.5
B13: 3º | C13: =INDIRECT(Auxiliar!W9) -> COLO COLO CHI - Mal | D13: =E13+F13+G13 -> 2 | E13: =INDIRECT(Auxiliar!X9) -> 0 | F13: =INDIRECT(Auxiliar!Y9) -> 0 | G13: =INDIRECT(Auxiliar!Z9) -> 2 | H13: =INDIRECT(Auxiliar!AA9) -> 1 | I13: =INDIRECT(Auxiliar!AB9) -> 6 | J13: =H13-I13 -> -5 | K13: =(3*E13)+F13 -> 0 | L13: =IF(ISERR((K13/(D13*3))),0,((K13/(D13*3)))) -> 0
A15: GRUPO | B15: CF | C15: TIMES | D15: J | E15: V | F15: E | G15: D | H15: GF | I15: GC | J15: SG | K15: PG | L15: Aprov.
A16: C | B16: 1º | C16: =INDIRECT(Auxiliar!W12) -> NACIONAL URU - Ton | D16: =E16+F16+G16 -> 2 | E16: =INDIRECT(Auxiliar!X12) -> 1 | F16: =INDIRECT(Auxiliar!Y12) -> 1 | G16: =INDIRECT(Auxiliar!Z12) -> 0 | H16: =INDIRECT(Auxiliar!AA12) -> 5 | I16: =INDIRECT(Auxiliar!AB12) -> 0 | J16: =H16-I16 -> 5 | K16: =(3*E16)+F16 -> 4 | L16: =IF(ISERR((K16/(D16*3))),0,((K16/(D16*3)))) -> 0.66666667
B17: 2º | C17: =INDIRECT(Auxiliar!W13) -> BOTAFOGO - JoR | D17: =E17+F17+G17 -> 2 | E17: =INDIRECT(Auxiliar!X13) -> 1 | F17: =INDIRECT(Auxiliar!Y13) -> 1 | G17: =INDIRECT(Auxiliar!Z13) -> 0 | H17: =INDIRECT(Auxiliar!AA13) -> 2 | I17: =INDIRECT(Auxiliar!AB13) -> 0 | J17: =H17-I17 -> 2 | K17: =(3*E17)+F17 -> 4 | L17: =IF(ISERR((K17/(D17*3))),0,((K17/(D17*3)))) -> 0.66666667
B18: 3º | C18: =INDIRECT(Auxiliar!W14) -> NÁUTICO - Jea | D18: =E18+F18+G18 -> 2 | E18: =INDIRECT(Auxiliar!X14) -> 0 | F18: =INDIRECT(Auxiliar!Y14) -> 0 | G18: =INDIRECT(Auxiliar!Z14) -> 2 | H18: =INDIRECT(Auxiliar!AA14) -> 0 | I18: =INDIRECT(Auxiliar!AB14) -> 7 | J18: =H18-I18 -> -7 | K18: =(3*E18)+F18 -> 0 | L18: =IF(ISERR((K18/(D18*3))),0,((K18/(D18*3)))) -> 0
A20: GRUPO | B20: CF | C20: TIMES | D20: J | E20: V | F20: E | G20: D | H20: GF | I20: GC | J20: SG | K20: PG | L20: Aprov.
A21: D | B21: 1º | C21: =INDIRECT(Auxiliar!W17) -> GRÊMIO - MaF | D21: =E21+F21+G21 -> 2 | E21: =INDIRECT(Auxiliar!X17) -> 2 | F21: =INDIRECT(Auxiliar!Y17) -> 0 | G21: =INDIRECT(Auxiliar!Z17) -> 0 | H21: =INDIRECT(Auxiliar!AA17) -> 5 | I21: =INDIRECT(Auxiliar!AB17) -> 0 | J21: =H21-I21 -> 5 | K21: =(3*E21)+F21 -> 6 | L21: =IF(ISERR((K21/(D21*3))),0,((K21/(D21*3)))) -> 1
B22: 2º | C22: =INDIRECT(Auxiliar!W18) -> THE STRONGEST BOL - Jun | D22: =E22+F22+G22 -> 2 | E22: =INDIRECT(Auxiliar!X18) -> 0 | F22: =INDIRECT(Auxiliar!Y18) -> 1 | G22: =INDIRECT(Auxiliar!Z18) -> 1 | H22: =INDIRECT(Auxiliar!AA18) -> 0 | I22: =INDIRECT(Auxiliar!AB18) -> 2 | J22: =H22-I22 -> -2 | K22: =(3*E22)+F22 -> 1 | L22: =IF(ISERR((K22/(D22*3))),0,((K22/(D22*3)))) -> 0.16666667
B23: 3º | C23: =INDIRECT(Auxiliar!W19) -> BOCA JUNIORS ARG - Aéc | D23: =E23+F23+G23 -> 2 | E23: =INDIRECT(Auxiliar!X19) -> 0 | F23: =INDIRECT(Auxiliar!Y19) -> 1 | G23: =INDIRECT(Auxiliar!Z19) -> 1 | H23: =INDIRECT(Auxiliar!AA19) -> 0 | I23: =INDIRECT(Auxiliar!AB19) -> 3 | J23: =H23-I23 -> -3 | K23: =(3*E23)+F23 -> 1 | L23: =IF(ISERR((K23/(D23*3))),0,((K23/(D23*3)))) -> 0.16666667
A25: GRUPO | B25: CF | C25: TIMES | D25: J | E25: V | F25: E | G25: D | H25: GF | I25: GC | J25: SG | K25: PG | L25: Aprov.
A26: E | B26: 1º | C26: =INDIRECT(Auxiliar!W22) -> INTERNACIONAL - MaS | D26: =E26+F26+G26 -> 2 | E26: =INDIRECT(Auxiliar!X22) -> 1 | F26: =INDIRECT(Auxiliar!Y22) -> 1 | G26: =INDIRECT(Auxiliar!Z22) -> 0 | H26: =INDIRECT(Auxiliar!AA22) -> 3 | I26: =INDIRECT(Auxiliar!AB22) -> 1 | J26: =H26-I26 -> 2 | K26: =(3*E26)+F26 -> 4 | L26: =IF(ISERR((K26/(D26*3))),0,((K26/(D26*3)))) -> 0.66666667
B27: 2º | C27: =INDIRECT(Auxiliar!W23) -> INDEPENDIENTE ARG - Mar | D27: =E27+F27+G27 -> 2 | E27: =INDIRECT(Auxiliar!X23) -> 1 | F27: =INDIRECT(Auxiliar!Y23) -> 1 | G27: =INDIRECT(Auxiliar!Z23) -> 0 | H27: =INDIRECT(Auxiliar!AA23) -> 2 | I27: =INDIRECT(Auxiliar!AB23) -> 1 | J27: =H27-I27 -> 1 | K27: =(3*E27)+F27 -> 4 | L27: =IF(ISERR((K27/(D27*3))),0,((K27/(D27*3)))) -> 0.66666667
B28: 3º | C28: =INDIRECT(Auxiliar!W24) -> RACING ARG - RoG | D28: =E28+F28+G28 -> 2 | E28: =INDIRECT(Auxiliar!X24) -> 0 | F28: =INDIRECT(Auxiliar!Y24) -> 0 | G28: =INDIRECT(Auxiliar!Z24) -> 2 | H28: =INDIRECT(Auxiliar!AA24) -> 0 | I28: =INDIRECT(Auxiliar!AB24) -> 3 | J28: =H28-I28 -> -3 | K28: =(3*E28)+F28 -> 0 | L28: =IF(ISERR((K28/(D28*3))),0,((K28/(D28*3)))) -> 0
A30: GRUPO | B30: CF | C30: TIMES | D30: J | E30: V | F30: E | G30: D | H30: GF | I30: GC | J30: SG | K30: PG | L30: Aprov.
A31: F | B31: 1º | C31: =INDIRECT(Auxiliar!W27) -> CRUZEIRO - PC | D31: =E31+F31+G31 -> 2 | E31: =INDIRECT(Auxiliar!X27) -> 1 | F31: =INDIRECT(Auxiliar!Y27) -> 1 | G31: =INDIRECT(Auxiliar!Z27) -> 0 | H31: =INDIRECT(Auxiliar!AA27) -> 3 | I31: =INDIRECT(Auxiliar!AB27) -> 0 | J31: =H31-I31 -> 3 | K31: =(3*E31)+F31 -> 4 | L31: =IF(ISERR((K31/(D31*3))),0,((K31/(D31*3)))) -> 0.66666667
B32: 2º | C32: =INDIRECT(Auxiliar!W28) -> PALMEIRAS - Alc | D32: =E32+F32+G32 -> 2 | E32: =INDIRECT(Auxiliar!X28) -> 1 | F32: =INDIRECT(Auxiliar!Y28) -> 1 | G32: =INDIRECT(Auxiliar!Z28) -> 0 | H32: =INDIRECT(Auxiliar!AA28) -> 3 | I32: =INDIRECT(Auxiliar!AB28) -> 1 | J32: =H32-I32 -> 2 | K32: =(3*E32)+F32 -> 4 | L32: =IF(ISERR((K32/(D32*3))),0,((K32/(D32*3)))) -> 0.66666667
B33: 3º | C33: =INDIRECT(Auxiliar!W29) -> OLIMPIA PAR - Ama | D33: =E33+F33+G33 -> 2 | E33: =INDIRECT(Auxiliar!X29) -> 0 | F33: =INDIRECT(Auxiliar!Y29) -> 0 | G33: =INDIRECT(Auxiliar!Z29) -> 2 | H33: =INDIRECT(Auxiliar!AA29) -> 1 | I33: =INDIRECT(Auxiliar!AB29) -> 6 | J33: =H33-I33 -> -5 | K33: =(3*E33)+F33 -> 0 | L33: =IF(ISERR((K33/(D33*3))),0,((K33/(D33*3)))) -> 0

Sheet Auxiliar (2)
A1: ='Tabela da Segunda Fase'!M8 -> BOTAFOGO - JoR | B1: =IF('Tabela da Segunda Fase'!N8<'Tabela da Segunda Fase'!P8,0,IF('Tabela da Segunda Fase'!N8='Tabela da Segunda Fase'!P8,1,IF('Tabela da Segunda Fase'!N8>'Tabela da Segunda Fase'!P8,2))) -> 1 | C1: ='Tabela da Segunda Fase'!Q8 -> BOLIVAR BOL - AnB | D1: =IF('Tabela da Segunda Fase'!N8>'Tabela da Segunda Fase'!P8,0,IF('Tabela da Segunda Fase'!N8='Tabela da Segunda Fase'!P8,1,IF('Tabela da Segunda Fase'!N8<'Tabela da Segunda Fase'!P8,2))) -> 1 | E1: =IF(ISNUMBER('Tabela da Segunda Fase'!N8),1,0) -> 1 | F1: =IF(B1*E1=2,1,0) -> 0 | G1: =IF(B1*E1=1,1,0) -> 1 | H1: =IF(B1=0,IF(E1=1,1,0),0) -> 0 | I1: =IF(E1*D1=2,1,0) -> 0 | J1: =IF(E1*D1=1,1,0) -> 1 | K1: =IF(D1=0,IF(E1=1,1,0),0) -> 0 | L1: SELEÇÕES | M1: V | N1: E | O1: D | P1: GP | Q1: GC | W1: L | X1: M | Y1: N | Z1: O | AA1: P | AB1: Q | AX1: GRUPOS DA SEGUNDA FASE
A2: ='Tabela da Segunda Fase'!M9 -> THE STRONGEST BOL - Jun | B2: =IF('Tabela da Segunda Fase'!N9<'Tabela da Segunda Fase'!P9,0,IF('Tabela da Segunda Fase'!N9='Tabela da Segunda Fase'!P9,1,IF('Tabela da Segunda Fase'!N9>'Tabela da Segunda Fase'!P9,2))) -> 0 | C2: ='Tabela da Segunda Fase'!Q9 -> FLAMENGO - Vas | D2: =IF('Tabela da Segunda Fase'!N9>'Tabela da Segunda Fase'!P9,0,IF('Tabela da Segunda Fase'!N9='Tabela da Segunda Fase'!P9,1,IF('Tabela da Segunda Fase'!N9<'Tabela da Segunda Fase'!P9,2))) -> 2 | E2: =IF(ISNUMBER('Tabela da Segunda Fase'!N9),1,0) -> 1 | F2: =IF(B2*E2=2,1,0) -> 0 | G2: =IF(B2*E2=1,1,0) -> 0 | H2: =IF(B2=0,IF(E2=1,1,0),0) -> 1 | I2: =IF(E2*D2=2,1,0) -> 1 | J2: =IF(E2*D2=1,1,0) -> 0 | K2: =IF(D2=0,IF(E2=1,1,0),0) -> 0 | L2: ='Classif Prim Fase'!C6 -> BOLIVAR BOL - AnB | M2: =SUMIF($A$1:$A$18,L2,$F$1:$F$18)+SUMIF($C$1:$C$18,L2,$I$1:$I$18) -> 0 | N2: =SUMIF($A$1:$A$18,L2,$G$1:$G$18)+SUMIF($C$1:$C$18,L2,$J$1:$J$18) -> 1 | O2: =SUMIF($A$1:$A$18,L2,$H$1:$H$18)+SUMIF($C$1:$C$18,L2,$K$1:$K$18) -> 1 | P2: =SUMIF('Tabela da Segunda Fase'!$M$8:$M$25,L2,'Tabela da Segunda Fase'!$N$8:$N$25)+SUMIF('Tabela da Segunda Fase'!$Q$8:$Q$25,L2,'Tabela da Segunda Fase'!$P$8:$P$25) -> 1 | Q2: =SUMIF('Tabela da Segunda Fase'!$M$8:$M$25,L2,'Tabela da Segunda Fase'!$P$8:$P$25)+SUMIF('Tabela da Segunda Fase'!$Q$8:$Q$25,L2,'Tabela da Segunda Fase'!$N$8:$N$25) -> 4 | R2: =(1000000*((3*M2)+N2))+(10000*M2)+(100*(P2-Q2))+P2+(0.001*(30-T2)) -> 999701.03 | S2: =RANK(R2,$R$2:$R$4) -> 3 | T2: 1 | U2: =IF($S$2=T2,2,0)+IF($S$3=T2,3,0)+IF($S$4=T2,4,0) -> 4 | W2: =CONCATENATE("'Auxiliar (2)'!",W$1,$U2) -> 'Auxiliar (2)'!L4 | X2: =CONCATENATE("'Auxiliar (2)'!",X$1,$U2) -> 'Auxiliar (2)'!M4 | Y2: =CONCATENATE("'Auxiliar (2)'!",Y$1,$U2) -> 'Auxiliar (2)'!N4 | Z2: =CONCATENATE("'Auxiliar (2)'!",Z$1,$U2) -> 'Auxiliar (2)'!O4 | AA2: =CONCATENATE("'Auxiliar (2)'!",AA$1,$U2) -> 'Auxiliar (2)'!P4 | AB2: =CONCATENATE("'Auxiliar (2)'!",AB$1,$U2) -> 'Auxiliar (2)'!Q4 | AC2: OURO | AD2: 1A | AE2: 1B | AF2: 1C | AG2: 1D | AI2: 3A | AJ2: 3B | AX2: H | AY2: I | AZ2: J | BA2: K
A3: ='Tabela da Segunda Fase'!M10 -> ATLÉTICO MG - RoB | B3: =IF('Tabela da Segunda Fase'!N10<'Tabela da Segunda Fase'!P10,0,IF('Tabela da Segunda Fase'!N10='Tabela da Segunda Fase'!P10,1,IF('Tabela da Segunda Fase'!N10>'Tabela da Segunda Fase'!P10,2))) -> 0 | C3: ='Tabela da Segunda Fase'!Q10 -> NACIONAL URU - Ton | D3: =IF('Tabela da Segunda Fase'!N10>'Tabela da Segunda Fase'!P10,0,IF('Tabela da Segunda Fase'!N10='Tabela da Segunda Fase'!P10,1,IF('Tabela da Segunda Fase'!N10<'Tabela da Segunda Fase'!P10,2))) -> 2 | E3: =IF(ISNUMBER('Tabela da Segunda Fase'!N10),1,0) -> 1 | F3: =IF(B3*E3=2,1,0) -> 0 | G3: =IF(B3*E3=1,1,0) -> 0 | H3: =IF(B3=0,IF(E3=1,1,0),0) -> 1 | I3: =IF(E3*D3=2,1,0) -> 1 | J3: =IF(E3*D3=1,1,0) -> 0 | K3: =IF(D3=0,IF(E3=1,1,0),0) -> 0 | L3: ='Classif Prim Fase'!C32 -> PALMEIRAS - Alc | M3: =SUMIF($A$1:$A$18,L3,$F$1:$F$18)+SUMIF($C$1:$C$18,L3,$I$1:$I$18) -> 1 | N3: =SUMIF($A$1:$A$18,L3,$G$1:$G$18)+SUMIF($C$1:$C$18,L3,$J$1:$J$18) -> 0 | O3: =SUMIF($A$1:$A$18,L3,$H$1:$H$18)+SUMIF($C$1:$C$18,L3,$K$1:$K$18) -> 1 | P3: =SUMIF('Tabela da Segunda Fase'!$M$8:$M$25,L3,'Tabela da Segunda Fase'!$N$8:$N$25)+SUMIF('Tabela da Segunda Fase'!$Q$8:$Q$25,L3,'Tabela da Segunda Fase'!$P$8:$P$25) -> 3 | Q3: =SUMIF('Tabela da Segunda Fase'!$M$8:$M$25,L3,'Tabela da Segunda Fase'!$P$8:$P$25)+SUMIF('Tabela da Segunda Fase'!$Q$8:$Q$25,L3,'Tabela da Segunda Fase'!$N$8:$N$25) -> 2 | R3: =(1000000*((3*M3)+N3))+(10000*M3)+(100*(P3-Q3))+P3+(0.001*(30-T3)) -> 3010103 | S3: =RANK(R3,$R$2:$R$4) -> 2 | T3: 2 | U3: =IF($S$2=T3,2,0)+IF($S$3=T3,3,0)+IF($S$4=T3,4,0) -> 3 | W3: =CONCATENATE("'Auxiliar (2)'!",W$1,$U3) -> 'Auxiliar (2)'!L3 | X3: =CONCATENATE("'Auxiliar (2)'!",X$1,$U3) -> 'Auxiliar (2)'!M3 | Y3: =CONCATENATE("'Auxiliar (2)'!",Y$1,$U3) -> 'Auxiliar (2)'!N3 | Z3: =CONCATENATE("'Auxiliar (2)'!",Z$1,$U3) -> 'Auxiliar (2)'!O3 | AA3: =CONCATENATE("'Auxiliar (2)'!",AA$1,$U3) -> 'Auxiliar (2)'!P3 | AB3: =CONCATENATE("'Auxiliar (2)'!",AB$1,$U3) -> 'Auxiliar (2)'!Q3 | AD3: 2F | AE3: 2E | AF3: 1F | AG3: 1E | AI3: 3D | AJ3: 3C | AX3: 1º A | AY3: 1º B | AZ3: 1º C | BA3: 1º D
A4: ='Tabela da Segunda Fase'!M11 -> FLUMINENSE - Sim | B4: =IF('Tabela da Segunda Fase'!N11<'Tabela da Segunda Fase'!P11,0,IF('Tabela da Segunda Fase'!N11='Tabela da Segunda Fase'!P11,1,IF('Tabela da Segunda Fase'!N11>'Tabela da Segunda Fase'!P11,2))) -> 0 | C4: ='Tabela da Segunda Fase'!Q11 -> GRÊMIO - MaF | D4: =IF('Tabela da Segunda Fase'!N11>'Tabela da Segunda Fase'!P11,0,IF('Tabela da Segunda Fase'!N11='Tabela da Segunda Fase'!P11,1,IF('Tabela da Segunda Fase'!N11<'Tabela da Segunda Fase'!P11,2))) -> 2 | E4: =IF(ISNUMBER('Tabela da Segunda Fase'!N11),1,0) -> 1 | F4: =IF(B4*E4=2,1,0) -> 0 | G4: =IF(B4*E4=1,1,0) -> 0 | H4: =IF(B4=0,IF(E4=1,1,0),0) -> 1 | I4: =IF(E4*D4=2,1,0) -> 1 | J4: =IF(E4*D4=1,1,0) -> 0 | K4: =IF(D4=0,IF(E4=1,1,0),0) -> 0 | L4: ='Classif Prim Fase'!C17 -> BOTAFOGO - JoR | M4: =SUMIF($A$1:$A$18,L4,$F$1:$F$18)+SUMIF($C$1:$C$18,L4,$I$1:$I$18) -> 1 | N4: =SUMIF($A$1:$A$18,L4,$G$1:$G$18)+SUMIF($C$1:$C$18,L4,$J$1:$J$18) -> 1 | O4: =SUMIF($A$1:$A$18,L4,$H$1:$H$18)+SUMIF($C$1:$C$18,L4,$K$1:$K$18) -> 0 | P4: =SUMIF('Tabela da Segunda Fase'!$M$8:$M$25,L4,'Tabela da Segunda Fase'!$N$8:$N$25)+SUMIF('Tabela da Segunda Fase'!$Q$8:$Q$25,L4,'Tabela da Segunda Fase'!$P$8:$P$25) -> 3 | Q4: =SUMIF('Tabela da Segunda Fase'!$M$8:$M$25,L4,'Tabela da Segunda Fase'!$P$8:$P$25)+SUMIF('Tabela da Segunda Fase'!$Q$8:$Q$25,L4,'Tabela da Segunda Fase'!$N$8:$N$25) -> 1 | R4: =(1000000*((3*M4)+N4))+(10000*M4)+(100*(P4-Q4))+P4+(0.001*(30-T4)) -> 4010203 | S4: =RANK(R4,$R$2:$R$4) -> 1 | T4: 3 | U4: =IF($S$2=T4,2,0)+IF($S$3=T4,3,0)+IF($S$4=T4,4,0) -> 2 | W4: =CONCATENATE("'Auxiliar (2)'!",W$1,$U4) -> 'Auxiliar (2)'!L2 | X4: =CONCATENATE("'Auxiliar (2)'!",X$1,$U4) -> 'Auxiliar (2)'!M2 | Y4: =CONCATENATE("'Auxiliar (2)'!",Y$1,$U4) -> 'Auxiliar (2)'!N2 | Z4: =CONCATENATE("'Auxiliar (2)'!",Z$1,$U4) -> 'Auxiliar (2)'!O2 | AA4: =CONCATENATE("'Auxiliar (2)'!",AA$1,$U4) -> 'Auxiliar (2)'!P2 | AB4: =CONCATENATE("'Auxiliar (2)'!",AB$1,$U4) -> 'Auxiliar (2)'!Q2 | AD4: 2C | AE4: 2D | AF4: 2A | AG4: 2B | AI4: 3E | AJ4: 3F | AX4: 1º mel. 2º | AY4: 1º G | AZ4: 1º F | BA4: 1º E
A5: ='Tabela da Segunda Fase'!M12 -> RACING ARG - RoG | B5: =IF('Tabela da Segunda Fase'!N12<'Tabela da Segunda Fase'!P12,0,IF('Tabela da Segunda Fase'!N12='Tabela da Segunda Fase'!P12,1,IF('Tabela da Segunda Fase'!N12>'Tabela da Segunda Fase'!P12,2))) -> 1 | C5: ='Tabela da Segunda Fase'!Q12 -> VASCO DA GAMA - Pim | D5: =IF('Tabela da Segunda Fase'!N12>'Tabela da Segunda Fase'!P12,0,IF('Tabela da Segunda Fase'!N12='Tabela da Segunda Fase'!P12,1,IF('Tabela da Segunda Fase'!N12<'Tabela da Segunda Fase'!P12,2))) -> 1 | E5: =IF(ISNUMBER('Tabela da Segunda Fase'!N12),1,0) -> 1 | F5: =IF(B5*E5=2,1,0) -> 0 | G5: =IF(B5*E5=1,1,0) -> 1 | H5: =IF(B5=0,IF(E5=1,1,0),0) -> 0 | I5: =IF(E5*D5=2,1,0) -> 0 | J5: =IF(E5*D5=1,1,0) -> 1 | K5: =IF(D5=0,IF(E5=1,1,0),0) -> 0 | AX5: 2º mel. 2º | AY5: 3º mel. 2º | AZ5: 4º mel. 2º | BA5: 5º mel. 2º
A6: ='Tabela da Segunda Fase'!M13 -> OLIMPIA PAR - Ama | B6: =IF('Tabela da Segunda Fase'!N13<'Tabela da Segunda Fase'!P13,0,IF('Tabela da Segunda Fase'!N13='Tabela da Segunda Fase'!P13,1,IF('Tabela da Segunda Fase'!N13>'Tabela da Segunda Fase'!P13,2))) -> 2 | C6: ='Tabela da Segunda Fase'!Q13 -> COLO COLO CHI - Mal | D6: =IF('Tabela da Segunda Fase'!N13>'Tabela da Segunda Fase'!P13,0,IF('Tabela da Segunda Fase'!N13='Tabela da Segunda Fase'!P13,1,IF('Tabela da Segunda Fase'!N13<'Tabela da Segunda Fase'!P13,2))) -> 0 | E6: =IF(ISNUMBER('Tabela da Segunda Fase'!N13),1,0) -> 1 | F6: =IF(B6*E6=2,1,0) -> 1 | G6: =IF(B6*E6=1,1,0) -> 0 | H6: =IF(B6=0,IF(E6=1,1,0),0) -> 0 | I6: =IF(E6*D6=2,1,0) -> 0 | J6: =IF(E6*D6=1,1,0) -> 0 | K6: =IF(D6=0,IF(E6=1,1,0),0) -> 1 | L6: ='Classif Prim Fase'!C11 -> FLAMENGO - Vas | M6: =SUMIF($A$1:$A$18,L6,$F$1:$F$18)+SUMIF($C$1:$C$18,L6,$I$1:$I$18) -> 2 | N6: =SUMIF($A$1:$A$18,L6,$G$1:$G$18)+SUMIF($C$1:$C$18,L6,$J$1:$J$18) -> 0 | O6: =SUMIF($A$1:$A$18,L6,$H$1:$H$18)+SUMIF($C$1:$C$18,L6,$K$1:$K$18) -> 0 | P6: =SUMIF('Tabela da Segunda Fase'!$M$8:$M$25,L6,'Tabela da Segunda Fase'!$N$8:$N$25)+SUMIF('Tabela da Segunda Fase'!$Q$8:$Q$25,L6,'Tabela da Segunda Fase'!$P$8:$P$25) -> 4 | Q6: =SUMIF('Tabela da Segunda Fase'!$M$8:$M$25,L6,'Tabela da Segunda Fase'!$P$8:$P$25)+SUMIF('Tabela da Segunda Fase'!$Q$8:$Q$25,L6,'Tabela da Segunda Fase'!$N$8:$N$25) -> 0 | R6: =(1000000*((3*M6)+N6))+(10000*M6)+(100*(P6-Q6))+P6+(0.001*(30-T6)) -> 6020404 | S6: =RANK(R6,$R$6:$R$8) -> 1 | T6: 1 | U6: =IF($S$6=T6,6,0)+IF($S$7=T6,7,0)+IF($S$8=T6,8,0) -> 6 | W6: =CONCATENATE("'Auxiliar (2)'!",W$1,$U6) -> 'Auxiliar (2)'!L6 | X6: =CONCATENATE("'Auxiliar (2)'!",X$1,$U6) -> 'Auxiliar (2)'!M6 | Y6: =CONCATENATE("'Auxiliar (2)'!",Y$1,$U6) -> 'Auxiliar (2)'!N6 | Z6: =CONCATENATE("'Auxiliar (2)'!",Z$1,$U6) -> 'Auxiliar (2)'!O6 | AA6: =CONCATENATE("'Auxiliar (2)'!",AA$1,$U6) -> 'Auxiliar (2)'!P6 | AB6: =CONCATENATE("'Auxiliar (2)'!",AB$1,$U6) -> 'Auxiliar (2)'!Q6
A7: ='Tabela da Segunda Fase'!M14 -> PALMEIRAS - Alc | B7: =IF('Tabela da Segunda Fase'!N14<'Tabela da Segunda Fase'!P14,0,IF('Tabela da Segunda Fase'!N14='Tabela da Segunda Fase'!P14,1,IF('Tabela da Segunda Fase'!N14>'Tabela da Segunda Fase'!P14,2))) -> 0 | C7: ='Tabela da Segunda Fase'!Q14 -> BOTAFOGO - JoR | D7: =IF('Tabela da Segunda Fase'!N14>'Tabela da Segunda Fase'!P14,0,IF('Tabela da Segunda Fase'!N14='Tabela da Segunda Fase'!P14,1,IF('Tabela da Segunda Fase'!N14<'Tabela da Segunda Fase'!P14,2))) -> 2 | E7: =IF(ISNUMBER('Tabela da Segunda Fase'!N14),1,0) -> 1 | F7: =IF(B7*E7=2,1,0) -> 0 | G7: =IF(B7*E7=1,1,0) -> 0 | H7: =IF(B7=0,IF(E7=1,1,0),0) -> 1 | I7: =IF(E7*D7=2,1,0) -> 1 | J7: =IF(E7*D7=1,1,0) -> 0 | K7: =IF(D7=0,IF(E7=1,1,0),0) -> 0 | L7: ='Classif Prim Fase'!C27 -> INDEPENDIENTE ARG - Mar | M7: =SUMIF($A$1:$A$18,L7,$F$1:$F$18)+SUMIF($C$1:$C$18,L7,$I$1:$I$18) -> 0 | N7: =SUMIF($A$1:$A$18,L7,$G$1:$G$18)+SUMIF($C$1:$C$18,L7,$J$1:$J$18) -> 0 | O7: =SUMIF($A$1:$A$18,L7,$H$1:$H$18)+SUMIF($C$1:$C$18,L7,$K$1:$K$18) -> 2 | P7: =SUMIF('Tabela da Segunda Fase'!$M$8:$M$25,L7,'Tabela da Segunda Fase'!$N$8:$N$25)+SUMIF('Tabela da Segunda Fase'!$Q$8:$Q$25,L7,'Tabela da Segunda Fase'!$P$8:$P$25) -> 0 | Q7: =SUMIF('Tabela da Segunda Fase'!$M$8:$M$25,L7,'Tabela da Segunda Fase'!$P$8:$P$25)+SUMIF('Tabela da Segunda Fase'!$Q$8:$Q$25,L7,'Tabela da Segunda Fase'!$N$8:$N$25) -> 5 | R7: =(1000000*((3*M7)+N7))+(10000*M7)+(100*(P7-Q7))+P7+(0.001*(30-T7)) -> -499.972 | S7: =RANK(R7,$R$6:$R$8) -> 3 | T7: 2 | U7: =IF($S$6=T7,6,0)+IF($S$7=T7,7,0)+IF($S$8=T7,8,0) -> 8 | W7: =CONCATENATE("'Auxiliar (2)'!",W$1,$U7) -> 'Auxiliar (2)'!L8 | X7: =CONCATENATE("'Auxiliar (2)'!",X$1,$U7) -> 'Auxiliar (2)'!M8 | Y7: =CONCATENATE("'Auxiliar (2)'!",Y$1,$U7) -> 'Auxiliar (2)'!N8 | Z7: =CONCATENATE("'Auxiliar (2)'!",Z$1,$U7) -> 'Auxiliar (2)'!O8 | AA7: =CONCATENATE("'Auxiliar (2)'!",AA$1,$U7) -> 'Auxiliar (2)'!P8 | AB7: =CONCATENATE("'Auxiliar (2)'!",AB$1,$U7) -> 'Auxiliar (2)'!Q8
