Workbook

Sheet Taça de Prata 2024
A1: MESA | C1: JOGOS | G1: ÁRBITRO | I1: CLASSIFICAÇÃO DOS GRUPOS
A3: 1 | B3: =Auxiliar!$L$2 -> TITÂNICO | C3: 0 | D3: x | E3: 0 | F3: =Auxiliar!$L$3 -> DRAGÃO VIANENSE | G3: PAULÃO | I3: G | J3: CF | K3: CLUBES | L3: J | M3: V | N3: E | O3: D | P3: GF | Q3: GC | R3: SG | S3: PG | T3: Aprov.
A4: 2 | B4: =Auxiliar!$L$7 -> ELDORADO | C4: 2 | D4: x | E4: 0 | F4: =Auxiliar!$L$8 -> VIDIGAL | G4: AMAURI | I4: A | J4: 1º | K4: =INDIRECT(Auxiliar!W2) -> LARA GALÃO | L4: =M4+N4+O4 -> 2 | M4: =INDIRECT(Auxiliar!X2) -> 1 | N4: =INDIRECT(Auxiliar!Y2) -> 1 | O4: =INDIRECT(Auxiliar!Z2) -> 0 | P4: =INDIRECT(Auxiliar!AA2) -> 3 | Q4: =INDIRECT(Auxiliar!AB2) -> 2 | R4: =P4-Q4 -> 1 | S4: =(3*M4)+N4 -> 4 | T4: =IF(ISERR((S4/(L4*3))),0,((S4/(L4*3)))) -> 0.66666667
J5: 2º | K5: =INDIRECT(Auxiliar!W3) -> DRAGÃO VIANENSE | L5: =M5+N5+O5 -> 2 | M5: =INDIRECT(Auxiliar!X3) -> 0 | N5: =INDIRECT(Auxiliar!Y3) -> 2 | O5: =INDIRECT(Auxiliar!Z3) -> 0 | P5: =INDIRECT(Auxiliar!AA3) -> 0 | Q5: =INDIRECT(Auxiliar!AB3) -> 0 | R5: =P5-Q5 -> 0 | S5: =(3*M5)+N5 -> 2 | T5: =IF(ISERR((S5/(L5*3))),0,((S5/(L5*3)))) -> 0.33333333
J6: 3º | K6: =INDIRECT(Auxiliar!W4) -> TITÂNICO | L6: =M6+N6+O6 -> 2 | M6: =INDIRECT(Auxiliar!X4) -> 0 | N6: =INDIRECT(Auxiliar!Y4) -> 1 | O6: =INDIRECT(Auxiliar!Z4) -> 1 | P6: =INDIRECT(Auxiliar!AA4) -> 2 | Q6: =INDIRECT(Auxiliar!AB4) -> 3 | R6: =P6-Q6 -> -1 | S6: =(3*M6)+N6 -> 1 | T6: =IF(ISERR((S6/(L6*3))),0,((S6/(L6*3)))) -> 0.16666667
A7: 1 | B7: =Auxiliar!$L$8 -> VIDIGAL | C7: 0 | D7: x | E7: 2 | F7: =Auxiliar!$L$9 -> LEÃO DO NORTE | G7: MARCELO SILVA
A8: 2 | B8: =Auxiliar!$L$3 -> DRAGÃO VIANENSE | C8: 0 | D8: x | E8: 0 | F8: =Auxiliar!$L$4 -> LARA GALÃO | G8: JEAN | I8: B | J8: 1º | K8: =INDIRECT(Auxiliar!W7) -> ELDORADO | L8: =M8+N8+O8 -> 2 | M8: =INDIRECT(Auxiliar!X7) -> 1 | N8: =INDIRECT(Auxiliar!Y7) -> 1 | O8: =INDIRECT(Auxiliar!Z7) -> 0 | P8: =INDIRECT(Auxiliar!AA7) -> 2 | Q8: =INDIRECT(Auxiliar!AB7) -> 0 | R8: =P8-Q8 -> 2 | S8: =(3*M8)+N8 -> 4 | T8: =IF(ISERR((S8/(L8*3))),0,((S8/(L8*3)))) -> 0.66666667 | U8: Sorteio
J9: 2º | K9: =INDIRECT(Auxiliar!W8) -> LEÃO DO NORTE | L9: =M9+N9+O9 -> 2 | M9: =INDIRECT(Auxiliar!X8) -> 1 | N9: =INDIRECT(Auxiliar!Y8) -> 1 | O9: =INDIRECT(Auxiliar!Z8) -> 0 | P9: =INDIRECT(Auxiliar!AA8) -> 2 | Q9: =INDIRECT(Auxiliar!AB8) -> 0 | R9: =P9-Q9 -> 2 | S9: =(3*M9)+N9 -> 4 | T9: =IF(ISERR((S9/(L9*3))),0,((S9/(L9*3)))) -> 0.66666667
J10: 3º | K10: =INDIRECT(Auxiliar!W9) -> VIDIGAL | L10: =M10+N10+O10 -> 2 | M10: =INDIRECT(Auxiliar!X9) -> 0 | N10: =INDIRECT(Auxiliar!Y9) -> 0 | O10: =INDIRECT(Auxiliar!Z9) -> 2 | P10: =INDIRECT(Auxiliar!AA9) -> 0 | Q10: =INDIRECT(Auxiliar!AB9) -> 4 | R10: =P10-Q10 -> -4 | S10: =(3*M10)+N10 -> 0 | T10: =IF(ISERR((S10/(L10*3))),0,((S10/(L10*3)))) -> 0
A11: 1 | B11: =Auxiliar!$L$4 -> LARA GALÃO | C11: 3 | D11: x | E11: 2 | F11: =Auxiliar!$L$2 -> TITÂNICO | G11: PIMENTEL
A12: 2 | B12: =Auxiliar!$L$9 -> LEÃO DO NORTE | C12: 0 | D12: x | E12: 0 | F12: =Auxiliar!$L$7 -> ELDORADO | G12: LUIZ GOMES
A15: SEMIFINAIS | B15: LARA GALÃO | C15: 1 | D15: x | E15: 0 | F15: LEÃO DO NORTE | G15: TITÂNICO | I15: C | J15: 2
B16: ELDORADO | C16: 0 | D16: x | E16: 1 | F16: DRAGÃO VIANENSE | G16: VIDIGAL | I16: D | J16: 5
A18: FINAL | B18: LARA GALÃO | C18: 3 | D18: x | E18: 1 | F18: DRAGÃO VIANENSE | G18: LEÃO DO NORTE | I18: E | J18: 2

Sheet Auxiliar
A1: ='Taça de Prata 2024'!B3 -> TITÂNICO | B1: =IF('Taça de Prata 2024'!C3<'Taça de Prata 2024'!E3,0,IF('Taça de Prata 2024'!C3='Taça de Prata 2024'!E3,1,IF('Taça de Prata 2024'!C3>'Taça de Prata 2024'!E3,2))) -> 1 | C1: ='Taça de Prata 2024'!F3 -> DRAGÃO VIANENSE | D1: =IF('Taça de Prata 2024'!C3>'Taça de Prata 2024'!E3,0,IF('Taça de Prata 2024'!C3='Taça de Prata 2024'!E3,1,IF('Taça de Prata 2024'!C3<'Taça de Prata 2024'!E3,2))) -> 1 | E1: =IF(ISNUMBER('Taça de Prata 2024'!C3),1,0) -> 1 | F1: =IF(B1*E1=2,1,0) -> 0 | G1: =IF(B1*E1=1,1,0) -> 1 | H1: =IF(B1=0,IF(E1=1,1,0),0) -> 0 | I1: =IF(E1*D1=2,1,0) -> 0 | J1: =IF(E1*D1=1,1,0) -> 1 | K1: =IF(D1=0,IF(E1=1,1,0),0) -> 0 | L1: CLUBES | M1: V | N1: E | O1: D | P1: GP | Q1: GC | W1: L | X1: M | Y1: N | Z1: O | AA1: P | AB1: Q | AC1: GRUPOS
A2: ='Taça de Prata 2024'!B4 -> ELDORADO | B2: =IF('Taça de Prata 2024'!C4<'Taça de Prata 2024'!E4,0,IF('Taça de Prata 2024'!C4='Taça de Prata 2024'!E4,1,IF('Taça de Prata 2024'!C4>'Taça de Prata 2024'!E4,2))) -> 2 | C2: ='Taça de Prata 2024'!F4 -> VIDIGAL | D2: =IF('Taça de Prata 2024'!C4>'Taça de Prata 2024'!E4,0,IF('Taça de Prata 2024'!C4='Taça de Prata 2024'!E4,1,IF('Taça de Prata 2024'!C4<'Taça de Prata 2024'!E4,2))) -> 0 | E2: =IF(ISNUMBER('Taça de Prata 2024'!C4),1,0) -> 1 | F2: =IF(B2*E2=2,1,0) -> 1 | G2: =IF(B2*E2=1,1,0) -> 0 | H2: =IF(B2=0,IF(E2=1,1,0),0) -> 0 | I2: =IF(E2*D2=2,1,0) -> 0 | J2: =IF(E2*D2=1,1,0) -> 0 | K2: =IF(D2=0,IF(E2=1,1,0),0) -> 1 | L2: TITÂNICO | M2: =SUMIF($A$1:$A$12,L2,$F$1:$F$12)+SUMIF($C$1:$C$12,L2,$I$1:$I$12) -> 0 | N2: =SUMIF($A$1:$A$12,L2,$G$1:$G$12)+SUMIF($C$1:$C$12,L2,$J$1:$J$12) -> 1 | O2: =SUMIF($A$1:$A$12,L2,$H$1:$H$12)+SUMIF($C$1:$C$12,L2,$K$1:$K$12) -> 1 | P2: =SUMIF('Taça de Prata 2024'!$B$3:$B$14,L2,'Taça de Prata 2024'!$C$3:$C$14)+SUMIF('Taça de Prata 2024'!$F$3:$F$14,L2,'Taça de Prata 2024'!$E$3:$E$14) -> 2 | Q2: =SUMIF('Taça de Prata 2024'!$B$3:$B$14,L2,'Taça de Prata 2024'!$E$3:$E$14)+SUMIF('Taça de Prata 2024'!$F$3:$F$14,L2,'Taça de Prata 2024'!$C$3:$C$14) -> 3 | R2: =(1000000*((3*M2)+N2))+(10000*M2)+(100*(P2-Q2))+P2+(0.001*(30-T2)) -> 999902.03 | S2: =RANK(R2,$R$2:$R$5) -> 3 | T2: 1 | U2: =IF($S$2=T2,2,0)+IF($S$3=T2,3,0)+IF($S$4=T2,4,0)+IF($S$5=T2,5,0) -> 4 | W2: =CONCATENATE("'Auxiliar'!",W$1,$U2) -> 'Auxiliar'!L4 | X2: =CONCATENATE("'Auxiliar'!",X$1,$U2) -> 'Auxiliar'!M4 | Y2: =CONCATENATE("'Auxiliar'!",Y$1,$U2) -> 'Auxiliar'!N4 | Z2: =CONCATENATE("'Auxiliar'!",Z$1,$U2) -> 'Auxiliar'!O4 | AA2: =CONCATENATE("'Auxiliar'!",AA$1,$U2) -> 'Auxiliar'!P4 | AB2: =CONCATENATE("'Auxiliar'!",AB$1,$U2) -> 'Auxiliar'!Q4 | AC2: A
A3: ='Taça de Prata 2024'!B7 -> VIDIGAL | B3: =IF('Taça de Prata 2024'!C7<'Taça de Prata 2024'!E7,0,IF('Taça de Prata 2024'!C7='Taça de Prata 2024'!E7,1,IF('Taça de Prata 2024'!C7>'Taça de Prata 2024'!E7,2))) -> 0 | C3: ='Taça de Prata 2024'!F7 -> LEÃO DO NORTE | D3: =IF('Taça de Prata 2024'!C7>'Taça de Prata 2024'!E7,0,IF('Taça de Prata 2024'!C7='Taça de Prata 2024'!E7,1,IF('Taça de Prata 2024'!C7<'Taça de Prata 2024'!E7,2))) -> 2 | E3: =IF(ISNUMBER('Taça de Prata 2024'!C7),1,0) -> 1 | F3: =IF(B3*E3=2,1,0) -> 0 | G3: =IF(B3*E3=1,1,0) -> 0 | H3: =IF(B3=0,IF(E3=1,1,0),0) -> 1 | I3: =IF(E3*D3=2,1,0) -> 1 | J3: =IF(E3*D3=1,1,0) -> 0 | K3: =IF(D3=0,IF(E3=1,1,0),0) -> 0 | L3: DRAGÃO VIANENSE | M3: =SUMIF($A$1:$A$12,L3,$F$1:$F$12)+SUMIF($C$1:$C$12,L3,$I$1:$I$12) -> 0 | N3: =SUMIF($A$1:$A$12,L3,$G$1:$G$12)+SUMIF($C$1:$C$12,L3,$J$1:$J$12) -> 2 | O3: =SUMIF($A$1:$A$12,L3,$H$1:$H$12)+SUMIF($C$1:$C$12,L3,$K$1:$K$12) -> 0 | P3: =SUMIF('Taça de Prata 2024'!$B$3:$B$14,L3,'Taça de Prata 2024'!$C$3:$C$14)+SUMIF('Taça de Prata 2024'!$F$3:$F$14,L3,'Taça de Prata 2024'!$E$3:$E$14) -> 0 | Q3: =SUMIF('Taça de Prata 2024'!$B$3:$B$14,L3,'Taça de Prata 2024'!$E$3:$E$14)+SUMIF('Taça de Prata 2024'!$F$3:$F$14,L3,'Taça de Prata 2024'!$C$3:$C$14) -> 0 | R3: =(1000000*((3*M3)+N3))+(10000*M3)+(100*(P3-Q3))+P3+(0.001*(30-T3)) -> 2000000 | S3: =RANK(R3,$R$2:$R$5) -> 2 | T3: 2 | U3: =IF($S$2=T3,2,0)+IF($S$3=T3,3,0)+IF($S$4=T3,4,0)+IF($S$5=T3,5,0) -> 3 | W3: =CONCATENATE("'Auxiliar'!",W$1,$U3) -> 'Auxiliar'!L3 | X3: =CONCATENATE("'Auxiliar'!",X$1,$U3) -> 'Auxiliar'!M3 | Y3: =CONCATENATE("'Auxiliar'!",Y$1,$U3) -> 'Auxiliar'!N3 | Z3: =CONCATENATE("'Auxiliar'!",Z$1,$U3) -> 'Auxiliar'!O3 | AA3: =CONCATENATE("'Auxiliar'!",AA$1,$U3) -> 'Auxiliar'!P3 | AB3: =CONCATENATE("'Auxiliar'!",AB$1,$U3) -> 'Auxiliar'!Q3
A4: ='Taça de Prata 2024'!B8 -> DRAGÃO VIANENSE | B4: =IF('Taça de Prata 2024'!C8<'Taça de Prata 2024'!E8,0,IF('Taça de Prata 2024'!C8='Taça de Prata 2024'!E8,1,IF('Taça de Prata 2024'!C8>'Taça de Prata 2024'!E8,2))) -> 1 | C4: ='Taça de Prata 2024'!F8 -> LARA GALÃO | D4: =IF('Taça de Prata 2024'!C8>'Taça de Prata 2024'!E8,0,IF('Taça de Prata 2024'!C8='Taça de Prata 2024'!E8,1,IF('Taça de Prata 2024'!C8<'Taça de Prata 2024'!E8,2))) -> 1 | E4: =IF(ISNUMBER('Taça de Prata 2024'!C8),1,0) -> 1 | F4: =IF(B4*E4=2,1,0) -> 0 | G4: =IF(B4*E4=1,1,0) -> 1 | H4: =IF(B4=0,IF(E4=1,1,0),0) -> 0 | I4: =IF(E4*D4=2,1,0) -> 0 | J4: =IF(E4*D4=1,1,0) -> 1 | K4: =IF(D4=0,IF(E4=1,1,0),0) -> 0 | L4: LARA GALÃO | M4: =SUMIF($A$1:$A$12,L4,$F$1:$F$12)+SUMIF($C$1:$C$12,L4,$I$1:$I$12) -> 1 | N4: =SUMIF($A$1:$A$12,L4,$G$1:$G$12)+SUMIF($C$1:$C$12,L4,$J$1:$J$12) -> 1 | O4: =SUMIF($A$1:$A$12,L4,$H$1:$H$12)+SUMIF($C$1:$C$12,L4,$K$1:$K$12) -> 0 | P4: =SUMIF('Taça de Prata 2024'!$B$3:$B$14,L4,'Taça de Prata 2024'!$C$3:$C$14)+SUMIF('Taça de Prata 2024'!$F$3:$F$14,L4,'Taça de Prata 2024'!$E$3:$E$14) -> 3 | Q4: =SUMIF('Taça de Prata 2024'!$B$3:$B$14,L4,'Taça de Prata 2024'!$E$3:$E$14)+SUMIF('Taça de Prata 2024'!$F$3:$F$14,L4,'Taça de Prata 2024'!$C$3:$C$14) -> 2 | R4: =(1000000*((3*M4)+N4))+(10000*M4)+(100*(P4-Q4))+P4+(0.001*(30-T4)) -> 4010103 | S4: =RANK(R4,$R$2:$R$5) -> 1 | T4: 3 | U4: =IF($S$2=T4,2,0)+IF($S$3=T4,3,0)+IF($S$4=T4,4,0)+IF($S$5=T4,5,0) -> 2 | W4: =CONCATENATE("'Auxiliar'!",W$1,$U4) -> 'Auxiliar'!L2 | X4: =CONCATENATE("'Auxiliar'!",X$1,$U4) -> 'Auxiliar'!M2 | Y4: =CONCATENATE("'Auxiliar'!",Y$1,$U4) -> 'Auxiliar'!N2 | Z4: =CONCATENATE("'Auxiliar'!",Z$1,$U4) -> 'Auxiliar'!O2 | AA4: =CONCATENATE("'Auxiliar'!",AA$1,$U4) -> 'Auxiliar'!P2 | AB4: =CONCATENATE("'Auxiliar'!",AB$1,$U4) -> 'Auxiliar'!Q2
A5: ='Taça de Prata 2024'!B11 -> LARA GALÃO | B5: =IF('Taça de Prata 2024'!C11<'Taça de Prata 2024'!E11,0,IF('Taça de Prata 2024'!C11='Taça de Prata 2024'!E11,1,IF('Taça de Prata 2024'!C11>'Taça de Prata 2024'!E11,2))) -> 2 | C5: ='Taça de Prata 2024'!F11 -> TITÂNICO | D5: =IF('Taça de Prata 2024'!C11>'Taça de Prata 2024'!E11,0,IF('Taça de Prata 2024'!C11='Taça de Prata 2024'!E11,1,IF('Taça de Prata 2024'!C11<'Taça de Prata 2024'!E11,2))) -> 0 | E5: =IF(ISNUMBER('Taça de Prata 2024'!C11),1,0) -> 1 | F5: =IF(B5*E5=2,1,0) -> 1 | G5: =IF(B5*E5=1,1,0) -> 0 | H5: =IF(B5=0,IF(E5=1,1,0),0) -> 0 | I5: =IF(E5*D5=2,1,0) -> 0 | J5: =IF(E5*D5=1,1,0) -> 0 | K5: =IF(D5=0,IF(E5=1,1,0),0) -> 1
A6: ='Taça de Prata 2024'!B12 -> LEÃO DO NORTE | B6: =IF('Taça de Prata 2024'!C12<'Taça de Prata 2024'!E12,0,IF('Taça de Prata 2024'!C12='Taça de Prata 2024'!E12,1,IF('Taça de Prata 2024'!C12>'Taça de Prata 2024'!E12,2))) -> 1 | C6: ='Taça de Prata 2024'!F12 -> ELDORADO | D6: =IF('Taça de Prata 2024'!C12>'Taça de Prata 2024'!E12,0,IF('Taça de Prata 2024'!C12='Taça de Prata 2024'!E12,1,IF('Taça de Prata 2024'!C12<'Taça de Prata 2024'!E12,2))) -> 1 | E6: =IF(ISNUMBER('Taça de Prata 2024'!C12),1,0) -> 1 | F6: =IF(B6*E6=2,1,0) -> 0 | G6: =IF(B6*E6=1,1,0) -> 1 | H6: =IF(B6=0,IF(E6=1,1,0),0) -> 0 | I6: =IF(E6*D6=2,1,0) -> 0 | J6: =IF(E6*D6=1,1,0) -> 1 | K6: =IF(D6=0,IF(E6=1,1,0),0) -> 0
L7: ELDORADO | M7: =SUMIF($A$1:$A$12,L7,$F$1:$F$12)+SUMIF($C$1:$C$12,L7,$I$1:$I$12) -> 1 | N7: =SUMIF($A$1:$A$12,L7,$G$1:$G$12)+SUMIF($C$1:$C$12,L7,$J$1:$J$12) -> 1 | O7: =SUMIF($A$1:$A$12,L7,$H$1:$H$12)+SUMIF($C$1:$C$12,L7,$K$1:$K$12) -> 0 | P7: =SUMIF('Taça de Prata 2024'!$B$3:$B$14,L7,'Taça de Prata 2024'!$C$3:$C$14)+SUMIF('Taça de Prata 2024'!$F$3:$F$14,L7,'Taça de Prata 2024'!$E$3:$E$14) -> 2 | Q7: =SUMIF('Taça de Prata 2024'!$B$3:$B$14,L7,'Taça de Prata 2024'!$E$3:$E$14)+SUMIF('Taça de Prata 2024'!$F$3:$F$14,L7,'Taça de Prata 2024'!$C$3:$C$14) -> 0 | R7: =(1000000*((3*M7)+N7))+(10000*M7)+(100*(P7-Q7))+P7+(0.001*(30-T7)) -> 4010202 | S7: =RANK(R7,$R$7:$R$10) -> 1 | T7: 1 | U7: =IF($S$6=T7,6,0)+IF($S$7=T7,7,0)+IF($S$8=T7,8,0)+IF($S$9=T7,9,0)+IF($S$10=T7,10,0)+IF($S$11=T7,11,0)+IF($S$12=T7,12,0)+IF($S$13=T7,13,0)+IF($S$14=T7,14,0)+IF($S$15=T7,15,0)+IF($S$16=T7,16,0)+IF($S$17=T7,17,0)+IF($S$18=T7,18,0)+IF($S$19=T7,19,0)+IF($S$20=T7,20,0)+IF($S$21=T7,21,0) -> 7 | W7: =CONCATENATE("'Auxiliar'!",W$1,$U7) -> 'Auxiliar'!L7 | X7: =CONCATENATE("'Auxiliar'!",X$1,$U7) -> 'Auxiliar'!M7 | Y7: =CONCATENATE("'Auxiliar'!",Y$1,$U7) -> 'Auxiliar'!N7 | Z7: =CONCATENATE("'Auxiliar'!",Z$1,$U7) -> 'Auxiliar'!O7 | AA7: =CONCATENATE("'Auxiliar'!",AA$1,$U7) -> 'Auxiliar'!P7 | AB7: =CONCATENATE("'Auxiliar'!",AB$1,$U7) -> 'Auxiliar'!Q7 | AC7: B
L8: VIDIGAL | M8: =SUMIF($A$1:$A$12,L8,$F$1:$F$12)+SUMIF($C$1:$C$12,L8,$I$1:$I$12) -> 0 | N8: =SUMIF($A$1:$A$12,L8,$G$1:$G$12)+SUMIF($C$1:$C$12,L8,$J$1:$J$12) -> 0 | O8: =SUMIF($A$1:$A$12,L8,$H$1:$H$12)+SUMIF($C$1:$C$12,L8,$K$1:$K$12) -> 2 | P8: =SUMIF('Taça de Prata 2024'!$B$3:$B$14,L8,'Taça de Prata 2024'!$C$3:$C$14)+SUMIF('Taça de Prata 2024'!$F$3:$F$14,L8,'Taça de Prata 2024'!$E$3:$E$14) -> 0 | Q8: =SUMIF('Taça de Prata 2024'!$B$3:$B$14,L8,'Taça de Prata 2024'!$E$3:$E$14)+SUMIF('Taça de Prata 2024'!$F$3:$F$14,L8,'Taça de Prata 2024'!$C$3:$C$14) -> 4 | R8: =(1000000*((3*M8)+N8))+(10000*M8)+(100*(P8-Q8))+P8+(0.001*(30-T8)) -> -399.972 | S8: =RANK(R8,$R$7:$R$10) -> 3 | T8: 2 | U8: =IF($S$6=T8,6,0)+IF($S$7=T8,7,0)+IF($S$8=T8,8,0)+IF($S$9=T8,9,0)+IF($S$10=T8,10,0)+IF($S$11=T8,11,0)+IF($S$12=T8,12,0)+IF($S$13=T8,13,0)+IF($S$14=T8,14,0)+IF($S$15=T8,15,0)+IF($S$16=T8,16,0)+IF($S$17=T8,17,0)+IF($S$18=T8,18,0)+IF($S$19=T8,19,0)+IF($S$20=T8,20,0)+IF($S$21=T8,21,0) -> 9 | W8: =CONCATENATE("'Auxiliar'!",W$1,$U8) -> 'Auxiliar'!L9 | X8: =CONCATENATE("'Auxiliar'!",X$1,$U8) -> 'Auxiliar'!M9 | Y8: =CONCATENATE("'Auxiliar'!",Y$1,$U8) -> 'Auxiliar'!N9 | Z8: =CONCATENATE("'Auxiliar'!",Z$1,$U8) -> 'Auxiliar'!O9 | AA8: =CONCATENATE("'Auxiliar'!",AA$1,$U8) -> 'Auxiliar'!P9 | AB8: =CONCATENATE("'Auxiliar'!",AB$1,$U8) -> 'Auxiliar'!Q9
L9: LEÃO DO NORTE | M9: =SUMIF($A$1:$A$12,L9,$F$1:$F$12)+SUMIF($C$1:$C$12,L9,$I$1:$I$12) -> 1 | N9: =SUMIF($A$1:$A$12,L9,$G$1:$G$12)+SUMIF($C$1:$C$12,L9,$J$1:$J$12) -> 1 | O9: =SUMIF($A$1:$A$12,L9,$H$1:$H$12)+SUMIF($C$1:$C$12,L9,$K$1:$K$12) -> 0 | P9: =SUMIF('Taça de Prata 2024'!$B$3:$B$14,L9,'Taça de Prata 2024'!$C$3:$C$14)+SUMIF('Taça de Prata 2024'!$F$3:$F$14,L9,'Taça de Prata 2024'!$E$3:$E$14) -> 2 | Q9: =SUMIF('Taça de Prata 2024'!$B$3:$B$14,L9,'Taça de Prata 2024'!$E$3:$E$14)+SUMIF('Taça de Prata 2024'!$F$3:$F$14,L9,'Taça de Prata 2024'!$C$3:$C$14) -> 0 | R9: =(1000000*((3*M9)+N9))+(10000*M9)+(100*(P9-Q9))+P9+(0.001*(30-T9)) -> 4010202 | S9: =RANK(R9,$R$7:$R$10) -> 2 | T9: 3 | U9: =IF($S$6=T9,6,0)+IF($S$7=T9,7,0)+IF($S$8=T9,8,0)+IF($S$9=T9,9,0)+IF($S$10=T9,10,0)+IF($S$11=T9,11,0)+IF($S$12=T9,12,0)+IF($S$13=T9,13,0)+IF($S$14=T9,14,0)+IF($S$15=T9,15,0)+IF($S$16=T9,16,0)+IF($S$17=T9,17,0)+IF($S$18=T9,18,0)+IF($S$19=T9,19,0)+IF($S$20=T9,20,0)+IF($S$21=T9,21,0) -> 8 | W9: =CONCATENATE("'Auxiliar'!",W$1,$U9) -> 'Auxiliar'!L8 | X9: =CONCATENATE("'Auxiliar'!",X$1,$U9) -> 'Auxiliar'!M8 | Y9: =CONCATENATE("'Auxiliar'!",Y$1,$U9) -> 'Auxiliar'!N8 | Z9: =CONCATENATE("'Auxiliar'!",Z$1,$U9) -> 'Auxiliar'!O8 | AA9: =CONCATENATE("'Auxiliar'!",AA$1,$U9) -> 'Auxiliar'!P8 | AB9: =CONCATENATE("'Auxiliar'!",AB$1,$U9) -> 'Auxiliar'!Q8
